BEGIN:VCALENDAR
VERSION:2.0
PRODID:-//First St John - ECPv6.15.20//NONSGML v1.0//EN
CALSCALE:GREGORIAN
METHOD:PUBLISH
X-WR-CALNAME:First St John
X-ORIGINAL-URL:https://firststjohn.com
X-WR-CALDESC:Events for First St John
REFRESH-INTERVAL;VALUE=DURATION:PT1H
X-Robots-Tag:noindex
X-PUBLISHED-TTL:PT1H
BEGIN:VTIMEZONE
TZID:America/Detroit
BEGIN:DAYLIGHT
TZOFFSETFROM:-0500
TZOFFSETTO:-0400
TZNAME:EDT
DTSTART:20230312T070000
END:DAYLIGHT
BEGIN:STANDARD
TZOFFSETFROM:-0400
TZOFFSETTO:-0500
TZNAME:EST
DTSTART:20231105T060000
END:STANDARD
BEGIN:DAYLIGHT
TZOFFSETFROM:-0500
TZOFFSETTO:-0400
TZNAME:EDT
DTSTART:20240310T070000
END:DAYLIGHT
BEGIN:STANDARD
TZOFFSETFROM:-0400
TZOFFSETTO:-0500
TZNAME:EST
DTSTART:20241103T060000
END:STANDARD
BEGIN:DAYLIGHT
TZOFFSETFROM:-0500
TZOFFSETTO:-0400
TZNAME:EDT
DTSTART:20250309T070000
END:DAYLIGHT
BEGIN:STANDARD
TZOFFSETFROM:-0400
TZOFFSETTO:-0500
TZNAME:EST
DTSTART:20251102T060000
END:STANDARD
END:VTIMEZONE
BEGIN:VTIMEZONE
TZID:America/New_York
BEGIN:DAYLIGHT
TZOFFSETFROM:-0500
TZOFFSETTO:-0400
TZNAME:EDT
DTSTART:20230312T070000
END:DAYLIGHT
BEGIN:STANDARD
TZOFFSETFROM:-0400
TZOFFSETTO:-0500
TZNAME:EST
DTSTART:20231105T060000
END:STANDARD
BEGIN:DAYLIGHT
TZOFFSETFROM:-0500
TZOFFSETTO:-0400
TZNAME:EDT
DTSTART:20240310T070000
END:DAYLIGHT
BEGIN:STANDARD
TZOFFSETFROM:-0400
TZOFFSETTO:-0500
TZNAME:EST
DTSTART:20241103T060000
END:STANDARD
BEGIN:DAYLIGHT
TZOFFSETFROM:-0500
TZOFFSETTO:-0400
TZNAME:EDT
DTSTART:20250309T070000
END:DAYLIGHT
BEGIN:STANDARD
TZOFFSETFROM:-0400
TZOFFSETTO:-0500
TZNAME:EST
DTSTART:20251102T060000
END:STANDARD
END:VTIMEZONE
BEGIN:VEVENT
DTSTART;TZID=America/Detroit:20241219T190000
DTEND;TZID=America/Detroit:20241219T190000
DTSTAMP:20260424T040154
CREATED:20241217T212945Z
LAST-MODIFIED:20241217T212945Z
UID:10009907-1734634800-1734634800@firststjohn.com
SUMMARY:FSJ Day School Christmas Program
DESCRIPTION:
URL:https://firststjohn.com/event/fsj-day-school-christmas-program-2-2/
LOCATION:Dayschool
CATEGORIES:Chapel,Church Office,Dayschool,Featured,Hannah Circle
ATTACH;FMTTYPE=image/jpeg:https://firststjohn.com/wp-content/uploads/2024/04/Playground1-scaled.jpg
ORGANIZER;CN="Andrea Buckley":MAILTO:fsjdayschool@firststjohn.com
END:VEVENT
BEGIN:VEVENT
DTSTART;TZID=America/Detroit:20241217T190000
DTEND;TZID=America/Detroit:20241217T190000
DTSTAMP:20260424T040154
CREATED:20241201T220741Z
LAST-MODIFIED:20241201T221038Z
UID:10009905-1734462000-1734462000@firststjohn.com
SUMMARY:FSJ Day School Christmas Program
DESCRIPTION:
URL:https://firststjohn.com/event/fsj-day-school-christmas-program/2024-12-17/
LOCATION:Dayschool
CATEGORIES:Dayschool
ATTACH;FMTTYPE=image/jpeg:https://firststjohn.com/wp-content/uploads/2024/03/Dayschool-Open-House.jpg
ORGANIZER;CN="Andrea Buckley":MAILTO:fsjdayschool@firststjohn.com
END:VEVENT
BEGIN:VEVENT
DTSTART;TZID=America/Detroit:20241216T190000
DTEND;TZID=America/Detroit:20241216T190000
DTSTAMP:20260424T040154
CREATED:20241201T220741Z
LAST-MODIFIED:20241201T221038Z
UID:10009904-1734375600-1734375600@firststjohn.com
SUMMARY:FSJ Day School Christmas Program
DESCRIPTION:
URL:https://firststjohn.com/event/fsj-day-school-christmas-program/2024-12-16/
LOCATION:Dayschool
CATEGORIES:Dayschool
ATTACH;FMTTYPE=image/jpeg:https://firststjohn.com/wp-content/uploads/2024/03/Dayschool-Open-House.jpg
ORGANIZER;CN="Andrea Buckley":MAILTO:fsjdayschool@firststjohn.com
END:VEVENT
BEGIN:VEVENT
DTSTART;TZID=America/Detroit:20241115T090000
DTEND;TZID=America/Detroit:20241115T090000
DTSTAMP:20260424T040154
CREATED:20241102T131744Z
LAST-MODIFIED:20241110T200154Z
UID:10009660-1731661200-1731661200@firststjohn.com
SUMMARY:Day School Feast Setup All day
DESCRIPTION:
URL:https://firststjohn.com/event/day-school-feast-setup-all-day/
LOCATION:Dayschool
CATEGORIES:Dayschool,Featured
ATTACH;FMTTYPE=image/jpeg:https://firststjohn.com/wp-content/uploads/2024/11/FSJ-Thanksgiving-Feast-scaled.jpeg
ORGANIZER;CN="Andrea Buckley":MAILTO:fsjdayschool@firststjohn.com
END:VEVENT
BEGIN:VEVENT
DTSTART;TZID=America/Detroit:20241113T180000
DTEND;TZID=America/Detroit:20241113T180000
DTSTAMP:20260424T040154
CREATED:20241102T131408Z
LAST-MODIFIED:20241111T151850Z
UID:10009654-1731520800-1731520800@firststjohn.com
SUMMARY:Day School Board Meeting
DESCRIPTION:
URL:https://firststjohn.com/event/day-school-board-meeting-2/
LOCATION:Dayschool
ATTACH;FMTTYPE=image/jpeg:https://firststjohn.com/wp-content/uploads/2024/03/img40.jpeg
ORGANIZER;CN="Andrea Buckley":MAILTO:fsjdayschool@firststjohn.com
END:VEVENT
BEGIN:VEVENT
DTSTART;TZID=America/New_York:20240314T180000
DTEND;TZID=America/New_York:20240314T180000
DTSTAMP:20260424T040154
CREATED:20240316T192654Z
LAST-MODIFIED:20240318T205134Z
UID:10003048-1710439200-1710439200@firststjohn.com
SUMMARY:Day School Open House
DESCRIPTION:
URL:https://firststjohn.com/event/day-school-open-house/
LOCATION:Dayschool
CATEGORIES:Children,Christian Education
ATTACH;FMTTYPE=image/jpeg:https://firststjohn.com/wp-content/uploads/2024/03/Dayschool-Open-House.jpg
ORGANIZER;CN="Andrea Buckley":MAILTO:fsjdayschool@firststjohn.com
END:VEVENT
END:VCALENDAR