BEGIN:VCALENDAR
VERSION:2.0
PRODID:-//First St John - ECPv6.15.20//NONSGML v1.0//EN
CALSCALE:GREGORIAN
METHOD:PUBLISH
X-ORIGINAL-URL:https://firststjohn.com
X-WR-CALDESC:Events for First St John
REFRESH-INTERVAL;VALUE=DURATION:PT1H
X-Robots-Tag:noindex
X-PUBLISHED-TTL:PT1H
BEGIN:VTIMEZONE
TZID:America/New_York
BEGIN:DAYLIGHT
TZOFFSETFROM:-0500
TZOFFSETTO:-0400
TZNAME:EDT
DTSTART:20250309T070000
END:DAYLIGHT
BEGIN:STANDARD
TZOFFSETFROM:-0400
TZOFFSETTO:-0500
TZNAME:EST
DTSTART:20251102T060000
END:STANDARD
BEGIN:DAYLIGHT
TZOFFSETFROM:-0500
TZOFFSETTO:-0400
TZNAME:EDT
DTSTART:20260308T070000
END:DAYLIGHT
BEGIN:STANDARD
TZOFFSETFROM:-0400
TZOFFSETTO:-0500
TZNAME:EST
DTSTART:20261101T060000
END:STANDARD
BEGIN:DAYLIGHT
TZOFFSETFROM:-0500
TZOFFSETTO:-0400
TZNAME:EDT
DTSTART:20270314T070000
END:DAYLIGHT
BEGIN:STANDARD
TZOFFSETFROM:-0400
TZOFFSETTO:-0500
TZNAME:EST
DTSTART:20271107T060000
END:STANDARD
BEGIN:DAYLIGHT
TZOFFSETFROM:-0500
TZOFFSETTO:-0400
TZNAME:EDT
DTSTART:20280312T070000
END:DAYLIGHT
BEGIN:STANDARD
TZOFFSETFROM:-0400
TZOFFSETTO:-0500
TZNAME:EST
DTSTART:20281105T060000
END:STANDARD
BEGIN:DAYLIGHT
TZOFFSETFROM:-0500
TZOFFSETTO:-0400
TZNAME:EDT
DTSTART:20290311T070000
END:DAYLIGHT
BEGIN:STANDARD
TZOFFSETFROM:-0400
TZOFFSETTO:-0500
TZNAME:EST
DTSTART:20291104T060000
END:STANDARD
END:VTIMEZONE
BEGIN:VEVENT
DTSTART;TZID=America/New_York:20260506T093000
DTEND;TZID=America/New_York:20260506T093000
DTSTAMP:20260423T144519
CREATED:20250808T154846Z
LAST-MODIFIED:20250808T154846Z
UID:10012083-1778059800-1778059800@firststjohn.com
SUMMARY:Miriam Circle
DESCRIPTION:The Miriam Circle meets on the first wednesday of each month at 9:30 am.
URL:https://firststjohn.com/event/miriam-circle-2-4-2-9/2026-05-06/
LOCATION:Applebee’s in Northwood
CATEGORIES:Fellowship,WELCA
ATTACH;FMTTYPE=image/jpeg:https://firststjohn.com/wp-content/uploads/2024/03/MIRIAM-CIRCLE.jpg
END:VEVENT
BEGIN:VEVENT
DTSTART;TZID=America/New_York:20260603T093000
DTEND;TZID=America/New_York:20260603T093000
DTSTAMP:20260423T144519
CREATED:20250808T154846Z
LAST-MODIFIED:20250808T154846Z
UID:10012084-1780479000-1780479000@firststjohn.com
SUMMARY:Miriam Circle
DESCRIPTION:The Miriam Circle meets on the first wednesday of each month at 9:30 am.
URL:https://firststjohn.com/event/miriam-circle-2-4-2-9/2026-06-03/
LOCATION:Applebee’s in Northwood
CATEGORIES:Fellowship,WELCA
ATTACH;FMTTYPE=image/jpeg:https://firststjohn.com/wp-content/uploads/2024/03/MIRIAM-CIRCLE.jpg
END:VEVENT
BEGIN:VEVENT
DTSTART;TZID=America/New_York:20260701T093000
DTEND;TZID=America/New_York:20260701T093000
DTSTAMP:20260423T144519
CREATED:20250808T154846Z
LAST-MODIFIED:20250808T154846Z
UID:10012085-1782898200-1782898200@firststjohn.com
SUMMARY:Miriam Circle
DESCRIPTION:The Miriam Circle meets on the first wednesday of each month at 9:30 am.
URL:https://firststjohn.com/event/miriam-circle-2-4-2-9/2026-07-01/
LOCATION:Applebee’s in Northwood
CATEGORIES:Fellowship,WELCA
ATTACH;FMTTYPE=image/jpeg:https://firststjohn.com/wp-content/uploads/2024/03/MIRIAM-CIRCLE.jpg
END:VEVENT
BEGIN:VEVENT
DTSTART;TZID=America/New_York:20260805T093000
DTEND;TZID=America/New_York:20260805T093000
DTSTAMP:20260423T144519
CREATED:20250808T154846Z
LAST-MODIFIED:20250808T154846Z
UID:10012086-1785922200-1785922200@firststjohn.com
SUMMARY:Miriam Circle
DESCRIPTION:The Miriam Circle meets on the first wednesday of each month at 9:30 am.
URL:https://firststjohn.com/event/miriam-circle-2-4-2-9/2026-08-05/
LOCATION:Applebee’s in Northwood
CATEGORIES:Fellowship,WELCA
ATTACH;FMTTYPE=image/jpeg:https://firststjohn.com/wp-content/uploads/2024/03/MIRIAM-CIRCLE.jpg
END:VEVENT
BEGIN:VEVENT
DTSTART;TZID=America/New_York:20260902T093000
DTEND;TZID=America/New_York:20260902T093000
DTSTAMP:20260423T144519
CREATED:20250808T154846Z
LAST-MODIFIED:20250808T154846Z
UID:10012087-1788341400-1788341400@firststjohn.com
SUMMARY:Miriam Circle
DESCRIPTION:The Miriam Circle meets on the first wednesday of each month at 9:30 am.
URL:https://firststjohn.com/event/miriam-circle-2-4-2-9/2026-09-02/
LOCATION:Applebee’s in Northwood
CATEGORIES:Fellowship,WELCA
ATTACH;FMTTYPE=image/jpeg:https://firststjohn.com/wp-content/uploads/2024/03/MIRIAM-CIRCLE.jpg
END:VEVENT
BEGIN:VEVENT
DTSTART;TZID=America/New_York:20261007T093000
DTEND;TZID=America/New_York:20261007T093000
DTSTAMP:20260423T144519
CREATED:20250808T154846Z
LAST-MODIFIED:20250808T154846Z
UID:10012088-1791365400-1791365400@firststjohn.com
SUMMARY:Miriam Circle
DESCRIPTION:The Miriam Circle meets on the first wednesday of each month at 9:30 am.
URL:https://firststjohn.com/event/miriam-circle-2-4-2-9/2026-10-07/
LOCATION:Applebee’s in Northwood
CATEGORIES:Fellowship,WELCA
ATTACH;FMTTYPE=image/jpeg:https://firststjohn.com/wp-content/uploads/2024/03/MIRIAM-CIRCLE.jpg
END:VEVENT
BEGIN:VEVENT
DTSTART;TZID=America/New_York:20261104T093000
DTEND;TZID=America/New_York:20261104T093000
DTSTAMP:20260423T144519
CREATED:20250808T154846Z
LAST-MODIFIED:20250808T154846Z
UID:10012089-1793784600-1793784600@firststjohn.com
SUMMARY:Miriam Circle
DESCRIPTION:The Miriam Circle meets on the first wednesday of each month at 9:30 am.
URL:https://firststjohn.com/event/miriam-circle-2-4-2-9/2026-11-04/
LOCATION:Applebee’s in Northwood
CATEGORIES:Fellowship,WELCA
ATTACH;FMTTYPE=image/jpeg:https://firststjohn.com/wp-content/uploads/2024/03/MIRIAM-CIRCLE.jpg
END:VEVENT
BEGIN:VEVENT
DTSTART;TZID=America/New_York:20261202T093000
DTEND;TZID=America/New_York:20261202T093000
DTSTAMP:20260423T144519
CREATED:20250808T154846Z
LAST-MODIFIED:20250808T154846Z
UID:10012090-1796203800-1796203800@firststjohn.com
SUMMARY:Miriam Circle
DESCRIPTION:The Miriam Circle meets on the first wednesday of each month at 9:30 am.
URL:https://firststjohn.com/event/miriam-circle-2-4-2-9/2026-12-02/
LOCATION:Applebee’s in Northwood
CATEGORIES:Fellowship,WELCA
ATTACH;FMTTYPE=image/jpeg:https://firststjohn.com/wp-content/uploads/2024/03/MIRIAM-CIRCLE.jpg
END:VEVENT
BEGIN:VEVENT
DTSTART;TZID=America/New_York:20270106T093000
DTEND;TZID=America/New_York:20270106T093000
DTSTAMP:20260423T144519
CREATED:20250808T154846Z
LAST-MODIFIED:20250808T154846Z
UID:10012091-1799227800-1799227800@firststjohn.com
SUMMARY:Miriam Circle
DESCRIPTION:The Miriam Circle meets on the first wednesday of each month at 9:30 am.
URL:https://firststjohn.com/event/miriam-circle-2-4-2-9/2027-01-06/
LOCATION:Applebee’s in Northwood
CATEGORIES:Fellowship,WELCA
ATTACH;FMTTYPE=image/jpeg:https://firststjohn.com/wp-content/uploads/2024/03/MIRIAM-CIRCLE.jpg
END:VEVENT
BEGIN:VEVENT
DTSTART;TZID=America/New_York:20270203T093000
DTEND;TZID=America/New_York:20270203T093000
DTSTAMP:20260423T144519
CREATED:20250808T154846Z
LAST-MODIFIED:20250808T154846Z
UID:10012092-1801647000-1801647000@firststjohn.com
SUMMARY:Miriam Circle
DESCRIPTION:The Miriam Circle meets on the first wednesday of each month at 9:30 am.
URL:https://firststjohn.com/event/miriam-circle-2-4-2-9/2027-02-03/
LOCATION:Applebee’s in Northwood
CATEGORIES:Fellowship,WELCA
ATTACH;FMTTYPE=image/jpeg:https://firststjohn.com/wp-content/uploads/2024/03/MIRIAM-CIRCLE.jpg
END:VEVENT
BEGIN:VEVENT
DTSTART;TZID=America/New_York:20270303T093000
DTEND;TZID=America/New_York:20270303T093000
DTSTAMP:20260423T144519
CREATED:20250808T154846Z
LAST-MODIFIED:20250808T154846Z
UID:10012093-1804066200-1804066200@firststjohn.com
SUMMARY:Miriam Circle
DESCRIPTION:The Miriam Circle meets on the first wednesday of each month at 9:30 am.
URL:https://firststjohn.com/event/miriam-circle-2-4-2-9/2027-03-03/
LOCATION:Applebee’s in Northwood
CATEGORIES:Fellowship,WELCA
ATTACH;FMTTYPE=image/jpeg:https://firststjohn.com/wp-content/uploads/2024/03/MIRIAM-CIRCLE.jpg
END:VEVENT
BEGIN:VEVENT
DTSTART;TZID=America/New_York:20270407T093000
DTEND;TZID=America/New_York:20270407T093000
DTSTAMP:20260423T144519
CREATED:20250808T154846Z
LAST-MODIFIED:20250808T154846Z
UID:10012094-1807090200-1807090200@firststjohn.com
SUMMARY:Miriam Circle
DESCRIPTION:The Miriam Circle meets on the first wednesday of each month at 9:30 am.
URL:https://firststjohn.com/event/miriam-circle-2-4-2-9/2027-04-07/
LOCATION:Applebee’s in Northwood
CATEGORIES:Fellowship,WELCA
ATTACH;FMTTYPE=image/jpeg:https://firststjohn.com/wp-content/uploads/2024/03/MIRIAM-CIRCLE.jpg
END:VEVENT
BEGIN:VEVENT
DTSTART;TZID=America/New_York:20270505T093000
DTEND;TZID=America/New_York:20270505T093000
DTSTAMP:20260423T144519
CREATED:20250808T154846Z
LAST-MODIFIED:20250808T154846Z
UID:10012095-1809509400-1809509400@firststjohn.com
SUMMARY:Miriam Circle
DESCRIPTION:The Miriam Circle meets on the first wednesday of each month at 9:30 am.
URL:https://firststjohn.com/event/miriam-circle-2-4-2-9/2027-05-05/
LOCATION:Applebee’s in Northwood
CATEGORIES:Fellowship,WELCA
ATTACH;FMTTYPE=image/jpeg:https://firststjohn.com/wp-content/uploads/2024/03/MIRIAM-CIRCLE.jpg
END:VEVENT
BEGIN:VEVENT
DTSTART;TZID=America/New_York:20270602T093000
DTEND;TZID=America/New_York:20270602T093000
DTSTAMP:20260423T144519
CREATED:20250808T154846Z
LAST-MODIFIED:20250808T154846Z
UID:10012096-1811928600-1811928600@firststjohn.com
SUMMARY:Miriam Circle
DESCRIPTION:The Miriam Circle meets on the first wednesday of each month at 9:30 am.
URL:https://firststjohn.com/event/miriam-circle-2-4-2-9/2027-06-02/
LOCATION:Applebee’s in Northwood
CATEGORIES:Fellowship,WELCA
ATTACH;FMTTYPE=image/jpeg:https://firststjohn.com/wp-content/uploads/2024/03/MIRIAM-CIRCLE.jpg
END:VEVENT
BEGIN:VEVENT
DTSTART;TZID=America/New_York:20270707T093000
DTEND;TZID=America/New_York:20270707T093000
DTSTAMP:20260423T144519
CREATED:20250808T154846Z
LAST-MODIFIED:20250808T154846Z
UID:10012097-1814952600-1814952600@firststjohn.com
SUMMARY:Miriam Circle
DESCRIPTION:The Miriam Circle meets on the first wednesday of each month at 9:30 am.
URL:https://firststjohn.com/event/miriam-circle-2-4-2-9/2027-07-07/
LOCATION:Applebee’s in Northwood
CATEGORIES:Fellowship,WELCA
ATTACH;FMTTYPE=image/jpeg:https://firststjohn.com/wp-content/uploads/2024/03/MIRIAM-CIRCLE.jpg
END:VEVENT
BEGIN:VEVENT
DTSTART;TZID=America/New_York:20270804T093000
DTEND;TZID=America/New_York:20270804T093000
DTSTAMP:20260423T144519
CREATED:20250808T154846Z
LAST-MODIFIED:20250808T154846Z
UID:10012098-1817371800-1817371800@firststjohn.com
SUMMARY:Miriam Circle
DESCRIPTION:The Miriam Circle meets on the first wednesday of each month at 9:30 am.
URL:https://firststjohn.com/event/miriam-circle-2-4-2-9/2027-08-04/
LOCATION:Applebee’s in Northwood
CATEGORIES:Fellowship,WELCA
ATTACH;FMTTYPE=image/jpeg:https://firststjohn.com/wp-content/uploads/2024/03/MIRIAM-CIRCLE.jpg
END:VEVENT
BEGIN:VEVENT
DTSTART;TZID=America/New_York:20270901T093000
DTEND;TZID=America/New_York:20270901T093000
DTSTAMP:20260423T144519
CREATED:20250808T154846Z
LAST-MODIFIED:20250808T154846Z
UID:10012099-1819791000-1819791000@firststjohn.com
SUMMARY:Miriam Circle
DESCRIPTION:The Miriam Circle meets on the first wednesday of each month at 9:30 am.
URL:https://firststjohn.com/event/miriam-circle-2-4-2-9/2027-09-01/
LOCATION:Applebee’s in Northwood
CATEGORIES:Fellowship,WELCA
ATTACH;FMTTYPE=image/jpeg:https://firststjohn.com/wp-content/uploads/2024/03/MIRIAM-CIRCLE.jpg
END:VEVENT
BEGIN:VEVENT
DTSTART;TZID=America/New_York:20271006T093000
DTEND;TZID=America/New_York:20271006T093000
DTSTAMP:20260423T144519
CREATED:20250808T154846Z
LAST-MODIFIED:20250808T154846Z
UID:10012100-1822815000-1822815000@firststjohn.com
SUMMARY:Miriam Circle
DESCRIPTION:The Miriam Circle meets on the first wednesday of each month at 9:30 am.
URL:https://firststjohn.com/event/miriam-circle-2-4-2-9/2027-10-06/
LOCATION:Applebee’s in Northwood
CATEGORIES:Fellowship,WELCA
ATTACH;FMTTYPE=image/jpeg:https://firststjohn.com/wp-content/uploads/2024/03/MIRIAM-CIRCLE.jpg
END:VEVENT
BEGIN:VEVENT
DTSTART;TZID=America/New_York:20271103T093000
DTEND;TZID=America/New_York:20271103T093000
DTSTAMP:20260423T144519
CREATED:20250808T154846Z
LAST-MODIFIED:20250808T154846Z
UID:10012101-1825234200-1825234200@firststjohn.com
SUMMARY:Miriam Circle
DESCRIPTION:The Miriam Circle meets on the first wednesday of each month at 9:30 am.
URL:https://firststjohn.com/event/miriam-circle-2-4-2-9/2027-11-03/
LOCATION:Applebee’s in Northwood
CATEGORIES:Fellowship,WELCA
ATTACH;FMTTYPE=image/jpeg:https://firststjohn.com/wp-content/uploads/2024/03/MIRIAM-CIRCLE.jpg
END:VEVENT
BEGIN:VEVENT
DTSTART;TZID=America/New_York:20271201T093000
DTEND;TZID=America/New_York:20271201T093000
DTSTAMP:20260423T144519
CREATED:20250808T154846Z
LAST-MODIFIED:20250808T154846Z
UID:10012102-1827653400-1827653400@firststjohn.com
SUMMARY:Miriam Circle
DESCRIPTION:The Miriam Circle meets on the first wednesday of each month at 9:30 am.
URL:https://firststjohn.com/event/miriam-circle-2-4-2-9/2027-12-01/
LOCATION:Applebee’s in Northwood
CATEGORIES:Fellowship,WELCA
ATTACH;FMTTYPE=image/jpeg:https://firststjohn.com/wp-content/uploads/2024/03/MIRIAM-CIRCLE.jpg
END:VEVENT
BEGIN:VEVENT
DTSTART;TZID=America/New_York:20280105T093000
DTEND;TZID=America/New_York:20280105T093000
DTSTAMP:20260423T144519
CREATED:20250808T154846Z
LAST-MODIFIED:20250808T154846Z
UID:10012103-1830677400-1830677400@firststjohn.com
SUMMARY:Miriam Circle
DESCRIPTION:The Miriam Circle meets on the first wednesday of each month at 9:30 am.
URL:https://firststjohn.com/event/miriam-circle-2-4-2-9/2028-01-05/
LOCATION:Applebee’s in Northwood
CATEGORIES:Fellowship,WELCA
ATTACH;FMTTYPE=image/jpeg:https://firststjohn.com/wp-content/uploads/2024/03/MIRIAM-CIRCLE.jpg
END:VEVENT
BEGIN:VEVENT
DTSTART;TZID=America/New_York:20280202T093000
DTEND;TZID=America/New_York:20280202T093000
DTSTAMP:20260423T144519
CREATED:20250808T154846Z
LAST-MODIFIED:20250808T154846Z
UID:10012104-1833096600-1833096600@firststjohn.com
SUMMARY:Miriam Circle
DESCRIPTION:The Miriam Circle meets on the first wednesday of each month at 9:30 am.
URL:https://firststjohn.com/event/miriam-circle-2-4-2-9/2028-02-02/
LOCATION:Applebee’s in Northwood
CATEGORIES:Fellowship,WELCA
ATTACH;FMTTYPE=image/jpeg:https://firststjohn.com/wp-content/uploads/2024/03/MIRIAM-CIRCLE.jpg
END:VEVENT
BEGIN:VEVENT
DTSTART;TZID=America/New_York:20280301T093000
DTEND;TZID=America/New_York:20280301T093000
DTSTAMP:20260423T144519
CREATED:20250808T154846Z
LAST-MODIFIED:20250808T154846Z
UID:10012105-1835515800-1835515800@firststjohn.com
SUMMARY:Miriam Circle
DESCRIPTION:The Miriam Circle meets on the first wednesday of each month at 9:30 am.
URL:https://firststjohn.com/event/miriam-circle-2-4-2-9/2028-03-01/
LOCATION:Applebee’s in Northwood
CATEGORIES:Fellowship,WELCA
ATTACH;FMTTYPE=image/jpeg:https://firststjohn.com/wp-content/uploads/2024/03/MIRIAM-CIRCLE.jpg
END:VEVENT
BEGIN:VEVENT
DTSTART;TZID=America/New_York:20280405T093000
DTEND;TZID=America/New_York:20280405T093000
DTSTAMP:20260423T144519
CREATED:20250808T154846Z
LAST-MODIFIED:20250808T154846Z
UID:10012106-1838539800-1838539800@firststjohn.com
SUMMARY:Miriam Circle
DESCRIPTION:The Miriam Circle meets on the first wednesday of each month at 9:30 am.
URL:https://firststjohn.com/event/miriam-circle-2-4-2-9/2028-04-05/
LOCATION:Applebee’s in Northwood
CATEGORIES:Fellowship,WELCA
ATTACH;FMTTYPE=image/jpeg:https://firststjohn.com/wp-content/uploads/2024/03/MIRIAM-CIRCLE.jpg
END:VEVENT
BEGIN:VEVENT
DTSTART;TZID=America/New_York:20280503T093000
DTEND;TZID=America/New_York:20280503T093000
DTSTAMP:20260423T144519
CREATED:20250808T154846Z
LAST-MODIFIED:20250808T154846Z
UID:10012107-1840959000-1840959000@firststjohn.com
SUMMARY:Miriam Circle
DESCRIPTION:The Miriam Circle meets on the first wednesday of each month at 9:30 am.
URL:https://firststjohn.com/event/miriam-circle-2-4-2-9/2028-05-03/
LOCATION:Applebee’s in Northwood
CATEGORIES:Fellowship,WELCA
ATTACH;FMTTYPE=image/jpeg:https://firststjohn.com/wp-content/uploads/2024/03/MIRIAM-CIRCLE.jpg
END:VEVENT
BEGIN:VEVENT
DTSTART;TZID=America/New_York:20280607T093000
DTEND;TZID=America/New_York:20280607T093000
DTSTAMP:20260423T144519
CREATED:20250808T154846Z
LAST-MODIFIED:20250808T154846Z
UID:10012108-1843983000-1843983000@firststjohn.com
SUMMARY:Miriam Circle
DESCRIPTION:The Miriam Circle meets on the first wednesday of each month at 9:30 am.
URL:https://firststjohn.com/event/miriam-circle-2-4-2-9/2028-06-07/
LOCATION:Applebee’s in Northwood
CATEGORIES:Fellowship,WELCA
ATTACH;FMTTYPE=image/jpeg:https://firststjohn.com/wp-content/uploads/2024/03/MIRIAM-CIRCLE.jpg
END:VEVENT
BEGIN:VEVENT
DTSTART;TZID=America/New_York:20280705T093000
DTEND;TZID=America/New_York:20280705T093000
DTSTAMP:20260423T144519
CREATED:20250808T154846Z
LAST-MODIFIED:20250808T154846Z
UID:10012109-1846402200-1846402200@firststjohn.com
SUMMARY:Miriam Circle
DESCRIPTION:The Miriam Circle meets on the first wednesday of each month at 9:30 am.
URL:https://firststjohn.com/event/miriam-circle-2-4-2-9/2028-07-05/
LOCATION:Applebee’s in Northwood
CATEGORIES:Fellowship,WELCA
ATTACH;FMTTYPE=image/jpeg:https://firststjohn.com/wp-content/uploads/2024/03/MIRIAM-CIRCLE.jpg
END:VEVENT
BEGIN:VEVENT
DTSTART;TZID=America/New_York:20280802T093000
DTEND;TZID=America/New_York:20280802T093000
DTSTAMP:20260423T144519
CREATED:20250808T154846Z
LAST-MODIFIED:20250808T154846Z
UID:10012110-1848821400-1848821400@firststjohn.com
SUMMARY:Miriam Circle
DESCRIPTION:The Miriam Circle meets on the first wednesday of each month at 9:30 am.
URL:https://firststjohn.com/event/miriam-circle-2-4-2-9/2028-08-02/
LOCATION:Applebee’s in Northwood
CATEGORIES:Fellowship,WELCA
ATTACH;FMTTYPE=image/jpeg:https://firststjohn.com/wp-content/uploads/2024/03/MIRIAM-CIRCLE.jpg
END:VEVENT
BEGIN:VEVENT
DTSTART;TZID=America/New_York:20280906T093000
DTEND;TZID=America/New_York:20280906T093000
DTSTAMP:20260423T144519
CREATED:20250808T154846Z
LAST-MODIFIED:20250808T154846Z
UID:10012111-1851845400-1851845400@firststjohn.com
SUMMARY:Miriam Circle
DESCRIPTION:The Miriam Circle meets on the first wednesday of each month at 9:30 am.
URL:https://firststjohn.com/event/miriam-circle-2-4-2-9/2028-09-06/
LOCATION:Applebee’s in Northwood
CATEGORIES:Fellowship,WELCA
ATTACH;FMTTYPE=image/jpeg:https://firststjohn.com/wp-content/uploads/2024/03/MIRIAM-CIRCLE.jpg
END:VEVENT
BEGIN:VEVENT
DTSTART;TZID=America/New_York:20281004T093000
DTEND;TZID=America/New_York:20281004T093000
DTSTAMP:20260423T144519
CREATED:20250808T154846Z
LAST-MODIFIED:20250808T154846Z
UID:10012112-1854264600-1854264600@firststjohn.com
SUMMARY:Miriam Circle
DESCRIPTION:The Miriam Circle meets on the first wednesday of each month at 9:30 am.
URL:https://firststjohn.com/event/miriam-circle-2-4-2-9/2028-10-04/
LOCATION:Applebee’s in Northwood
CATEGORIES:Fellowship,WELCA
ATTACH;FMTTYPE=image/jpeg:https://firststjohn.com/wp-content/uploads/2024/03/MIRIAM-CIRCLE.jpg
END:VEVENT
END:VCALENDAR