BEGIN:VCALENDAR
VERSION:2.0
PRODID:-//First St John - ECPv6.15.20//NONSGML v1.0//EN
CALSCALE:GREGORIAN
METHOD:PUBLISH
X-WR-CALNAME:First St John
X-ORIGINAL-URL:https://firststjohn.com
X-WR-CALDESC:Events for First St John
REFRESH-INTERVAL;VALUE=DURATION:PT1H
X-Robots-Tag:noindex
X-PUBLISHED-TTL:PT1H
BEGIN:VTIMEZONE
TZID:America/Detroit
BEGIN:DAYLIGHT
TZOFFSETFROM:-0500
TZOFFSETTO:-0400
TZNAME:EDT
DTSTART:20290311T070000
END:DAYLIGHT
BEGIN:STANDARD
TZOFFSETFROM:-0400
TZOFFSETTO:-0500
TZNAME:EST
DTSTART:20291104T060000
END:STANDARD
BEGIN:DAYLIGHT
TZOFFSETFROM:-0500
TZOFFSETTO:-0400
TZNAME:EDT
DTSTART:20300310T070000
END:DAYLIGHT
BEGIN:STANDARD
TZOFFSETFROM:-0400
TZOFFSETTO:-0500
TZNAME:EST
DTSTART:20301103T060000
END:STANDARD
BEGIN:DAYLIGHT
TZOFFSETFROM:-0500
TZOFFSETTO:-0400
TZNAME:EDT
DTSTART:20310309T070000
END:DAYLIGHT
BEGIN:STANDARD
TZOFFSETFROM:-0400
TZOFFSETTO:-0500
TZNAME:EST
DTSTART:20311102T060000
END:STANDARD
BEGIN:DAYLIGHT
TZOFFSETFROM:-0500
TZOFFSETTO:-0400
TZNAME:EDT
DTSTART:20320314T070000
END:DAYLIGHT
BEGIN:STANDARD
TZOFFSETFROM:-0400
TZOFFSETTO:-0500
TZNAME:EST
DTSTART:20321107T060000
END:STANDARD
END:VTIMEZONE
BEGIN:VEVENT
DTSTART;TZID=America/Detroit:20300514T183000
DTEND;TZID=America/Detroit:20300514T183000
DTSTAMP:20260424T021236
CREATED:20260303T000217Z
LAST-MODIFIED:20260303T000217Z
UID:10015014-1905013800-1905013800@firststjohn.com
SUMMARY:Finance Mtg
DESCRIPTION:
URL:https://firststjohn.com/event/finance-mtg/2030-05-14/
CATEGORIES:Deacons
ATTACH;FMTTYPE=image/jpeg:https://firststjohn.com/wp-content/uploads/2024/03/img40.jpeg
ORGANIZER;CN="Jennifer Hess":MAILTO:office@firststjohn.com
END:VEVENT
BEGIN:VEVENT
DTSTART;TZID=America/Detroit:20300611T183000
DTEND;TZID=America/Detroit:20300611T183000
DTSTAMP:20260424T021236
CREATED:20260303T000217Z
LAST-MODIFIED:20260303T000217Z
UID:10015015-1907433000-1907433000@firststjohn.com
SUMMARY:Finance Mtg
DESCRIPTION:
URL:https://firststjohn.com/event/finance-mtg/2030-06-11/
CATEGORIES:Deacons
ATTACH;FMTTYPE=image/jpeg:https://firststjohn.com/wp-content/uploads/2024/03/img40.jpeg
ORGANIZER;CN="Jennifer Hess":MAILTO:office@firststjohn.com
END:VEVENT
BEGIN:VEVENT
DTSTART;TZID=America/Detroit:20300709T183000
DTEND;TZID=America/Detroit:20300709T183000
DTSTAMP:20260424T021236
CREATED:20260303T000217Z
LAST-MODIFIED:20260303T000217Z
UID:10015016-1909852200-1909852200@firststjohn.com
SUMMARY:Finance Mtg
DESCRIPTION:
URL:https://firststjohn.com/event/finance-mtg/2030-07-09/
CATEGORIES:Deacons
ATTACH;FMTTYPE=image/jpeg:https://firststjohn.com/wp-content/uploads/2024/03/img40.jpeg
ORGANIZER;CN="Jennifer Hess":MAILTO:office@firststjohn.com
END:VEVENT
BEGIN:VEVENT
DTSTART;TZID=America/Detroit:20300813T183000
DTEND;TZID=America/Detroit:20300813T183000
DTSTAMP:20260424T021236
CREATED:20260303T000217Z
LAST-MODIFIED:20260303T000217Z
UID:10015017-1912876200-1912876200@firststjohn.com
SUMMARY:Finance Mtg
DESCRIPTION:
URL:https://firststjohn.com/event/finance-mtg/2030-08-13/
CATEGORIES:Deacons
ATTACH;FMTTYPE=image/jpeg:https://firststjohn.com/wp-content/uploads/2024/03/img40.jpeg
ORGANIZER;CN="Jennifer Hess":MAILTO:office@firststjohn.com
END:VEVENT
BEGIN:VEVENT
DTSTART;TZID=America/Detroit:20300910T183000
DTEND;TZID=America/Detroit:20300910T183000
DTSTAMP:20260424T021236
CREATED:20260303T000217Z
LAST-MODIFIED:20260303T000217Z
UID:10015018-1915295400-1915295400@firststjohn.com
SUMMARY:Finance Mtg
DESCRIPTION:
URL:https://firststjohn.com/event/finance-mtg/2030-09-10/
CATEGORIES:Deacons
ATTACH;FMTTYPE=image/jpeg:https://firststjohn.com/wp-content/uploads/2024/03/img40.jpeg
ORGANIZER;CN="Jennifer Hess":MAILTO:office@firststjohn.com
END:VEVENT
BEGIN:VEVENT
DTSTART;TZID=America/Detroit:20301008T183000
DTEND;TZID=America/Detroit:20301008T183000
DTSTAMP:20260424T021236
CREATED:20260303T000217Z
LAST-MODIFIED:20260303T000217Z
UID:10015019-1917714600-1917714600@firststjohn.com
SUMMARY:Finance Mtg
DESCRIPTION:
URL:https://firststjohn.com/event/finance-mtg/2030-10-08/
CATEGORIES:Deacons
ATTACH;FMTTYPE=image/jpeg:https://firststjohn.com/wp-content/uploads/2024/03/img40.jpeg
ORGANIZER;CN="Jennifer Hess":MAILTO:office@firststjohn.com
END:VEVENT
BEGIN:VEVENT
DTSTART;TZID=America/Detroit:20301112T183000
DTEND;TZID=America/Detroit:20301112T183000
DTSTAMP:20260424T021236
CREATED:20260303T000217Z
LAST-MODIFIED:20260303T000217Z
UID:10015020-1920738600-1920738600@firststjohn.com
SUMMARY:Finance Mtg
DESCRIPTION:
URL:https://firststjohn.com/event/finance-mtg/2030-11-12/
CATEGORIES:Deacons
ATTACH;FMTTYPE=image/jpeg:https://firststjohn.com/wp-content/uploads/2024/03/img40.jpeg
ORGANIZER;CN="Jennifer Hess":MAILTO:office@firststjohn.com
END:VEVENT
BEGIN:VEVENT
DTSTART;TZID=America/Detroit:20301210T183000
DTEND;TZID=America/Detroit:20301210T183000
DTSTAMP:20260424T021236
CREATED:20260303T000217Z
LAST-MODIFIED:20260303T000217Z
UID:10015021-1923157800-1923157800@firststjohn.com
SUMMARY:Finance Mtg
DESCRIPTION:
URL:https://firststjohn.com/event/finance-mtg/2030-12-10/
CATEGORIES:Deacons
ATTACH;FMTTYPE=image/jpeg:https://firststjohn.com/wp-content/uploads/2024/03/img40.jpeg
ORGANIZER;CN="Jennifer Hess":MAILTO:office@firststjohn.com
END:VEVENT
BEGIN:VEVENT
DTSTART;TZID=America/Detroit:20310114T183000
DTEND;TZID=America/Detroit:20310114T183000
DTSTAMP:20260424T021236
CREATED:20260303T000217Z
LAST-MODIFIED:20260303T000217Z
UID:10015022-1926181800-1926181800@firststjohn.com
SUMMARY:Finance Mtg
DESCRIPTION:
URL:https://firststjohn.com/event/finance-mtg/2031-01-14/
CATEGORIES:Deacons
ATTACH;FMTTYPE=image/jpeg:https://firststjohn.com/wp-content/uploads/2024/03/img40.jpeg
ORGANIZER;CN="Jennifer Hess":MAILTO:office@firststjohn.com
END:VEVENT
BEGIN:VEVENT
DTSTART;TZID=America/Detroit:20310211T183000
DTEND;TZID=America/Detroit:20310211T183000
DTSTAMP:20260424T021236
CREATED:20260303T000217Z
LAST-MODIFIED:20260303T000217Z
UID:10015023-1928601000-1928601000@firststjohn.com
SUMMARY:Finance Mtg
DESCRIPTION:
URL:https://firststjohn.com/event/finance-mtg/2031-02-11/
CATEGORIES:Deacons
ATTACH;FMTTYPE=image/jpeg:https://firststjohn.com/wp-content/uploads/2024/03/img40.jpeg
ORGANIZER;CN="Jennifer Hess":MAILTO:office@firststjohn.com
END:VEVENT
END:VCALENDAR