BEGIN:VCALENDAR
VERSION:2.0
PRODID:-//First St John - ECPv6.15.20//NONSGML v1.0//EN
CALSCALE:GREGORIAN
METHOD:PUBLISH
X-WR-CALNAME:First St John
X-ORIGINAL-URL:https://firststjohn.com
X-WR-CALDESC:Events for First St John
REFRESH-INTERVAL;VALUE=DURATION:PT1H
X-Robots-Tag:noindex
X-PUBLISHED-TTL:PT1H
BEGIN:VTIMEZONE
TZID:America/Detroit
BEGIN:DAYLIGHT
TZOFFSETFROM:-0500
TZOFFSETTO:-0400
TZNAME:EDT
DTSTART:20270314T070000
END:DAYLIGHT
BEGIN:STANDARD
TZOFFSETFROM:-0400
TZOFFSETTO:-0500
TZNAME:EST
DTSTART:20271107T060000
END:STANDARD
BEGIN:DAYLIGHT
TZOFFSETFROM:-0500
TZOFFSETTO:-0400
TZNAME:EDT
DTSTART:20280312T070000
END:DAYLIGHT
BEGIN:STANDARD
TZOFFSETFROM:-0400
TZOFFSETTO:-0500
TZNAME:EST
DTSTART:20281105T060000
END:STANDARD
BEGIN:DAYLIGHT
TZOFFSETFROM:-0500
TZOFFSETTO:-0400
TZNAME:EDT
DTSTART:20290311T070000
END:DAYLIGHT
BEGIN:STANDARD
TZOFFSETFROM:-0400
TZOFFSETTO:-0500
TZNAME:EST
DTSTART:20291104T060000
END:STANDARD
BEGIN:DAYLIGHT
TZOFFSETFROM:-0500
TZOFFSETTO:-0400
TZNAME:EDT
DTSTART:20300310T070000
END:DAYLIGHT
BEGIN:STANDARD
TZOFFSETFROM:-0400
TZOFFSETTO:-0500
TZNAME:EST
DTSTART:20301103T060000
END:STANDARD
BEGIN:DAYLIGHT
TZOFFSETFROM:-0500
TZOFFSETTO:-0400
TZNAME:EDT
DTSTART:20310309T070000
END:DAYLIGHT
BEGIN:STANDARD
TZOFFSETFROM:-0400
TZOFFSETTO:-0500
TZNAME:EST
DTSTART:20311102T060000
END:STANDARD
END:VTIMEZONE
BEGIN:VEVENT
DTSTART;TZID=America/Detroit:20280509T183000
DTEND;TZID=America/Detroit:20280509T183000
DTSTAMP:20260423T200709
CREATED:20260303T000217Z
LAST-MODIFIED:20260303T000217Z
UID:10014990-1841509800-1841509800@firststjohn.com
SUMMARY:Finance Mtg
DESCRIPTION:
URL:https://firststjohn.com/event/finance-mtg/2028-05-09/
CATEGORIES:Deacons
ATTACH;FMTTYPE=image/jpeg:https://firststjohn.com/wp-content/uploads/2024/03/img40.jpeg
ORGANIZER;CN="Jennifer Hess":MAILTO:office@firststjohn.com
END:VEVENT
BEGIN:VEVENT
DTSTART;TZID=America/Detroit:20280613T183000
DTEND;TZID=America/Detroit:20280613T183000
DTSTAMP:20260423T200709
CREATED:20260303T000217Z
LAST-MODIFIED:20260303T000217Z
UID:10014991-1844533800-1844533800@firststjohn.com
SUMMARY:Finance Mtg
DESCRIPTION:
URL:https://firststjohn.com/event/finance-mtg/2028-06-13/
CATEGORIES:Deacons
ATTACH;FMTTYPE=image/jpeg:https://firststjohn.com/wp-content/uploads/2024/03/img40.jpeg
ORGANIZER;CN="Jennifer Hess":MAILTO:office@firststjohn.com
END:VEVENT
BEGIN:VEVENT
DTSTART;TZID=America/Detroit:20280711T183000
DTEND;TZID=America/Detroit:20280711T183000
DTSTAMP:20260423T200709
CREATED:20260303T000217Z
LAST-MODIFIED:20260303T000217Z
UID:10014992-1846953000-1846953000@firststjohn.com
SUMMARY:Finance Mtg
DESCRIPTION:
URL:https://firststjohn.com/event/finance-mtg/2028-07-11/
CATEGORIES:Deacons
ATTACH;FMTTYPE=image/jpeg:https://firststjohn.com/wp-content/uploads/2024/03/img40.jpeg
ORGANIZER;CN="Jennifer Hess":MAILTO:office@firststjohn.com
END:VEVENT
BEGIN:VEVENT
DTSTART;TZID=America/Detroit:20280808T183000
DTEND;TZID=America/Detroit:20280808T183000
DTSTAMP:20260423T200709
CREATED:20260303T000217Z
LAST-MODIFIED:20260303T000217Z
UID:10014993-1849372200-1849372200@firststjohn.com
SUMMARY:Finance Mtg
DESCRIPTION:
URL:https://firststjohn.com/event/finance-mtg/2028-08-08/
CATEGORIES:Deacons
ATTACH;FMTTYPE=image/jpeg:https://firststjohn.com/wp-content/uploads/2024/03/img40.jpeg
ORGANIZER;CN="Jennifer Hess":MAILTO:office@firststjohn.com
END:VEVENT
BEGIN:VEVENT
DTSTART;TZID=America/Detroit:20280912T183000
DTEND;TZID=America/Detroit:20280912T183000
DTSTAMP:20260423T200709
CREATED:20260303T000217Z
LAST-MODIFIED:20260303T000217Z
UID:10014994-1852396200-1852396200@firststjohn.com
SUMMARY:Finance Mtg
DESCRIPTION:
URL:https://firststjohn.com/event/finance-mtg/2028-09-12/
CATEGORIES:Deacons
ATTACH;FMTTYPE=image/jpeg:https://firststjohn.com/wp-content/uploads/2024/03/img40.jpeg
ORGANIZER;CN="Jennifer Hess":MAILTO:office@firststjohn.com
END:VEVENT
BEGIN:VEVENT
DTSTART;TZID=America/Detroit:20281010T183000
DTEND;TZID=America/Detroit:20281010T183000
DTSTAMP:20260423T200709
CREATED:20260303T000217Z
LAST-MODIFIED:20260303T000217Z
UID:10014995-1854815400-1854815400@firststjohn.com
SUMMARY:Finance Mtg
DESCRIPTION:
URL:https://firststjohn.com/event/finance-mtg/2028-10-10/
CATEGORIES:Deacons
ATTACH;FMTTYPE=image/jpeg:https://firststjohn.com/wp-content/uploads/2024/03/img40.jpeg
ORGANIZER;CN="Jennifer Hess":MAILTO:office@firststjohn.com
END:VEVENT
BEGIN:VEVENT
DTSTART;TZID=America/Detroit:20281114T183000
DTEND;TZID=America/Detroit:20281114T183000
DTSTAMP:20260423T200709
CREATED:20260303T000217Z
LAST-MODIFIED:20260303T000217Z
UID:10014996-1857839400-1857839400@firststjohn.com
SUMMARY:Finance Mtg
DESCRIPTION:
URL:https://firststjohn.com/event/finance-mtg/2028-11-14/
CATEGORIES:Deacons
ATTACH;FMTTYPE=image/jpeg:https://firststjohn.com/wp-content/uploads/2024/03/img40.jpeg
ORGANIZER;CN="Jennifer Hess":MAILTO:office@firststjohn.com
END:VEVENT
BEGIN:VEVENT
DTSTART;TZID=America/Detroit:20281212T183000
DTEND;TZID=America/Detroit:20281212T183000
DTSTAMP:20260423T200709
CREATED:20260303T000217Z
LAST-MODIFIED:20260303T000217Z
UID:10014997-1860258600-1860258600@firststjohn.com
SUMMARY:Finance Mtg
DESCRIPTION:
URL:https://firststjohn.com/event/finance-mtg/2028-12-12/
CATEGORIES:Deacons
ATTACH;FMTTYPE=image/jpeg:https://firststjohn.com/wp-content/uploads/2024/03/img40.jpeg
ORGANIZER;CN="Jennifer Hess":MAILTO:office@firststjohn.com
END:VEVENT
BEGIN:VEVENT
DTSTART;TZID=America/Detroit:20290109T183000
DTEND;TZID=America/Detroit:20290109T183000
DTSTAMP:20260423T200709
CREATED:20260303T000217Z
LAST-MODIFIED:20260303T000217Z
UID:10014998-1862677800-1862677800@firststjohn.com
SUMMARY:Finance Mtg
DESCRIPTION:
URL:https://firststjohn.com/event/finance-mtg/2029-01-09/
CATEGORIES:Deacons
ATTACH;FMTTYPE=image/jpeg:https://firststjohn.com/wp-content/uploads/2024/03/img40.jpeg
ORGANIZER;CN="Jennifer Hess":MAILTO:office@firststjohn.com
END:VEVENT
BEGIN:VEVENT
DTSTART;TZID=America/Detroit:20290213T183000
DTEND;TZID=America/Detroit:20290213T183000
DTSTAMP:20260423T200709
CREATED:20260303T000217Z
LAST-MODIFIED:20260303T000217Z
UID:10014999-1865701800-1865701800@firststjohn.com
SUMMARY:Finance Mtg
DESCRIPTION:
URL:https://firststjohn.com/event/finance-mtg/2029-02-13/
CATEGORIES:Deacons
ATTACH;FMTTYPE=image/jpeg:https://firststjohn.com/wp-content/uploads/2024/03/img40.jpeg
ORGANIZER;CN="Jennifer Hess":MAILTO:office@firststjohn.com
END:VEVENT
BEGIN:VEVENT
DTSTART;TZID=America/Detroit:20290313T183000
DTEND;TZID=America/Detroit:20290313T183000
DTSTAMP:20260423T200709
CREATED:20260303T000217Z
LAST-MODIFIED:20260303T000217Z
UID:10015000-1868121000-1868121000@firststjohn.com
SUMMARY:Finance Mtg
DESCRIPTION:
URL:https://firststjohn.com/event/finance-mtg/2029-03-13/
CATEGORIES:Deacons
ATTACH;FMTTYPE=image/jpeg:https://firststjohn.com/wp-content/uploads/2024/03/img40.jpeg
ORGANIZER;CN="Jennifer Hess":MAILTO:office@firststjohn.com
END:VEVENT
BEGIN:VEVENT
DTSTART;TZID=America/Detroit:20290410T183000
DTEND;TZID=America/Detroit:20290410T183000
DTSTAMP:20260423T200709
CREATED:20260303T000217Z
LAST-MODIFIED:20260303T000217Z
UID:10015001-1870540200-1870540200@firststjohn.com
SUMMARY:Finance Mtg
DESCRIPTION:
URL:https://firststjohn.com/event/finance-mtg/2029-04-10/
CATEGORIES:Deacons
ATTACH;FMTTYPE=image/jpeg:https://firststjohn.com/wp-content/uploads/2024/03/img40.jpeg
ORGANIZER;CN="Jennifer Hess":MAILTO:office@firststjohn.com
END:VEVENT
BEGIN:VEVENT
DTSTART;TZID=America/Detroit:20290508T183000
DTEND;TZID=America/Detroit:20290508T183000
DTSTAMP:20260423T200709
CREATED:20260303T000217Z
LAST-MODIFIED:20260303T000217Z
UID:10015002-1872959400-1872959400@firststjohn.com
SUMMARY:Finance Mtg
DESCRIPTION:
URL:https://firststjohn.com/event/finance-mtg/2029-05-08/
CATEGORIES:Deacons
ATTACH;FMTTYPE=image/jpeg:https://firststjohn.com/wp-content/uploads/2024/03/img40.jpeg
ORGANIZER;CN="Jennifer Hess":MAILTO:office@firststjohn.com
END:VEVENT
BEGIN:VEVENT
DTSTART;TZID=America/Detroit:20290612T183000
DTEND;TZID=America/Detroit:20290612T183000
DTSTAMP:20260423T200709
CREATED:20260303T000217Z
LAST-MODIFIED:20260303T000217Z
UID:10015003-1875983400-1875983400@firststjohn.com
SUMMARY:Finance Mtg
DESCRIPTION:
URL:https://firststjohn.com/event/finance-mtg/2029-06-12/
CATEGORIES:Deacons
ATTACH;FMTTYPE=image/jpeg:https://firststjohn.com/wp-content/uploads/2024/03/img40.jpeg
ORGANIZER;CN="Jennifer Hess":MAILTO:office@firststjohn.com
END:VEVENT
BEGIN:VEVENT
DTSTART;TZID=America/Detroit:20290710T183000
DTEND;TZID=America/Detroit:20290710T183000
DTSTAMP:20260423T200709
CREATED:20260303T000217Z
LAST-MODIFIED:20260303T000217Z
UID:10015004-1878402600-1878402600@firststjohn.com
SUMMARY:Finance Mtg
DESCRIPTION:
URL:https://firststjohn.com/event/finance-mtg/2029-07-10/
CATEGORIES:Deacons
ATTACH;FMTTYPE=image/jpeg:https://firststjohn.com/wp-content/uploads/2024/03/img40.jpeg
ORGANIZER;CN="Jennifer Hess":MAILTO:office@firststjohn.com
END:VEVENT
BEGIN:VEVENT
DTSTART;TZID=America/Detroit:20290814T183000
DTEND;TZID=America/Detroit:20290814T183000
DTSTAMP:20260423T200709
CREATED:20260303T000217Z
LAST-MODIFIED:20260303T000217Z
UID:10015005-1881426600-1881426600@firststjohn.com
SUMMARY:Finance Mtg
DESCRIPTION:
URL:https://firststjohn.com/event/finance-mtg/2029-08-14/
CATEGORIES:Deacons
ATTACH;FMTTYPE=image/jpeg:https://firststjohn.com/wp-content/uploads/2024/03/img40.jpeg
ORGANIZER;CN="Jennifer Hess":MAILTO:office@firststjohn.com
END:VEVENT
BEGIN:VEVENT
DTSTART;TZID=America/Detroit:20290911T183000
DTEND;TZID=America/Detroit:20290911T183000
DTSTAMP:20260423T200709
CREATED:20260303T000217Z
LAST-MODIFIED:20260303T000217Z
UID:10015006-1883845800-1883845800@firststjohn.com
SUMMARY:Finance Mtg
DESCRIPTION:
URL:https://firststjohn.com/event/finance-mtg/2029-09-11/
CATEGORIES:Deacons
ATTACH;FMTTYPE=image/jpeg:https://firststjohn.com/wp-content/uploads/2024/03/img40.jpeg
ORGANIZER;CN="Jennifer Hess":MAILTO:office@firststjohn.com
END:VEVENT
BEGIN:VEVENT
DTSTART;TZID=America/Detroit:20291009T183000
DTEND;TZID=America/Detroit:20291009T183000
DTSTAMP:20260423T200709
CREATED:20260303T000217Z
LAST-MODIFIED:20260303T000217Z
UID:10015007-1886265000-1886265000@firststjohn.com
SUMMARY:Finance Mtg
DESCRIPTION:
URL:https://firststjohn.com/event/finance-mtg/2029-10-09/
CATEGORIES:Deacons
ATTACH;FMTTYPE=image/jpeg:https://firststjohn.com/wp-content/uploads/2024/03/img40.jpeg
ORGANIZER;CN="Jennifer Hess":MAILTO:office@firststjohn.com
END:VEVENT
BEGIN:VEVENT
DTSTART;TZID=America/Detroit:20291113T183000
DTEND;TZID=America/Detroit:20291113T183000
DTSTAMP:20260423T200709
CREATED:20260303T000217Z
LAST-MODIFIED:20260303T000217Z
UID:10015008-1889289000-1889289000@firststjohn.com
SUMMARY:Finance Mtg
DESCRIPTION:
URL:https://firststjohn.com/event/finance-mtg/2029-11-13/
CATEGORIES:Deacons
ATTACH;FMTTYPE=image/jpeg:https://firststjohn.com/wp-content/uploads/2024/03/img40.jpeg
ORGANIZER;CN="Jennifer Hess":MAILTO:office@firststjohn.com
END:VEVENT
BEGIN:VEVENT
DTSTART;TZID=America/Detroit:20291211T183000
DTEND;TZID=America/Detroit:20291211T183000
DTSTAMP:20260423T200709
CREATED:20260303T000217Z
LAST-MODIFIED:20260303T000217Z
UID:10015009-1891708200-1891708200@firststjohn.com
SUMMARY:Finance Mtg
DESCRIPTION:
URL:https://firststjohn.com/event/finance-mtg/2029-12-11/
CATEGORIES:Deacons
ATTACH;FMTTYPE=image/jpeg:https://firststjohn.com/wp-content/uploads/2024/03/img40.jpeg
ORGANIZER;CN="Jennifer Hess":MAILTO:office@firststjohn.com
END:VEVENT
BEGIN:VEVENT
DTSTART;TZID=America/Detroit:20300108T183000
DTEND;TZID=America/Detroit:20300108T183000
DTSTAMP:20260423T200709
CREATED:20260303T000217Z
LAST-MODIFIED:20260303T000217Z
UID:10015010-1894127400-1894127400@firststjohn.com
SUMMARY:Finance Mtg
DESCRIPTION:
URL:https://firststjohn.com/event/finance-mtg/2030-01-08/
CATEGORIES:Deacons
ATTACH;FMTTYPE=image/jpeg:https://firststjohn.com/wp-content/uploads/2024/03/img40.jpeg
ORGANIZER;CN="Jennifer Hess":MAILTO:office@firststjohn.com
END:VEVENT
BEGIN:VEVENT
DTSTART;TZID=America/Detroit:20300212T183000
DTEND;TZID=America/Detroit:20300212T183000
DTSTAMP:20260423T200709
CREATED:20260303T000217Z
LAST-MODIFIED:20260303T000217Z
UID:10015011-1897151400-1897151400@firststjohn.com
SUMMARY:Finance Mtg
DESCRIPTION:
URL:https://firststjohn.com/event/finance-mtg/2030-02-12/
CATEGORIES:Deacons
ATTACH;FMTTYPE=image/jpeg:https://firststjohn.com/wp-content/uploads/2024/03/img40.jpeg
ORGANIZER;CN="Jennifer Hess":MAILTO:office@firststjohn.com
END:VEVENT
BEGIN:VEVENT
DTSTART;TZID=America/Detroit:20300312T183000
DTEND;TZID=America/Detroit:20300312T183000
DTSTAMP:20260423T200709
CREATED:20260303T000217Z
LAST-MODIFIED:20260303T000217Z
UID:10015012-1899570600-1899570600@firststjohn.com
SUMMARY:Finance Mtg
DESCRIPTION:
URL:https://firststjohn.com/event/finance-mtg/2030-03-12/
CATEGORIES:Deacons
ATTACH;FMTTYPE=image/jpeg:https://firststjohn.com/wp-content/uploads/2024/03/img40.jpeg
ORGANIZER;CN="Jennifer Hess":MAILTO:office@firststjohn.com
END:VEVENT
BEGIN:VEVENT
DTSTART;TZID=America/Detroit:20300409T183000
DTEND;TZID=America/Detroit:20300409T183000
DTSTAMP:20260423T200709
CREATED:20260303T000217Z
LAST-MODIFIED:20260303T000217Z
UID:10015013-1901989800-1901989800@firststjohn.com
SUMMARY:Finance Mtg
DESCRIPTION:
URL:https://firststjohn.com/event/finance-mtg/2030-04-09/
CATEGORIES:Deacons
ATTACH;FMTTYPE=image/jpeg:https://firststjohn.com/wp-content/uploads/2024/03/img40.jpeg
ORGANIZER;CN="Jennifer Hess":MAILTO:office@firststjohn.com
END:VEVENT
BEGIN:VEVENT
DTSTART;TZID=America/Detroit:20300514T183000
DTEND;TZID=America/Detroit:20300514T183000
DTSTAMP:20260423T200709
CREATED:20260303T000217Z
LAST-MODIFIED:20260303T000217Z
UID:10015014-1905013800-1905013800@firststjohn.com
SUMMARY:Finance Mtg
DESCRIPTION:
URL:https://firststjohn.com/event/finance-mtg/2030-05-14/
CATEGORIES:Deacons
ATTACH;FMTTYPE=image/jpeg:https://firststjohn.com/wp-content/uploads/2024/03/img40.jpeg
ORGANIZER;CN="Jennifer Hess":MAILTO:office@firststjohn.com
END:VEVENT
BEGIN:VEVENT
DTSTART;TZID=America/Detroit:20300611T183000
DTEND;TZID=America/Detroit:20300611T183000
DTSTAMP:20260423T200709
CREATED:20260303T000217Z
LAST-MODIFIED:20260303T000217Z
UID:10015015-1907433000-1907433000@firststjohn.com
SUMMARY:Finance Mtg
DESCRIPTION:
URL:https://firststjohn.com/event/finance-mtg/2030-06-11/
CATEGORIES:Deacons
ATTACH;FMTTYPE=image/jpeg:https://firststjohn.com/wp-content/uploads/2024/03/img40.jpeg
ORGANIZER;CN="Jennifer Hess":MAILTO:office@firststjohn.com
END:VEVENT
BEGIN:VEVENT
DTSTART;TZID=America/Detroit:20300709T183000
DTEND;TZID=America/Detroit:20300709T183000
DTSTAMP:20260423T200709
CREATED:20260303T000217Z
LAST-MODIFIED:20260303T000217Z
UID:10015016-1909852200-1909852200@firststjohn.com
SUMMARY:Finance Mtg
DESCRIPTION:
URL:https://firststjohn.com/event/finance-mtg/2030-07-09/
CATEGORIES:Deacons
ATTACH;FMTTYPE=image/jpeg:https://firststjohn.com/wp-content/uploads/2024/03/img40.jpeg
ORGANIZER;CN="Jennifer Hess":MAILTO:office@firststjohn.com
END:VEVENT
BEGIN:VEVENT
DTSTART;TZID=America/Detroit:20300813T183000
DTEND;TZID=America/Detroit:20300813T183000
DTSTAMP:20260423T200709
CREATED:20260303T000217Z
LAST-MODIFIED:20260303T000217Z
UID:10015017-1912876200-1912876200@firststjohn.com
SUMMARY:Finance Mtg
DESCRIPTION:
URL:https://firststjohn.com/event/finance-mtg/2030-08-13/
CATEGORIES:Deacons
ATTACH;FMTTYPE=image/jpeg:https://firststjohn.com/wp-content/uploads/2024/03/img40.jpeg
ORGANIZER;CN="Jennifer Hess":MAILTO:office@firststjohn.com
END:VEVENT
BEGIN:VEVENT
DTSTART;TZID=America/Detroit:20300910T183000
DTEND;TZID=America/Detroit:20300910T183000
DTSTAMP:20260423T200709
CREATED:20260303T000217Z
LAST-MODIFIED:20260303T000217Z
UID:10015018-1915295400-1915295400@firststjohn.com
SUMMARY:Finance Mtg
DESCRIPTION:
URL:https://firststjohn.com/event/finance-mtg/2030-09-10/
CATEGORIES:Deacons
ATTACH;FMTTYPE=image/jpeg:https://firststjohn.com/wp-content/uploads/2024/03/img40.jpeg
ORGANIZER;CN="Jennifer Hess":MAILTO:office@firststjohn.com
END:VEVENT
BEGIN:VEVENT
DTSTART;TZID=America/Detroit:20301008T183000
DTEND;TZID=America/Detroit:20301008T183000
DTSTAMP:20260423T200709
CREATED:20260303T000217Z
LAST-MODIFIED:20260303T000217Z
UID:10015019-1917714600-1917714600@firststjohn.com
SUMMARY:Finance Mtg
DESCRIPTION:
URL:https://firststjohn.com/event/finance-mtg/2030-10-08/
CATEGORIES:Deacons
ATTACH;FMTTYPE=image/jpeg:https://firststjohn.com/wp-content/uploads/2024/03/img40.jpeg
ORGANIZER;CN="Jennifer Hess":MAILTO:office@firststjohn.com
END:VEVENT
END:VCALENDAR