BEGIN:VCALENDAR
VERSION:2.0
PRODID:-//First St John - ECPv6.15.20//NONSGML v1.0//EN
CALSCALE:GREGORIAN
METHOD:PUBLISH
X-ORIGINAL-URL:https://firststjohn.com
X-WR-CALDESC:Events for First St John
REFRESH-INTERVAL;VALUE=DURATION:PT1H
X-Robots-Tag:noindex
X-PUBLISHED-TTL:PT1H
BEGIN:VTIMEZONE
TZID:America/New_York
BEGIN:DAYLIGHT
TZOFFSETFROM:-0500
TZOFFSETTO:-0400
TZNAME:EDT
DTSTART:20230312T070000
END:DAYLIGHT
BEGIN:STANDARD
TZOFFSETFROM:-0400
TZOFFSETTO:-0500
TZNAME:EST
DTSTART:20231105T060000
END:STANDARD
BEGIN:DAYLIGHT
TZOFFSETFROM:-0500
TZOFFSETTO:-0400
TZNAME:EDT
DTSTART:20240310T070000
END:DAYLIGHT
BEGIN:STANDARD
TZOFFSETFROM:-0400
TZOFFSETTO:-0500
TZNAME:EST
DTSTART:20241103T060000
END:STANDARD
BEGIN:DAYLIGHT
TZOFFSETFROM:-0500
TZOFFSETTO:-0400
TZNAME:EDT
DTSTART:20250309T070000
END:DAYLIGHT
BEGIN:STANDARD
TZOFFSETFROM:-0400
TZOFFSETTO:-0500
TZNAME:EST
DTSTART:20251102T060000
END:STANDARD
BEGIN:DAYLIGHT
TZOFFSETFROM:-0500
TZOFFSETTO:-0400
TZNAME:EDT
DTSTART:20260308T070000
END:DAYLIGHT
BEGIN:STANDARD
TZOFFSETFROM:-0400
TZOFFSETTO:-0500
TZNAME:EST
DTSTART:20261101T060000
END:STANDARD
END:VTIMEZONE
BEGIN:VEVENT
DTSTART;TZID=America/New_York:20250320T110000
DTEND;TZID=America/New_York:20250320T110000
DTSTAMP:20260424T061742
CREATED:20250301T221939Z
LAST-MODIFIED:20250301T221939Z
UID:10008981-1742468400-1742468400@firststjohn.com
SUMMARY:Bible Study
DESCRIPTION:
URL:https://firststjohn.com/event/adult-bible-study-2-2-2-2-2/2025-03-20/
LOCATION:Lounge
CATEGORIES:Christian Education,Featured,Fellowship
ATTACH;FMTTYPE=image/jpeg:https://firststjohn.com/wp-content/uploads/2021/07/img62.jpg
END:VEVENT
BEGIN:VEVENT
DTSTART;TZID=America/New_York:20250316T080000
DTEND;TZID=America/New_York:20250316T080000
DTSTAMP:20260424T061742
CREATED:20250301T223732Z
LAST-MODIFIED:20250301T223732Z
UID:10006841-1742112000-1742112000@firststjohn.com
SUMMARY:Worship/Comm
DESCRIPTION:From the Sunday after Labor Day until Memorial Day we Have Two Worship Service Times each Sunday\, 8:00 AM and 10:30 AM with J.A.M. (Sunday School) at 9:15
URL:https://firststjohn.com/event/early-worship-service-3-2-2-4-16/
LOCATION:Sanctuary\, 2471 Seaman St\, Toledo\, OH\, 43605\, United States
CATEGORIES:Children,Deacons,Elders,Trustees,Worship,Youth
ATTACH;FMTTYPE=image/jpeg:https://firststjohn.com/wp-content/uploads/2024/02/wine-and-bread.jpg
END:VEVENT
BEGIN:VEVENT
DTSTART;TZID=America/New_York:20250313T110000
DTEND;TZID=America/New_York:20250313T110000
DTSTAMP:20260424T061742
CREATED:20250301T221939Z
LAST-MODIFIED:20250301T221939Z
UID:10008980-1741863600-1741863600@firststjohn.com
SUMMARY:Bible Study
DESCRIPTION:
URL:https://firststjohn.com/event/adult-bible-study-2-2-2-2-2/2025-03-13/
LOCATION:Lounge
CATEGORIES:Christian Education,Featured,Fellowship
ATTACH;FMTTYPE=image/jpeg:https://firststjohn.com/wp-content/uploads/2021/07/img62.jpg
END:VEVENT
BEGIN:VEVENT
DTSTART;TZID=America/New_York:20250309T080000
DTEND;TZID=America/New_York:20250309T080000
DTSTAMP:20260424T061742
CREATED:20240813T151631Z
LAST-MODIFIED:20250305T205105Z
UID:10006840-1741507200-1741507200@firststjohn.com
SUMMARY:Worship
DESCRIPTION:From the Sunday after Labor Day until Memorial Day we Have Two Worship Service Times each Sunday\, 8:00 AM and 10:30 AM with J.A.M. (Sunday School) at 9:15
URL:https://firststjohn.com/event/early-worship-service-3-2-2-4/2025-03-09/
LOCATION:Sanctuary\, 2471 Seaman St\, Toledo\, OH\, 43605\, United States
CATEGORIES:Children,Deacons,Elders,Trustees,Worship,Youth
ATTACH;FMTTYPE=image/jpeg:https://firststjohn.com/wp-content/uploads/2024/02/wine-and-bread.jpg
END:VEVENT
BEGIN:VEVENT
DTSTART;TZID=America/New_York:20250306T110000
DTEND;TZID=America/New_York:20250306T110000
DTSTAMP:20260424T061742
CREATED:20250301T221939Z
LAST-MODIFIED:20250301T221939Z
UID:10008979-1741258800-1741258800@firststjohn.com
SUMMARY:Bible Study
DESCRIPTION:
URL:https://firststjohn.com/event/adult-bible-study-2-2-2-2-2/2025-03-06/
LOCATION:Lounge
CATEGORIES:Christian Education,Featured,Fellowship
ATTACH;FMTTYPE=image/jpeg:https://firststjohn.com/wp-content/uploads/2021/07/img62.jpg
END:VEVENT
BEGIN:VEVENT
DTSTART;TZID=America/New_York:20250303T190000
DTEND;TZID=America/New_York:20250303T190000
DTSTAMP:20260424T061742
CREATED:20241231T210218Z
LAST-MODIFIED:20241231T210218Z
UID:10009248-1741028400-1741028400@firststjohn.com
SUMMARY:Scouting Ministry Mtg
DESCRIPTION:SCOUTING NEWS \nFirst St. John has been in conversation with the Erie Shores Council of The Boy Scouts of America for establishing a Scouting Pack sponsored by FSJ. At the last Church council meeting approval was given to proceed with organizing the pack which would include both boys and girls according to the recent changes in Scouting by the BSA. Moving forward with this ministry outreach will require assembling a core group of volunteers from the congregation and any supporting groups including the FSJ Day School. These include the core oversight committee to the Cubmaster and Den Leaders. If you feel called to be part of the ministry\, please contact Pastor Rayl as soon as possible\, 419-691-7222.
URL:https://firststjohn.com/event/scouting-ministry-mtg-room-204-2-2-2/2025-03-03/
LOCATION:Ed Bldg Room 204
CATEGORIES:Chapel,Church Office,Featured,Scouting
ATTACH;FMTTYPE=image/png:https://firststjohn.com/wp-content/uploads/2024/11/Scout-Flag-Pack-58.png
END:VEVENT
BEGIN:VEVENT
DTSTART;TZID=America/New_York:20250302T080000
DTEND;TZID=America/New_York:20250302T080000
DTSTAMP:20260424T061742
CREATED:20250301T222650Z
LAST-MODIFIED:20250301T222651Z
UID:10006839-1740902400-1740902400@firststjohn.com
SUMMARY:Worship/Comm
DESCRIPTION:From the Sunday after Labor Day until Memorial Day we Have Two Worship Service Times each Sunday\, 8:00 AM and 10:30 AM with J.A.M. (Sunday School) at 9:15
URL:https://firststjohn.com/event/early-worship-service-3-2-2-4-15/
LOCATION:Sanctuary\, 2471 Seaman St\, Toledo\, OH\, 43605\, United States
CATEGORIES:Children,Deacons,Elders,Trustees,Worship,Youth
ATTACH;FMTTYPE=image/jpeg:https://firststjohn.com/wp-content/uploads/2024/02/wine-and-bread.jpg
END:VEVENT
BEGIN:VEVENT
DTSTART;TZID=America/New_York:20250227T110000
DTEND;TZID=America/New_York:20250227T110000
DTSTAMP:20260424T061742
CREATED:20250118T005923Z
LAST-MODIFIED:20250118T005924Z
UID:10008978-1740654000-1740654000@firststjohn.com
SUMMARY:Adult Bible Study
DESCRIPTION:
URL:https://firststjohn.com/event/adult-bible-study-2-2-2-2/2025-02-27/
LOCATION:Lounge
CATEGORIES:Christian Education,Featured,Fellowship
ATTACH;FMTTYPE=image/jpeg:https://firststjohn.com/wp-content/uploads/2021/07/img62.jpg
END:VEVENT
BEGIN:VEVENT
DTSTART;TZID=America/New_York:20250223T080000
DTEND;TZID=America/New_York:20250223T080000
DTSTAMP:20260424T061742
CREATED:20250203T140826Z
LAST-MODIFIED:20250301T215916Z
UID:10006838-1740297600-1740297600@firststjohn.com
SUMMARY:Worship/Comm
DESCRIPTION:From the Sunday after Labor Day until Memorial Day we Have Two Worship Service Times each Sunday\, 8:00 AM and 10:30 AM with J.A.M. (Sunday School) at 9:15
URL:https://firststjohn.com/event/early-worship-service-3-2-2-4-14/
LOCATION:Sanctuary\, 2471 Seaman St\, Toledo\, OH\, 43605\, United States
CATEGORIES:Children,Deacons,Elders,Trustees,Worship,Youth
ATTACH;FMTTYPE=image/jpeg:https://firststjohn.com/wp-content/uploads/2024/02/wine-and-bread.jpg
END:VEVENT
BEGIN:VEVENT
DTSTART;TZID=America/New_York:20250220T110000
DTEND;TZID=America/New_York:20250220T110000
DTSTAMP:20260424T061742
CREATED:20250118T005923Z
LAST-MODIFIED:20250118T005924Z
UID:10008977-1740049200-1740049200@firststjohn.com
SUMMARY:Adult Bible Study
DESCRIPTION:
URL:https://firststjohn.com/event/adult-bible-study-2-2-2-2/2025-02-20/
LOCATION:Lounge
CATEGORIES:Christian Education,Featured,Fellowship
ATTACH;FMTTYPE=image/jpeg:https://firststjohn.com/wp-content/uploads/2021/07/img62.jpg
END:VEVENT
BEGIN:VEVENT
DTSTART;TZID=America/New_York:20250216T080000
DTEND;TZID=America/New_York:20250216T080000
DTSTAMP:20260424T061742
CREATED:20240813T151631Z
LAST-MODIFIED:20250305T205105Z
UID:10006837-1739692800-1739692800@firststjohn.com
SUMMARY:Worship
DESCRIPTION:From the Sunday after Labor Day until Memorial Day we Have Two Worship Service Times each Sunday\, 8:00 AM and 10:30 AM with J.A.M. (Sunday School) at 9:15
URL:https://firststjohn.com/event/early-worship-service-3-2-2-4/2025-02-16/
LOCATION:Sanctuary\, 2471 Seaman St\, Toledo\, OH\, 43605\, United States
CATEGORIES:Children,Deacons,Elders,Trustees,Worship,Youth
ATTACH;FMTTYPE=image/jpeg:https://firststjohn.com/wp-content/uploads/2024/02/wine-and-bread.jpg
END:VEVENT
BEGIN:VEVENT
DTSTART;TZID=America/New_York:20250213T110000
DTEND;TZID=America/New_York:20250213T110000
DTSTAMP:20260424T061742
CREATED:20250118T005923Z
LAST-MODIFIED:20250118T005924Z
UID:10008976-1739444400-1739444400@firststjohn.com
SUMMARY:Adult Bible Study
DESCRIPTION:
URL:https://firststjohn.com/event/adult-bible-study-2-2-2-2/2025-02-13/
LOCATION:Lounge
CATEGORIES:Christian Education,Featured,Fellowship
ATTACH;FMTTYPE=image/jpeg:https://firststjohn.com/wp-content/uploads/2021/07/img62.jpg
END:VEVENT
BEGIN:VEVENT
DTSTART;TZID=America/New_York:20250209T080000
DTEND;TZID=America/New_York:20250209T080000
DTSTAMP:20260424T061742
CREATED:20250203T130019Z
LAST-MODIFIED:20250203T130019Z
UID:10006836-1739088000-1739088000@firststjohn.com
SUMMARY:Worship
DESCRIPTION:From the Sunday after Labor Day until Memorial Day we Have Two Worship Service Times each Sunday\, 8:00 AM and 10:30 AM with J.A.M. (Sunday School) at 9:15
URL:https://firststjohn.com/event/early-worship-service-3-2-2-4-13/
LOCATION:Sanctuary\, 2471 Seaman St\, Toledo\, OH\, 43605\, United States
CATEGORIES:Children,Deacons,Elders,Trustees,Worship,Youth
ATTACH;FMTTYPE=image/jpeg:https://firststjohn.com/wp-content/uploads/2024/02/wine-and-bread.jpg
END:VEVENT
BEGIN:VEVENT
DTSTART;TZID=America/New_York:20250206T110000
DTEND;TZID=America/New_York:20250206T110000
DTSTAMP:20260424T061742
CREATED:20250118T005923Z
LAST-MODIFIED:20250118T005924Z
UID:10008975-1738839600-1738839600@firststjohn.com
SUMMARY:Adult Bible Study
DESCRIPTION:
URL:https://firststjohn.com/event/adult-bible-study-2-2-2-2/2025-02-06/
LOCATION:Lounge
CATEGORIES:Christian Education,Featured,Fellowship
ATTACH;FMTTYPE=image/jpeg:https://firststjohn.com/wp-content/uploads/2021/07/img62.jpg
END:VEVENT
BEGIN:VEVENT
DTSTART;TZID=America/New_York:20250203T190000
DTEND;TZID=America/New_York:20250203T190000
DTSTAMP:20260424T061742
CREATED:20241231T210218Z
LAST-MODIFIED:20241231T210218Z
UID:10009247-1738609200-1738609200@firststjohn.com
SUMMARY:Scouting Ministry Mtg
DESCRIPTION:SCOUTING NEWS \nFirst St. John has been in conversation with the Erie Shores Council of The Boy Scouts of America for establishing a Scouting Pack sponsored by FSJ. At the last Church council meeting approval was given to proceed with organizing the pack which would include both boys and girls according to the recent changes in Scouting by the BSA. Moving forward with this ministry outreach will require assembling a core group of volunteers from the congregation and any supporting groups including the FSJ Day School. These include the core oversight committee to the Cubmaster and Den Leaders. If you feel called to be part of the ministry\, please contact Pastor Rayl as soon as possible\, 419-691-7222.
URL:https://firststjohn.com/event/scouting-ministry-mtg-room-204-2-2-2/2025-02-03/
LOCATION:Ed Bldg Room 204
CATEGORIES:Chapel,Church Office,Featured,Scouting
ATTACH;FMTTYPE=image/png:https://firststjohn.com/wp-content/uploads/2024/11/Scout-Flag-Pack-58.png
END:VEVENT
BEGIN:VEVENT
DTSTART;TZID=America/New_York:20250202T080000
DTEND;TZID=America/New_York:20250202T080000
DTSTAMP:20260424T061742
CREATED:20240813T151631Z
LAST-MODIFIED:20250305T205105Z
UID:10006835-1738483200-1738483200@firststjohn.com
SUMMARY:Worship
DESCRIPTION:From the Sunday after Labor Day until Memorial Day we Have Two Worship Service Times each Sunday\, 8:00 AM and 10:30 AM with J.A.M. (Sunday School) at 9:15
URL:https://firststjohn.com/event/early-worship-service-3-2-2-4/2025-02-02/
LOCATION:Sanctuary\, 2471 Seaman St\, Toledo\, OH\, 43605\, United States
CATEGORIES:Children,Deacons,Elders,Trustees,Worship,Youth
ATTACH;FMTTYPE=image/jpeg:https://firststjohn.com/wp-content/uploads/2024/02/wine-and-bread.jpg
END:VEVENT
BEGIN:VEVENT
DTSTART;TZID=America/New_York:20250130T110000
DTEND;TZID=America/New_York:20250130T110000
DTSTAMP:20260424T061742
CREATED:20250118T005923Z
LAST-MODIFIED:20250118T005924Z
UID:10008974-1738234800-1738234800@firststjohn.com
SUMMARY:Adult Bible Study
DESCRIPTION:
URL:https://firststjohn.com/event/adult-bible-study-2-2-2-2/2025-01-30/
LOCATION:Lounge
CATEGORIES:Christian Education,Featured,Fellowship
ATTACH;FMTTYPE=image/jpeg:https://firststjohn.com/wp-content/uploads/2021/07/img62.jpg
END:VEVENT
BEGIN:VEVENT
DTSTART;TZID=America/New_York:20250126T080000
DTEND;TZID=America/New_York:20250126T080000
DTSTAMP:20260424T061742
CREATED:20250104T164546Z
LAST-MODIFIED:20250104T164546Z
UID:10006834-1737878400-1737878400@firststjohn.com
SUMMARY:Worship
DESCRIPTION:From the Sunday after Labor Day until Memorial Day we Have Two Worship Service Times each Sunday\, 8:00 AM and 10:30 AM with J.A.M. (Sunday School) at 9:15
URL:https://firststjohn.com/event/early-worship-service-3-2-2-4-12/
LOCATION:Sanctuary\, 2471 Seaman St\, Toledo\, OH\, 43605\, United States
CATEGORIES:Children,Deacons,Elders,Trustees,Worship,Youth
ATTACH;FMTTYPE=image/jpeg:https://firststjohn.com/wp-content/uploads/2024/02/wine-and-bread.jpg
END:VEVENT
BEGIN:VEVENT
DTSTART;TZID=America/New_York:20250123T110000
DTEND;TZID=America/New_York:20250123T110000
DTSTAMP:20260424T061742
CREATED:20250118T005923Z
LAST-MODIFIED:20250118T005924Z
UID:10008973-1737630000-1737630000@firststjohn.com
SUMMARY:Adult Bible Study
DESCRIPTION:
URL:https://firststjohn.com/event/adult-bible-study-2-2-2-2/2025-01-23/
LOCATION:Lounge
CATEGORIES:Christian Education,Featured,Fellowship
ATTACH;FMTTYPE=image/jpeg:https://firststjohn.com/wp-content/uploads/2021/07/img62.jpg
END:VEVENT
BEGIN:VEVENT
DTSTART;TZID=America/New_York:20250119T080000
DTEND;TZID=America/New_York:20250119T080000
DTSTAMP:20260424T061742
CREATED:20240813T151631Z
LAST-MODIFIED:20250305T205105Z
UID:10006833-1737273600-1737273600@firststjohn.com
SUMMARY:Worship
DESCRIPTION:From the Sunday after Labor Day until Memorial Day we Have Two Worship Service Times each Sunday\, 8:00 AM and 10:30 AM with J.A.M. (Sunday School) at 9:15
URL:https://firststjohn.com/event/early-worship-service-3-2-2-4/2025-01-19/
LOCATION:Sanctuary\, 2471 Seaman St\, Toledo\, OH\, 43605\, United States
CATEGORIES:Children,Deacons,Elders,Trustees,Worship,Youth
ATTACH;FMTTYPE=image/jpeg:https://firststjohn.com/wp-content/uploads/2024/02/wine-and-bread.jpg
END:VEVENT
BEGIN:VEVENT
DTSTART;TZID=America/New_York:20250116T110000
DTEND;TZID=America/New_York:20250116T110000
DTSTAMP:20260424T061742
CREATED:20250104T162158Z
LAST-MODIFIED:20250104T162158Z
UID:10008972-1737025200-1737025200@firststjohn.com
SUMMARY:Adult Bible Study
DESCRIPTION:
URL:https://firststjohn.com/event/adult-bible-study-2-2-2/
LOCATION:Lounge
CATEGORIES:Christian Education
ATTACH;FMTTYPE=image/jpeg:https://firststjohn.com/wp-content/uploads/2021/07/img62.jpg
END:VEVENT
BEGIN:VEVENT
DTSTART;TZID=America/New_York:20250112T080000
DTEND;TZID=America/New_York:20250112T080000
DTSTAMP:20260424T061742
CREATED:20250104T161112Z
LAST-MODIFIED:20250104T161112Z
UID:10006832-1736668800-1736668800@firststjohn.com
SUMMARY:Worship
DESCRIPTION:From the Sunday after Labor Day until Memorial Day we Have Two Worship Service Times each Sunday\, 8:00 AM and 10:30 AM with J.A.M. (Sunday School) at 9:15
URL:https://firststjohn.com/event/early-worship-service-3-2-2-4-11/
LOCATION:Sanctuary\, 2471 Seaman St\, Toledo\, OH\, 43605\, United States
CATEGORIES:Children,Deacons,Elders,Trustees,Worship,Youth
ATTACH;FMTTYPE=image/jpeg:https://firststjohn.com/wp-content/uploads/2024/02/wine-and-bread.jpg
END:VEVENT
BEGIN:VEVENT
DTSTART;TZID=America/New_York:20250106T190000
DTEND;TZID=America/New_York:20250106T190000
DTSTAMP:20260424T061742
CREATED:20241231T210218Z
LAST-MODIFIED:20241231T210218Z
UID:10009246-1736190000-1736190000@firststjohn.com
SUMMARY:Scouting Ministry Mtg
DESCRIPTION:SCOUTING NEWS \nFirst St. John has been in conversation with the Erie Shores Council of The Boy Scouts of America for establishing a Scouting Pack sponsored by FSJ. At the last Church council meeting approval was given to proceed with organizing the pack which would include both boys and girls according to the recent changes in Scouting by the BSA. Moving forward with this ministry outreach will require assembling a core group of volunteers from the congregation and any supporting groups including the FSJ Day School. These include the core oversight committee to the Cubmaster and Den Leaders. If you feel called to be part of the ministry\, please contact Pastor Rayl as soon as possible\, 419-691-7222.
URL:https://firststjohn.com/event/scouting-ministry-mtg-room-204-2-2-2/2025-01-06/
LOCATION:Ed Bldg Room 204
CATEGORIES:Chapel,Church Office,Featured,Scouting
ATTACH;FMTTYPE=image/png:https://firststjohn.com/wp-content/uploads/2024/11/Scout-Flag-Pack-58.png
END:VEVENT
BEGIN:VEVENT
DTSTART;TZID=America/New_York:20250105T080000
DTEND;TZID=America/New_York:20250105T080000
DTSTAMP:20260424T061742
CREATED:20240813T151631Z
LAST-MODIFIED:20250305T205105Z
UID:10006831-1736064000-1736064000@firststjohn.com
SUMMARY:Worship
DESCRIPTION:From the Sunday after Labor Day until Memorial Day we Have Two Worship Service Times each Sunday\, 8:00 AM and 10:30 AM with J.A.M. (Sunday School) at 9:15
URL:https://firststjohn.com/event/early-worship-service-3-2-2-4/2025-01-05/
LOCATION:Sanctuary\, 2471 Seaman St\, Toledo\, OH\, 43605\, United States
CATEGORIES:Children,Deacons,Elders,Trustees,Worship,Youth
ATTACH;FMTTYPE=image/jpeg:https://firststjohn.com/wp-content/uploads/2024/02/wine-and-bread.jpg
END:VEVENT
BEGIN:VEVENT
DTSTART;TZID=America/New_York:20241229T080000
DTEND;TZID=America/New_York:20241229T080000
DTSTAMP:20260424T061742
CREATED:20241201T222705Z
LAST-MODIFIED:20241201T222705Z
UID:10006830-1735459200-1735459200@firststjohn.com
SUMMARY:Worship
DESCRIPTION:From the Sunday after Labor Day until Memorial Day we Have Two Worship Service Times each Sunday\, 8:00 AM and 10:30 AM with J.A.M. (Sunday School) at 9:15
URL:https://firststjohn.com/event/early-worship-service-3-2-2-4-10/
LOCATION:Sanctuary\, 2471 Seaman St\, Toledo\, OH\, 43605\, United States
CATEGORIES:Children,Deacons,Elders,Trustees,Worship,Youth
ATTACH;FMTTYPE=image/jpeg:https://firststjohn.com/wp-content/uploads/2024/02/wine-and-bread.jpg
END:VEVENT
BEGIN:VEVENT
DTSTART;TZID=America/New_York:20241222T080000
DTEND;TZID=America/New_York:20241222T080000
DTSTAMP:20260424T061742
CREATED:20241201T221556Z
LAST-MODIFIED:20241201T221556Z
UID:10006829-1734854400-1734854400@firststjohn.com
SUMMARY:Worship
DESCRIPTION:From the Sunday after Labor Day until Memorial Day we Have Two Worship Service Times each Sunday\, 8:00 AM and 10:30 AM with J.A.M. (Sunday School) at 9:15
URL:https://firststjohn.com/event/early-worship-service-3-2-2-4-9/
LOCATION:Sanctuary\, 2471 Seaman St\, Toledo\, OH\, 43605\, United States
CATEGORIES:Children,Deacons,Elders,Trustees,Worship,Youth
ATTACH;FMTTYPE=image/jpeg:https://firststjohn.com/wp-content/uploads/2024/02/wine-and-bread.jpg
END:VEVENT
BEGIN:VEVENT
DTSTART;TZID=America/New_York:20241215T080000
DTEND;TZID=America/New_York:20241215T080000
DTSTAMP:20260424T061742
CREATED:20240813T151631Z
LAST-MODIFIED:20250305T205105Z
UID:10006828-1734249600-1734249600@firststjohn.com
SUMMARY:Worship
DESCRIPTION:From the Sunday after Labor Day until Memorial Day we Have Two Worship Service Times each Sunday\, 8:00 AM and 10:30 AM with J.A.M. (Sunday School) at 9:15
URL:https://firststjohn.com/event/early-worship-service-3-2-2-4/2024-12-15/
LOCATION:Sanctuary\, 2471 Seaman St\, Toledo\, OH\, 43605\, United States
CATEGORIES:Children,Deacons,Elders,Trustees,Worship,Youth
ATTACH;FMTTYPE=image/jpeg:https://firststjohn.com/wp-content/uploads/2024/02/wine-and-bread.jpg
END:VEVENT
BEGIN:VEVENT
DTSTART;TZID=America/New_York:20241212T110000
DTEND;TZID=America/New_York:20241212T110000
DTSTAMP:20260424T061742
CREATED:20241102T131506Z
LAST-MODIFIED:20241102T131506Z
UID:10008967-1734001200-1734001200@firststjohn.com
SUMMARY:Bible Study
DESCRIPTION:
URL:https://firststjohn.com/event/adult-bible-study-2-2/2024-12-12/
LOCATION:Lounge
CATEGORIES:Christian Education
ATTACH;FMTTYPE=image/jpeg:https://firststjohn.com/wp-content/uploads/2021/07/img62.jpg
END:VEVENT
BEGIN:VEVENT
DTSTART;TZID=America/New_York:20241208T080000
DTEND;TZID=America/New_York:20241208T080000
DTSTAMP:20260424T061742
CREATED:20241201T214148Z
LAST-MODIFIED:20241201T214251Z
UID:10006827-1733644800-1733644800@firststjohn.com
SUMMARY:Worship
DESCRIPTION:From the Sunday after Labor Day until Memorial Day we Have Two Worship Service Times each Sunday\, 8:00 AM and 10:30 AM with J.A.M. (Sunday School) at 9:15
URL:https://firststjohn.com/event/early-worship-service-3-2-2-4-8/
LOCATION:Sanctuary\, 2471 Seaman St\, Toledo\, OH\, 43605\, United States
CATEGORIES:Children,Deacons,Elders,Trustees,Worship,Youth
ATTACH;FMTTYPE=image/jpeg:https://firststjohn.com/wp-content/uploads/2024/02/wine-and-bread.jpg
END:VEVENT
BEGIN:VEVENT
DTSTART;TZID=America/New_York:20241205T110000
DTEND;TZID=America/New_York:20241205T110000
DTSTAMP:20260424T061742
CREATED:20241102T131506Z
LAST-MODIFIED:20241102T131506Z
UID:10008966-1733396400-1733396400@firststjohn.com
SUMMARY:Bible Study
DESCRIPTION:
URL:https://firststjohn.com/event/adult-bible-study-2-2/2024-12-05/
LOCATION:Lounge
CATEGORIES:Christian Education
ATTACH;FMTTYPE=image/jpeg:https://firststjohn.com/wp-content/uploads/2021/07/img62.jpg
END:VEVENT
END:VCALENDAR