BEGIN:VCALENDAR
VERSION:2.0
PRODID:-//First St John - ECPv6.15.20//NONSGML v1.0//EN
CALSCALE:GREGORIAN
METHOD:PUBLISH
X-WR-CALNAME:First St John
X-ORIGINAL-URL:https://firststjohn.com
X-WR-CALDESC:Events for First St John
REFRESH-INTERVAL;VALUE=DURATION:PT1H
X-Robots-Tag:noindex
X-PUBLISHED-TTL:PT1H
BEGIN:VTIMEZONE
TZID:America/New_York
BEGIN:DAYLIGHT
TZOFFSETFROM:-0500
TZOFFSETTO:-0400
TZNAME:EDT
DTSTART:20230312T070000
END:DAYLIGHT
BEGIN:STANDARD
TZOFFSETFROM:-0400
TZOFFSETTO:-0500
TZNAME:EST
DTSTART:20231105T060000
END:STANDARD
BEGIN:DAYLIGHT
TZOFFSETFROM:-0500
TZOFFSETTO:-0400
TZNAME:EDT
DTSTART:20240310T070000
END:DAYLIGHT
BEGIN:STANDARD
TZOFFSETFROM:-0400
TZOFFSETTO:-0500
TZNAME:EST
DTSTART:20241103T060000
END:STANDARD
BEGIN:DAYLIGHT
TZOFFSETFROM:-0500
TZOFFSETTO:-0400
TZNAME:EDT
DTSTART:20250309T070000
END:DAYLIGHT
BEGIN:STANDARD
TZOFFSETFROM:-0400
TZOFFSETTO:-0500
TZNAME:EST
DTSTART:20251102T060000
END:STANDARD
BEGIN:DAYLIGHT
TZOFFSETFROM:-0500
TZOFFSETTO:-0400
TZNAME:EDT
DTSTART:20260308T070000
END:DAYLIGHT
BEGIN:STANDARD
TZOFFSETFROM:-0400
TZOFFSETTO:-0500
TZNAME:EST
DTSTART:20261101T060000
END:STANDARD
END:VTIMEZONE
BEGIN:VEVENT
DTSTART;TZID=America/New_York:20250416T183000
DTEND;TZID=America/New_York:20250416T183000
DTSTAMP:20260424T072509
CREATED:20250401T000947Z
LAST-MODIFIED:20250401T000947Z
UID:10011070-1744828200-1744828200@firststjohn.com
SUMMARY:Choir Rehearsal
DESCRIPTION:JOIN US FOR CHOIR REHEARSAL! Dr Tony has graciously agreed to help in as our choir prepare for the Easter season. Choir practice will take place at 6:30pm. If you have ever considered being part of our choir\, please plan to join us!
URL:https://firststjohn.com/event/choir-practice-2-2-2-2-2/
LOCATION:Choir Practice
CATEGORIES:Choir,Fellowship
ATTACH;FMTTYPE=image/png:https://firststjohn.com/wp-content/uploads/2024/02/img10.png
END:VEVENT
BEGIN:VEVENT
DTSTART;TZID=America/New_York:20250410T183000
DTEND;TZID=America/New_York:20250410T183000
DTSTAMP:20260424T072509
CREATED:20241201T221240Z
LAST-MODIFIED:20250401T000847Z
UID:10008437-1744309800-1744309800@firststjohn.com
SUMMARY:Choir Rehearsal
DESCRIPTION:JOIN US FOR CHOIR REHEARSAL! Dr Tony has graciously agreed to help in as our choir prepare for the Easter season. Choir practice will take place at 6:30pm. If you have ever considered being part of our choir\, please plan to join us!
URL:https://firststjohn.com/event/choir-practice-2-2-2-2/
LOCATION:Choir Practice
CATEGORIES:Choir,Fellowship
ATTACH;FMTTYPE=image/png:https://firststjohn.com/wp-content/uploads/2024/02/img10.png
END:VEVENT
BEGIN:VEVENT
DTSTART;TZID=America/New_York:20241212T180000
DTEND;TZID=America/New_York:20241212T180000
DTSTAMP:20260424T072509
CREATED:20241201T204231Z
LAST-MODIFIED:20241201T204231Z
UID:10008435-1734026400-1734026400@firststjohn.com
SUMMARY:Choir Rehearsal
DESCRIPTION:JOIN US FOR CHOIR REHEARSAL! Craig Whitaker\, of Craig’s Pianos and Keyboards has graciously agreed to temporarily helping fill in as our choir director as we begin to search for a permanent replacement. Choir practice will take place each Thursday at 6pm unless otherwise noted. If you have ever considered being part of our choir\, please plan to join us!
URL:https://firststjohn.com/event/choir-practice-2-2-2/
LOCATION:Choir Practice
CATEGORIES:Choir,Fellowship
ATTACH;FMTTYPE=image/png:https://firststjohn.com/wp-content/uploads/2024/02/img10.png
END:VEVENT
BEGIN:VEVENT
DTSTART;TZID=America/New_York:20241121T180000
DTEND;TZID=America/New_York:20241121T180000
DTSTAMP:20260424T072509
CREATED:20241001T135751Z
LAST-MODIFIED:20241007T182123Z
UID:10008433-1732212000-1732212000@firststjohn.com
SUMMARY:Choir Rehearsal
DESCRIPTION:JOIN US FOR CHOIR REHEARSAL! Craig Whitaker\, of Craig’s Pianos and Keyboards has graciously agreed to temporarily helping fill in as our choir director as we begin to search for a permanent replacement. Choir practice will take place each Thursday at 6pm unless otherwise noted. If you have ever considered being part of our choir\, please plan to join us!
URL:https://firststjohn.com/event/choir-practice-2-2/2024-11-21/
LOCATION:Choir Practice
CATEGORIES:Choir,Fellowship
ATTACH;FMTTYPE=image/png:https://firststjohn.com/wp-content/uploads/2024/02/img10.png
END:VEVENT
BEGIN:VEVENT
DTSTART;TZID=America/New_York:20241114T180000
DTEND;TZID=America/New_York:20241114T180000
DTSTAMP:20260424T072509
CREATED:20241001T135751Z
LAST-MODIFIED:20241007T182123Z
UID:10008432-1731607200-1731607200@firststjohn.com
SUMMARY:Choir Rehearsal
DESCRIPTION:JOIN US FOR CHOIR REHEARSAL! Craig Whitaker\, of Craig’s Pianos and Keyboards has graciously agreed to temporarily helping fill in as our choir director as we begin to search for a permanent replacement. Choir practice will take place each Thursday at 6pm unless otherwise noted. If you have ever considered being part of our choir\, please plan to join us!
URL:https://firststjohn.com/event/choir-practice-2-2/2024-11-14/
LOCATION:Choir Practice
CATEGORIES:Choir,Fellowship
ATTACH;FMTTYPE=image/png:https://firststjohn.com/wp-content/uploads/2024/02/img10.png
END:VEVENT
BEGIN:VEVENT
DTSTART;TZID=America/New_York:20241107T180000
DTEND;TZID=America/New_York:20241107T180000
DTSTAMP:20260424T072509
CREATED:20241001T135751Z
LAST-MODIFIED:20241007T182123Z
UID:10008431-1731002400-1731002400@firststjohn.com
SUMMARY:Choir Rehearsal
DESCRIPTION:JOIN US FOR CHOIR REHEARSAL! Craig Whitaker\, of Craig’s Pianos and Keyboards has graciously agreed to temporarily helping fill in as our choir director as we begin to search for a permanent replacement. Choir practice will take place each Thursday at 6pm unless otherwise noted. If you have ever considered being part of our choir\, please plan to join us!
URL:https://firststjohn.com/event/choir-practice-2-2/2024-11-07/
LOCATION:Choir Practice
CATEGORIES:Choir,Fellowship
ATTACH;FMTTYPE=image/png:https://firststjohn.com/wp-content/uploads/2024/02/img10.png
END:VEVENT
BEGIN:VEVENT
DTSTART;TZID=America/New_York:20241024T180000
DTEND;TZID=America/New_York:20241024T180000
DTSTAMP:20260424T072509
CREATED:20241001T135751Z
LAST-MODIFIED:20241007T182123Z
UID:10008429-1729792800-1729792800@firststjohn.com
SUMMARY:Choir Rehearsal
DESCRIPTION:JOIN US FOR CHOIR REHEARSAL! Craig Whitaker\, of Craig’s Pianos and Keyboards has graciously agreed to temporarily helping fill in as our choir director as we begin to search for a permanent replacement. Choir practice will take place each Thursday at 6pm unless otherwise noted. If you have ever considered being part of our choir\, please plan to join us!
URL:https://firststjohn.com/event/choir-practice-2-2/2024-10-24/
LOCATION:Choir Practice
CATEGORIES:Choir,Fellowship
ATTACH;FMTTYPE=image/png:https://firststjohn.com/wp-content/uploads/2024/02/img10.png
END:VEVENT
BEGIN:VEVENT
DTSTART;TZID=America/New_York:20241017T180000
DTEND;TZID=America/New_York:20241017T180000
DTSTAMP:20260424T072509
CREATED:20241001T135751Z
LAST-MODIFIED:20241007T182123Z
UID:10008428-1729188000-1729188000@firststjohn.com
SUMMARY:Choir Rehearsal
DESCRIPTION:JOIN US FOR CHOIR REHEARSAL! Craig Whitaker\, of Craig’s Pianos and Keyboards has graciously agreed to temporarily helping fill in as our choir director as we begin to search for a permanent replacement. Choir practice will take place each Thursday at 6pm unless otherwise noted. If you have ever considered being part of our choir\, please plan to join us!
URL:https://firststjohn.com/event/choir-practice-2-2/2024-10-17/
LOCATION:Choir Practice
CATEGORIES:Choir,Fellowship
ATTACH;FMTTYPE=image/png:https://firststjohn.com/wp-content/uploads/2024/02/img10.png
END:VEVENT
BEGIN:VEVENT
DTSTART;TZID=America/New_York:20241010T180000
DTEND;TZID=America/New_York:20241010T180000
DTSTAMP:20260424T072509
CREATED:20241001T135751Z
LAST-MODIFIED:20241007T182123Z
UID:10008427-1728583200-1728583200@firststjohn.com
SUMMARY:Choir Rehearsal
DESCRIPTION:JOIN US FOR CHOIR REHEARSAL! Craig Whitaker\, of Craig’s Pianos and Keyboards has graciously agreed to temporarily helping fill in as our choir director as we begin to search for a permanent replacement. Choir practice will take place each Thursday at 6pm unless otherwise noted. If you have ever considered being part of our choir\, please plan to join us!
URL:https://firststjohn.com/event/choir-practice-2-2/2024-10-10/
LOCATION:Choir Practice
CATEGORIES:Choir,Fellowship
ATTACH;FMTTYPE=image/png:https://firststjohn.com/wp-content/uploads/2024/02/img10.png
END:VEVENT
BEGIN:VEVENT
DTSTART;TZID=America/New_York:20241003T180000
DTEND;TZID=America/New_York:20241003T180000
DTSTAMP:20260424T072509
CREATED:20240923T155548Z
LAST-MODIFIED:20240923T155548Z
UID:10008426-1727978400-1727978400@firststjohn.com
SUMMARY:Choir Practice
DESCRIPTION:
URL:https://firststjohn.com/event/choir-practice-2/
LOCATION:Choir Practice
CATEGORIES:Choir,Fellowship
ATTACH;FMTTYPE=image/png:https://firststjohn.com/wp-content/uploads/2024/02/img10.png
END:VEVENT
BEGIN:VEVENT
DTSTART;TZID=America/New_York:20240926T180000
DTEND;TZID=America/New_York:20240926T180000
DTSTAMP:20260424T072509
CREATED:20240923T155413Z
LAST-MODIFIED:20240923T155413Z
UID:10008425-1727373600-1727373600@firststjohn.com
SUMMARY:Choir Practice
DESCRIPTION:
URL:https://firststjohn.com/event/choir-practice/
LOCATION:Choir Practice
CATEGORIES:Choir,Featured,Fellowship
ATTACH;FMTTYPE=image/png:https://firststjohn.com/wp-content/uploads/2024/02/img10.png
END:VEVENT
END:VCALENDAR