BEGIN:VCALENDAR
VERSION:2.0
PRODID:-//First St John - ECPv6.15.20//NONSGML v1.0//EN
CALSCALE:GREGORIAN
METHOD:PUBLISH
X-WR-CALNAME:First St John
X-ORIGINAL-URL:https://firststjohn.com
X-WR-CALDESC:Events for First St John
REFRESH-INTERVAL;VALUE=DURATION:PT1H
X-Robots-Tag:noindex
X-PUBLISHED-TTL:PT1H
BEGIN:VTIMEZONE
TZID:America/New_York
BEGIN:DAYLIGHT
TZOFFSETFROM:-0500
TZOFFSETTO:-0400
TZNAME:EDT
DTSTART:20220313T070000
END:DAYLIGHT
BEGIN:STANDARD
TZOFFSETFROM:-0400
TZOFFSETTO:-0500
TZNAME:EST
DTSTART:20221106T060000
END:STANDARD
BEGIN:DAYLIGHT
TZOFFSETFROM:-0500
TZOFFSETTO:-0400
TZNAME:EDT
DTSTART:20230312T070000
END:DAYLIGHT
BEGIN:STANDARD
TZOFFSETFROM:-0400
TZOFFSETTO:-0500
TZNAME:EST
DTSTART:20231105T060000
END:STANDARD
BEGIN:DAYLIGHT
TZOFFSETFROM:-0500
TZOFFSETTO:-0400
TZNAME:EDT
DTSTART:20240310T070000
END:DAYLIGHT
BEGIN:STANDARD
TZOFFSETFROM:-0400
TZOFFSETTO:-0500
TZNAME:EST
DTSTART:20241103T060000
END:STANDARD
BEGIN:DAYLIGHT
TZOFFSETFROM:-0500
TZOFFSETTO:-0400
TZNAME:EDT
DTSTART:20250309T070000
END:DAYLIGHT
BEGIN:STANDARD
TZOFFSETFROM:-0400
TZOFFSETTO:-0500
TZNAME:EST
DTSTART:20251102T060000
END:STANDARD
BEGIN:DAYLIGHT
TZOFFSETFROM:-0500
TZOFFSETTO:-0400
TZNAME:EDT
DTSTART:20260308T070000
END:DAYLIGHT
BEGIN:STANDARD
TZOFFSETFROM:-0400
TZOFFSETTO:-0500
TZNAME:EST
DTSTART:20261101T060000
END:STANDARD
END:VTIMEZONE
BEGIN:VEVENT
DTSTART;TZID=America/New_York:20250405T083000
DTEND;TZID=America/New_York:20250405T083000
DTSTAMP:20260423T184304
CREATED:20250331T015111Z
LAST-MODIFIED:20250331T015111Z
UID:10010564-1743841800-1743841800@firststjohn.com
SUMMARY:Fellowship Breakfast (American Table)
DESCRIPTION:FELLOWSHIP BREAKFAST the next fellowship breakfast will be held on Saturday\, April 5th at 8:30 am at the American Table restaurant on the corner of Wheeling and Navarre (note the location change). See you there!  Good Food\, Good Friends\, and good conversations. Come join us! \n\nEveryone is invited
URL:https://firststjohn.com/event/fellowship-breakfast-woodville-diner-2-2-2-2-2-2-2-2/2025-04-05/
LOCATION:American Table\, 846 S Wheeling St\, Oregon\, OH\, 43616\, United States
CATEGORIES:Featured,Fellowship
ATTACH;FMTTYPE=image/jpeg:https://firststjohn.com/wp-content/uploads/2024/03/Fellowship-Breakfast.jpg
END:VEVENT
BEGIN:VEVENT
DTSTART;TZID=America/New_York:20250222T083000
DTEND;TZID=America/New_York:20250222T083000
DTSTAMP:20260423T184304
CREATED:20250203T125833Z
LAST-MODIFIED:20250203T125834Z
UID:10006304-1740213000-1740213000@firststjohn.com
SUMMARY:Fellowship Breakfast (American Table)
DESCRIPTION:FELLOWSHIP BREAKFAST the next fellowship breakfast will be held on Saturday\, January 11th at 8:30 am at the American Table restaurant on the corner of Wheeling and Navarre (note the location change). See you there!  Good Food\, Good Friends\, and good conversations. Come join us! \n\nEveryone is invited
URL:https://firststjohn.com/event/fellowship-breakfast-woodville-diner-2-2-2-2-2-2-2/
LOCATION:American Table\, 846 S Wheeling St\, Oregon\, OH\, 43616\, United States
CATEGORIES:Featured,Fellowship
ATTACH;FMTTYPE=image/jpeg:https://firststjohn.com/wp-content/uploads/2024/03/Fellowship-Breakfast.jpg
END:VEVENT
BEGIN:VEVENT
DTSTART;TZID=America/New_York:20250111T083000
DTEND;TZID=America/New_York:20250111T083000
DTSTAMP:20260423T184304
CREATED:20250104T160726Z
LAST-MODIFIED:20250104T160902Z
UID:10006303-1736584200-1736584200@firststjohn.com
SUMMARY:Fellowship Breakfast (American Table)
DESCRIPTION:FELLOWSHIP BREAKFAST the next fellowship breakfast will be held on Saturday\, January 11th at 8:30 am at the American Table restaurant on the corner of Wheeling and Navarre (note the location change). See you there!  Good Food\, Good Friends\, and good conversations. Come join us! \n\nEveryone is invited
URL:https://firststjohn.com/event/fellowship-breakfast-woodville-diner-2-2-2-2-2-2/
LOCATION:American Table\, 846 S Wheeling St\, Oregon\, OH\, 43616\, United States
CATEGORIES:Featured,Fellowship
ATTACH;FMTTYPE=image/jpeg:https://firststjohn.com/wp-content/uploads/2024/03/Fellowship-Breakfast.jpg
END:VEVENT
BEGIN:VEVENT
DTSTART;TZID=America/New_York:20241214T083000
DTEND;TZID=America/New_York:20241214T083000
DTSTAMP:20260423T184304
CREATED:20241102T130502Z
LAST-MODIFIED:20241102T130502Z
UID:10006302-1734165000-1734165000@firststjohn.com
SUMMARY:Fellowship Breakfast
DESCRIPTION:Good Food\, Good Friends\, and good conversations. Come join us!\n\nEveryone is invited
URL:https://firststjohn.com/event/fellowship-breakfast-woodville-diner-2-2-2-2-2/2024-12-14/
LOCATION:Woodville Dinner
CATEGORIES:Featured,Fellowship
ATTACH;FMTTYPE=image/jpeg:https://firststjohn.com/wp-content/uploads/2024/03/Fellowship-Breakfast.jpg
END:VEVENT
BEGIN:VEVENT
DTSTART;TZID=America/New_York:20241109T083000
DTEND;TZID=America/New_York:20241109T083000
DTSTAMP:20260423T184304
CREATED:20241102T130502Z
LAST-MODIFIED:20241102T130502Z
UID:10006301-1731141000-1731141000@firststjohn.com
SUMMARY:Fellowship Breakfast
DESCRIPTION:Good Food\, Good Friends\, and good conversations. Come join us!\n\nEveryone is invited
URL:https://firststjohn.com/event/fellowship-breakfast-woodville-diner-2-2-2-2-2/2024-11-09/
LOCATION:Woodville Dinner
CATEGORIES:Featured,Fellowship
ATTACH;FMTTYPE=image/jpeg:https://firststjohn.com/wp-content/uploads/2024/03/Fellowship-Breakfast.jpg
END:VEVENT
BEGIN:VEVENT
DTSTART;TZID=America/New_York:20241012T083000
DTEND;TZID=America/New_York:20241012T083000
DTSTAMP:20260423T184304
CREATED:20241014T130443Z
LAST-MODIFIED:20241014T130443Z
UID:10006300-1728721800-1728721800@firststjohn.com
SUMMARY:Fellowship Breakfast @ Woodville Diner
DESCRIPTION:Good Food\, Good Friends\, and good conversations.  Come join us!\n\nEveryone is invited
URL:https://firststjohn.com/event/fellowship-breakfast-woodville-diner-2-2-2-2/
LOCATION:Woodville Dinner
CATEGORIES:Featured,Fellowship
ATTACH;FMTTYPE=image/jpeg:https://firststjohn.com/wp-content/uploads/2024/03/Fellowship-Breakfast.jpg
END:VEVENT
BEGIN:VEVENT
DTSTART;TZID=America/New_York:20240915T091500
DTEND;TZID=America/New_York:20240915T091500
DTSTAMP:20260423T184304
CREATED:20240912T162724Z
LAST-MODIFIED:20240912T170618Z
UID:10007888-1726391700-1726391700@firststjohn.com
SUMMARY:Bible Quiz (lounge)
DESCRIPTION:
URL:https://firststjohn.com/event/bible-quiz-lounge/
LOCATION:Lounge
CATEGORIES:Christian Education,Featured,Fellowship
ATTACH;FMTTYPE=image/jpeg:https://firststjohn.com/wp-content/uploads/2021/08/img18.jpg
END:VEVENT
BEGIN:VEVENT
DTSTART;TZID=America/New_York:20240914T083000
DTEND;TZID=America/New_York:20240914T083000
DTSTAMP:20260423T184304
CREATED:20240730T195134Z
LAST-MODIFIED:20240912T170453Z
UID:10006299-1726302600-1726302600@firststjohn.com
SUMMARY:Fellowship Breakfast @ Woodville Diner
DESCRIPTION:
URL:https://firststjohn.com/event/fellowship-breakfast-woodville-diner-2-2-2/
LOCATION:Woodville Dinner
CATEGORIES:Featured,Fellowship
ATTACH;FMTTYPE=image/jpeg:https://firststjohn.com/wp-content/uploads/2024/03/Fellowship-Breakfast.jpg
END:VEVENT
BEGIN:VEVENT
DTSTART;TZID=America/New_York:20240810T083000
DTEND;TZID=America/New_York:20240810T083000
DTSTAMP:20260423T184304
CREATED:20240708T180437Z
LAST-MODIFIED:20240730T195053Z
UID:10006298-1723278600-1723278600@firststjohn.com
SUMMARY:Fellowship Breakfast @ Woodville Diner
DESCRIPTION:
URL:https://firststjohn.com/event/fellowship-breakfast-woodville-diner-2-2/
LOCATION:Woodville Dinner
CATEGORIES:Featured,Fellowship
ATTACH;FMTTYPE=image/jpeg:https://firststjohn.com/wp-content/uploads/2024/03/Fellowship-Breakfast.jpg
END:VEVENT
BEGIN:VEVENT
DTSTART;TZID=America/New_York:20240713T083000
DTEND;TZID=America/New_York:20240713T083000
DTSTAMP:20260423T184304
CREATED:20240708T180156Z
LAST-MODIFIED:20240708T180338Z
UID:10005915-1720859400-1720859400@firststjohn.com
SUMMARY:Fellowship Breakfast @ Woodville Diner
DESCRIPTION:
URL:https://firststjohn.com/event/fellowship-breakfast-woodville-diner-2/
LOCATION:Woodville Dinner
CATEGORIES:Featured,Fellowship
ATTACH;FMTTYPE=image/jpeg:https://firststjohn.com/wp-content/uploads/2024/03/Fellowship-Breakfast.jpg
END:VEVENT
BEGIN:VEVENT
DTSTART;TZID=America/New_York:20240601T083000
DTEND;TZID=America/New_York:20240601T083000
DTSTAMP:20260423T184304
CREATED:20240601T223544Z
LAST-MODIFIED:20240601T225756Z
UID:10005913-1717230600-1717230600@firststjohn.com
SUMMARY:Fellowship Breakfast @ Woodville Diner
DESCRIPTION:
URL:https://firststjohn.com/event/fellowship-breakfast-woodville-diner/
LOCATION:Woodville Dinner
CATEGORIES:Fellowship
ATTACH;FMTTYPE=image/jpeg:https://firststjohn.com/wp-content/uploads/2024/03/Fellowship-Breakfast.jpg
END:VEVENT
BEGIN:VEVENT
DTSTART;TZID=America/New_York:20240406T083000
DTEND;TZID=America/New_York:20240406T083000
DTSTAMP:20260423T184304
CREATED:20240316T175837Z
LAST-MODIFIED:20240403T000221Z
UID:10002072-1712392200-1712392200@firststjohn.com
SUMMARY:Fellowship Breakfast @ Woodville Dinner
DESCRIPTION:Time for our monthly Fellowship Breakfast.  Come join us!
URL:https://firststjohn.com/event/fellowship-breakfast-woodville-dinner-2/
CATEGORIES:Elders,Fellowship
ATTACH;FMTTYPE=image/jpeg:https://firststjohn.com/wp-content/uploads/2024/03/Fellowship-Breakfast.jpg
END:VEVENT
BEGIN:VEVENT
DTSTART;TZID=America/New_York:20240324T091500
DTEND;TZID=America/New_York:20240324T091500
DTSTAMP:20260423T184304
CREATED:20240206T141500Z
LAST-MODIFIED:20240316T205255Z
UID:10001202-1711271700-1711271700@firststjohn.com
SUMMARY:Adult Sunday School
DESCRIPTION:Adult Sunday School
URL:https://firststjohn.com/event/adult-sunday-school/2024-03-24/
LOCATION:Lounge
CATEGORIES:Christian Education
ATTACH;FMTTYPE=image/jpeg:https://firststjohn.com/wp-content/uploads/2024/02/coffee.jpg
END:VEVENT
BEGIN:VEVENT
DTSTART;TZID=America/New_York:20240317T091500
DTEND;TZID=America/New_York:20240317T091500
DTSTAMP:20260423T184304
CREATED:20240206T141500Z
LAST-MODIFIED:20240316T205255Z
UID:10001201-1710666900-1710666900@firststjohn.com
SUMMARY:Adult Sunday School
DESCRIPTION:Adult Sunday School
URL:https://firststjohn.com/event/adult-sunday-school/2024-03-17/
LOCATION:Lounge
CATEGORIES:Christian Education
ATTACH;FMTTYPE=image/jpeg:https://firststjohn.com/wp-content/uploads/2024/02/coffee.jpg
END:VEVENT
BEGIN:VEVENT
DTSTART;TZID=America/New_York:20240310T091500
DTEND;TZID=America/New_York:20240310T091500
DTSTAMP:20260423T184304
CREATED:20240206T141500Z
LAST-MODIFIED:20240316T205255Z
UID:10001200-1710062100-1710062100@firststjohn.com
SUMMARY:Adult Sunday School
DESCRIPTION:Adult Sunday School
URL:https://firststjohn.com/event/adult-sunday-school/2024-03-10/
LOCATION:Lounge
CATEGORIES:Christian Education
ATTACH;FMTTYPE=image/jpeg:https://firststjohn.com/wp-content/uploads/2024/02/coffee.jpg
END:VEVENT
BEGIN:VEVENT
DTSTART;TZID=America/New_York:20240303T091500
DTEND;TZID=America/New_York:20240303T091500
DTSTAMP:20260423T184304
CREATED:20240206T141500Z
LAST-MODIFIED:20240316T205255Z
UID:10001199-1709457300-1709457300@firststjohn.com
SUMMARY:Adult Sunday School
DESCRIPTION:Adult Sunday School
URL:https://firststjohn.com/event/adult-sunday-school/2024-03-03/
LOCATION:Lounge
CATEGORIES:Christian Education
ATTACH;FMTTYPE=image/jpeg:https://firststjohn.com/wp-content/uploads/2024/02/coffee.jpg
END:VEVENT
BEGIN:VEVENT
DTSTART;TZID=America/New_York:20240302T083000
DTEND;TZID=America/New_York:20240302T083000
DTSTAMP:20260423T184304
CREATED:20240302T185309Z
LAST-MODIFIED:20240318T233754Z
UID:10001646-1709368200-1709368200@firststjohn.com
SUMMARY:Fellowship Breakfast @ Woodville Dinner
DESCRIPTION:Time for our monthly Fellowship Breakfast.  Come join us!
URL:https://firststjohn.com/event/fellowship-breakfast-woodville-dinner/
CATEGORIES:Elders,Fellowship
ATTACH;FMTTYPE=image/jpeg:https://firststjohn.com/wp-content/uploads/2024/03/Fellowship-Breakfast.jpg
END:VEVENT
BEGIN:VEVENT
DTSTART;TZID=America/New_York:20240225T091500
DTEND;TZID=America/New_York:20240225T091500
DTSTAMP:20260423T184305
CREATED:20240206T141500Z
LAST-MODIFIED:20240316T205255Z
UID:10001198-1708852500-1708852500@firststjohn.com
SUMMARY:Adult Sunday School
DESCRIPTION:Adult Sunday School
URL:https://firststjohn.com/event/adult-sunday-school/2024-02-25/
LOCATION:Lounge
CATEGORIES:Christian Education
ATTACH;FMTTYPE=image/jpeg:https://firststjohn.com/wp-content/uploads/2024/02/coffee.jpg
END:VEVENT
BEGIN:VEVENT
DTSTART;TZID=America/New_York:20240218T091500
DTEND;TZID=America/New_York:20240218T091500
DTSTAMP:20260423T184305
CREATED:20240206T141500Z
LAST-MODIFIED:20240316T205255Z
UID:10001197-1708247700-1708247700@firststjohn.com
SUMMARY:Adult Sunday School
DESCRIPTION:Adult Sunday School
URL:https://firststjohn.com/event/adult-sunday-school/2024-02-18/
LOCATION:Lounge
CATEGORIES:Christian Education
ATTACH;FMTTYPE=image/jpeg:https://firststjohn.com/wp-content/uploads/2024/02/coffee.jpg
END:VEVENT
BEGIN:VEVENT
DTSTART;TZID=America/New_York:20240211T091500
DTEND;TZID=America/New_York:20240211T091500
DTSTAMP:20260423T184305
CREATED:20240206T141500Z
LAST-MODIFIED:20240316T205255Z
UID:10001196-1707642900-1707642900@firststjohn.com
SUMMARY:Adult Sunday School
DESCRIPTION:Adult Sunday School
URL:https://firststjohn.com/event/adult-sunday-school/2024-02-11/
LOCATION:Lounge
CATEGORIES:Christian Education
ATTACH;FMTTYPE=image/jpeg:https://firststjohn.com/wp-content/uploads/2024/02/coffee.jpg
END:VEVENT
BEGIN:VEVENT
DTSTART;TZID=America/New_York:20240204T091500
DTEND;TZID=America/New_York:20240204T091500
DTSTAMP:20260423T184305
CREATED:20240206T141500Z
LAST-MODIFIED:20240316T205255Z
UID:10001195-1707038100-1707038100@firststjohn.com
SUMMARY:Adult Sunday School
DESCRIPTION:Adult Sunday School
URL:https://firststjohn.com/event/adult-sunday-school/2024-02-04/
LOCATION:Lounge
CATEGORIES:Christian Education
ATTACH;FMTTYPE=image/jpeg:https://firststjohn.com/wp-content/uploads/2024/02/coffee.jpg
END:VEVENT
BEGIN:VEVENT
DTSTART;TZID=America/New_York:20240128T091500
DTEND;TZID=America/New_York:20240128T091500
DTSTAMP:20260423T184305
CREATED:20240206T141500Z
LAST-MODIFIED:20240316T205255Z
UID:10001194-1706433300-1706433300@firststjohn.com
SUMMARY:Adult Sunday School
DESCRIPTION:Adult Sunday School
URL:https://firststjohn.com/event/adult-sunday-school/2024-01-28/
LOCATION:Lounge
CATEGORIES:Christian Education
ATTACH;FMTTYPE=image/jpeg:https://firststjohn.com/wp-content/uploads/2024/02/coffee.jpg
END:VEVENT
BEGIN:VEVENT
DTSTART;TZID=America/New_York:20240121T091500
DTEND;TZID=America/New_York:20240121T091500
DTSTAMP:20260423T184305
CREATED:20240206T141500Z
LAST-MODIFIED:20240316T205255Z
UID:10001193-1705828500-1705828500@firststjohn.com
SUMMARY:Adult Sunday School
DESCRIPTION:Adult Sunday School
URL:https://firststjohn.com/event/adult-sunday-school/2024-01-21/
LOCATION:Lounge
CATEGORIES:Christian Education
ATTACH;FMTTYPE=image/jpeg:https://firststjohn.com/wp-content/uploads/2024/02/coffee.jpg
END:VEVENT
BEGIN:VEVENT
DTSTART;TZID=America/New_York:20240114T091500
DTEND;TZID=America/New_York:20240114T091500
DTSTAMP:20260423T184305
CREATED:20240206T141500Z
LAST-MODIFIED:20240316T205255Z
UID:10001192-1705223700-1705223700@firststjohn.com
SUMMARY:Adult Sunday School
DESCRIPTION:Adult Sunday School
URL:https://firststjohn.com/event/adult-sunday-school/2024-01-14/
LOCATION:Lounge
CATEGORIES:Christian Education
ATTACH;FMTTYPE=image/jpeg:https://firststjohn.com/wp-content/uploads/2024/02/coffee.jpg
END:VEVENT
BEGIN:VEVENT
DTSTART;TZID=America/New_York:20240107T091500
DTEND;TZID=America/New_York:20240107T091500
DTSTAMP:20260423T184305
CREATED:20240206T141500Z
LAST-MODIFIED:20240316T205255Z
UID:10001191-1704618900-1704618900@firststjohn.com
SUMMARY:Adult Sunday School
DESCRIPTION:Adult Sunday School
URL:https://firststjohn.com/event/adult-sunday-school/2024-01-07/
LOCATION:Lounge
CATEGORIES:Christian Education
ATTACH;FMTTYPE=image/jpeg:https://firststjohn.com/wp-content/uploads/2024/02/coffee.jpg
END:VEVENT
BEGIN:VEVENT
DTSTART;TZID=America/New_York:20231231T091500
DTEND;TZID=America/New_York:20231231T091500
DTSTAMP:20260423T184305
CREATED:20240206T141500Z
LAST-MODIFIED:20240316T205255Z
UID:10001190-1704014100-1704014100@firststjohn.com
SUMMARY:Adult Sunday School
DESCRIPTION:Adult Sunday School
URL:https://firststjohn.com/event/adult-sunday-school/2023-12-31/
LOCATION:Lounge
CATEGORIES:Christian Education
ATTACH;FMTTYPE=image/jpeg:https://firststjohn.com/wp-content/uploads/2024/02/coffee.jpg
END:VEVENT
BEGIN:VEVENT
DTSTART;TZID=America/New_York:20231224T091500
DTEND;TZID=America/New_York:20231224T091500
DTSTAMP:20260423T184305
CREATED:20240206T141500Z
LAST-MODIFIED:20240316T205255Z
UID:10001189-1703409300-1703409300@firststjohn.com
SUMMARY:Adult Sunday School
DESCRIPTION:Adult Sunday School
URL:https://firststjohn.com/event/adult-sunday-school/2023-12-24/
LOCATION:Lounge
CATEGORIES:Christian Education
ATTACH;FMTTYPE=image/jpeg:https://firststjohn.com/wp-content/uploads/2024/02/coffee.jpg
END:VEVENT
BEGIN:VEVENT
DTSTART;TZID=America/New_York:20231217T091500
DTEND;TZID=America/New_York:20231217T091500
DTSTAMP:20260423T184305
CREATED:20240206T141500Z
LAST-MODIFIED:20240316T205255Z
UID:10001188-1702804500-1702804500@firststjohn.com
SUMMARY:Adult Sunday School
DESCRIPTION:Adult Sunday School
URL:https://firststjohn.com/event/adult-sunday-school/2023-12-17/
LOCATION:Lounge
CATEGORIES:Christian Education
ATTACH;FMTTYPE=image/jpeg:https://firststjohn.com/wp-content/uploads/2024/02/coffee.jpg
END:VEVENT
BEGIN:VEVENT
DTSTART;TZID=America/New_York:20231210T091500
DTEND;TZID=America/New_York:20231210T091500
DTSTAMP:20260423T184305
CREATED:20240206T141500Z
LAST-MODIFIED:20240316T205255Z
UID:10001187-1702199700-1702199700@firststjohn.com
SUMMARY:Adult Sunday School
DESCRIPTION:Adult Sunday School
URL:https://firststjohn.com/event/adult-sunday-school/2023-12-10/
LOCATION:Lounge
CATEGORIES:Christian Education
ATTACH;FMTTYPE=image/jpeg:https://firststjohn.com/wp-content/uploads/2024/02/coffee.jpg
END:VEVENT
BEGIN:VEVENT
DTSTART;TZID=America/New_York:20231203T091500
DTEND;TZID=America/New_York:20231203T091500
DTSTAMP:20260423T184305
CREATED:20240206T141500Z
LAST-MODIFIED:20240316T205255Z
UID:10001186-1701594900-1701594900@firststjohn.com
SUMMARY:Adult Sunday School
DESCRIPTION:Adult Sunday School
URL:https://firststjohn.com/event/adult-sunday-school/2023-12-03/
LOCATION:Lounge
CATEGORIES:Christian Education
ATTACH;FMTTYPE=image/jpeg:https://firststjohn.com/wp-content/uploads/2024/02/coffee.jpg
END:VEVENT
END:VCALENDAR