BEGIN:VCALENDAR
VERSION:2.0
PRODID:-//First St John - ECPv6.15.20//NONSGML v1.0//EN
CALSCALE:GREGORIAN
METHOD:PUBLISH
X-ORIGINAL-URL:https://firststjohn.com
X-WR-CALDESC:Events for First St John
REFRESH-INTERVAL;VALUE=DURATION:PT1H
X-Robots-Tag:noindex
X-PUBLISHED-TTL:PT1H
BEGIN:VTIMEZONE
TZID:America/New_York
BEGIN:DAYLIGHT
TZOFFSETFROM:-0500
TZOFFSETTO:-0400
TZNAME:EDT
DTSTART:20230312T070000
END:DAYLIGHT
BEGIN:STANDARD
TZOFFSETFROM:-0400
TZOFFSETTO:-0500
TZNAME:EST
DTSTART:20231105T060000
END:STANDARD
BEGIN:DAYLIGHT
TZOFFSETFROM:-0500
TZOFFSETTO:-0400
TZNAME:EDT
DTSTART:20240310T070000
END:DAYLIGHT
BEGIN:STANDARD
TZOFFSETFROM:-0400
TZOFFSETTO:-0500
TZNAME:EST
DTSTART:20241103T060000
END:STANDARD
BEGIN:DAYLIGHT
TZOFFSETFROM:-0500
TZOFFSETTO:-0400
TZNAME:EDT
DTSTART:20250309T070000
END:DAYLIGHT
BEGIN:STANDARD
TZOFFSETFROM:-0400
TZOFFSETTO:-0500
TZNAME:EST
DTSTART:20251102T060000
END:STANDARD
BEGIN:DAYLIGHT
TZOFFSETFROM:-0500
TZOFFSETTO:-0400
TZNAME:EDT
DTSTART:20260308T070000
END:DAYLIGHT
BEGIN:STANDARD
TZOFFSETFROM:-0400
TZOFFSETTO:-0500
TZNAME:EST
DTSTART:20261101T060000
END:STANDARD
END:VTIMEZONE
BEGIN:VEVENT
DTSTART;TZID=America/New_York:20250113T193000
DTEND;TZID=America/New_York:20250113T193000
DTSTAMP:20260423T231245
CREATED:20250104T163555Z
LAST-MODIFIED:20250104T163555Z
UID:10009333-1736796600-1736796600@firststjohn.com
SUMMARY:Dartball (A)
DESCRIPTION:
URL:https://firststjohn.com/event/dartball-4-4/
CATEGORIES:Chapel,Church Office,Featured,Fellowship
ATTACH;FMTTYPE=image/jpeg:https://firststjohn.com/wp-content/uploads/2024/02/img23.jpg
END:VEVENT
BEGIN:VEVENT
DTSTART;TZID=America/New_York:20241216T193000
DTEND;TZID=America/New_York:20241216T193000
DTSTAMP:20260423T231245
CREATED:20241201T220441Z
LAST-MODIFIED:20241201T220441Z
UID:10009329-1734377400-1734377400@firststjohn.com
SUMMARY:Dartball (Away)
DESCRIPTION:
URL:https://firststjohn.com/event/dartball-4-3/
CATEGORIES:Fellowship
ATTACH;FMTTYPE=image/jpeg:https://firststjohn.com/wp-content/uploads/2024/02/img23.jpg
END:VEVENT
BEGIN:VEVENT
DTSTART;TZID=America/New_York:20241202T193000
DTEND;TZID=America/New_York:20241202T193000
DTSTAMP:20260423T231245
CREATED:20241201T213448Z
LAST-MODIFIED:20241201T213533Z
UID:10009327-1733167800-1733167800@firststjohn.com
SUMMARY:Dartball (Home)
DESCRIPTION:
URL:https://firststjohn.com/event/dartball-4-2/
CATEGORIES:Fellowship
ATTACH;FMTTYPE=image/jpeg:https://firststjohn.com/wp-content/uploads/2024/02/img23.jpg
END:VEVENT
BEGIN:VEVENT
DTSTART;TZID=America/New_York:20241118T193000
DTEND;TZID=America/New_York:20241118T193000
DTSTAMP:20260423T231245
CREATED:20241102T132041Z
LAST-MODIFIED:20241110T200348Z
UID:10009325-1731958200-1731958200@firststjohn.com
SUMMARY:Dartball (A)
DESCRIPTION:
URL:https://firststjohn.com/event/dartball-3/
CATEGORIES:Featured,Fellowship
ATTACH;FMTTYPE=image/jpeg:https://firststjohn.com/wp-content/uploads/2024/02/img23.jpg
END:VEVENT
BEGIN:VEVENT
DTSTART;TZID=America/New_York:20241117T091500
DTEND;TZID=America/New_York:20241117T091500
DTSTAMP:20260423T231245
CREATED:20241118T023750Z
LAST-MODIFIED:20250402T232355Z
UID:10008170-1731834900-1731834900@firststjohn.com
SUMMARY:Adult S. School
DESCRIPTION:Please join us each Sunday at 9:15 am for Adult Bible Study in the lounge. We will look at the gospel lesson for that Sunday and examine its background\, context\, and relevance to today’s times.   Coffee\, tea\, and sweet breakfast treats will be provided\, so join us every Sunday.
URL:https://firststjohn.com/event/adult-bible-study-3-2/2024-11-17/2/
CATEGORIES:Christian Education,Fellowship
ATTACH;FMTTYPE=image/jpeg:https://firststjohn.com/wp-content/uploads/2024/11/FSJ-Adult-Sunday-School2.jpg
END:VEVENT
BEGIN:VEVENT
DTSTART;TZID=America/New_York:20241117T080000
DTEND;TZID=America/New_York:20241117T170000
DTSTAMP:20260423T231245
CREATED:20241118T023750Z
LAST-MODIFIED:20250402T232355Z
UID:10011112-1731830400-1731862800@firststjohn.com
SUMMARY:Adult S. School
DESCRIPTION:Please join us each Sunday at 9:15 am for Adult Bible Study in the lounge. We will look at the gospel lesson for that Sunday and examine its background\, context\, and relevance to today’s times.   Coffee\, tea\, and sweet breakfast treats will be provided\, so join us every Sunday.
URL:https://firststjohn.com/event/adult-bible-study-3-2/2024-11-17/1/
CATEGORIES:Christian Education,Fellowship
ATTACH;FMTTYPE=image/jpeg:https://firststjohn.com/wp-content/uploads/2024/11/FSJ-Adult-Sunday-School2.jpg
END:VEVENT
BEGIN:VEVENT
DTSTART;TZID=America/New_York:20241110T091500
DTEND;TZID=America/New_York:20241110T091500
DTSTAMP:20260423T231245
CREATED:20241001T140808Z
LAST-MODIFIED:20241001T140808Z
UID:10008169-1731230100-1731230100@firststjohn.com
SUMMARY:Adult S. School
DESCRIPTION:
URL:https://firststjohn.com/event/adult-bible-study-3/2024-11-10/
CATEGORIES:Christian Education,Fellowship
ATTACH;FMTTYPE=image/jpeg:https://firststjohn.com/wp-content/uploads/2024/03/Bible-Study.jpg
END:VEVENT
BEGIN:VEVENT
DTSTART;TZID=America/New_York:20241104T193000
DTEND;TZID=America/New_York:20241104T193000
DTSTAMP:20260423T231245
CREATED:20241102T125721Z
LAST-MODIFIED:20241102T125722Z
UID:10009323-1730748600-1730748600@firststjohn.com
SUMMARY:Dartball (H)
DESCRIPTION:
URL:https://firststjohn.com/event/dartball-2/
CATEGORIES:Fellowship
ATTACH;FMTTYPE=image/jpeg:https://firststjohn.com/wp-content/uploads/2024/02/img23.jpg
END:VEVENT
BEGIN:VEVENT
DTSTART;TZID=America/New_York:20241103T091500
DTEND;TZID=America/New_York:20241103T091500
DTSTAMP:20260423T231245
CREATED:20241001T140808Z
LAST-MODIFIED:20241001T140808Z
UID:10008168-1730625300-1730625300@firststjohn.com
SUMMARY:Adult S. School
DESCRIPTION:
URL:https://firststjohn.com/event/adult-bible-study-3/2024-11-03/
CATEGORIES:Christian Education,Fellowship
ATTACH;FMTTYPE=image/jpeg:https://firststjohn.com/wp-content/uploads/2024/03/Bible-Study.jpg
END:VEVENT
BEGIN:VEVENT
DTSTART;TZID=America/New_York:20241028T193000
DTEND;TZID=America/New_York:20241028T193000
DTSTAMP:20260423T231245
CREATED:20241001T143131Z
LAST-MODIFIED:20241102T125624Z
UID:10009322-1730143800-1730143800@firststjohn.com
SUMMARY:Dartball
DESCRIPTION:
URL:https://firststjohn.com/event/dartball/2024-10-28/
CATEGORIES:Fellowship
ATTACH;FMTTYPE=image/jpeg:https://firststjohn.com/wp-content/uploads/2024/02/img23.jpg
END:VEVENT
BEGIN:VEVENT
DTSTART;TZID=America/New_York:20241027T091500
DTEND;TZID=America/New_York:20241027T091500
DTSTAMP:20260423T231245
CREATED:20241001T140808Z
LAST-MODIFIED:20241001T140808Z
UID:10008167-1730020500-1730020500@firststjohn.com
SUMMARY:Adult S. School
DESCRIPTION:
URL:https://firststjohn.com/event/adult-bible-study-3/2024-10-27/
CATEGORIES:Christian Education,Fellowship
ATTACH;FMTTYPE=image/jpeg:https://firststjohn.com/wp-content/uploads/2024/03/Bible-Study.jpg
END:VEVENT
BEGIN:VEVENT
DTSTART;TZID=America/New_York:20241021T193000
DTEND;TZID=America/New_York:20241021T193000
DTSTAMP:20260423T231245
CREATED:20241001T143131Z
LAST-MODIFIED:20241102T125624Z
UID:10009237-1729539000-1729539000@firststjohn.com
SUMMARY:Dartball
DESCRIPTION:
URL:https://firststjohn.com/event/dartball/2024-10-21/
CATEGORIES:Fellowship
ATTACH;FMTTYPE=image/jpeg:https://firststjohn.com/wp-content/uploads/2024/02/img23.jpg
END:VEVENT
BEGIN:VEVENT
DTSTART;TZID=America/New_York:20241020T091500
DTEND;TZID=America/New_York:20241020T091500
DTSTAMP:20260423T231245
CREATED:20241001T140808Z
LAST-MODIFIED:20241001T140808Z
UID:10008166-1729415700-1729415700@firststjohn.com
SUMMARY:Adult S. School
DESCRIPTION:
URL:https://firststjohn.com/event/adult-bible-study-3/2024-10-20/
CATEGORIES:Christian Education,Fellowship
ATTACH;FMTTYPE=image/jpeg:https://firststjohn.com/wp-content/uploads/2024/03/Bible-Study.jpg
END:VEVENT
BEGIN:VEVENT
DTSTART;TZID=America/New_York:20241013T091500
DTEND;TZID=America/New_York:20241013T091500
DTSTAMP:20260423T231245
CREATED:20241001T140808Z
LAST-MODIFIED:20241001T140808Z
UID:10008165-1728810900-1728810900@firststjohn.com
SUMMARY:Adult S. School
DESCRIPTION:
URL:https://firststjohn.com/event/adult-bible-study-3/2024-10-13/
CATEGORIES:Christian Education,Fellowship
ATTACH;FMTTYPE=image/jpeg:https://firststjohn.com/wp-content/uploads/2024/03/Bible-Study.jpg
END:VEVENT
BEGIN:VEVENT
DTSTART;TZID=America/New_York:20241007T190000
DTEND;TZID=America/New_York:20241007T190000
DTSTAMP:20260423T231245
CREATED:20241001T135218Z
LAST-MODIFIED:20241001T135438Z
UID:10008955-1728327600-1728327600@firststjohn.com
SUMMARY:Dartball (Home)
DESCRIPTION:
URL:https://firststjohn.com/event/dartball-home-2/
ATTACH;FMTTYPE=image/jpeg:https://firststjohn.com/wp-content/uploads/2024/02/img31.jpg
END:VEVENT
BEGIN:VEVENT
DTSTART;TZID=America/New_York:20241006T091500
DTEND;TZID=America/New_York:20241006T091500
DTSTAMP:20260423T231245
CREATED:20241001T140808Z
LAST-MODIFIED:20241001T140808Z
UID:10008164-1728206100-1728206100@firststjohn.com
SUMMARY:Adult S. School
DESCRIPTION:
URL:https://firststjohn.com/event/adult-bible-study-3/2024-10-06/
CATEGORIES:Christian Education,Fellowship
ATTACH;FMTTYPE=image/jpeg:https://firststjohn.com/wp-content/uploads/2024/03/Bible-Study.jpg
END:VEVENT
BEGIN:VEVENT
DTSTART;TZID=America/New_York:20240930T193000
DTEND;TZID=America/New_York:20240930T193000
DTSTAMP:20260423T231245
CREATED:20240912T165803Z
LAST-MODIFIED:20240916T181721Z
UID:10008422-1727724600-1727724600@firststjohn.com
SUMMARY:Dartball (Home)
DESCRIPTION:
URL:https://firststjohn.com/event/dartball-home/
CATEGORIES:Dartball,Featured,Fellowship
ATTACH;FMTTYPE=image/jpeg:https://firststjohn.com/wp-content/uploads/2024/02/img31.jpg
END:VEVENT
BEGIN:VEVENT
DTSTART;TZID=America/New_York:20240929T091500
DTEND;TZID=America/New_York:20240929T091500
DTSTAMP:20260423T231245
CREATED:20240912T164401Z
LAST-MODIFIED:20240912T165555Z
UID:10008163-1727601300-1727601300@firststjohn.com
SUMMARY:Adult Bible Study
DESCRIPTION:
URL:https://firststjohn.com/event/adult-bible-study/2024-09-29/
CATEGORIES:Christian Education,Fellowship
ATTACH;FMTTYPE=image/jpeg:https://firststjohn.com/wp-content/uploads/2024/03/Bible-Study.jpg
END:VEVENT
BEGIN:VEVENT
DTSTART;TZID=America/New_York:20240922T091500
DTEND;TZID=America/New_York:20240922T091500
DTSTAMP:20260423T231245
CREATED:20240912T164401Z
LAST-MODIFIED:20240912T165555Z
UID:10008158-1726996500-1726996500@firststjohn.com
SUMMARY:Adult Bible Study
DESCRIPTION:
URL:https://firststjohn.com/event/adult-bible-study/2024-09-22/
CATEGORIES:Christian Education,Fellowship
ATTACH;FMTTYPE=image/jpeg:https://firststjohn.com/wp-content/uploads/2024/03/Bible-Study.jpg
END:VEVENT
BEGIN:VEVENT
DTSTART;TZID=America/New_York:20240511T100000
DTEND;TZID=America/New_York:20240511T110000
DTSTAMP:20260423T231245
CREATED:20240504T150850Z
LAST-MODIFIED:20240504T150850Z
UID:10005735-1715421600-1715425200@firststjohn.com
SUMMARY:Card Party Setup
DESCRIPTION:
URL:https://firststjohn.com/event/card-party-setup/
CATEGORIES:Elders,Fellowship
ATTACH;FMTTYPE=image/jpeg:https://firststjohn.com/wp-content/uploads/2024/03/card-party-banner_2_orig.jpg
END:VEVENT
BEGIN:VEVENT
DTSTART;TZID=America/New_York:20240304T190000
DTEND;TZID=America/New_York:20240304T190000
DTSTAMP:20260423T231245
CREATED:20240316T181722Z
LAST-MODIFIED:20240318T233321Z
UID:10002194-1709578800-1709578800@firststjohn.com
SUMMARY:Dartball Tourney (Home)
DESCRIPTION:
URL:https://firststjohn.com/event/dartball-tourney-home/
LOCATION:Gym
CATEGORIES:Fellowship
ATTACH;FMTTYPE=image/jpeg:https://firststjohn.com/wp-content/uploads/2024/02/img31.jpg
END:VEVENT
BEGIN:VEVENT
DTSTART;TZID=America/New_York:20240303T133000
DTEND;TZID=America/New_York:20240303T133000
DTSTAMP:20260423T231245
CREATED:20240316T180607Z
LAST-MODIFIED:20240318T233506Z
UID:10002132-1709472600-1709472600@firststjohn.com
SUMMARY:Set-up Dartball Tournament
DESCRIPTION:
URL:https://firststjohn.com/event/set-up-dartball-tournament/
LOCATION:Gym
CATEGORIES:Fellowship
ATTACH;FMTTYPE=image/jpeg:https://firststjohn.com/wp-content/uploads/2024/02/img31.jpg
END:VEVENT
END:VCALENDAR