BEGIN:VCALENDAR
VERSION:2.0
PRODID:-//First St John - ECPv6.15.20//NONSGML v1.0//EN
CALSCALE:GREGORIAN
METHOD:PUBLISH
X-WR-CALNAME:First St John
X-ORIGINAL-URL:https://firststjohn.com
X-WR-CALDESC:Events for First St John
REFRESH-INTERVAL;VALUE=DURATION:PT1H
X-Robots-Tag:noindex
X-PUBLISHED-TTL:PT1H
BEGIN:VTIMEZONE
TZID:America/Detroit
BEGIN:DAYLIGHT
TZOFFSETFROM:-0500
TZOFFSETTO:-0400
TZNAME:EDT
DTSTART:20250309T070000
END:DAYLIGHT
BEGIN:STANDARD
TZOFFSETFROM:-0400
TZOFFSETTO:-0500
TZNAME:EST
DTSTART:20251102T060000
END:STANDARD
BEGIN:DAYLIGHT
TZOFFSETFROM:-0500
TZOFFSETTO:-0400
TZNAME:EDT
DTSTART:20260308T070000
END:DAYLIGHT
BEGIN:STANDARD
TZOFFSETFROM:-0400
TZOFFSETTO:-0500
TZNAME:EST
DTSTART:20261101T060000
END:STANDARD
BEGIN:DAYLIGHT
TZOFFSETFROM:-0500
TZOFFSETTO:-0400
TZNAME:EDT
DTSTART:20270314T070000
END:DAYLIGHT
BEGIN:STANDARD
TZOFFSETFROM:-0400
TZOFFSETTO:-0500
TZNAME:EST
DTSTART:20271107T060000
END:STANDARD
END:VTIMEZONE
BEGIN:VEVENT
DTSTART;TZID=America/Detroit:20260503T173000
DTEND;TZID=America/Detroit:20260503T173000
DTSTAMP:20260424T175007
CREATED:20260424T165230Z
LAST-MODIFIED:20260424T170101Z
UID:10016009-1777829400-1777829400@firststjohn.com
SUMMARY:Movie Night
DESCRIPTION:Come to our Movie Night!\nIt is time for our next Movie Night on Sunday\, May 3rd. The movie’s name is “Faith of Angels”. It is based on a true story and rated one of the best faith-based movies of 2024. There will be a light dinner at 5:30 pm. The light dinner will consist of hot chicken sandwiches (with cheese slice on top)\, dill pickle slice\, popcorn\, Costco cookies\, snacks\, pop\, and water. A free will donation will be taken\, and any extra funds will go to the Sunday School. The movie will start around 6:15 pm. Please plan to join us and bring a comfy chair. This movie is great entertainment for all\, come and see what “faith can accomplish”. \nFilm synopsis \n\n\nA true story set in 1989 Utah\, where ten-year-old Joshua Dennis becomes lost in the labyrinthine tunnels of the abandoned Hidden Treasure Mine. As search efforts intensify\, John Skinner\, a man with intimate knowledge of the mine\, feels a divine prompting to assist in the rescue. Despite initial resistance from authorities\, Skinner’s unwavering faith and determination lead him to navigate the perilous passages\, guided by mysterious callings\, in a race against time to save Joshua. \n\n\n\n\nRelease Date  September 4\, 2024\n\n\nDirector/Writer Garrett Batty\n\n\nExecutive Producer Wayne Ball
URL:https://firststjohn.com/event/movie-night-3/
CATEGORIES:Featured,Fellowship
ATTACH;FMTTYPE=image/png:https://firststjohn.com/wp-content/uploads/2026/04/FSJ-Movie-Night-Faith-of-Angles.png
END:VEVENT
END:VCALENDAR