BEGIN:VCALENDAR
VERSION:2.0
PRODID:-//First St John - ECPv6.15.20//NONSGML v1.0//EN
CALSCALE:GREGORIAN
METHOD:PUBLISH
X-WR-CALNAME:First St John
X-ORIGINAL-URL:https://firststjohn.com
X-WR-CALDESC:Events for First St John
REFRESH-INTERVAL;VALUE=DURATION:PT1H
X-Robots-Tag:noindex
X-PUBLISHED-TTL:PT1H
BEGIN:VTIMEZONE
TZID:America/New_York
BEGIN:DAYLIGHT
TZOFFSETFROM:-0500
TZOFFSETTO:-0400
TZNAME:EDT
DTSTART:20260308T070000
END:DAYLIGHT
BEGIN:STANDARD
TZOFFSETFROM:-0400
TZOFFSETTO:-0500
TZNAME:EST
DTSTART:20261101T060000
END:STANDARD
BEGIN:DAYLIGHT
TZOFFSETFROM:-0500
TZOFFSETTO:-0400
TZNAME:EDT
DTSTART:20270314T070000
END:DAYLIGHT
BEGIN:STANDARD
TZOFFSETFROM:-0400
TZOFFSETTO:-0500
TZNAME:EST
DTSTART:20271107T060000
END:STANDARD
BEGIN:DAYLIGHT
TZOFFSETFROM:-0500
TZOFFSETTO:-0400
TZNAME:EDT
DTSTART:20280312T070000
END:DAYLIGHT
BEGIN:STANDARD
TZOFFSETFROM:-0400
TZOFFSETTO:-0500
TZNAME:EST
DTSTART:20281105T060000
END:STANDARD
BEGIN:DAYLIGHT
TZOFFSETFROM:-0500
TZOFFSETTO:-0400
TZNAME:EDT
DTSTART:20290311T070000
END:DAYLIGHT
BEGIN:STANDARD
TZOFFSETFROM:-0400
TZOFFSETTO:-0500
TZNAME:EST
DTSTART:20291104T060000
END:STANDARD
BEGIN:DAYLIGHT
TZOFFSETFROM:-0500
TZOFFSETTO:-0400
TZNAME:EDT
DTSTART:20300310T070000
END:DAYLIGHT
BEGIN:STANDARD
TZOFFSETFROM:-0400
TZOFFSETTO:-0500
TZNAME:EST
DTSTART:20301103T060000
END:STANDARD
END:VTIMEZONE
BEGIN:VEVENT
DTSTART;TZID=America/New_York:20270508T083000
DTEND;TZID=America/New_York:20270508T083000
DTSTAMP:20260423T184135
CREATED:20251108T174642Z
LAST-MODIFIED:20251108T174643Z
UID:10014479-1809765000-1809765000@firststjohn.com
SUMMARY:Fellowship Breakfast (American Table)
DESCRIPTION:FELLOWSHIP BREAKFAST the next fellowship breakfast will be held on Saturday\, April 5th at 8:30 am at the American Table restaurant on the corner of Wheeling and Navarre (note the location change). See you there!  Good Food\, Good Friends\, and good conversations. Come join us! \n\nEveryone is invited
URL:https://firststjohn.com/event/fellowship-breakfast-2/2027-05-08/
LOCATION:American Table\, 846 S Wheeling St\, Oregon\, OH\, 43616\, United States
CATEGORIES:Featured,Fellowship
ATTACH;FMTTYPE=image/jpeg:https://firststjohn.com/wp-content/uploads/2024/03/Fellowship-Breakfast.jpg
END:VEVENT
BEGIN:VEVENT
DTSTART;TZID=America/New_York:20270612T083000
DTEND;TZID=America/New_York:20270612T083000
DTSTAMP:20260423T184135
CREATED:20251108T174642Z
LAST-MODIFIED:20251108T174643Z
UID:10014480-1812789000-1812789000@firststjohn.com
SUMMARY:Fellowship Breakfast (American Table)
DESCRIPTION:FELLOWSHIP BREAKFAST the next fellowship breakfast will be held on Saturday\, April 5th at 8:30 am at the American Table restaurant on the corner of Wheeling and Navarre (note the location change). See you there!  Good Food\, Good Friends\, and good conversations. Come join us! \n\nEveryone is invited
URL:https://firststjohn.com/event/fellowship-breakfast-2/2027-06-12/
LOCATION:American Table\, 846 S Wheeling St\, Oregon\, OH\, 43616\, United States
CATEGORIES:Featured,Fellowship
ATTACH;FMTTYPE=image/jpeg:https://firststjohn.com/wp-content/uploads/2024/03/Fellowship-Breakfast.jpg
END:VEVENT
BEGIN:VEVENT
DTSTART;TZID=America/New_York:20270710T083000
DTEND;TZID=America/New_York:20270710T083000
DTSTAMP:20260423T184135
CREATED:20251108T174642Z
LAST-MODIFIED:20251108T174643Z
UID:10014481-1815208200-1815208200@firststjohn.com
SUMMARY:Fellowship Breakfast (American Table)
DESCRIPTION:FELLOWSHIP BREAKFAST the next fellowship breakfast will be held on Saturday\, April 5th at 8:30 am at the American Table restaurant on the corner of Wheeling and Navarre (note the location change). See you there!  Good Food\, Good Friends\, and good conversations. Come join us! \n\nEveryone is invited
URL:https://firststjohn.com/event/fellowship-breakfast-2/2027-07-10/
LOCATION:American Table\, 846 S Wheeling St\, Oregon\, OH\, 43616\, United States
CATEGORIES:Featured,Fellowship
ATTACH;FMTTYPE=image/jpeg:https://firststjohn.com/wp-content/uploads/2024/03/Fellowship-Breakfast.jpg
END:VEVENT
BEGIN:VEVENT
DTSTART;TZID=America/New_York:20270814T083000
DTEND;TZID=America/New_York:20270814T083000
DTSTAMP:20260423T184135
CREATED:20251108T174642Z
LAST-MODIFIED:20251108T174643Z
UID:10014482-1818232200-1818232200@firststjohn.com
SUMMARY:Fellowship Breakfast (American Table)
DESCRIPTION:FELLOWSHIP BREAKFAST the next fellowship breakfast will be held on Saturday\, April 5th at 8:30 am at the American Table restaurant on the corner of Wheeling and Navarre (note the location change). See you there!  Good Food\, Good Friends\, and good conversations. Come join us! \n\nEveryone is invited
URL:https://firststjohn.com/event/fellowship-breakfast-2/2027-08-14/
LOCATION:American Table\, 846 S Wheeling St\, Oregon\, OH\, 43616\, United States
CATEGORIES:Featured,Fellowship
ATTACH;FMTTYPE=image/jpeg:https://firststjohn.com/wp-content/uploads/2024/03/Fellowship-Breakfast.jpg
END:VEVENT
BEGIN:VEVENT
DTSTART;TZID=America/New_York:20270911T083000
DTEND;TZID=America/New_York:20270911T083000
DTSTAMP:20260423T184135
CREATED:20251108T174642Z
LAST-MODIFIED:20251108T174643Z
UID:10014483-1820651400-1820651400@firststjohn.com
SUMMARY:Fellowship Breakfast (American Table)
DESCRIPTION:FELLOWSHIP BREAKFAST the next fellowship breakfast will be held on Saturday\, April 5th at 8:30 am at the American Table restaurant on the corner of Wheeling and Navarre (note the location change). See you there!  Good Food\, Good Friends\, and good conversations. Come join us! \n\nEveryone is invited
URL:https://firststjohn.com/event/fellowship-breakfast-2/2027-09-11/
LOCATION:American Table\, 846 S Wheeling St\, Oregon\, OH\, 43616\, United States
CATEGORIES:Featured,Fellowship
ATTACH;FMTTYPE=image/jpeg:https://firststjohn.com/wp-content/uploads/2024/03/Fellowship-Breakfast.jpg
END:VEVENT
BEGIN:VEVENT
DTSTART;TZID=America/New_York:20271009T083000
DTEND;TZID=America/New_York:20271009T083000
DTSTAMP:20260423T184135
CREATED:20251108T174642Z
LAST-MODIFIED:20251108T174643Z
UID:10014484-1823070600-1823070600@firststjohn.com
SUMMARY:Fellowship Breakfast (American Table)
DESCRIPTION:FELLOWSHIP BREAKFAST the next fellowship breakfast will be held on Saturday\, April 5th at 8:30 am at the American Table restaurant on the corner of Wheeling and Navarre (note the location change). See you there!  Good Food\, Good Friends\, and good conversations. Come join us! \n\nEveryone is invited
URL:https://firststjohn.com/event/fellowship-breakfast-2/2027-10-09/
LOCATION:American Table\, 846 S Wheeling St\, Oregon\, OH\, 43616\, United States
CATEGORIES:Featured,Fellowship
ATTACH;FMTTYPE=image/jpeg:https://firststjohn.com/wp-content/uploads/2024/03/Fellowship-Breakfast.jpg
END:VEVENT
BEGIN:VEVENT
DTSTART;TZID=America/New_York:20271113T083000
DTEND;TZID=America/New_York:20271113T083000
DTSTAMP:20260423T184135
CREATED:20251108T174642Z
LAST-MODIFIED:20251108T174643Z
UID:10014485-1826094600-1826094600@firststjohn.com
SUMMARY:Fellowship Breakfast (American Table)
DESCRIPTION:FELLOWSHIP BREAKFAST the next fellowship breakfast will be held on Saturday\, April 5th at 8:30 am at the American Table restaurant on the corner of Wheeling and Navarre (note the location change). See you there!  Good Food\, Good Friends\, and good conversations. Come join us! \n\nEveryone is invited
URL:https://firststjohn.com/event/fellowship-breakfast-2/2027-11-13/
LOCATION:American Table\, 846 S Wheeling St\, Oregon\, OH\, 43616\, United States
CATEGORIES:Featured,Fellowship
ATTACH;FMTTYPE=image/jpeg:https://firststjohn.com/wp-content/uploads/2024/03/Fellowship-Breakfast.jpg
END:VEVENT
BEGIN:VEVENT
DTSTART;TZID=America/New_York:20271211T083000
DTEND;TZID=America/New_York:20271211T083000
DTSTAMP:20260423T184135
CREATED:20251108T174642Z
LAST-MODIFIED:20251108T174643Z
UID:10014486-1828513800-1828513800@firststjohn.com
SUMMARY:Fellowship Breakfast (American Table)
DESCRIPTION:FELLOWSHIP BREAKFAST the next fellowship breakfast will be held on Saturday\, April 5th at 8:30 am at the American Table restaurant on the corner of Wheeling and Navarre (note the location change). See you there!  Good Food\, Good Friends\, and good conversations. Come join us! \n\nEveryone is invited
URL:https://firststjohn.com/event/fellowship-breakfast-2/2027-12-11/
LOCATION:American Table\, 846 S Wheeling St\, Oregon\, OH\, 43616\, United States
CATEGORIES:Featured,Fellowship
ATTACH;FMTTYPE=image/jpeg:https://firststjohn.com/wp-content/uploads/2024/03/Fellowship-Breakfast.jpg
END:VEVENT
BEGIN:VEVENT
DTSTART;TZID=America/New_York:20280108T083000
DTEND;TZID=America/New_York:20280108T083000
DTSTAMP:20260423T184135
CREATED:20251108T174642Z
LAST-MODIFIED:20251108T174643Z
UID:10014487-1830933000-1830933000@firststjohn.com
SUMMARY:Fellowship Breakfast (American Table)
DESCRIPTION:FELLOWSHIP BREAKFAST the next fellowship breakfast will be held on Saturday\, April 5th at 8:30 am at the American Table restaurant on the corner of Wheeling and Navarre (note the location change). See you there!  Good Food\, Good Friends\, and good conversations. Come join us! \n\nEveryone is invited
URL:https://firststjohn.com/event/fellowship-breakfast-2/2028-01-08/
LOCATION:American Table\, 846 S Wheeling St\, Oregon\, OH\, 43616\, United States
CATEGORIES:Featured,Fellowship
ATTACH;FMTTYPE=image/jpeg:https://firststjohn.com/wp-content/uploads/2024/03/Fellowship-Breakfast.jpg
END:VEVENT
BEGIN:VEVENT
DTSTART;TZID=America/New_York:20280212T083000
DTEND;TZID=America/New_York:20280212T083000
DTSTAMP:20260423T184135
CREATED:20251108T174642Z
LAST-MODIFIED:20251108T174643Z
UID:10014488-1833957000-1833957000@firststjohn.com
SUMMARY:Fellowship Breakfast (American Table)
DESCRIPTION:FELLOWSHIP BREAKFAST the next fellowship breakfast will be held on Saturday\, April 5th at 8:30 am at the American Table restaurant on the corner of Wheeling and Navarre (note the location change). See you there!  Good Food\, Good Friends\, and good conversations. Come join us! \n\nEveryone is invited
URL:https://firststjohn.com/event/fellowship-breakfast-2/2028-02-12/
LOCATION:American Table\, 846 S Wheeling St\, Oregon\, OH\, 43616\, United States
CATEGORIES:Featured,Fellowship
ATTACH;FMTTYPE=image/jpeg:https://firststjohn.com/wp-content/uploads/2024/03/Fellowship-Breakfast.jpg
END:VEVENT
BEGIN:VEVENT
DTSTART;TZID=America/New_York:20280311T083000
DTEND;TZID=America/New_York:20280311T083000
DTSTAMP:20260423T184135
CREATED:20251108T174642Z
LAST-MODIFIED:20251108T174643Z
UID:10014489-1836376200-1836376200@firststjohn.com
SUMMARY:Fellowship Breakfast (American Table)
DESCRIPTION:FELLOWSHIP BREAKFAST the next fellowship breakfast will be held on Saturday\, April 5th at 8:30 am at the American Table restaurant on the corner of Wheeling and Navarre (note the location change). See you there!  Good Food\, Good Friends\, and good conversations. Come join us! \n\nEveryone is invited
URL:https://firststjohn.com/event/fellowship-breakfast-2/2028-03-11/
LOCATION:American Table\, 846 S Wheeling St\, Oregon\, OH\, 43616\, United States
CATEGORIES:Featured,Fellowship
ATTACH;FMTTYPE=image/jpeg:https://firststjohn.com/wp-content/uploads/2024/03/Fellowship-Breakfast.jpg
END:VEVENT
BEGIN:VEVENT
DTSTART;TZID=America/New_York:20280408T083000
DTEND;TZID=America/New_York:20280408T083000
DTSTAMP:20260423T184135
CREATED:20251108T174642Z
LAST-MODIFIED:20251108T174643Z
UID:10014490-1838795400-1838795400@firststjohn.com
SUMMARY:Fellowship Breakfast (American Table)
DESCRIPTION:FELLOWSHIP BREAKFAST the next fellowship breakfast will be held on Saturday\, April 5th at 8:30 am at the American Table restaurant on the corner of Wheeling and Navarre (note the location change). See you there!  Good Food\, Good Friends\, and good conversations. Come join us! \n\nEveryone is invited
URL:https://firststjohn.com/event/fellowship-breakfast-2/2028-04-08/
LOCATION:American Table\, 846 S Wheeling St\, Oregon\, OH\, 43616\, United States
CATEGORIES:Featured,Fellowship
ATTACH;FMTTYPE=image/jpeg:https://firststjohn.com/wp-content/uploads/2024/03/Fellowship-Breakfast.jpg
END:VEVENT
BEGIN:VEVENT
DTSTART;TZID=America/New_York:20280513T083000
DTEND;TZID=America/New_York:20280513T083000
DTSTAMP:20260423T184135
CREATED:20251108T174642Z
LAST-MODIFIED:20251108T174643Z
UID:10014491-1841819400-1841819400@firststjohn.com
SUMMARY:Fellowship Breakfast (American Table)
DESCRIPTION:FELLOWSHIP BREAKFAST the next fellowship breakfast will be held on Saturday\, April 5th at 8:30 am at the American Table restaurant on the corner of Wheeling and Navarre (note the location change). See you there!  Good Food\, Good Friends\, and good conversations. Come join us! \n\nEveryone is invited
URL:https://firststjohn.com/event/fellowship-breakfast-2/2028-05-13/
LOCATION:American Table\, 846 S Wheeling St\, Oregon\, OH\, 43616\, United States
CATEGORIES:Featured,Fellowship
ATTACH;FMTTYPE=image/jpeg:https://firststjohn.com/wp-content/uploads/2024/03/Fellowship-Breakfast.jpg
END:VEVENT
BEGIN:VEVENT
DTSTART;TZID=America/New_York:20280610T083000
DTEND;TZID=America/New_York:20280610T083000
DTSTAMP:20260423T184135
CREATED:20251108T174642Z
LAST-MODIFIED:20251108T174643Z
UID:10014492-1844238600-1844238600@firststjohn.com
SUMMARY:Fellowship Breakfast (American Table)
DESCRIPTION:FELLOWSHIP BREAKFAST the next fellowship breakfast will be held on Saturday\, April 5th at 8:30 am at the American Table restaurant on the corner of Wheeling and Navarre (note the location change). See you there!  Good Food\, Good Friends\, and good conversations. Come join us! \n\nEveryone is invited
URL:https://firststjohn.com/event/fellowship-breakfast-2/2028-06-10/
LOCATION:American Table\, 846 S Wheeling St\, Oregon\, OH\, 43616\, United States
CATEGORIES:Featured,Fellowship
ATTACH;FMTTYPE=image/jpeg:https://firststjohn.com/wp-content/uploads/2024/03/Fellowship-Breakfast.jpg
END:VEVENT
BEGIN:VEVENT
DTSTART;TZID=America/New_York:20280708T083000
DTEND;TZID=America/New_York:20280708T083000
DTSTAMP:20260423T184135
CREATED:20251108T174642Z
LAST-MODIFIED:20251108T174643Z
UID:10014493-1846657800-1846657800@firststjohn.com
SUMMARY:Fellowship Breakfast (American Table)
DESCRIPTION:FELLOWSHIP BREAKFAST the next fellowship breakfast will be held on Saturday\, April 5th at 8:30 am at the American Table restaurant on the corner of Wheeling and Navarre (note the location change). See you there!  Good Food\, Good Friends\, and good conversations. Come join us! \n\nEveryone is invited
URL:https://firststjohn.com/event/fellowship-breakfast-2/2028-07-08/
LOCATION:American Table\, 846 S Wheeling St\, Oregon\, OH\, 43616\, United States
CATEGORIES:Featured,Fellowship
ATTACH;FMTTYPE=image/jpeg:https://firststjohn.com/wp-content/uploads/2024/03/Fellowship-Breakfast.jpg
END:VEVENT
BEGIN:VEVENT
DTSTART;TZID=America/New_York:20280812T083000
DTEND;TZID=America/New_York:20280812T083000
DTSTAMP:20260423T184135
CREATED:20251108T174642Z
LAST-MODIFIED:20251108T174643Z
UID:10014494-1849681800-1849681800@firststjohn.com
SUMMARY:Fellowship Breakfast (American Table)
DESCRIPTION:FELLOWSHIP BREAKFAST the next fellowship breakfast will be held on Saturday\, April 5th at 8:30 am at the American Table restaurant on the corner of Wheeling and Navarre (note the location change). See you there!  Good Food\, Good Friends\, and good conversations. Come join us! \n\nEveryone is invited
URL:https://firststjohn.com/event/fellowship-breakfast-2/2028-08-12/
LOCATION:American Table\, 846 S Wheeling St\, Oregon\, OH\, 43616\, United States
CATEGORIES:Featured,Fellowship
ATTACH;FMTTYPE=image/jpeg:https://firststjohn.com/wp-content/uploads/2024/03/Fellowship-Breakfast.jpg
END:VEVENT
BEGIN:VEVENT
DTSTART;TZID=America/New_York:20280909T083000
DTEND;TZID=America/New_York:20280909T083000
DTSTAMP:20260423T184135
CREATED:20251108T174642Z
LAST-MODIFIED:20251108T174643Z
UID:10014495-1852101000-1852101000@firststjohn.com
SUMMARY:Fellowship Breakfast (American Table)
DESCRIPTION:FELLOWSHIP BREAKFAST the next fellowship breakfast will be held on Saturday\, April 5th at 8:30 am at the American Table restaurant on the corner of Wheeling and Navarre (note the location change). See you there!  Good Food\, Good Friends\, and good conversations. Come join us! \n\nEveryone is invited
URL:https://firststjohn.com/event/fellowship-breakfast-2/2028-09-09/
LOCATION:American Table\, 846 S Wheeling St\, Oregon\, OH\, 43616\, United States
CATEGORIES:Featured,Fellowship
ATTACH;FMTTYPE=image/jpeg:https://firststjohn.com/wp-content/uploads/2024/03/Fellowship-Breakfast.jpg
END:VEVENT
BEGIN:VEVENT
DTSTART;TZID=America/New_York:20281014T083000
DTEND;TZID=America/New_York:20281014T083000
DTSTAMP:20260423T184135
CREATED:20251108T174642Z
LAST-MODIFIED:20251108T174643Z
UID:10014496-1855125000-1855125000@firststjohn.com
SUMMARY:Fellowship Breakfast (American Table)
DESCRIPTION:FELLOWSHIP BREAKFAST the next fellowship breakfast will be held on Saturday\, April 5th at 8:30 am at the American Table restaurant on the corner of Wheeling and Navarre (note the location change). See you there!  Good Food\, Good Friends\, and good conversations. Come join us! \n\nEveryone is invited
URL:https://firststjohn.com/event/fellowship-breakfast-2/2028-10-14/
LOCATION:American Table\, 846 S Wheeling St\, Oregon\, OH\, 43616\, United States
CATEGORIES:Featured,Fellowship
ATTACH;FMTTYPE=image/jpeg:https://firststjohn.com/wp-content/uploads/2024/03/Fellowship-Breakfast.jpg
END:VEVENT
BEGIN:VEVENT
DTSTART;TZID=America/New_York:20281111T083000
DTEND;TZID=America/New_York:20281111T083000
DTSTAMP:20260423T184135
CREATED:20251108T174642Z
LAST-MODIFIED:20251108T174643Z
UID:10014497-1857544200-1857544200@firststjohn.com
SUMMARY:Fellowship Breakfast (American Table)
DESCRIPTION:FELLOWSHIP BREAKFAST the next fellowship breakfast will be held on Saturday\, April 5th at 8:30 am at the American Table restaurant on the corner of Wheeling and Navarre (note the location change). See you there!  Good Food\, Good Friends\, and good conversations. Come join us! \n\nEveryone is invited
URL:https://firststjohn.com/event/fellowship-breakfast-2/2028-11-11/
LOCATION:American Table\, 846 S Wheeling St\, Oregon\, OH\, 43616\, United States
CATEGORIES:Featured,Fellowship
ATTACH;FMTTYPE=image/jpeg:https://firststjohn.com/wp-content/uploads/2024/03/Fellowship-Breakfast.jpg
END:VEVENT
BEGIN:VEVENT
DTSTART;TZID=America/New_York:20281209T083000
DTEND;TZID=America/New_York:20281209T083000
DTSTAMP:20260423T184135
CREATED:20251108T174642Z
LAST-MODIFIED:20251108T174643Z
UID:10014498-1859963400-1859963400@firststjohn.com
SUMMARY:Fellowship Breakfast (American Table)
DESCRIPTION:FELLOWSHIP BREAKFAST the next fellowship breakfast will be held on Saturday\, April 5th at 8:30 am at the American Table restaurant on the corner of Wheeling and Navarre (note the location change). See you there!  Good Food\, Good Friends\, and good conversations. Come join us! \n\nEveryone is invited
URL:https://firststjohn.com/event/fellowship-breakfast-2/2028-12-09/
LOCATION:American Table\, 846 S Wheeling St\, Oregon\, OH\, 43616\, United States
CATEGORIES:Featured,Fellowship
ATTACH;FMTTYPE=image/jpeg:https://firststjohn.com/wp-content/uploads/2024/03/Fellowship-Breakfast.jpg
END:VEVENT
BEGIN:VEVENT
DTSTART;TZID=America/New_York:20290113T083000
DTEND;TZID=America/New_York:20290113T083000
DTSTAMP:20260423T184135
CREATED:20251108T174642Z
LAST-MODIFIED:20251108T174643Z
UID:10014499-1862987400-1862987400@firststjohn.com
SUMMARY:Fellowship Breakfast (American Table)
DESCRIPTION:FELLOWSHIP BREAKFAST the next fellowship breakfast will be held on Saturday\, April 5th at 8:30 am at the American Table restaurant on the corner of Wheeling and Navarre (note the location change). See you there!  Good Food\, Good Friends\, and good conversations. Come join us! \n\nEveryone is invited
URL:https://firststjohn.com/event/fellowship-breakfast-2/2029-01-13/
LOCATION:American Table\, 846 S Wheeling St\, Oregon\, OH\, 43616\, United States
CATEGORIES:Featured,Fellowship
ATTACH;FMTTYPE=image/jpeg:https://firststjohn.com/wp-content/uploads/2024/03/Fellowship-Breakfast.jpg
END:VEVENT
BEGIN:VEVENT
DTSTART;TZID=America/New_York:20290210T083000
DTEND;TZID=America/New_York:20290210T083000
DTSTAMP:20260423T184135
CREATED:20251108T174642Z
LAST-MODIFIED:20251108T174643Z
UID:10014500-1865406600-1865406600@firststjohn.com
SUMMARY:Fellowship Breakfast (American Table)
DESCRIPTION:FELLOWSHIP BREAKFAST the next fellowship breakfast will be held on Saturday\, April 5th at 8:30 am at the American Table restaurant on the corner of Wheeling and Navarre (note the location change). See you there!  Good Food\, Good Friends\, and good conversations. Come join us! \n\nEveryone is invited
URL:https://firststjohn.com/event/fellowship-breakfast-2/2029-02-10/
LOCATION:American Table\, 846 S Wheeling St\, Oregon\, OH\, 43616\, United States
CATEGORIES:Featured,Fellowship
ATTACH;FMTTYPE=image/jpeg:https://firststjohn.com/wp-content/uploads/2024/03/Fellowship-Breakfast.jpg
END:VEVENT
BEGIN:VEVENT
DTSTART;TZID=America/New_York:20290310T083000
DTEND;TZID=America/New_York:20290310T083000
DTSTAMP:20260423T184135
CREATED:20251108T174642Z
LAST-MODIFIED:20251108T174643Z
UID:10014501-1867825800-1867825800@firststjohn.com
SUMMARY:Fellowship Breakfast (American Table)
DESCRIPTION:FELLOWSHIP BREAKFAST the next fellowship breakfast will be held on Saturday\, April 5th at 8:30 am at the American Table restaurant on the corner of Wheeling and Navarre (note the location change). See you there!  Good Food\, Good Friends\, and good conversations. Come join us! \n\nEveryone is invited
URL:https://firststjohn.com/event/fellowship-breakfast-2/2029-03-10/
LOCATION:American Table\, 846 S Wheeling St\, Oregon\, OH\, 43616\, United States
CATEGORIES:Featured,Fellowship
ATTACH;FMTTYPE=image/jpeg:https://firststjohn.com/wp-content/uploads/2024/03/Fellowship-Breakfast.jpg
END:VEVENT
BEGIN:VEVENT
DTSTART;TZID=America/New_York:20290414T083000
DTEND;TZID=America/New_York:20290414T083000
DTSTAMP:20260423T184135
CREATED:20251108T174642Z
LAST-MODIFIED:20251108T174643Z
UID:10014502-1870849800-1870849800@firststjohn.com
SUMMARY:Fellowship Breakfast (American Table)
DESCRIPTION:FELLOWSHIP BREAKFAST the next fellowship breakfast will be held on Saturday\, April 5th at 8:30 am at the American Table restaurant on the corner of Wheeling and Navarre (note the location change). See you there!  Good Food\, Good Friends\, and good conversations. Come join us! \n\nEveryone is invited
URL:https://firststjohn.com/event/fellowship-breakfast-2/2029-04-14/
LOCATION:American Table\, 846 S Wheeling St\, Oregon\, OH\, 43616\, United States
CATEGORIES:Featured,Fellowship
ATTACH;FMTTYPE=image/jpeg:https://firststjohn.com/wp-content/uploads/2024/03/Fellowship-Breakfast.jpg
END:VEVENT
BEGIN:VEVENT
DTSTART;TZID=America/New_York:20290512T083000
DTEND;TZID=America/New_York:20290512T083000
DTSTAMP:20260423T184135
CREATED:20251108T174642Z
LAST-MODIFIED:20251108T174643Z
UID:10014503-1873269000-1873269000@firststjohn.com
SUMMARY:Fellowship Breakfast (American Table)
DESCRIPTION:FELLOWSHIP BREAKFAST the next fellowship breakfast will be held on Saturday\, April 5th at 8:30 am at the American Table restaurant on the corner of Wheeling and Navarre (note the location change). See you there!  Good Food\, Good Friends\, and good conversations. Come join us! \n\nEveryone is invited
URL:https://firststjohn.com/event/fellowship-breakfast-2/2029-05-12/
LOCATION:American Table\, 846 S Wheeling St\, Oregon\, OH\, 43616\, United States
CATEGORIES:Featured,Fellowship
ATTACH;FMTTYPE=image/jpeg:https://firststjohn.com/wp-content/uploads/2024/03/Fellowship-Breakfast.jpg
END:VEVENT
BEGIN:VEVENT
DTSTART;TZID=America/New_York:20290609T083000
DTEND;TZID=America/New_York:20290609T083000
DTSTAMP:20260423T184135
CREATED:20251108T174642Z
LAST-MODIFIED:20251108T174643Z
UID:10014504-1875688200-1875688200@firststjohn.com
SUMMARY:Fellowship Breakfast (American Table)
DESCRIPTION:FELLOWSHIP BREAKFAST the next fellowship breakfast will be held on Saturday\, April 5th at 8:30 am at the American Table restaurant on the corner of Wheeling and Navarre (note the location change). See you there!  Good Food\, Good Friends\, and good conversations. Come join us! \n\nEveryone is invited
URL:https://firststjohn.com/event/fellowship-breakfast-2/2029-06-09/
LOCATION:American Table\, 846 S Wheeling St\, Oregon\, OH\, 43616\, United States
CATEGORIES:Featured,Fellowship
ATTACH;FMTTYPE=image/jpeg:https://firststjohn.com/wp-content/uploads/2024/03/Fellowship-Breakfast.jpg
END:VEVENT
BEGIN:VEVENT
DTSTART;TZID=America/New_York:20290714T083000
DTEND;TZID=America/New_York:20290714T083000
DTSTAMP:20260423T184135
CREATED:20251108T174642Z
LAST-MODIFIED:20251108T174643Z
UID:10014505-1878712200-1878712200@firststjohn.com
SUMMARY:Fellowship Breakfast (American Table)
DESCRIPTION:FELLOWSHIP BREAKFAST the next fellowship breakfast will be held on Saturday\, April 5th at 8:30 am at the American Table restaurant on the corner of Wheeling and Navarre (note the location change). See you there!  Good Food\, Good Friends\, and good conversations. Come join us! \n\nEveryone is invited
URL:https://firststjohn.com/event/fellowship-breakfast-2/2029-07-14/
LOCATION:American Table\, 846 S Wheeling St\, Oregon\, OH\, 43616\, United States
CATEGORIES:Featured,Fellowship
ATTACH;FMTTYPE=image/jpeg:https://firststjohn.com/wp-content/uploads/2024/03/Fellowship-Breakfast.jpg
END:VEVENT
BEGIN:VEVENT
DTSTART;TZID=America/New_York:20290811T083000
DTEND;TZID=America/New_York:20290811T083000
DTSTAMP:20260423T184135
CREATED:20251108T174642Z
LAST-MODIFIED:20251108T174643Z
UID:10014506-1881131400-1881131400@firststjohn.com
SUMMARY:Fellowship Breakfast (American Table)
DESCRIPTION:FELLOWSHIP BREAKFAST the next fellowship breakfast will be held on Saturday\, April 5th at 8:30 am at the American Table restaurant on the corner of Wheeling and Navarre (note the location change). See you there!  Good Food\, Good Friends\, and good conversations. Come join us! \n\nEveryone is invited
URL:https://firststjohn.com/event/fellowship-breakfast-2/2029-08-11/
LOCATION:American Table\, 846 S Wheeling St\, Oregon\, OH\, 43616\, United States
CATEGORIES:Featured,Fellowship
ATTACH;FMTTYPE=image/jpeg:https://firststjohn.com/wp-content/uploads/2024/03/Fellowship-Breakfast.jpg
END:VEVENT
BEGIN:VEVENT
DTSTART;TZID=America/New_York:20290908T083000
DTEND;TZID=America/New_York:20290908T083000
DTSTAMP:20260423T184135
CREATED:20251108T174642Z
LAST-MODIFIED:20251108T174643Z
UID:10014507-1883550600-1883550600@firststjohn.com
SUMMARY:Fellowship Breakfast (American Table)
DESCRIPTION:FELLOWSHIP BREAKFAST the next fellowship breakfast will be held on Saturday\, April 5th at 8:30 am at the American Table restaurant on the corner of Wheeling and Navarre (note the location change). See you there!  Good Food\, Good Friends\, and good conversations. Come join us! \n\nEveryone is invited
URL:https://firststjohn.com/event/fellowship-breakfast-2/2029-09-08/
LOCATION:American Table\, 846 S Wheeling St\, Oregon\, OH\, 43616\, United States
CATEGORIES:Featured,Fellowship
ATTACH;FMTTYPE=image/jpeg:https://firststjohn.com/wp-content/uploads/2024/03/Fellowship-Breakfast.jpg
END:VEVENT
BEGIN:VEVENT
DTSTART;TZID=America/New_York:20291013T083000
DTEND;TZID=America/New_York:20291013T083000
DTSTAMP:20260423T184135
CREATED:20251108T174642Z
LAST-MODIFIED:20251108T174643Z
UID:10014508-1886574600-1886574600@firststjohn.com
SUMMARY:Fellowship Breakfast (American Table)
DESCRIPTION:FELLOWSHIP BREAKFAST the next fellowship breakfast will be held on Saturday\, April 5th at 8:30 am at the American Table restaurant on the corner of Wheeling and Navarre (note the location change). See you there!  Good Food\, Good Friends\, and good conversations. Come join us! \n\nEveryone is invited
URL:https://firststjohn.com/event/fellowship-breakfast-2/2029-10-13/
LOCATION:American Table\, 846 S Wheeling St\, Oregon\, OH\, 43616\, United States
CATEGORIES:Featured,Fellowship
ATTACH;FMTTYPE=image/jpeg:https://firststjohn.com/wp-content/uploads/2024/03/Fellowship-Breakfast.jpg
END:VEVENT
END:VCALENDAR