BEGIN:VCALENDAR
VERSION:2.0
PRODID:-//First St John - ECPv6.15.20//NONSGML v1.0//EN
CALSCALE:GREGORIAN
METHOD:PUBLISH
X-WR-CALNAME:First St John
X-ORIGINAL-URL:https://firststjohn.com
X-WR-CALDESC:Events for First St John
REFRESH-INTERVAL;VALUE=DURATION:PT1H
X-Robots-Tag:noindex
X-PUBLISHED-TTL:PT1H
BEGIN:VTIMEZONE
TZID:America/Detroit
BEGIN:DAYLIGHT
TZOFFSETFROM:-0500
TZOFFSETTO:-0400
TZNAME:EDT
DTSTART:20250309T070000
END:DAYLIGHT
BEGIN:STANDARD
TZOFFSETFROM:-0400
TZOFFSETTO:-0500
TZNAME:EST
DTSTART:20251102T060000
END:STANDARD
BEGIN:DAYLIGHT
TZOFFSETFROM:-0500
TZOFFSETTO:-0400
TZNAME:EDT
DTSTART:20260308T070000
END:DAYLIGHT
BEGIN:STANDARD
TZOFFSETFROM:-0400
TZOFFSETTO:-0500
TZNAME:EST
DTSTART:20261101T060000
END:STANDARD
BEGIN:DAYLIGHT
TZOFFSETFROM:-0500
TZOFFSETTO:-0400
TZNAME:EDT
DTSTART:20270314T070000
END:DAYLIGHT
BEGIN:STANDARD
TZOFFSETFROM:-0400
TZOFFSETTO:-0500
TZNAME:EST
DTSTART:20271107T060000
END:STANDARD
BEGIN:DAYLIGHT
TZOFFSETFROM:-0500
TZOFFSETTO:-0400
TZNAME:EDT
DTSTART:20280312T070000
END:DAYLIGHT
BEGIN:STANDARD
TZOFFSETFROM:-0400
TZOFFSETTO:-0500
TZNAME:EST
DTSTART:20281105T060000
END:STANDARD
BEGIN:DAYLIGHT
TZOFFSETFROM:-0500
TZOFFSETTO:-0400
TZNAME:EDT
DTSTART:20290311T070000
END:DAYLIGHT
BEGIN:STANDARD
TZOFFSETFROM:-0400
TZOFFSETTO:-0500
TZNAME:EST
DTSTART:20291104T060000
END:STANDARD
END:VTIMEZONE
BEGIN:VEVENT
DTSTART;TZID=America/Detroit:20260512T183000
DTEND;TZID=America/Detroit:20260512T183000
DTSTAMP:20260423T125353
CREATED:20260303T000217Z
LAST-MODIFIED:20260303T000217Z
UID:10014966-1778610600-1778610600@firststjohn.com
SUMMARY:Finance Mtg
DESCRIPTION:
URL:https://firststjohn.com/event/finance-mtg/2026-05-12/
CATEGORIES:Deacons
ATTACH;FMTTYPE=image/jpeg:https://firststjohn.com/wp-content/uploads/2024/03/img40.jpeg
ORGANIZER;CN="Jennifer Hess":MAILTO:office@firststjohn.com
END:VEVENT
BEGIN:VEVENT
DTSTART;TZID=America/Detroit:20260609T183000
DTEND;TZID=America/Detroit:20260609T183000
DTSTAMP:20260423T125353
CREATED:20260303T000217Z
LAST-MODIFIED:20260303T000217Z
UID:10014967-1781029800-1781029800@firststjohn.com
SUMMARY:Finance Mtg
DESCRIPTION:
URL:https://firststjohn.com/event/finance-mtg/2026-06-09/
CATEGORIES:Deacons
ATTACH;FMTTYPE=image/jpeg:https://firststjohn.com/wp-content/uploads/2024/03/img40.jpeg
ORGANIZER;CN="Jennifer Hess":MAILTO:office@firststjohn.com
END:VEVENT
BEGIN:VEVENT
DTSTART;TZID=America/Detroit:20260714T183000
DTEND;TZID=America/Detroit:20260714T183000
DTSTAMP:20260423T125353
CREATED:20260303T000217Z
LAST-MODIFIED:20260303T000217Z
UID:10014968-1784053800-1784053800@firststjohn.com
SUMMARY:Finance Mtg
DESCRIPTION:
URL:https://firststjohn.com/event/finance-mtg/2026-07-14/
CATEGORIES:Deacons
ATTACH;FMTTYPE=image/jpeg:https://firststjohn.com/wp-content/uploads/2024/03/img40.jpeg
ORGANIZER;CN="Jennifer Hess":MAILTO:office@firststjohn.com
END:VEVENT
BEGIN:VEVENT
DTSTART;TZID=America/Detroit:20260811T183000
DTEND;TZID=America/Detroit:20260811T183000
DTSTAMP:20260423T125353
CREATED:20260303T000217Z
LAST-MODIFIED:20260303T000217Z
UID:10014969-1786473000-1786473000@firststjohn.com
SUMMARY:Finance Mtg
DESCRIPTION:
URL:https://firststjohn.com/event/finance-mtg/2026-08-11/
CATEGORIES:Deacons
ATTACH;FMTTYPE=image/jpeg:https://firststjohn.com/wp-content/uploads/2024/03/img40.jpeg
ORGANIZER;CN="Jennifer Hess":MAILTO:office@firststjohn.com
END:VEVENT
BEGIN:VEVENT
DTSTART;TZID=America/Detroit:20260908T183000
DTEND;TZID=America/Detroit:20260908T183000
DTSTAMP:20260423T125353
CREATED:20260303T000217Z
LAST-MODIFIED:20260303T000217Z
UID:10014970-1788892200-1788892200@firststjohn.com
SUMMARY:Finance Mtg
DESCRIPTION:
URL:https://firststjohn.com/event/finance-mtg/2026-09-08/
CATEGORIES:Deacons
ATTACH;FMTTYPE=image/jpeg:https://firststjohn.com/wp-content/uploads/2024/03/img40.jpeg
ORGANIZER;CN="Jennifer Hess":MAILTO:office@firststjohn.com
END:VEVENT
BEGIN:VEVENT
DTSTART;TZID=America/Detroit:20261013T183000
DTEND;TZID=America/Detroit:20261013T183000
DTSTAMP:20260423T125353
CREATED:20260303T000217Z
LAST-MODIFIED:20260303T000217Z
UID:10014971-1791916200-1791916200@firststjohn.com
SUMMARY:Finance Mtg
DESCRIPTION:
URL:https://firststjohn.com/event/finance-mtg/2026-10-13/
CATEGORIES:Deacons
ATTACH;FMTTYPE=image/jpeg:https://firststjohn.com/wp-content/uploads/2024/03/img40.jpeg
ORGANIZER;CN="Jennifer Hess":MAILTO:office@firststjohn.com
END:VEVENT
BEGIN:VEVENT
DTSTART;TZID=America/Detroit:20261110T183000
DTEND;TZID=America/Detroit:20261110T183000
DTSTAMP:20260423T125353
CREATED:20260303T000217Z
LAST-MODIFIED:20260303T000217Z
UID:10014972-1794335400-1794335400@firststjohn.com
SUMMARY:Finance Mtg
DESCRIPTION:
URL:https://firststjohn.com/event/finance-mtg/2026-11-10/
CATEGORIES:Deacons
ATTACH;FMTTYPE=image/jpeg:https://firststjohn.com/wp-content/uploads/2024/03/img40.jpeg
ORGANIZER;CN="Jennifer Hess":MAILTO:office@firststjohn.com
END:VEVENT
BEGIN:VEVENT
DTSTART;TZID=America/Detroit:20261208T183000
DTEND;TZID=America/Detroit:20261208T183000
DTSTAMP:20260423T125353
CREATED:20260303T000217Z
LAST-MODIFIED:20260303T000217Z
UID:10014973-1796754600-1796754600@firststjohn.com
SUMMARY:Finance Mtg
DESCRIPTION:
URL:https://firststjohn.com/event/finance-mtg/2026-12-08/
CATEGORIES:Deacons
ATTACH;FMTTYPE=image/jpeg:https://firststjohn.com/wp-content/uploads/2024/03/img40.jpeg
ORGANIZER;CN="Jennifer Hess":MAILTO:office@firststjohn.com
END:VEVENT
BEGIN:VEVENT
DTSTART;TZID=America/Detroit:20270112T183000
DTEND;TZID=America/Detroit:20270112T183000
DTSTAMP:20260423T125353
CREATED:20260303T000217Z
LAST-MODIFIED:20260303T000217Z
UID:10014974-1799778600-1799778600@firststjohn.com
SUMMARY:Finance Mtg
DESCRIPTION:
URL:https://firststjohn.com/event/finance-mtg/2027-01-12/
CATEGORIES:Deacons
ATTACH;FMTTYPE=image/jpeg:https://firststjohn.com/wp-content/uploads/2024/03/img40.jpeg
ORGANIZER;CN="Jennifer Hess":MAILTO:office@firststjohn.com
END:VEVENT
BEGIN:VEVENT
DTSTART;TZID=America/Detroit:20270209T183000
DTEND;TZID=America/Detroit:20270209T183000
DTSTAMP:20260423T125353
CREATED:20260303T000217Z
LAST-MODIFIED:20260303T000217Z
UID:10014975-1802197800-1802197800@firststjohn.com
SUMMARY:Finance Mtg
DESCRIPTION:
URL:https://firststjohn.com/event/finance-mtg/2027-02-09/
CATEGORIES:Deacons
ATTACH;FMTTYPE=image/jpeg:https://firststjohn.com/wp-content/uploads/2024/03/img40.jpeg
ORGANIZER;CN="Jennifer Hess":MAILTO:office@firststjohn.com
END:VEVENT
BEGIN:VEVENT
DTSTART;TZID=America/Detroit:20270309T183000
DTEND;TZID=America/Detroit:20270309T183000
DTSTAMP:20260423T125353
CREATED:20260303T000217Z
LAST-MODIFIED:20260303T000217Z
UID:10014976-1804617000-1804617000@firststjohn.com
SUMMARY:Finance Mtg
DESCRIPTION:
URL:https://firststjohn.com/event/finance-mtg/2027-03-09/
CATEGORIES:Deacons
ATTACH;FMTTYPE=image/jpeg:https://firststjohn.com/wp-content/uploads/2024/03/img40.jpeg
ORGANIZER;CN="Jennifer Hess":MAILTO:office@firststjohn.com
END:VEVENT
BEGIN:VEVENT
DTSTART;TZID=America/Detroit:20270413T183000
DTEND;TZID=America/Detroit:20270413T183000
DTSTAMP:20260423T125353
CREATED:20260303T000217Z
LAST-MODIFIED:20260303T000217Z
UID:10014977-1807641000-1807641000@firststjohn.com
SUMMARY:Finance Mtg
DESCRIPTION:
URL:https://firststjohn.com/event/finance-mtg/2027-04-13/
CATEGORIES:Deacons
ATTACH;FMTTYPE=image/jpeg:https://firststjohn.com/wp-content/uploads/2024/03/img40.jpeg
ORGANIZER;CN="Jennifer Hess":MAILTO:office@firststjohn.com
END:VEVENT
BEGIN:VEVENT
DTSTART;TZID=America/Detroit:20270511T183000
DTEND;TZID=America/Detroit:20270511T183000
DTSTAMP:20260423T125353
CREATED:20260303T000217Z
LAST-MODIFIED:20260303T000217Z
UID:10014978-1810060200-1810060200@firststjohn.com
SUMMARY:Finance Mtg
DESCRIPTION:
URL:https://firststjohn.com/event/finance-mtg/2027-05-11/
CATEGORIES:Deacons
ATTACH;FMTTYPE=image/jpeg:https://firststjohn.com/wp-content/uploads/2024/03/img40.jpeg
ORGANIZER;CN="Jennifer Hess":MAILTO:office@firststjohn.com
END:VEVENT
BEGIN:VEVENT
DTSTART;TZID=America/Detroit:20270608T183000
DTEND;TZID=America/Detroit:20270608T183000
DTSTAMP:20260423T125353
CREATED:20260303T000217Z
LAST-MODIFIED:20260303T000217Z
UID:10014979-1812479400-1812479400@firststjohn.com
SUMMARY:Finance Mtg
DESCRIPTION:
URL:https://firststjohn.com/event/finance-mtg/2027-06-08/
CATEGORIES:Deacons
ATTACH;FMTTYPE=image/jpeg:https://firststjohn.com/wp-content/uploads/2024/03/img40.jpeg
ORGANIZER;CN="Jennifer Hess":MAILTO:office@firststjohn.com
END:VEVENT
BEGIN:VEVENT
DTSTART;TZID=America/Detroit:20270713T183000
DTEND;TZID=America/Detroit:20270713T183000
DTSTAMP:20260423T125353
CREATED:20260303T000217Z
LAST-MODIFIED:20260303T000217Z
UID:10014980-1815503400-1815503400@firststjohn.com
SUMMARY:Finance Mtg
DESCRIPTION:
URL:https://firststjohn.com/event/finance-mtg/2027-07-13/
CATEGORIES:Deacons
ATTACH;FMTTYPE=image/jpeg:https://firststjohn.com/wp-content/uploads/2024/03/img40.jpeg
ORGANIZER;CN="Jennifer Hess":MAILTO:office@firststjohn.com
END:VEVENT
BEGIN:VEVENT
DTSTART;TZID=America/Detroit:20270810T183000
DTEND;TZID=America/Detroit:20270810T183000
DTSTAMP:20260423T125353
CREATED:20260303T000217Z
LAST-MODIFIED:20260303T000217Z
UID:10014981-1817922600-1817922600@firststjohn.com
SUMMARY:Finance Mtg
DESCRIPTION:
URL:https://firststjohn.com/event/finance-mtg/2027-08-10/
CATEGORIES:Deacons
ATTACH;FMTTYPE=image/jpeg:https://firststjohn.com/wp-content/uploads/2024/03/img40.jpeg
ORGANIZER;CN="Jennifer Hess":MAILTO:office@firststjohn.com
END:VEVENT
BEGIN:VEVENT
DTSTART;TZID=America/Detroit:20270914T183000
DTEND;TZID=America/Detroit:20270914T183000
DTSTAMP:20260423T125353
CREATED:20260303T000217Z
LAST-MODIFIED:20260303T000217Z
UID:10014982-1820946600-1820946600@firststjohn.com
SUMMARY:Finance Mtg
DESCRIPTION:
URL:https://firststjohn.com/event/finance-mtg/2027-09-14/
CATEGORIES:Deacons
ATTACH;FMTTYPE=image/jpeg:https://firststjohn.com/wp-content/uploads/2024/03/img40.jpeg
ORGANIZER;CN="Jennifer Hess":MAILTO:office@firststjohn.com
END:VEVENT
BEGIN:VEVENT
DTSTART;TZID=America/Detroit:20271012T183000
DTEND;TZID=America/Detroit:20271012T183000
DTSTAMP:20260423T125353
CREATED:20260303T000217Z
LAST-MODIFIED:20260303T000217Z
UID:10014983-1823365800-1823365800@firststjohn.com
SUMMARY:Finance Mtg
DESCRIPTION:
URL:https://firststjohn.com/event/finance-mtg/2027-10-12/
CATEGORIES:Deacons
ATTACH;FMTTYPE=image/jpeg:https://firststjohn.com/wp-content/uploads/2024/03/img40.jpeg
ORGANIZER;CN="Jennifer Hess":MAILTO:office@firststjohn.com
END:VEVENT
BEGIN:VEVENT
DTSTART;TZID=America/Detroit:20271109T183000
DTEND;TZID=America/Detroit:20271109T183000
DTSTAMP:20260423T125353
CREATED:20260303T000217Z
LAST-MODIFIED:20260303T000217Z
UID:10014984-1825785000-1825785000@firststjohn.com
SUMMARY:Finance Mtg
DESCRIPTION:
URL:https://firststjohn.com/event/finance-mtg/2027-11-09/
CATEGORIES:Deacons
ATTACH;FMTTYPE=image/jpeg:https://firststjohn.com/wp-content/uploads/2024/03/img40.jpeg
ORGANIZER;CN="Jennifer Hess":MAILTO:office@firststjohn.com
END:VEVENT
BEGIN:VEVENT
DTSTART;TZID=America/Detroit:20271214T183000
DTEND;TZID=America/Detroit:20271214T183000
DTSTAMP:20260423T125353
CREATED:20260303T000217Z
LAST-MODIFIED:20260303T000217Z
UID:10014985-1828809000-1828809000@firststjohn.com
SUMMARY:Finance Mtg
DESCRIPTION:
URL:https://firststjohn.com/event/finance-mtg/2027-12-14/
CATEGORIES:Deacons
ATTACH;FMTTYPE=image/jpeg:https://firststjohn.com/wp-content/uploads/2024/03/img40.jpeg
ORGANIZER;CN="Jennifer Hess":MAILTO:office@firststjohn.com
END:VEVENT
BEGIN:VEVENT
DTSTART;TZID=America/Detroit:20280111T183000
DTEND;TZID=America/Detroit:20280111T183000
DTSTAMP:20260423T125353
CREATED:20260303T000217Z
LAST-MODIFIED:20260303T000217Z
UID:10014986-1831228200-1831228200@firststjohn.com
SUMMARY:Finance Mtg
DESCRIPTION:
URL:https://firststjohn.com/event/finance-mtg/2028-01-11/
CATEGORIES:Deacons
ATTACH;FMTTYPE=image/jpeg:https://firststjohn.com/wp-content/uploads/2024/03/img40.jpeg
ORGANIZER;CN="Jennifer Hess":MAILTO:office@firststjohn.com
END:VEVENT
BEGIN:VEVENT
DTSTART;TZID=America/Detroit:20280208T183000
DTEND;TZID=America/Detroit:20280208T183000
DTSTAMP:20260423T125353
CREATED:20260303T000217Z
LAST-MODIFIED:20260303T000217Z
UID:10014987-1833647400-1833647400@firststjohn.com
SUMMARY:Finance Mtg
DESCRIPTION:
URL:https://firststjohn.com/event/finance-mtg/2028-02-08/
CATEGORIES:Deacons
ATTACH;FMTTYPE=image/jpeg:https://firststjohn.com/wp-content/uploads/2024/03/img40.jpeg
ORGANIZER;CN="Jennifer Hess":MAILTO:office@firststjohn.com
END:VEVENT
BEGIN:VEVENT
DTSTART;TZID=America/Detroit:20280314T183000
DTEND;TZID=America/Detroit:20280314T183000
DTSTAMP:20260423T125353
CREATED:20260303T000217Z
LAST-MODIFIED:20260303T000217Z
UID:10014988-1836671400-1836671400@firststjohn.com
SUMMARY:Finance Mtg
DESCRIPTION:
URL:https://firststjohn.com/event/finance-mtg/2028-03-14/
CATEGORIES:Deacons
ATTACH;FMTTYPE=image/jpeg:https://firststjohn.com/wp-content/uploads/2024/03/img40.jpeg
ORGANIZER;CN="Jennifer Hess":MAILTO:office@firststjohn.com
END:VEVENT
BEGIN:VEVENT
DTSTART;TZID=America/Detroit:20280411T183000
DTEND;TZID=America/Detroit:20280411T183000
DTSTAMP:20260423T125353
CREATED:20260303T000217Z
LAST-MODIFIED:20260303T000217Z
UID:10014989-1839090600-1839090600@firststjohn.com
SUMMARY:Finance Mtg
DESCRIPTION:
URL:https://firststjohn.com/event/finance-mtg/2028-04-11/
CATEGORIES:Deacons
ATTACH;FMTTYPE=image/jpeg:https://firststjohn.com/wp-content/uploads/2024/03/img40.jpeg
ORGANIZER;CN="Jennifer Hess":MAILTO:office@firststjohn.com
END:VEVENT
BEGIN:VEVENT
DTSTART;TZID=America/Detroit:20280509T183000
DTEND;TZID=America/Detroit:20280509T183000
DTSTAMP:20260423T125353
CREATED:20260303T000217Z
LAST-MODIFIED:20260303T000217Z
UID:10014990-1841509800-1841509800@firststjohn.com
SUMMARY:Finance Mtg
DESCRIPTION:
URL:https://firststjohn.com/event/finance-mtg/2028-05-09/
CATEGORIES:Deacons
ATTACH;FMTTYPE=image/jpeg:https://firststjohn.com/wp-content/uploads/2024/03/img40.jpeg
ORGANIZER;CN="Jennifer Hess":MAILTO:office@firststjohn.com
END:VEVENT
BEGIN:VEVENT
DTSTART;TZID=America/Detroit:20280613T183000
DTEND;TZID=America/Detroit:20280613T183000
DTSTAMP:20260423T125353
CREATED:20260303T000217Z
LAST-MODIFIED:20260303T000217Z
UID:10014991-1844533800-1844533800@firststjohn.com
SUMMARY:Finance Mtg
DESCRIPTION:
URL:https://firststjohn.com/event/finance-mtg/2028-06-13/
CATEGORIES:Deacons
ATTACH;FMTTYPE=image/jpeg:https://firststjohn.com/wp-content/uploads/2024/03/img40.jpeg
ORGANIZER;CN="Jennifer Hess":MAILTO:office@firststjohn.com
END:VEVENT
BEGIN:VEVENT
DTSTART;TZID=America/Detroit:20280711T183000
DTEND;TZID=America/Detroit:20280711T183000
DTSTAMP:20260423T125353
CREATED:20260303T000217Z
LAST-MODIFIED:20260303T000217Z
UID:10014992-1846953000-1846953000@firststjohn.com
SUMMARY:Finance Mtg
DESCRIPTION:
URL:https://firststjohn.com/event/finance-mtg/2028-07-11/
CATEGORIES:Deacons
ATTACH;FMTTYPE=image/jpeg:https://firststjohn.com/wp-content/uploads/2024/03/img40.jpeg
ORGANIZER;CN="Jennifer Hess":MAILTO:office@firststjohn.com
END:VEVENT
BEGIN:VEVENT
DTSTART;TZID=America/Detroit:20280808T183000
DTEND;TZID=America/Detroit:20280808T183000
DTSTAMP:20260423T125353
CREATED:20260303T000217Z
LAST-MODIFIED:20260303T000217Z
UID:10014993-1849372200-1849372200@firststjohn.com
SUMMARY:Finance Mtg
DESCRIPTION:
URL:https://firststjohn.com/event/finance-mtg/2028-08-08/
CATEGORIES:Deacons
ATTACH;FMTTYPE=image/jpeg:https://firststjohn.com/wp-content/uploads/2024/03/img40.jpeg
ORGANIZER;CN="Jennifer Hess":MAILTO:office@firststjohn.com
END:VEVENT
BEGIN:VEVENT
DTSTART;TZID=America/Detroit:20280912T183000
DTEND;TZID=America/Detroit:20280912T183000
DTSTAMP:20260423T125353
CREATED:20260303T000217Z
LAST-MODIFIED:20260303T000217Z
UID:10014994-1852396200-1852396200@firststjohn.com
SUMMARY:Finance Mtg
DESCRIPTION:
URL:https://firststjohn.com/event/finance-mtg/2028-09-12/
CATEGORIES:Deacons
ATTACH;FMTTYPE=image/jpeg:https://firststjohn.com/wp-content/uploads/2024/03/img40.jpeg
ORGANIZER;CN="Jennifer Hess":MAILTO:office@firststjohn.com
END:VEVENT
BEGIN:VEVENT
DTSTART;TZID=America/Detroit:20281010T183000
DTEND;TZID=America/Detroit:20281010T183000
DTSTAMP:20260423T125353
CREATED:20260303T000217Z
LAST-MODIFIED:20260303T000217Z
UID:10014995-1854815400-1854815400@firststjohn.com
SUMMARY:Finance Mtg
DESCRIPTION:
URL:https://firststjohn.com/event/finance-mtg/2028-10-10/
CATEGORIES:Deacons
ATTACH;FMTTYPE=image/jpeg:https://firststjohn.com/wp-content/uploads/2024/03/img40.jpeg
ORGANIZER;CN="Jennifer Hess":MAILTO:office@firststjohn.com
END:VEVENT
END:VCALENDAR