BEGIN:VCALENDAR
VERSION:2.0
PRODID:-//First St John - ECPv6.15.20//NONSGML v1.0//EN
CALSCALE:GREGORIAN
METHOD:PUBLISH
X-ORIGINAL-URL:https://firststjohn.com
X-WR-CALDESC:Events for First St John
REFRESH-INTERVAL;VALUE=DURATION:PT1H
X-Robots-Tag:noindex
X-PUBLISHED-TTL:PT1H
BEGIN:VTIMEZONE
TZID:America/Detroit
BEGIN:DAYLIGHT
TZOFFSETFROM:-0500
TZOFFSETTO:-0400
TZNAME:EDT
DTSTART:20240310T070000
END:DAYLIGHT
BEGIN:STANDARD
TZOFFSETFROM:-0400
TZOFFSETTO:-0500
TZNAME:EST
DTSTART:20241103T060000
END:STANDARD
BEGIN:DAYLIGHT
TZOFFSETFROM:-0500
TZOFFSETTO:-0400
TZNAME:EDT
DTSTART:20250309T070000
END:DAYLIGHT
BEGIN:STANDARD
TZOFFSETFROM:-0400
TZOFFSETTO:-0500
TZNAME:EST
DTSTART:20251102T060000
END:STANDARD
BEGIN:DAYLIGHT
TZOFFSETFROM:-0500
TZOFFSETTO:-0400
TZNAME:EDT
DTSTART:20260308T070000
END:DAYLIGHT
BEGIN:STANDARD
TZOFFSETFROM:-0400
TZOFFSETTO:-0500
TZNAME:EST
DTSTART:20261101T060000
END:STANDARD
END:VTIMEZONE
BEGIN:VTIMEZONE
TZID:America/New_York
BEGIN:DAYLIGHT
TZOFFSETFROM:-0500
TZOFFSETTO:-0400
TZNAME:EDT
DTSTART:20240310T070000
END:DAYLIGHT
BEGIN:STANDARD
TZOFFSETFROM:-0400
TZOFFSETTO:-0500
TZNAME:EST
DTSTART:20241103T060000
END:STANDARD
BEGIN:DAYLIGHT
TZOFFSETFROM:-0500
TZOFFSETTO:-0400
TZNAME:EDT
DTSTART:20250309T070000
END:DAYLIGHT
BEGIN:STANDARD
TZOFFSETFROM:-0400
TZOFFSETTO:-0500
TZNAME:EST
DTSTART:20251102T060000
END:STANDARD
BEGIN:DAYLIGHT
TZOFFSETFROM:-0500
TZOFFSETTO:-0400
TZNAME:EDT
DTSTART:20260308T070000
END:DAYLIGHT
BEGIN:STANDARD
TZOFFSETFROM:-0400
TZOFFSETTO:-0500
TZNAME:EST
DTSTART:20261101T060000
END:STANDARD
END:VTIMEZONE
BEGIN:VEVENT
DTSTART;VALUE=DATE:20250901
DTEND;VALUE=DATE:20250902
DTSTAMP:20260424T072628
CREATED:20250901T155751Z
LAST-MODIFIED:20250908T160606Z
UID:10012210-1756684800-1756771199@firststjohn.com
SUMMARY:School Closed
DESCRIPTION:
URL:https://firststjohn.com/event/l1-3/
END:VEVENT
BEGIN:VEVENT
DTSTART;VALUE=DATE:20250901
DTEND;VALUE=DATE:20250902
DTSTAMP:20260424T072628
CREATED:20250901T155806Z
LAST-MODIFIED:20250908T160535Z
UID:10012209-1756684800-1756771199@firststjohn.com
SUMMARY:Office &
DESCRIPTION:
URL:https://firststjohn.com/event/l1/
CATEGORIES:Church Office
END:VEVENT
BEGIN:VEVENT
DTSTART;VALUE=DATE:20250901
DTEND;VALUE=DATE:20250902
DTSTAMP:20260424T072628
CREATED:20250901T155916Z
LAST-MODIFIED:20250908T160506Z
UID:10012208-1756684800-1756771199@firststjohn.com
SUMMARY:LABOR DAY
DESCRIPTION:
URL:https://firststjohn.com/event/l1-2/
CATEGORIES:Church Office
END:VEVENT
BEGIN:VEVENT
DTSTART;TZID=America/New_York:20250902T110000
DTEND;TZID=America/New_York:20250902T110000
DTSTAMP:20260424T072628
CREATED:20250908T160715Z
LAST-MODIFIED:20250908T160716Z
UID:10011534-1756810800-1756810800@firststjohn.com
SUMMARY:Ruth Circle at American Table
DESCRIPTION:“The Woman of Consistency” \nThe Ruth Circle meets on the first tuesday of the month at 11 am.
URL:https://firststjohn.com/event/ruth-circle-2-2-3-2-4-2/2025-09-02/
LOCATION:Lounge
CATEGORIES:Chapel,Church Office,Featured,Fellowship,WELCA
ATTACH;FMTTYPE=image/jpeg:https://firststjohn.com/wp-content/uploads/2024/02/334204847_715639593392527_2754186504092574106_n.jpg
END:VEVENT
BEGIN:VEVENT
DTSTART;TZID=America/New_York:20250903T093000
DTEND;TZID=America/New_York:20250903T093000
DTSTAMP:20260424T072628
CREATED:20250808T154846Z
LAST-MODIFIED:20250808T154846Z
UID:10011593-1756891800-1756891800@firststjohn.com
SUMMARY:Miriam Circle
DESCRIPTION:The Miriam Circle meets on the first wednesday of each month at 9:30 am.
URL:https://firststjohn.com/event/miriam-circle-2-4-2-9/2025-09-03/
LOCATION:Applebee’s in Northwood
CATEGORIES:Fellowship,WELCA
ATTACH;FMTTYPE=image/jpeg:https://firststjohn.com/wp-content/uploads/2024/03/MIRIAM-CIRCLE.jpg
END:VEVENT
BEGIN:VEVENT
DTSTART;TZID=America/Detroit:20250904T180000
DTEND;TZID=America/Detroit:20250904T180000
DTSTAMP:20260424T072628
CREATED:20250904T160856Z
LAST-MODIFIED:20250908T161243Z
UID:10012271-1757008800-1757008800@firststjohn.com
SUMMARY:Choir Rehearsal
DESCRIPTION:JOIN US FOR CHOIR REHEARSAL! The choir is off to a great start! If you have ever considered joining the choir this is a great time to check it out! The next practice will be on Wednesday\, September 10th at 6pm. Our new choir director\, JoAnne Chrysochoos is eager to meet you and hopes you will join her! Come make a joyful noise to the Lord!
URL:https://firststjohn.com/event/choir-rehearsal-2/
CATEGORIES:Choir,Fellowship
ATTACH;FMTTYPE=image/png:https://firststjohn.com/wp-content/uploads/2024/02/img10.png
END:VEVENT
BEGIN:VEVENT
DTSTART;VALUE=DATE:20250905
DTEND;VALUE=DATE:20250907
DTSTAMP:20260424T072628
CREATED:20250908T175100Z
LAST-MODIFIED:20250908T175229Z
UID:10014230-1757030400-1757203199@firststjohn.com
SUMMARY:Sunday Worship 8:00 & 10:30 am beginning September 7th
DESCRIPTION:RETURN TO FALL/WINTER SERVICE SCHEDULE\nWe will return to two services on Sept 7th at 8 am and 10:30 am. Please plan to join us on Sunday\, Sept 7th at either service. The church nursery will resume during 2nd service starting September 14th. See the contents of the newsletter for more festivities happening on Sept 7th as well! \n 
URL:https://firststjohn.com/event/sunday-worship-800-1030-am-beginning-september-7th/
ORGANIZER;CN="Jennifer Hess":MAILTO:office@firststjohn.com
END:VEVENT
BEGIN:VEVENT
DTSTART;TZID=America/New_York:20250907T080000
DTEND;TZID=America/New_York:20250907T080000
DTSTAMP:20260424T072628
CREATED:20250908T163541Z
LAST-MODIFIED:20250908T163542Z
UID:10012533-1757232000-1757232000@firststjohn.com
SUMMARY:Worship/Comm/Baptism
DESCRIPTION:RETURN TO FALL/WINTER SERVICE SCHEDULE We will return to two services on Sept 7th at 8 am and 10:30 am. Please plan to join us on Sunday\, Sept 7th at either service. The church nursery will resume during 2nd service starting September 14th. See the contents of the newsletter for more festivities happening on Sept 7th as well!
URL:https://firststjohn.com/event/early-worship-service-3-2-2-4-19-4-3-4-3/
LOCATION:Sanctuary\, 2471 Seaman St\, Toledo\, OH\, 43605\, United States
CATEGORIES:Children,Deacons,Elders,Featured,Trustees,Worship,Youth
ATTACH;FMTTYPE=image/jpeg:https://firststjohn.com/wp-content/uploads/2024/02/wine-and-bread.jpg
END:VEVENT
BEGIN:VEVENT
DTSTART;TZID=America/Detroit:20250907T103000
DTEND;TZID=America/Detroit:20250907T103000
DTSTAMP:20260424T072628
CREATED:20250908T163318Z
LAST-MODIFIED:20250908T163652Z
UID:10012795-1757241000-1757241000@firststjohn.com
SUMMARY:Worship/Blessing of Backpacks/Rally Day/Day School Sings *Reception in Lounge after 2nd service
DESCRIPTION:RETURN TO FALL/WINTER SERVICE SCHEDULE We will return to two services on Sept 7th at 8 am and 10:30 am. Please plan to join us on Sunday\, Sept 7th at either service. The church nursery will resume during 2nd service starting September 14th. See the contents of the newsletter for more festivities happening on Sept 7th as well!
URL:https://firststjohn.com/event/early-worship-service-4-2/
LOCATION:Sanctuary\, 2471 Seaman St\, Toledo\, OH\, 43605\, United States
CATEGORIES:Children,Deacons,Elders,Featured,Trustees,Worship,Youth
ATTACH;FMTTYPE=image/jpeg:https://firststjohn.com/wp-content/uploads/2024/02/wine-and-bread.jpg
END:VEVENT
BEGIN:VEVENT
DTSTART;TZID=America/Detroit:20250910T180000
DTEND;TZID=America/Detroit:20250910T180000
DTSTAMP:20260424T072628
CREATED:20250908T161802Z
LAST-MODIFIED:20250908T161802Z
UID:10012272-1757527200-1757527200@firststjohn.com
SUMMARY:Choir Rehearsal
DESCRIPTION:JOIN US FOR CHOIR REHEARSAL! The choir is off to a great start! If you have ever considered joining the choir this is a great time to check it out! The next practice will be on Wednesday\, September 10th at 6pm. Our new choir director\, JoAnne Chrysochoos is eager to meet you and hopes you will join her! Come make a joyful noise to the Lord!
URL:https://firststjohn.com/event/choir-rehearsal-3/2025-09-10/
CATEGORIES:Choir,Fellowship
ATTACH;FMTTYPE=image/png:https://firststjohn.com/wp-content/uploads/2024/02/img10.png
END:VEVENT
BEGIN:VEVENT
DTSTART;TZID=America/Detroit:20250910T183000
DTEND;TZID=America/Detroit:20250910T183000
DTSTAMP:20260424T072628
CREATED:20250808T155042Z
LAST-MODIFIED:20250908T164146Z
UID:10013117-1757529000-1757529000@firststjohn.com
SUMMARY:DaySchool Board Mtg
DESCRIPTION:
URL:https://firststjohn.com/event/dayschool-board-mtg-2/2025-09-10/
CATEGORIES:Dayschool
ATTACH;FMTTYPE=image/jpeg:https://firststjohn.com/wp-content/uploads/2024/02/img40.jpeg
END:VEVENT
BEGIN:VEVENT
DTSTART;TZID=America/New_York:20250913T113000
DTEND;TZID=America/New_York:20250913T113000
DTSTAMP:20260424T072628
CREATED:20250908T163822Z
LAST-MODIFIED:20250908T163822Z
UID:10000420-1757763000-1757763000@firststjohn.com
SUMMARY:Rebecca Circle (Lounge)
DESCRIPTION:
URL:https://firststjohn.com/event/rebecca-circle-3-4/
LOCATION:Lounge
CATEGORIES:Featured,Fellowship,WELCA
ATTACH;FMTTYPE=image/jpeg:https://firststjohn.com/wp-content/uploads/2024/02/337269207_453075980310956_2926394173531348876_n.jpg
END:VEVENT
BEGIN:VEVENT
DTSTART;TZID=America/New_York:20250914T080000
DTEND;TZID=America/New_York:20250914T080000
DTSTAMP:20260424T072628
CREATED:20250908T163432Z
LAST-MODIFIED:20250908T163432Z
UID:10012534-1757836800-1757836800@firststjohn.com
SUMMARY:Worship
DESCRIPTION:RETURN TO FALL/WINTER SERVICE SCHEDULE We will return to two services on Sept 7th at 8 am and 10:30 am. Please plan to join us on Sunday\, Sept 7th at either service. The church nursery will resume during 2nd service starting September 14th. See the contents of the newsletter for more festivities happening on Sept 7th as well!
URL:https://firststjohn.com/event/early-worship-service-3-2-2-4-19-4-3-4-2/
LOCATION:Sanctuary\, 2471 Seaman St\, Toledo\, OH\, 43605\, United States
CATEGORIES:Children,Deacons,Elders,Featured,Trustees,Worship,Youth
ATTACH;FMTTYPE=image/jpeg:https://firststjohn.com/wp-content/uploads/2024/02/wine-and-bread.jpg
END:VEVENT
BEGIN:VEVENT
DTSTART;TZID=America/Detroit:20250914T091500
DTEND;TZID=America/Detroit:20250914T091500
DTSTAMP:20260424T072628
CREATED:20250908T164937Z
LAST-MODIFIED:20250908T164937Z
UID:10013118-1757841300-1757841300@firststjohn.com
SUMMARY:Bible Quiz (lounge)
DESCRIPTION:ALL-AMERICAN BIBLE QUIZ  Get ready for the third annual All-American Bible Quiz on Sunday\,  September 14th @ 9:15 a.m. in the lounge. Prizes for first and second place. Test your Old Testament knowledge!  All are welcome!
URL:https://firststjohn.com/event/bible-quiz-lounge-2/
CATEGORIES:Christian Education,Featured,Fellowship
ATTACH;FMTTYPE=image/jpeg:https://firststjohn.com/wp-content/uploads/2021/08/img18.jpg
END:VEVENT
BEGIN:VEVENT
DTSTART;TZID=America/Detroit:20250914T091500
DTEND;TZID=America/Detroit:20250914T091500
DTSTAMP:20260424T072628
CREATED:20250908T165440Z
LAST-MODIFIED:20250908T165440Z
UID:10013119-1757841300-1757841300@firststjohn.com
SUMMARY:JAM Sunday School Starts
DESCRIPTION:
URL:https://firststjohn.com/event/jam-sunday-school-starts-3/
CATEGORIES:Children,Christian Education,Youth
ATTACH;FMTTYPE=image/jpeg:https://firststjohn.com/wp-content/uploads/2024/02/kids.jpg
END:VEVENT
BEGIN:VEVENT
DTSTART;TZID=America/Detroit:20250914T091500
DTEND;TZID=America/Detroit:20250914T091500
DTSTAMP:20260424T072628
CREATED:20250908T165740Z
LAST-MODIFIED:20250908T171248Z
UID:10013380-1757841300-1757841300@firststjohn.com
SUMMARY:Catechism Mtg
DESCRIPTION:FIRST & SECOND YEAR CATECHISM\nIt is time to organize a new Catechism Class. Pastor Rayl is inviting parents of kids in fifth through seventh grades to meet with him in the catechism classroom on either Sunday\,  September 14th\, at 11:45 AM and or on Tuesday\, September 16th\, at 6:30 PM in room 204\, to talk about the possibilities for the class schedule. Please send your RSVP or questions to Pastor Rayl at email\,  Pastor1@firststjohn.com or text\, 567-395-0143. Hope to see you there.
URL:https://firststjohn.com/event/catechism-mtg-2/
CATEGORIES:Christian Education,Youth
ATTACH;FMTTYPE=image/png:https://firststjohn.com/wp-content/uploads/2025/03/BulCover-03-30-25.png
END:VEVENT
BEGIN:VEVENT
DTSTART;TZID=America/Detroit:20250914T103000
DTEND;TZID=America/Detroit:20250914T103000
DTSTAMP:20260424T072628
CREATED:20250907T162949Z
LAST-MODIFIED:20250908T163230Z
UID:10012796-1757845800-1757845800@firststjohn.com
SUMMARY:Worship/Comm
DESCRIPTION:RETURN TO FALL/WINTER SERVICE SCHEDULE We will return to two services on Sept 7th at 8 am and 10:30 am. Please plan to join us on Sunday\, Sept 7th at either service. The church nursery will resume during 2nd service starting September 14th. See the contents of the newsletter for more festivities happening on Sept 7th as well!
URL:https://firststjohn.com/event/early-worship-service-4/2025-09-14/
LOCATION:Sanctuary\, 2471 Seaman St\, Toledo\, OH\, 43605\, United States
CATEGORIES:Children,Deacons,Elders,Featured,Trustees,Worship,Youth
ATTACH;FMTTYPE=image/jpeg:https://firststjohn.com/wp-content/uploads/2024/02/wine-and-bread.jpg
END:VEVENT
BEGIN:VEVENT
DTSTART;TZID=America/Detroit:20250915T173000
DTEND;TZID=America/Detroit:20250915T173000
DTSTAMP:20260424T072628
CREATED:20250908T170450Z
LAST-MODIFIED:20250908T170450Z
UID:10013381-1757957400-1757957400@firststjohn.com
SUMMARY:Bell Choir
DESCRIPTION:FIRST ST. JOHN BELL CHOIR\nOur fabulous Bell Choir is looking for people to join us starting Sept. 15h in the church at 5:30 pm. We will give you instructions on how to hold and ring the bell. Come and give it a try! Contact Cheri  Sergent for any questions at (419) 410-3572.
URL:https://firststjohn.com/event/bell-choir-4/2025-09-15/
CATEGORIES:Bell Choir,Featured
ATTACH;FMTTYPE=image/jpeg:https://firststjohn.com/wp-content/uploads/2024/03/IMG_1561-scaled.jpeg
END:VEVENT
BEGIN:VEVENT
DTSTART;TZID=America/Detroit:20250915T183000
DTEND;TZID=America/Detroit:20250915T183000
DTSTAMP:20260424T072628
CREATED:20250908T170828Z
LAST-MODIFIED:20250908T170828Z
UID:10013641-1757961000-1757961000@firststjohn.com
SUMMARY:WELCA Mtg (lounge)
DESCRIPTION:WELCA NEWS\nHello\, and welcome to September!  The Board met on August 18th in the Lounge. Four members were present. We discussed a lot of events that will be coming up in the next 4 months. First\, we are having a Spaghetti Dinner on October 4th from 4-630 pm. We will be selling tickets after both services starting September 14th. You can also purchase your tickets by calling the office. Tickets will be $10.00 for Adults\, $8.00 for 5 and older\, Children under 5yrs. old will be free. Spaghetti\, Salad\, Garlic Toast\, Cookie or Brownie will be served. Dine in or carry out. Carry out orders will be picked up in the Lounge. Half of the Proceeds will go to Project Management for maintenance. Second\, Our Family Christmas “Lunch” will be on December 7th right after second service in the Fellowship Hall (gym). 12 pm till 2-2:30 pm. We will also have our basket auction again this year. All Circles\, Altar Guild\, Bells\, Sunday School\, and Choir hopefully will donate a basket or an item. More details to follow.\nThirdly\, We are still looking for a group of ladies to take the Card Party fundraiser over. Emily and Jane are retiring from handling it. This was our big fundraiser for WELCA. Please contact Sue Ann  Rogers at 419-280-1310. Please think it over\, and consider helping. We will form a committee to help make this a success. Our next meeting will be Monday\, September 15th in the lounge at 6:30 pm. All women of the church are invited to come. We would love your input. See you September 15th!! — Sue Ann Rogers\, President
URL:https://firststjohn.com/event/welca-mtg-lounge/
CATEGORIES:Featured,WELCA
ATTACH;FMTTYPE=image/jpeg:https://firststjohn.com/wp-content/uploads/2024/02/img21-1.jpg
END:VEVENT
BEGIN:VEVENT
DTSTART;TZID=America/Detroit:20250916T183000
DTEND;TZID=America/Detroit:20250916T183000
DTSTAMP:20260424T072628
CREATED:20250908T171609Z
LAST-MODIFIED:20250908T171654Z
UID:10013644-1758047400-1758047400@firststjohn.com
SUMMARY:Council Committee Mtg
DESCRIPTION:
URL:https://firststjohn.com/event/council-mtg-2-2-2/
CATEGORIES:Church Council
ATTACH;FMTTYPE=image/jpeg:https://firststjohn.com/wp-content/uploads/upf-docs/usr8_1729966090_1000000522.jpg
END:VEVENT
BEGIN:VEVENT
DTSTART;TZID=America/Detroit:20250916T190000
DTEND;TZID=America/Detroit:20250916T190000
DTSTAMP:20260424T072628
CREATED:20250908T171908Z
LAST-MODIFIED:20250908T171908Z
UID:10013645-1758049200-1758049200@firststjohn.com
SUMMARY:Council Meeting in the lounge
DESCRIPTION:
URL:https://firststjohn.com/event/council-mtg-2-2-2-2/
CATEGORIES:Church Council
ATTACH;FMTTYPE=image/jpeg:https://firststjohn.com/wp-content/uploads/upf-docs/usr8_1729966090_1000000522.jpg
END:VEVENT
BEGIN:VEVENT
DTSTART;TZID=America/Detroit:20250917T180000
DTEND;TZID=America/Detroit:20250917T180000
DTSTAMP:20260424T072628
CREATED:20250908T161802Z
LAST-MODIFIED:20250908T161802Z
UID:10012273-1758132000-1758132000@firststjohn.com
SUMMARY:Choir Rehearsal
DESCRIPTION:JOIN US FOR CHOIR REHEARSAL! The choir is off to a great start! If you have ever considered joining the choir this is a great time to check it out! The next practice will be on Wednesday\, September 10th at 6pm. Our new choir director\, JoAnne Chrysochoos is eager to meet you and hopes you will join her! Come make a joyful noise to the Lord!
URL:https://firststjohn.com/event/choir-rehearsal-3/2025-09-17/
CATEGORIES:Choir,Fellowship
ATTACH;FMTTYPE=image/png:https://firststjohn.com/wp-content/uploads/2024/02/img10.png
END:VEVENT
BEGIN:VEVENT
DTSTART;TZID=America/Detroit:20250918T110000
DTEND;TZID=America/Detroit:20250918T110000
DTSTAMP:20260424T072628
CREATED:20250908T172209Z
LAST-MODIFIED:20250908T172209Z
UID:10013646-1758193200-1758193200@firststjohn.com
SUMMARY:Bible Study
DESCRIPTION:ADULT BIBLE STUDY\nAdult Bible Study\, led by Pastor Rayl\, will resume on Thursday\, September 18th in the lounge. They will meet every Thursday at 11am. The subject of the study will be determined by the class the first meeting. If you would like more information\, please contact Pastor Rayl (pastor1@firststjohn.com) or by calling the church office: 419-691-7222.
URL:https://firststjohn.com/event/bible-study-5/2025-09-18/
CATEGORIES:Christian Education,Featured,Fellowship
ATTACH;FMTTYPE=image/jpeg:https://firststjohn.com/wp-content/uploads/2021/07/img62.jpg
END:VEVENT
BEGIN:VEVENT
DTSTART;TZID=America/New_York:20250921T080000
DTEND;TZID=America/New_York:20250921T080000
DTSTAMP:20260424T072628
CREATED:20250908T162850Z
LAST-MODIFIED:20260402T162122Z
UID:10012535-1758441600-1758441600@firststjohn.com
SUMMARY:Worship
DESCRIPTION:RETURN TO FALL/WINTER SERVICE SCHEDULE We will return to two services on Sept 7th at 8 am and 10:30 am. Please plan to join us on Sunday\, Sept 7th at either service. The church nursery will resume during 2nd service starting September 14th. See the contents of the newsletter for more festivities happening on Sept 7th as well!
URL:https://firststjohn.com/event/early-worship-service-3-2-2-4-19-4-3-4/2025-09-21/
LOCATION:Sanctuary\, 2471 Seaman St\, Toledo\, OH\, 43605\, United States
CATEGORIES:Children,Deacons,Elders,Featured,Trustees,Worship,Youth
ATTACH;FMTTYPE=image/jpeg:https://firststjohn.com/wp-content/uploads/2024/02/wine-and-bread.jpg
END:VEVENT
BEGIN:VEVENT
DTSTART;TZID=America/Detroit:20250921T103000
DTEND;TZID=America/Detroit:20250921T103000
DTSTAMP:20260424T072628
CREATED:20250908T172306Z
LAST-MODIFIED:20250908T172306Z
UID:10012797-1758450600-1758450600@firststjohn.com
SUMMARY:Worship
DESCRIPTION:RETURN TO FALL/WINTER SERVICE SCHEDULE We will return to two services on Sept 7th at 8 am and 10:30 am. Please plan to join us on Sunday\, Sept 7th at either service. The church nursery will resume during 2nd service starting September 14th. See the contents of the newsletter for more festivities happening on Sept 7th as well!
URL:https://firststjohn.com/event/early-worship-service-4-3/
LOCATION:Sanctuary\, 2471 Seaman St\, Toledo\, OH\, 43605\, United States
CATEGORIES:Children,Deacons,Elders,Featured,Trustees,Worship,Youth
ATTACH;FMTTYPE=image/jpeg:https://firststjohn.com/wp-content/uploads/2024/02/wine-and-bread.jpg
END:VEVENT
BEGIN:VEVENT
DTSTART;TZID=America/Detroit:20250922T000000
DTEND;TZID=America/Detroit:20250922T000000
DTSTAMP:20260424T072628
CREATED:20250908T173011Z
LAST-MODIFIED:20250908T173011Z
UID:10013907-1758499200-1758499200@firststjohn.com
SUMMARY:**Newsletter Items Deadline**
DESCRIPTION:
URL:https://firststjohn.com/event/newsletter-items-deadline/
CATEGORIES:Church Office
END:VEVENT
BEGIN:VEVENT
DTSTART;TZID=America/Detroit:20250922T173000
DTEND;TZID=America/Detroit:20250922T173000
DTSTAMP:20260424T072628
CREATED:20250908T170450Z
LAST-MODIFIED:20250908T170450Z
UID:10013382-1758562200-1758562200@firststjohn.com
SUMMARY:Bell Choir
DESCRIPTION:FIRST ST. JOHN BELL CHOIR\nOur fabulous Bell Choir is looking for people to join us starting Sept. 15h in the church at 5:30 pm. We will give you instructions on how to hold and ring the bell. Come and give it a try! Contact Cheri  Sergent for any questions at (419) 410-3572.
URL:https://firststjohn.com/event/bell-choir-4/2025-09-22/
CATEGORIES:Bell Choir,Featured
ATTACH;FMTTYPE=image/jpeg:https://firststjohn.com/wp-content/uploads/2024/03/IMG_1561-scaled.jpeg
END:VEVENT
BEGIN:VEVENT
DTSTART;TZID=America/Detroit:20250922T193000
DTEND;TZID=America/Detroit:20250922T193000
DTSTAMP:20260424T072628
CREATED:20250908T172714Z
LAST-MODIFIED:20250908T174557Z
UID:10013906-1758569400-1758569400@firststjohn.com
SUMMARY:Dartball Practice
DESCRIPTION:DARTBALL STARTS SOON!\nDartball season is almost upon us. Teams meet every other Monday night starting on September 29th in the church gym. On Monday\, September 22nd we will have a dartball practice up in Founders Hall (gym) before the season starts at 7pm\, so come check it out! (For more information call Bob Haar at 419-250-9409. It is easy\, fun and fellowship. No experience required.
URL:https://firststjohn.com/event/dartball-practise/
CATEGORIES:Chapel,Church Office,Featured,Fellowship
ATTACH;FMTTYPE=image/jpeg:https://firststjohn.com/wp-content/uploads/2024/02/img23.jpg
END:VEVENT
BEGIN:VEVENT
DTSTART;TZID=America/Detroit:20250924T090000
DTEND;TZID=America/Detroit:20250924T090000
DTSTAMP:20260424T072628
CREATED:20250908T173429Z
LAST-MODIFIED:20250908T173621Z
UID:10013908-1758704400-1758704400@firststjohn.com
SUMMARY:Day School Pictures (lounge)
DESCRIPTION:
URL:https://firststjohn.com/event/day-school-pictures-lounge/2025-09-24/
CATEGORIES:Dayschool
ATTACH;FMTTYPE=image/png:https://firststjohn.com/wp-content/uploads/2024/04/img303.png
END:VEVENT
BEGIN:VEVENT
DTSTART;TZID=America/Detroit:20250924T180000
DTEND;TZID=America/Detroit:20250924T180000
DTSTAMP:20260424T072628
CREATED:20250908T161802Z
LAST-MODIFIED:20250908T161802Z
UID:10012274-1758736800-1758736800@firststjohn.com
SUMMARY:Choir Rehearsal
DESCRIPTION:JOIN US FOR CHOIR REHEARSAL! The choir is off to a great start! If you have ever considered joining the choir this is a great time to check it out! The next practice will be on Wednesday\, September 10th at 6pm. Our new choir director\, JoAnne Chrysochoos is eager to meet you and hopes you will join her! Come make a joyful noise to the Lord!
URL:https://firststjohn.com/event/choir-rehearsal-3/2025-09-24/
CATEGORIES:Choir,Fellowship
ATTACH;FMTTYPE=image/png:https://firststjohn.com/wp-content/uploads/2024/02/img10.png
END:VEVENT
END:VCALENDAR