BEGIN:VCALENDAR
VERSION:2.0
PRODID:-//First St John - ECPv6.15.20//NONSGML v1.0//EN
CALSCALE:GREGORIAN
METHOD:PUBLISH
X-WR-CALNAME:First St John
X-ORIGINAL-URL:https://firststjohn.com
X-WR-CALDESC:Events for First St John
REFRESH-INTERVAL;VALUE=DURATION:PT1H
X-Robots-Tag:noindex
X-PUBLISHED-TTL:PT1H
BEGIN:VTIMEZONE
TZID:America/Detroit
BEGIN:DAYLIGHT
TZOFFSETFROM:-0500
TZOFFSETTO:-0400
TZNAME:EDT
DTSTART:20240310T070000
END:DAYLIGHT
BEGIN:STANDARD
TZOFFSETFROM:-0400
TZOFFSETTO:-0500
TZNAME:EST
DTSTART:20241103T060000
END:STANDARD
BEGIN:DAYLIGHT
TZOFFSETFROM:-0500
TZOFFSETTO:-0400
TZNAME:EDT
DTSTART:20250309T070000
END:DAYLIGHT
BEGIN:STANDARD
TZOFFSETFROM:-0400
TZOFFSETTO:-0500
TZNAME:EST
DTSTART:20251102T060000
END:STANDARD
BEGIN:DAYLIGHT
TZOFFSETFROM:-0500
TZOFFSETTO:-0400
TZNAME:EDT
DTSTART:20260308T070000
END:DAYLIGHT
BEGIN:STANDARD
TZOFFSETFROM:-0400
TZOFFSETTO:-0500
TZNAME:EST
DTSTART:20261101T060000
END:STANDARD
END:VTIMEZONE
BEGIN:VTIMEZONE
TZID:America/New_York
BEGIN:DAYLIGHT
TZOFFSETFROM:-0500
TZOFFSETTO:-0400
TZNAME:EDT
DTSTART:20240310T070000
END:DAYLIGHT
BEGIN:STANDARD
TZOFFSETFROM:-0400
TZOFFSETTO:-0500
TZNAME:EST
DTSTART:20241103T060000
END:STANDARD
BEGIN:DAYLIGHT
TZOFFSETFROM:-0500
TZOFFSETTO:-0400
TZNAME:EDT
DTSTART:20250309T070000
END:DAYLIGHT
BEGIN:STANDARD
TZOFFSETFROM:-0400
TZOFFSETTO:-0500
TZNAME:EST
DTSTART:20251102T060000
END:STANDARD
BEGIN:DAYLIGHT
TZOFFSETFROM:-0500
TZOFFSETTO:-0400
TZNAME:EDT
DTSTART:20260308T070000
END:DAYLIGHT
BEGIN:STANDARD
TZOFFSETFROM:-0400
TZOFFSETTO:-0500
TZNAME:EST
DTSTART:20261101T060000
END:STANDARD
END:VTIMEZONE
BEGIN:VEVENT
DTSTART;VALUE=DATE:20250804
DTEND;VALUE=DATE:20250809
DTSTAMP:20260425T120544
CREATED:20250808T154340Z
LAST-MODIFIED:20250808T154340Z
UID:10012066-1754265600-1754697599@firststjohn.com
SUMMARY:DAY SCHOOL CLOSED **LIMITED BUILDING ACCESS DUE TO WAXING OF FLOORS/BUILDING MAINTENANCE**
DESCRIPTION:
URL:https://firststjohn.com/event/day-school-closed-limited-building-access-due-to-waxing-of-floors-building-maintenance/
CATEGORIES:Church Office,Dayschool
ORGANIZER;CN="Jennifer Hess":MAILTO:office@firststjohn.com
END:VEVENT
BEGIN:VEVENT
DTSTART;TZID=America/New_York:20250803T090000
DTEND;TZID=America/New_York:20250803T090000
DTSTAMP:20260425T120544
CREATED:20250607T164600Z
LAST-MODIFIED:20250607T164601Z
UID:10011168-1754211600-1754211600@firststjohn.com
SUMMARY:Worship/Comm
DESCRIPTION:Our summer worship schedule changes to one service at 9:00 am starting May 25th and running through September 1st.
URL:https://firststjohn.com/event/early-worship-service-3-2-2-4-19-4-3/2025-08-03/
LOCATION:Sanctuary\, 2471 Seaman St\, Toledo\, OH\, 43605\, United States
CATEGORIES:Children,Deacons,Elders,Featured,Trustees,Worship,Youth
ATTACH;FMTTYPE=image/jpeg:https://firststjohn.com/wp-content/uploads/2024/02/wine-and-bread.jpg
END:VEVENT
BEGIN:VEVENT
DTSTART;TZID=America/New_York:20250802T113000
DTEND;TZID=America/New_York:20250802T113000
DTSTAMP:20260425T120544
CREATED:20250808T152940Z
LAST-MODIFIED:20250808T152940Z
UID:10000419-1754134200-1754134200@firststjohn.com
SUMMARY:Rebecca Circle at Old Bag of Nails
DESCRIPTION:
URL:https://firststjohn.com/event/rebecca-circle-3-3/
LOCATION:Lounge
CATEGORIES:Featured,Fellowship,WELCA
ATTACH;FMTTYPE=image/jpeg:https://firststjohn.com/wp-content/uploads/2024/02/337269207_453075980310956_2926394173531348876_n.jpg
END:VEVENT
BEGIN:VEVENT
DTSTART;TZID=America/Detroit:20250802T080000
DTEND;TZID=America/Detroit:20250802T080000
DTSTAMP:20260425T120544
CREATED:20250808T153308Z
LAST-MODIFIED:20250808T153308Z
UID:10012061-1754121600-1754121600@firststjohn.com
SUMMARY:Work day Educational Building
DESCRIPTION:
URL:https://firststjohn.com/event/work-day-educational-building/
CATEGORIES:Dayschool,Deacons,Elders,Fellowship
ORGANIZER;CN="Jennifer Hess":MAILTO:office@firststjohn.com
END:VEVENT
BEGIN:VEVENT
DTSTART;TZID=America/Detroit:20250802T080000
DTEND;TZID=America/Detroit:20250802T080000
DTSTAMP:20260425T120544
CREATED:20250808T153138Z
LAST-MODIFIED:20250808T153138Z
UID:10012060-1754121600-1754121600@firststjohn.com
SUMMARY:Winslow Golf Scramble
DESCRIPTION:
URL:https://firststjohn.com/event/winslow-golf-scramble/
CATEGORIES:Fellowship
ORGANIZER;CN="Jennifer Hess":MAILTO:office@firststjohn.com
END:VEVENT
BEGIN:VEVENT
DTSTART;VALUE=DATE:20250801
DTEND;VALUE=DATE:20250802
DTSTAMP:20260425T120544
CREATED:20250803T151707Z
LAST-MODIFIED:20250808T152625Z
UID:10012053-1754006400-1754092799@firststjohn.com
SUMMARY:LAST DAY OF
DESCRIPTION:
URL:https://firststjohn.com/event/summer-camp/
CATEGORIES:Dayschool
END:VEVENT
BEGIN:VEVENT
DTSTART;VALUE=DATE:20250801
DTEND;VALUE=DATE:20250802
DTSTAMP:20260425T120544
CREATED:20250802T151155Z
LAST-MODIFIED:20250808T152805Z
UID:10012052-1754006400-1754092799@firststjohn.com
SUMMARY:SUMMER CAMP
DESCRIPTION:
URL:https://firststjohn.com/event/last-day-of-2/
CATEGORIES:Dayschool
END:VEVENT
BEGIN:VEVENT
DTSTART;VALUE=DATE:20250801
DTEND;VALUE=DATE:20250802
DTSTAMP:20260425T120544
CREATED:20250801T151016Z
LAST-MODIFIED:20250808T152644Z
UID:10012051-1754006400-1754092799@firststjohn.com
SUMMARY:DAYSCHOOL
DESCRIPTION:
URL:https://firststjohn.com/event/last-day-of/
CATEGORIES:Dayschool
ORGANIZER;CN="Jennifer Hess":MAILTO:office@firststjohn.com
END:VEVENT
BEGIN:VEVENT
DTSTART;TZID=America/New_York:20250727T090000
DTEND;TZID=America/New_York:20250727T090000
DTSTAMP:20260425T120544
CREATED:20250607T164600Z
LAST-MODIFIED:20250607T164601Z
UID:10011167-1753606800-1753606800@firststjohn.com
SUMMARY:Worship/Comm
DESCRIPTION:Our summer worship schedule changes to one service at 9:00 am starting May 25th and running through September 1st.
URL:https://firststjohn.com/event/early-worship-service-3-2-2-4-19-4-3/2025-07-27/
LOCATION:Sanctuary\, 2471 Seaman St\, Toledo\, OH\, 43605\, United States
CATEGORIES:Children,Deacons,Elders,Featured,Trustees,Worship,Youth
ATTACH;FMTTYPE=image/jpeg:https://firststjohn.com/wp-content/uploads/2024/02/wine-and-bread.jpg
END:VEVENT
BEGIN:VEVENT
DTSTART;TZID=America/New_York:20250726T083000
DTEND;TZID=America/New_York:20250726T083000
DTSTAMP:20260425T120544
CREATED:20250715T175823Z
LAST-MODIFIED:20250721T224657Z
UID:10012050-1753518600-1753518600@firststjohn.com
SUMMARY:Fellowship Breakfast (American Table)
DESCRIPTION:FELLOWSHIP BREAKFAST the next fellowship breakfast will be held on Saturday\, April 5th at 8:30 am at the American Table restaurant on the corner of Wheeling and Navarre (note the location change). See you there!  Good Food\, Good Friends\, and good conversations. Come join us! \n\nEveryone is invited
URL:https://firststjohn.com/event/fellowship-breakfast-woodville-diner-2-2-2-2-2-2-2-2-2/
LOCATION:American Table\, 846 S Wheeling St\, Oregon\, OH\, 43616\, United States
CATEGORIES:Featured,Fellowship
ATTACH;FMTTYPE=image/jpeg:https://firststjohn.com/wp-content/uploads/2024/03/Fellowship-Breakfast.jpg
END:VEVENT
BEGIN:VEVENT
DTSTART;TZID=America/New_York:20250720T090000
DTEND;TZID=America/New_York:20250720T090000
DTSTAMP:20260425T120544
CREATED:20250607T164600Z
LAST-MODIFIED:20250607T164601Z
UID:10011166-1753002000-1753002000@firststjohn.com
SUMMARY:Worship/Comm
DESCRIPTION:Our summer worship schedule changes to one service at 9:00 am starting May 25th and running through September 1st.
URL:https://firststjohn.com/event/early-worship-service-3-2-2-4-19-4-3/2025-07-20/
LOCATION:Sanctuary\, 2471 Seaman St\, Toledo\, OH\, 43605\, United States
CATEGORIES:Children,Deacons,Elders,Featured,Trustees,Worship,Youth
ATTACH;FMTTYPE=image/jpeg:https://firststjohn.com/wp-content/uploads/2024/02/wine-and-bread.jpg
END:VEVENT
BEGIN:VEVENT
DTSTART;TZID=America/Detroit:20250717T180000
DTEND;TZID=America/Detroit:20250717T203000
DTSTAMP:20260425T120544
CREATED:20250701T120027Z
LAST-MODIFIED:20250701T191645Z
UID:10012020-1752775200-1752784200@firststjohn.com
SUMMARY:Vacation Bible School
DESCRIPTION:TRUE NORTH VBS registration is now up and running and we already have 20 children signed up! You can register your child\, aged 3 years to 5th grade online on our website: www.firststjohn.com/vbs . You can also sign up to volunteer as well. We are in dire need of Crew leaders to help lead groups of children around during the various activities. This is a great way for teens to get service/volunteer hours if needed.  VBS is July 14-17th with a free light dinner hosted at 5:15pm and VBS starting at 6pm-830pm each night.  It is sure to be a great time for all so make sure to invite all the kids in your life to join us! Extra event flyers are available in the lounge if you would like to hand the information out or hang it at any local businesses.  Thanks in advance for helping us spread the word! \nVBS DONATIONS NEEDED we are seeking donations to help make this Summer’s VBS a success. To help with this\, we are providing a few ways to donate. We have created an Amazon Wishlist (\nhttps://tinyurl.com/vuxrb5mh) and also will accept donations of Amazon gift cards or any monetary donations to help purchase the items needed for crafts\, snacks\, or decorations. We also will be creating another list of items needed that will be posted in the lounge next week. We are just working on compiling some more specific needs. Thanks in advance!
URL:https://firststjohn.com/event/vacation-bible-school-2/2025-07-17/
LOCATION:Dayschool
CATEGORIES:Children,Christian Education,Youth
ATTACH;FMTTYPE=image/jpeg:https://firststjohn.com/wp-content/uploads/2025/06/fsj-true-north-logo.jpg
ORGANIZER;CN="Jennifer Hess":MAILTO:office@firststjohn.com
END:VEVENT
BEGIN:VEVENT
DTSTART;TZID=America/Detroit:20250716T180000
DTEND;TZID=America/Detroit:20250716T203000
DTSTAMP:20260425T120544
CREATED:20250701T120027Z
LAST-MODIFIED:20250701T191645Z
UID:10011654-1752688800-1752697800@firststjohn.com
SUMMARY:Vacation Bible School
DESCRIPTION:TRUE NORTH VBS registration is now up and running and we already have 20 children signed up! You can register your child\, aged 3 years to 5th grade online on our website: www.firststjohn.com/vbs . You can also sign up to volunteer as well. We are in dire need of Crew leaders to help lead groups of children around during the various activities. This is a great way for teens to get service/volunteer hours if needed.  VBS is July 14-17th with a free light dinner hosted at 5:15pm and VBS starting at 6pm-830pm each night.  It is sure to be a great time for all so make sure to invite all the kids in your life to join us! Extra event flyers are available in the lounge if you would like to hand the information out or hang it at any local businesses.  Thanks in advance for helping us spread the word! \nVBS DONATIONS NEEDED we are seeking donations to help make this Summer’s VBS a success. To help with this\, we are providing a few ways to donate. We have created an Amazon Wishlist (\nhttps://tinyurl.com/vuxrb5mh) and also will accept donations of Amazon gift cards or any monetary donations to help purchase the items needed for crafts\, snacks\, or decorations. We also will be creating another list of items needed that will be posted in the lounge next week. We are just working on compiling some more specific needs. Thanks in advance!
URL:https://firststjohn.com/event/vacation-bible-school-2/2025-07-16/
LOCATION:Dayschool
CATEGORIES:Children,Christian Education,Youth
ATTACH;FMTTYPE=image/jpeg:https://firststjohn.com/wp-content/uploads/2025/06/fsj-true-north-logo.jpg
ORGANIZER;CN="Jennifer Hess":MAILTO:office@firststjohn.com
END:VEVENT
BEGIN:VEVENT
DTSTART;TZID=America/Detroit:20250715T180000
DTEND;TZID=America/Detroit:20250715T203000
DTSTAMP:20260425T120544
CREATED:20250701T120027Z
LAST-MODIFIED:20250701T191645Z
UID:10011653-1752602400-1752611400@firststjohn.com
SUMMARY:Vacation Bible School
DESCRIPTION:TRUE NORTH VBS registration is now up and running and we already have 20 children signed up! You can register your child\, aged 3 years to 5th grade online on our website: www.firststjohn.com/vbs . You can also sign up to volunteer as well. We are in dire need of Crew leaders to help lead groups of children around during the various activities. This is a great way for teens to get service/volunteer hours if needed.  VBS is July 14-17th with a free light dinner hosted at 5:15pm and VBS starting at 6pm-830pm each night.  It is sure to be a great time for all so make sure to invite all the kids in your life to join us! Extra event flyers are available in the lounge if you would like to hand the information out or hang it at any local businesses.  Thanks in advance for helping us spread the word! \nVBS DONATIONS NEEDED we are seeking donations to help make this Summer’s VBS a success. To help with this\, we are providing a few ways to donate. We have created an Amazon Wishlist (\nhttps://tinyurl.com/vuxrb5mh) and also will accept donations of Amazon gift cards or any monetary donations to help purchase the items needed for crafts\, snacks\, or decorations. We also will be creating another list of items needed that will be posted in the lounge next week. We are just working on compiling some more specific needs. Thanks in advance!
URL:https://firststjohn.com/event/vacation-bible-school-2/2025-07-15/
LOCATION:Dayschool
CATEGORIES:Children,Christian Education,Youth
ATTACH;FMTTYPE=image/jpeg:https://firststjohn.com/wp-content/uploads/2025/06/fsj-true-north-logo.jpg
ORGANIZER;CN="Jennifer Hess":MAILTO:office@firststjohn.com
END:VEVENT
BEGIN:VEVENT
DTSTART;TZID=America/Detroit:20250714T180000
DTEND;TZID=America/Detroit:20250714T203000
DTSTAMP:20260425T120544
CREATED:20250701T120027Z
LAST-MODIFIED:20250701T191645Z
UID:10011652-1752516000-1752525000@firststjohn.com
SUMMARY:Vacation Bible School
DESCRIPTION:TRUE NORTH VBS registration is now up and running and we already have 20 children signed up! You can register your child\, aged 3 years to 5th grade online on our website: www.firststjohn.com/vbs . You can also sign up to volunteer as well. We are in dire need of Crew leaders to help lead groups of children around during the various activities. This is a great way for teens to get service/volunteer hours if needed.  VBS is July 14-17th with a free light dinner hosted at 5:15pm and VBS starting at 6pm-830pm each night.  It is sure to be a great time for all so make sure to invite all the kids in your life to join us! Extra event flyers are available in the lounge if you would like to hand the information out or hang it at any local businesses.  Thanks in advance for helping us spread the word! \nVBS DONATIONS NEEDED we are seeking donations to help make this Summer’s VBS a success. To help with this\, we are providing a few ways to donate. We have created an Amazon Wishlist (\nhttps://tinyurl.com/vuxrb5mh) and also will accept donations of Amazon gift cards or any monetary donations to help purchase the items needed for crafts\, snacks\, or decorations. We also will be creating another list of items needed that will be posted in the lounge next week. We are just working on compiling some more specific needs. Thanks in advance!
URL:https://firststjohn.com/event/vacation-bible-school-2/2025-07-14/
LOCATION:Dayschool
CATEGORIES:Children,Christian Education,Youth
ATTACH;FMTTYPE=image/jpeg:https://firststjohn.com/wp-content/uploads/2025/06/fsj-true-north-logo.jpg
ORGANIZER;CN="Jennifer Hess":MAILTO:office@firststjohn.com
END:VEVENT
BEGIN:VEVENT
DTSTART;TZID=America/New_York:20250713T090000
DTEND;TZID=America/New_York:20250713T090000
DTSTAMP:20260425T120544
CREATED:20250607T164600Z
LAST-MODIFIED:20250607T164601Z
UID:10011165-1752397200-1752397200@firststjohn.com
SUMMARY:Worship/Comm
DESCRIPTION:Our summer worship schedule changes to one service at 9:00 am starting May 25th and running through September 1st.
URL:https://firststjohn.com/event/early-worship-service-3-2-2-4-19-4-3/2025-07-13/
LOCATION:Sanctuary\, 2471 Seaman St\, Toledo\, OH\, 43605\, United States
CATEGORIES:Children,Deacons,Elders,Featured,Trustees,Worship,Youth
ATTACH;FMTTYPE=image/jpeg:https://firststjohn.com/wp-content/uploads/2024/02/wine-and-bread.jpg
END:VEVENT
BEGIN:VEVENT
DTSTART;TZID=America/New_York:20250709T113000
DTEND;TZID=America/New_York:20250709T113000
DTSTAMP:20260425T120544
CREATED:20241110T195722Z
LAST-MODIFIED:20250701T185159Z
UID:10011592-1752060600-1752060600@firststjohn.com
SUMMARY:Miriam Circle
DESCRIPTION:The Miriam Circle meets on the first wednesday of each month at 9:30 am.
URL:https://firststjohn.com/event/miriam-circle-2-4-2/
LOCATION:Applebee’s in Northwood
CATEGORIES:Fellowship,WELCA
ATTACH;FMTTYPE=image/jpeg:https://firststjohn.com/wp-content/uploads/2024/03/MIRIAM-CIRCLE.jpg
END:VEVENT
BEGIN:VEVENT
DTSTART;TZID=America/Detroit:20250707T173000
DTEND;TZID=America/Detroit:20250707T173000
DTSTAMP:20260425T120544
CREATED:20250701T192232Z
LAST-MODIFIED:20250701T192232Z
UID:10012021-1751909400-1751909400@firststjohn.com
SUMMARY:VBS Planning Meeting (lounge)
DESCRIPTION:VBS PLANNING MEETING VBS 2025 will be “True North\, Trusting Jesus in a Wild World”. The dates are July 14th – 17th. We will need all hands-on deck as we plan and would love to have as many people involved as possible! The next planning meeting will be held on Monday\, July 7th @ 5:30 pm in the church lounge.  If interested\, contact Jennifer (office@firststjohn.com). Help us have a great time with the children of our church and community!
URL:https://firststjohn.com/event/vbs-planning-meeting-lounge-2/
CATEGORIES:Children,Christian Education,Featured,Youth
ATTACH;FMTTYPE=image/jpeg:https://firststjohn.com/wp-content/uploads/2025/06/fsj-true-north-logo.jpg
END:VEVENT
BEGIN:VEVENT
DTSTART;TZID=America/New_York:20250706T090000
DTEND;TZID=America/New_York:20250706T090000
DTSTAMP:20260425T120544
CREATED:20250607T164600Z
LAST-MODIFIED:20250607T164601Z
UID:10011164-1751792400-1751792400@firststjohn.com
SUMMARY:Worship/Comm
DESCRIPTION:Our summer worship schedule changes to one service at 9:00 am starting May 25th and running through September 1st.
URL:https://firststjohn.com/event/early-worship-service-3-2-2-4-19-4-3/2025-07-06/
LOCATION:Sanctuary\, 2471 Seaman St\, Toledo\, OH\, 43605\, United States
CATEGORIES:Children,Deacons,Elders,Featured,Trustees,Worship,Youth
ATTACH;FMTTYPE=image/jpeg:https://firststjohn.com/wp-content/uploads/2024/02/wine-and-bread.jpg
END:VEVENT
BEGIN:VEVENT
DTSTART;TZID=America/New_York:20250705T113000
DTEND;TZID=America/New_York:20250705T113000
DTSTAMP:20260425T120544
CREATED:20241027T115218Z
LAST-MODIFIED:20241027T115218Z
UID:10000418-1751715000-1751715000@firststjohn.com
SUMMARY:Rebecca Circle
DESCRIPTION:
URL:https://firststjohn.com/event/rebecca-circle-3/2025-07-05/
LOCATION:Lounge
CATEGORIES:Featured,Fellowship,WELCA
ATTACH;FMTTYPE=image/jpeg:https://firststjohn.com/wp-content/uploads/2024/02/337269207_453075980310956_2926394173531348876_n.jpg
END:VEVENT
BEGIN:VEVENT
DTSTART;TZID=America/New_York:20250705T083000
DTEND;TZID=America/New_York:20250705T083000
DTSTAMP:20260425T120544
CREATED:20250331T015111Z
LAST-MODIFIED:20250331T015111Z
UID:10010997-1751704200-1751704200@firststjohn.com
SUMMARY:Fellowship Breakfast (American Table)
DESCRIPTION:FELLOWSHIP BREAKFAST the next fellowship breakfast will be held on Saturday\, April 5th at 8:30 am at the American Table restaurant on the corner of Wheeling and Navarre (note the location change). See you there!  Good Food\, Good Friends\, and good conversations. Come join us! \n\nEveryone is invited
URL:https://firststjohn.com/event/fellowship-breakfast-woodville-diner-2-2-2-2-2-2-2-2/2025-07-05/
LOCATION:American Table\, 846 S Wheeling St\, Oregon\, OH\, 43616\, United States
CATEGORIES:Featured,Fellowship
ATTACH;FMTTYPE=image/jpeg:https://firststjohn.com/wp-content/uploads/2024/03/Fellowship-Breakfast.jpg
END:VEVENT
BEGIN:VEVENT
DTSTART;VALUE=DATE:20250704
DTEND;VALUE=DATE:20250705
DTSTAMP:20260425T120544
CREATED:20250701T192632Z
LAST-MODIFIED:20250701T192707Z
UID:10012023-1751587200-1751673599@firststjohn.com
SUMMARY:OFFICE CLOSED
DESCRIPTION:
URL:https://firststjohn.com/event/fourth-of-july-office-closed-2/
END:VEVENT
BEGIN:VEVENT
DTSTART;VALUE=DATE:20250704
DTEND;VALUE=DATE:20250705
DTSTAMP:20260425T120544
CREATED:20250701T192455Z
LAST-MODIFIED:20250701T192518Z
UID:10012022-1751587200-1751673599@firststjohn.com
SUMMARY:FOURTH OF JULY
DESCRIPTION:
URL:https://firststjohn.com/event/fourth-of-july-office-closed/
ORGANIZER;CN="Jennifer Hess":MAILTO:office@firststjohn.com
END:VEVENT
BEGIN:VEVENT
DTSTART;TZID=America/New_York:20250702T113000
DTEND;TZID=America/New_York:20250702T113000
DTSTAMP:20260425T120544
CREATED:20250701T184843Z
LAST-MODIFIED:20250701T185004Z
UID:10009951-1751455800-1751455800@firststjohn.com
SUMMARY:Ruth Circle at American Table
DESCRIPTION:“The Woman of Consistency” \nThe Ruth Circle meets on the first tuesday of the month at 11 am.
URL:https://firststjohn.com/event/ruth-circle-2-2-3-2-4/
LOCATION:Lounge
CATEGORIES:Chapel,Church Office,Featured,Fellowship,WELCA
ATTACH;FMTTYPE=image/jpeg:https://firststjohn.com/wp-content/uploads/2024/02/334204847_715639593392527_2754186504092574106_n.jpg
END:VEVENT
BEGIN:VEVENT
DTSTART;TZID=America/Detroit:20250629T103000
DTEND;TZID=America/Detroit:20250629T103000
DTSTAMP:20260425T120544
CREATED:20250607T162141Z
LAST-MODIFIED:20250607T162141Z
UID:10011532-1751193000-1751193000@firststjohn.com
SUMMARY:Lounge Rental
DESCRIPTION:
URL:https://firststjohn.com/event/lounge-rental/
LOCATION:Lounge
CATEGORIES:Fellowship
ORGANIZER;CN="Jennifer Hess":MAILTO:office@firststjohn.com
END:VEVENT
BEGIN:VEVENT
DTSTART;TZID=America/New_York:20250629T090000
DTEND;TZID=America/New_York:20250629T090000
DTSTAMP:20260425T120544
CREATED:20250607T161923Z
LAST-MODIFIED:20250607T161923Z
UID:10011163-1751187600-1751187600@firststjohn.com
SUMMARY:Worship/Comm/Baptism
DESCRIPTION:Our summer worship schedule changes to one service at 9:00 am starting May 25th and running through September 1st.
URL:https://firststjohn.com/event/early-worship-service-3-2-2-4-19-4-2/
LOCATION:Sanctuary\, 2471 Seaman St\, Toledo\, OH\, 43605\, United States
CATEGORIES:Children,Deacons,Elders,Trustees,Worship,Youth
ATTACH;FMTTYPE=image/jpeg:https://firststjohn.com/wp-content/uploads/2024/02/wine-and-bread.jpg
END:VEVENT
BEGIN:VEVENT
DTSTART;TZID=America/Detroit:20250623T173000
DTEND;TZID=America/Detroit:20250623T173000
DTSTAMP:20260425T120544
CREATED:20250607T155043Z
LAST-MODIFIED:20250607T161836Z
UID:10011526-1750699800-1750699800@firststjohn.com
SUMMARY:VBS Planning Meeting (lounge)
DESCRIPTION:
URL:https://firststjohn.com/event/vbs-planning-meeting-lounge/2025-06-23/
LOCATION:Lounge
CATEGORIES:Children,Christian Education,Featured,Youth
ATTACH;FMTTYPE=image/png:https://firststjohn.com/wp-content/uploads/2024/06/VBS3.png
ORGANIZER;CN="Jennifer Hess":MAILTO:office@firststjohn.com
END:VEVENT
BEGIN:VEVENT
DTSTART;TZID=America/New_York:20250622T090000
DTEND;TZID=America/New_York:20250622T090000
DTSTAMP:20260425T120544
CREATED:20250607T164600Z
LAST-MODIFIED:20250607T164601Z
UID:10011162-1750582800-1750582800@firststjohn.com
SUMMARY:Worship/Comm
DESCRIPTION:Our summer worship schedule changes to one service at 9:00 am starting May 25th and running through September 1st.
URL:https://firststjohn.com/event/early-worship-service-3-2-2-4-19-4-3/2025-06-22/
LOCATION:Sanctuary\, 2471 Seaman St\, Toledo\, OH\, 43605\, United States
CATEGORIES:Children,Deacons,Elders,Featured,Trustees,Worship,Youth
ATTACH;FMTTYPE=image/jpeg:https://firststjohn.com/wp-content/uploads/2024/02/wine-and-bread.jpg
END:VEVENT
BEGIN:VEVENT
DTSTART;TZID=America/Detroit:20250617T190000
DTEND;TZID=America/Detroit:20250617T190000
DTSTAMP:20260425T120544
CREATED:20250607T161504Z
LAST-MODIFIED:20250607T161655Z
UID:10011525-1750186800-1750186800@firststjohn.com
SUMMARY:Council Mtg
DESCRIPTION:
URL:https://firststjohn.com/event/council-mtg-2/
LOCATION:Lounge
CATEGORIES:Church Council
ATTACH;FMTTYPE=image/jpeg:https://firststjohn.com/wp-content/uploads/upf-docs/usr8_1729966090_1000000522.jpg
END:VEVENT
BEGIN:VEVENT
DTSTART;TZID=America/New_York:20250615T090000
DTEND;TZID=America/New_York:20250615T090000
DTSTAMP:20260425T120544
CREATED:20250607T164600Z
LAST-MODIFIED:20250607T164601Z
UID:10011161-1749978000-1749978000@firststjohn.com
SUMMARY:Worship/Comm
DESCRIPTION:Our summer worship schedule changes to one service at 9:00 am starting May 25th and running through September 1st.
URL:https://firststjohn.com/event/early-worship-service-3-2-2-4-19-4-3/2025-06-15/
LOCATION:Sanctuary\, 2471 Seaman St\, Toledo\, OH\, 43605\, United States
CATEGORIES:Children,Deacons,Elders,Featured,Trustees,Worship,Youth
ATTACH;FMTTYPE=image/jpeg:https://firststjohn.com/wp-content/uploads/2024/02/wine-and-bread.jpg
END:VEVENT
END:VCALENDAR