BEGIN:VCALENDAR
VERSION:2.0
PRODID:-//First St John - ECPv6.15.20//NONSGML v1.0//EN
CALSCALE:GREGORIAN
METHOD:PUBLISH
X-WR-CALNAME:First St John
X-ORIGINAL-URL:https://firststjohn.com
X-WR-CALDESC:Events for First St John
REFRESH-INTERVAL;VALUE=DURATION:PT1H
X-Robots-Tag:noindex
X-PUBLISHED-TTL:PT1H
BEGIN:VTIMEZONE
TZID:America/New_York
BEGIN:DAYLIGHT
TZOFFSETFROM:-0500
TZOFFSETTO:-0400
TZNAME:EDT
DTSTART:20250309T070000
END:DAYLIGHT
BEGIN:STANDARD
TZOFFSETFROM:-0400
TZOFFSETTO:-0500
TZNAME:EST
DTSTART:20251102T060000
END:STANDARD
BEGIN:DAYLIGHT
TZOFFSETFROM:-0500
TZOFFSETTO:-0400
TZNAME:EDT
DTSTART:20260308T070000
END:DAYLIGHT
BEGIN:STANDARD
TZOFFSETFROM:-0400
TZOFFSETTO:-0500
TZNAME:EST
DTSTART:20261101T060000
END:STANDARD
BEGIN:DAYLIGHT
TZOFFSETFROM:-0500
TZOFFSETTO:-0400
TZNAME:EDT
DTSTART:20270314T070000
END:DAYLIGHT
BEGIN:STANDARD
TZOFFSETFROM:-0400
TZOFFSETTO:-0500
TZNAME:EST
DTSTART:20271107T060000
END:STANDARD
END:VTIMEZONE
BEGIN:VTIMEZONE
TZID:America/Detroit
BEGIN:DAYLIGHT
TZOFFSETFROM:-0500
TZOFFSETTO:-0400
TZNAME:EDT
DTSTART:20250309T070000
END:DAYLIGHT
BEGIN:STANDARD
TZOFFSETFROM:-0400
TZOFFSETTO:-0500
TZNAME:EST
DTSTART:20251102T060000
END:STANDARD
BEGIN:DAYLIGHT
TZOFFSETFROM:-0500
TZOFFSETTO:-0400
TZNAME:EDT
DTSTART:20260308T070000
END:DAYLIGHT
BEGIN:STANDARD
TZOFFSETFROM:-0400
TZOFFSETTO:-0500
TZNAME:EST
DTSTART:20261101T060000
END:STANDARD
BEGIN:DAYLIGHT
TZOFFSETFROM:-0500
TZOFFSETTO:-0400
TZNAME:EDT
DTSTART:20270314T070000
END:DAYLIGHT
BEGIN:STANDARD
TZOFFSETFROM:-0400
TZOFFSETTO:-0500
TZNAME:EST
DTSTART:20271107T060000
END:STANDARD
END:VTIMEZONE
BEGIN:VEVENT
DTSTART;TZID=America/New_York:20260308T080000
DTEND;TZID=America/New_York:20260308T080000
DTSTAMP:20260423T195242
CREATED:20250908T162850Z
LAST-MODIFIED:20260402T162122Z
UID:10012559-1772956800-1772956800@firststjohn.com
SUMMARY:Worship
DESCRIPTION:RETURN TO FALL/WINTER SERVICE SCHEDULE We will return to two services on Sept 7th at 8 am and 10:30 am. Please plan to join us on Sunday\, Sept 7th at either service. The church nursery will resume during 2nd service starting September 14th. See the contents of the newsletter for more festivities happening on Sept 7th as well!
URL:https://firststjohn.com/event/early-worship-service-3-2-2-4-19-4-3-4/2026-03-08/
LOCATION:Sanctuary\, 2471 Seaman St\, Toledo\, OH\, 43605\, United States
CATEGORIES:Children,Deacons,Elders,Featured,Trustees,Worship,Youth
ATTACH;FMTTYPE=image/jpeg:https://firststjohn.com/wp-content/uploads/2024/02/wine-and-bread.jpg
END:VEVENT
BEGIN:VEVENT
DTSTART;TZID=America/Detroit:20260308T103000
DTEND;TZID=America/Detroit:20260308T103000
DTSTAMP:20260423T195243
CREATED:20251108T173504Z
LAST-MODIFIED:20260303T002539Z
UID:10015036-1772965800-1772965800@firststjohn.com
SUMMARY:Worship
DESCRIPTION:RETURN TO FALL/WINTER SERVICE SCHEDULE We provide two Sunday services now at 8 am and 10:30 am. Please plan to join us on Sunday\, at either service. The church nursery is available for your use. See the contents of the newsletter for more festivities happening as well!
URL:https://firststjohn.com/event/early-worship-service-4-6/2026-03-08/
LOCATION:Sanctuary\, 2471 Seaman St\, Toledo\, OH\, 43605\, United States
CATEGORIES:Children,Deacons,Elders,Featured,Trustees,Worship,Youth
ATTACH;FMTTYPE=image/jpeg:https://firststjohn.com/wp-content/uploads/2024/02/wine-and-bread.jpg
END:VEVENT
BEGIN:VEVENT
DTSTART;TZID=America/Detroit:20260308T103000
DTEND;TZID=America/Detroit:20260308T103000
DTSTAMP:20260423T195243
CREATED:20260302T235022Z
LAST-MODIFIED:20260302T235022Z
UID:10012821-1772965800-1772965800@firststjohn.com
SUMMARY:Worship/Comm
DESCRIPTION:RETURN TO FALL/WINTER SERVICE SCHEDULE We provide two Sunday services now at 8 am and 10:30 am. Please plan to join us on Sunday\, at either service. The church nursery is available for your use. See the contents of the newsletter for more festivities happening as well!
URL:https://firststjohn.com/event/early-worship-service-4-6-10/
LOCATION:Sanctuary\, 2471 Seaman St\, Toledo\, OH\, 43605\, United States
CATEGORIES:Children,Deacons,Elders,Featured,Trustees,Worship,Youth
ATTACH;FMTTYPE=image/jpeg:https://firststjohn.com/wp-content/uploads/2024/02/wine-and-bread.jpg
END:VEVENT
BEGIN:VEVENT
DTSTART;TZID=America/Detroit:20260308T140000
DTEND;TZID=America/Detroit:20260308T140000
DTSTAMP:20260423T195243
CREATED:20260202T210101Z
LAST-MODIFIED:20260302T235211Z
UID:10014960-1772978400-1772978400@firststjohn.com
SUMMARY:Chapel Comm
DESCRIPTION:CHAPEL COMMUNION\nChapel communion begins again on Sunday\, February 8th at 2:00 pm. Note: The second Sunday of the month at 2:00 pm will be our regular schedule for Chapel Communion.
URL:https://firststjohn.com/event/chapel-comm-5/2026-03-08/
CATEGORIES:Chapel
ATTACH;FMTTYPE=image/jpeg:https://firststjohn.com/wp-content/uploads/2024/03/Chapel.jpg
END:VEVENT
BEGIN:VEVENT
DTSTART;TZID=America/Detroit:20260309T093000
DTEND;TZID=America/Detroit:20260309T093000
DTSTAMP:20260423T195243
CREATED:20260105T211913Z
LAST-MODIFIED:20260106T180104Z
UID:10014717-1773048600-1773048600@firststjohn.com
SUMMARY:Quilting
DESCRIPTION:Everyone is welcome to join us! Bring a sack lunch. Workshops on Mondays from 9:30 am – 1:00 pm in January\, February\, and March. \nIf Oregon schools are closed for weather\, NO QUILTING
URL:https://firststjohn.com/event/quilting-3/2026-03-09/
CATEGORIES:Chapel,Church Office,Featured,Fellowship,Hannah Circle,WELCA
ATTACH;FMTTYPE=image/jpeg:https://firststjohn.com/wp-content/uploads/2024/12/QUILTERS-8.jpg
END:VEVENT
BEGIN:VEVENT
DTSTART;TZID=America/Detroit:20260309T173000
DTEND;TZID=America/Detroit:20260309T173000
DTSTAMP:20260423T195243
CREATED:20250908T170450Z
LAST-MODIFIED:20250908T170450Z
UID:10013406-1773077400-1773077400@firststjohn.com
SUMMARY:Bell Choir
DESCRIPTION:FIRST ST. JOHN BELL CHOIR\nOur fabulous Bell Choir is looking for people to join us starting Sept. 15h in the church at 5:30 pm. We will give you instructions on how to hold and ring the bell. Come and give it a try! Contact Cheri  Sergent for any questions at (419) 410-3572.
URL:https://firststjohn.com/event/bell-choir-4/2026-03-09/
CATEGORIES:Bell Choir,Featured
ATTACH;FMTTYPE=image/jpeg:https://firststjohn.com/wp-content/uploads/2024/03/IMG_1561-scaled.jpeg
END:VEVENT
BEGIN:VEVENT
DTSTART;TZID=America/Detroit:20260309T183000
DTEND;TZID=America/Detroit:20260309T183000
DTSTAMP:20260423T195243
CREATED:20250908T171103Z
LAST-MODIFIED:20260302T235454Z
UID:10014961-1773081000-1773081000@firststjohn.com
SUMMARY:Hannah Circle @ Luckies Barn & Grill
DESCRIPTION:
URL:https://firststjohn.com/event/hannah-circle-debbie-smiths-home/2026-03-09/
CATEGORIES:Chapel,Church Office,Featured,Fellowship,Hannah Circle
ATTACH;FMTTYPE=image/jpeg:https://firststjohn.com/wp-content/uploads/2024/05/HANNAH-scaled.jpg
END:VEVENT
BEGIN:VEVENT
DTSTART;TZID=America/Detroit:20260309T193000
DTEND;TZID=America/Detroit:20260309T193000
DTSTAMP:20260423T195243
CREATED:20260106T183147Z
LAST-MODIFIED:20260302T235758Z
UID:10014962-1773084600-1773084600@firststjohn.com
SUMMARY:Dartball (Home)
DESCRIPTION:DARTBALL STARTS SOON!\nDartball season is almost upon us. Teams meet every other Monday night starting on September 29th in the church gym. On Monday\, September 22nd we will have a dartball practice up in Founders Hall (gym) before the season starts at 7pm\, so come check it out! (For more information call Bob Haar at 419-250-9409. It is easy\, fun and fellowship. No experience required.
URL:https://firststjohn.com/event/dartball-home-3/2026-03-09/
CATEGORIES:Chapel,Church Office,Featured,Fellowship
ATTACH;FMTTYPE=image/jpeg:https://firststjohn.com/wp-content/uploads/2024/02/img23.jpg
END:VEVENT
BEGIN:VEVENT
DTSTART;TZID=America/Detroit:20260310T183000
DTEND;TZID=America/Detroit:20260310T183000
DTSTAMP:20260423T195243
CREATED:20260303T000217Z
LAST-MODIFIED:20260303T000217Z
UID:10014964-1773167400-1773167400@firststjohn.com
SUMMARY:Finance Mtg
DESCRIPTION:
URL:https://firststjohn.com/event/finance-mtg/2026-03-10/
CATEGORIES:Deacons
ATTACH;FMTTYPE=image/jpeg:https://firststjohn.com/wp-content/uploads/2024/03/img40.jpeg
ORGANIZER;CN="Jennifer Hess":MAILTO:office@firststjohn.com
END:VEVENT
BEGIN:VEVENT
DTSTART;TZID=America/Detroit:20260311T110000
DTEND;TZID=America/Detroit:20260311T110000
DTSTAMP:20260423T195243
CREATED:20260202T212949Z
LAST-MODIFIED:20260202T213047Z
UID:10014864-1773226800-1773226800@firststjohn.com
SUMMARY:Lenten Service
DESCRIPTION:Lenten season is upon us and services will begin on Wednesday\, March 5th for Ash Wednesday services at 11am and 7pm\, and each Wednesday at 11am and 7pm for Lent until Easter.
URL:https://firststjohn.com/event/lenten-service-6/2026-03-11/
CATEGORIES:Children,Deacons,Elders,Trustees,Worship,Youth
ATTACH;FMTTYPE=image/jpeg:https://firststjohn.com/wp-content/uploads/2024/02/wine-and-bread.jpg
END:VEVENT
BEGIN:VEVENT
DTSTART;TZID=America/Detroit:20260311T190000
DTEND;TZID=America/Detroit:20260311T190000
DTSTAMP:20260423T195243
CREATED:20260202T212528Z
LAST-MODIFIED:20260202T212729Z
UID:10014854-1773255600-1773255600@firststjohn.com
SUMMARY:Lenten Service
DESCRIPTION:Lenten season is upon us and services will begin on Wednesday\, March 5th for Ash Wednesday services at 11am and 7pm\, and each Wednesday at 11am and 7pm for Lent until Easter.
URL:https://firststjohn.com/event/lenten-service-8/2026-03-11/
CATEGORIES:Children,Deacons,Elders,Trustees,Worship,Youth
ATTACH;FMTTYPE=image/jpeg:https://firststjohn.com/wp-content/uploads/2024/02/wine-and-bread.jpg
END:VEVENT
BEGIN:VEVENT
DTSTART;TZID=America/Detroit:20260312T110000
DTEND;TZID=America/Detroit:20260312T110000
DTSTAMP:20260423T195243
CREATED:20251003T154421Z
LAST-MODIFIED:20251003T154421Z
UID:10013671-1773313200-1773313200@firststjohn.com
SUMMARY:Adult Bible Study
DESCRIPTION:ADULT BIBLE STUDY\nAdult Bible Study\, led by Pastor Rayl\, will resume on Thursday\, September 18th in the lounge. They will meet every Thursday at 11am. The subject of the study will be determined by the class the first meeting. If you would like more information\, please contact Pastor Rayl (pastor1@firststjohn.com) or by calling the church office: 419-691-7222.
URL:https://firststjohn.com/event/bible-study-5-2/2026-03-12/
CATEGORIES:Christian Education,Featured,Fellowship
ATTACH;FMTTYPE=image/jpeg:https://firststjohn.com/wp-content/uploads/2021/07/img62.jpg
END:VEVENT
BEGIN:VEVENT
DTSTART;TZID=America/Detroit:20260312T180000
DTEND;TZID=America/Detroit:20260312T193000
DTSTAMP:20260423T195243
CREATED:20260303T000709Z
LAST-MODIFIED:20260303T000709Z
UID:10015024-1773338400-1773343800@firststjohn.com
SUMMARY:Day School Open House
DESCRIPTION:DAY SCHOOL OPEN HOUSE \nDay School Open House will be Thursday\, March 12th from 6:00-7:30 pm.  Come out to meet our teachers and see the classrooms. Invite friends with young children who may be looking for a Christian school. Fall registration for the 2026/2027 school year has already begun. If you can’t attend the open house\,\nplease call the school at 419-691-6480 with questions and/or to schedule a tour.
URL:https://firststjohn.com/event/day-school-open-house-3/
CATEGORIES:Children,Christian Education,Dayschool
ATTACH;FMTTYPE=image/jpeg:https://firststjohn.com/wp-content/uploads/2024/03/Dayschool-Open-House.jpg
ORGANIZER;CN="Jennifer Hess":MAILTO:office@firststjohn.com
END:VEVENT
BEGIN:VEVENT
DTSTART;TZID=America/New_York:20260314T083000
DTEND;TZID=America/New_York:20260314T083000
DTSTAMP:20260423T195243
CREATED:20251108T174642Z
LAST-MODIFIED:20251108T174643Z
UID:10014465-1773477000-1773477000@firststjohn.com
SUMMARY:Fellowship Breakfast (American Table)
DESCRIPTION:FELLOWSHIP BREAKFAST the next fellowship breakfast will be held on Saturday\, April 5th at 8:30 am at the American Table restaurant on the corner of Wheeling and Navarre (note the location change). See you there!  Good Food\, Good Friends\, and good conversations. Come join us! \n\nEveryone is invited
URL:https://firststjohn.com/event/fellowship-breakfast-2/2026-03-14/
LOCATION:American Table\, 846 S Wheeling St\, Oregon\, OH\, 43616\, United States
CATEGORIES:Featured,Fellowship
ATTACH;FMTTYPE=image/jpeg:https://firststjohn.com/wp-content/uploads/2024/03/Fellowship-Breakfast.jpg
END:VEVENT
BEGIN:VEVENT
DTSTART;TZID=America/New_York:20260315T080000
DTEND;TZID=America/New_York:20260315T080000
DTSTAMP:20260423T195243
CREATED:20250908T162850Z
LAST-MODIFIED:20260402T162122Z
UID:10012560-1773561600-1773561600@firststjohn.com
SUMMARY:Worship
DESCRIPTION:RETURN TO FALL/WINTER SERVICE SCHEDULE We will return to two services on Sept 7th at 8 am and 10:30 am. Please plan to join us on Sunday\, Sept 7th at either service. The church nursery will resume during 2nd service starting September 14th. See the contents of the newsletter for more festivities happening on Sept 7th as well!
URL:https://firststjohn.com/event/early-worship-service-3-2-2-4-19-4-3-4/2026-03-15/
LOCATION:Sanctuary\, 2471 Seaman St\, Toledo\, OH\, 43605\, United States
CATEGORIES:Children,Deacons,Elders,Featured,Trustees,Worship,Youth
ATTACH;FMTTYPE=image/jpeg:https://firststjohn.com/wp-content/uploads/2024/02/wine-and-bread.jpg
END:VEVENT
BEGIN:VEVENT
DTSTART;TZID=America/Detroit:20260315T103000
DTEND;TZID=America/Detroit:20260315T103000
DTSTAMP:20260423T195243
CREATED:20251108T173504Z
LAST-MODIFIED:20260303T002539Z
UID:10012822-1773570600-1773570600@firststjohn.com
SUMMARY:Worship
DESCRIPTION:RETURN TO FALL/WINTER SERVICE SCHEDULE We provide two Sunday services now at 8 am and 10:30 am. Please plan to join us on Sunday\, at either service. The church nursery is available for your use. See the contents of the newsletter for more festivities happening as well!
URL:https://firststjohn.com/event/early-worship-service-4-6/2026-03-15/
LOCATION:Sanctuary\, 2471 Seaman St\, Toledo\, OH\, 43605\, United States
CATEGORIES:Children,Deacons,Elders,Featured,Trustees,Worship,Youth
ATTACH;FMTTYPE=image/jpeg:https://firststjohn.com/wp-content/uploads/2024/02/wine-and-bread.jpg
END:VEVENT
BEGIN:VEVENT
DTSTART;TZID=America/Detroit:20260315T114500
DTEND;TZID=America/Detroit:20260315T114500
DTSTAMP:20260423T195243
CREATED:20260201T204209Z
LAST-MODIFIED:20260302T233124Z
UID:10014940-1773575100-1773575100@firststjohn.com
SUMMARY:Catechism
DESCRIPTION:FIRST & SECOND YEAR CATECHISM\nIt is time to organize a new Catechism Class. Pastor Rayl is inviting parents of kids in fifth through seventh grades to meet with him in the catechism classroom. Please send your questions to Pastor Rayl at email\,  Pastor1@firststjohn.com or text\, 567-395-0143. Hope to see you there.
URL:https://firststjohn.com/event/catechism-2/2026-03-15/
CATEGORIES:Christian Education,Youth
ATTACH;FMTTYPE=image/png:https://firststjohn.com/wp-content/uploads/2025/03/BulCover-03-30-25.png
END:VEVENT
BEGIN:VEVENT
DTSTART;TZID=America/Detroit:20260316T093000
DTEND;TZID=America/Detroit:20260316T093000
DTSTAMP:20260423T195243
CREATED:20260105T211913Z
LAST-MODIFIED:20260106T180104Z
UID:10014718-1773653400-1773653400@firststjohn.com
SUMMARY:Quilting
DESCRIPTION:Everyone is welcome to join us! Bring a sack lunch. Workshops on Mondays from 9:30 am – 1:00 pm in January\, February\, and March. \nIf Oregon schools are closed for weather\, NO QUILTING
URL:https://firststjohn.com/event/quilting-3/2026-03-16/
CATEGORIES:Chapel,Church Office,Featured,Fellowship,Hannah Circle,WELCA
ATTACH;FMTTYPE=image/jpeg:https://firststjohn.com/wp-content/uploads/2024/12/QUILTERS-8.jpg
END:VEVENT
BEGIN:VEVENT
DTSTART;TZID=America/Detroit:20260316T173000
DTEND;TZID=America/Detroit:20260316T173000
DTSTAMP:20260423T195243
CREATED:20250908T170450Z
LAST-MODIFIED:20250908T170450Z
UID:10013407-1773682200-1773682200@firststjohn.com
SUMMARY:Bell Choir
DESCRIPTION:FIRST ST. JOHN BELL CHOIR\nOur fabulous Bell Choir is looking for people to join us starting Sept. 15h in the church at 5:30 pm. We will give you instructions on how to hold and ring the bell. Come and give it a try! Contact Cheri  Sergent for any questions at (419) 410-3572.
URL:https://firststjohn.com/event/bell-choir-4/2026-03-16/
CATEGORIES:Bell Choir,Featured
ATTACH;FMTTYPE=image/jpeg:https://firststjohn.com/wp-content/uploads/2024/03/IMG_1561-scaled.jpeg
END:VEVENT
BEGIN:VEVENT
DTSTART;TZID=America/Detroit:20260316T183000
DTEND;TZID=America/Detroit:20260316T183000
DTSTAMP:20260423T195243
CREATED:20260303T001459Z
LAST-MODIFIED:20260402T161537Z
UID:10015026-1773685800-1773685800@firststjohn.com
SUMMARY:WELCA Mtg
DESCRIPTION:WELCA NEWS\nGood morning! Welcome to March\, Spring is just around the corner!! The Board met on February 16th\, with 6 members present. Chris Hunsaker will check on the plants we are having in late April. You will be able to purchase vegetable plants\, hanging baskets\, and flowers. They will be in on time for Mother’s Day. More details will be in April’s newsletter. \nChris Hunsaker also called Sailors & Soldiers Caring Facility to see if they could use some quilts. They  were very appreciative to receive them. Chris delivered 20 quilts. Instead of the Collectable Treasures\nwe had planned for in August\, we came up with something different. The Board will let you know in the July Newsletter. Our next meeting scheduled is March 14th in the lounge at 6:30 pm. “All women of the church are invited to attend. ~Have a safe and Happy St. Patrick’s Day!”\n––WELCA President\, Sue Ann Rogers
URL:https://firststjohn.com/event/welca-mtg-3/2026-03-16/
CATEGORIES:Fellowship,WELCA
ATTACH;FMTTYPE=image/jpeg:https://firststjohn.com/wp-content/uploads/2024/02/img21-1.jpg
ORGANIZER;CN="Jennifer Hess":MAILTO:office@firststjohn.com
END:VEVENT
BEGIN:VEVENT
DTSTART;TZID=America/Detroit:20260316T193000
DTEND;TZID=America/Detroit:20260316T193000
DTSTAMP:20260423T195243
CREATED:20260106T183147Z
LAST-MODIFIED:20260302T235758Z
UID:10014963-1773689400-1773689400@firststjohn.com
SUMMARY:Dartball (Home)
DESCRIPTION:DARTBALL STARTS SOON!\nDartball season is almost upon us. Teams meet every other Monday night starting on September 29th in the church gym. On Monday\, September 22nd we will have a dartball practice up in Founders Hall (gym) before the season starts at 7pm\, so come check it out! (For more information call Bob Haar at 419-250-9409. It is easy\, fun and fellowship. No experience required.
URL:https://firststjohn.com/event/dartball-home-3/2026-03-16/
CATEGORIES:Chapel,Church Office,Featured,Fellowship
ATTACH;FMTTYPE=image/jpeg:https://firststjohn.com/wp-content/uploads/2024/02/img23.jpg
END:VEVENT
BEGIN:VEVENT
DTSTART;TZID=America/Detroit:20260317T183000
DTEND;TZID=America/Detroit:20260317T183000
DTSTAMP:20260423T195243
CREATED:20260202T211914Z
LAST-MODIFIED:20260303T001655Z
UID:10015027-1773772200-1773772200@firststjohn.com
SUMMARY:Committee Mtg
DESCRIPTION:
URL:https://firststjohn.com/event/committee-mtg/2026-03-17/
CATEGORIES:Church Council,Church Office
ATTACH;FMTTYPE=image/png:https://firststjohn.com/wp-content/uploads/2024/12/FSJ-Family-Christmas-Party-12-1-202412.png
END:VEVENT
BEGIN:VEVENT
DTSTART;TZID=America/Detroit:20260317T190000
DTEND;TZID=America/Detroit:20260317T190000
DTSTAMP:20260423T195243
CREATED:20260202T212048Z
LAST-MODIFIED:20260303T001854Z
UID:10015028-1773774000-1773774000@firststjohn.com
SUMMARY:Council Mtg
DESCRIPTION:
URL:https://firststjohn.com/event/council-mtg-3/2026-03-17/
CATEGORIES:Church Council
ATTACH;FMTTYPE=image/jpeg:https://firststjohn.com/wp-content/uploads/upf-docs/usr8_1729966090_1000000522.jpg
END:VEVENT
BEGIN:VEVENT
DTSTART;TZID=America/Detroit:20260318T110000
DTEND;TZID=America/Detroit:20260318T110000
DTSTAMP:20260423T195243
CREATED:20260202T212949Z
LAST-MODIFIED:20260202T213047Z
UID:10014865-1773831600-1773831600@firststjohn.com
SUMMARY:Lenten Service
DESCRIPTION:Lenten season is upon us and services will begin on Wednesday\, March 5th for Ash Wednesday services at 11am and 7pm\, and each Wednesday at 11am and 7pm for Lent until Easter.
URL:https://firststjohn.com/event/lenten-service-6/2026-03-18/
CATEGORIES:Children,Deacons,Elders,Trustees,Worship,Youth
ATTACH;FMTTYPE=image/jpeg:https://firststjohn.com/wp-content/uploads/2024/02/wine-and-bread.jpg
END:VEVENT
BEGIN:VEVENT
DTSTART;TZID=America/Detroit:20260318T190000
DTEND;TZID=America/Detroit:20260318T190000
DTSTAMP:20260423T195243
CREATED:20260202T212528Z
LAST-MODIFIED:20260202T212729Z
UID:10014855-1773860400-1773860400@firststjohn.com
SUMMARY:Lenten Service
DESCRIPTION:Lenten season is upon us and services will begin on Wednesday\, March 5th for Ash Wednesday services at 11am and 7pm\, and each Wednesday at 11am and 7pm for Lent until Easter.
URL:https://firststjohn.com/event/lenten-service-8/2026-03-18/
CATEGORIES:Children,Deacons,Elders,Trustees,Worship,Youth
ATTACH;FMTTYPE=image/jpeg:https://firststjohn.com/wp-content/uploads/2024/02/wine-and-bread.jpg
END:VEVENT
BEGIN:VEVENT
DTSTART;TZID=America/Detroit:20260319T110000
DTEND;TZID=America/Detroit:20260319T110000
DTSTAMP:20260423T195243
CREATED:20251003T154421Z
LAST-MODIFIED:20251003T154421Z
UID:10013672-1773918000-1773918000@firststjohn.com
SUMMARY:Adult Bible Study
DESCRIPTION:ADULT BIBLE STUDY\nAdult Bible Study\, led by Pastor Rayl\, will resume on Thursday\, September 18th in the lounge. They will meet every Thursday at 11am. The subject of the study will be determined by the class the first meeting. If you would like more information\, please contact Pastor Rayl (pastor1@firststjohn.com) or by calling the church office: 419-691-7222.
URL:https://firststjohn.com/event/bible-study-5-2/2026-03-19/
CATEGORIES:Christian Education,Featured,Fellowship
ATTACH;FMTTYPE=image/jpeg:https://firststjohn.com/wp-content/uploads/2021/07/img62.jpg
END:VEVENT
BEGIN:VEVENT
DTSTART;TZID=America/New_York:20260322T080000
DTEND;TZID=America/New_York:20260322T080000
DTSTAMP:20260423T195243
CREATED:20250908T162850Z
LAST-MODIFIED:20260402T162122Z
UID:10012561-1774166400-1774166400@firststjohn.com
SUMMARY:Worship
DESCRIPTION:RETURN TO FALL/WINTER SERVICE SCHEDULE We will return to two services on Sept 7th at 8 am and 10:30 am. Please plan to join us on Sunday\, Sept 7th at either service. The church nursery will resume during 2nd service starting September 14th. See the contents of the newsletter for more festivities happening on Sept 7th as well!
URL:https://firststjohn.com/event/early-worship-service-3-2-2-4-19-4-3-4/2026-03-22/
LOCATION:Sanctuary\, 2471 Seaman St\, Toledo\, OH\, 43605\, United States
CATEGORIES:Children,Deacons,Elders,Featured,Trustees,Worship,Youth
ATTACH;FMTTYPE=image/jpeg:https://firststjohn.com/wp-content/uploads/2024/02/wine-and-bread.jpg
END:VEVENT
BEGIN:VEVENT
DTSTART;TZID=America/Detroit:20260322T103000
DTEND;TZID=America/Detroit:20260322T103000
DTSTAMP:20260423T195243
CREATED:20251108T173504Z
LAST-MODIFIED:20260303T002539Z
UID:10012823-1774175400-1774175400@firststjohn.com
SUMMARY:Worship
DESCRIPTION:RETURN TO FALL/WINTER SERVICE SCHEDULE We provide two Sunday services now at 8 am and 10:30 am. Please plan to join us on Sunday\, at either service. The church nursery is available for your use. See the contents of the newsletter for more festivities happening as well!
URL:https://firststjohn.com/event/early-worship-service-4-6/2026-03-22/
LOCATION:Sanctuary\, 2471 Seaman St\, Toledo\, OH\, 43605\, United States
CATEGORIES:Children,Deacons,Elders,Featured,Trustees,Worship,Youth
ATTACH;FMTTYPE=image/jpeg:https://firststjohn.com/wp-content/uploads/2024/02/wine-and-bread.jpg
END:VEVENT
BEGIN:VEVENT
DTSTART;TZID=America/Detroit:20260323T093000
DTEND;TZID=America/Detroit:20260323T093000
DTSTAMP:20260423T195243
CREATED:20260105T211913Z
LAST-MODIFIED:20260106T180104Z
UID:10014719-1774258200-1774258200@firststjohn.com
SUMMARY:Quilting
DESCRIPTION:Everyone is welcome to join us! Bring a sack lunch. Workshops on Mondays from 9:30 am – 1:00 pm in January\, February\, and March. \nIf Oregon schools are closed for weather\, NO QUILTING
URL:https://firststjohn.com/event/quilting-3/2026-03-23/
CATEGORIES:Chapel,Church Office,Featured,Fellowship,Hannah Circle,WELCA
ATTACH;FMTTYPE=image/jpeg:https://firststjohn.com/wp-content/uploads/2024/12/QUILTERS-8.jpg
END:VEVENT
BEGIN:VEVENT
DTSTART;TZID=America/Detroit:20260323T173000
DTEND;TZID=America/Detroit:20260323T173000
DTSTAMP:20260423T195243
CREATED:20250908T170450Z
LAST-MODIFIED:20250908T170450Z
UID:10013408-1774287000-1774287000@firststjohn.com
SUMMARY:Bell Choir
DESCRIPTION:FIRST ST. JOHN BELL CHOIR\nOur fabulous Bell Choir is looking for people to join us starting Sept. 15h in the church at 5:30 pm. We will give you instructions on how to hold and ring the bell. Come and give it a try! Contact Cheri  Sergent for any questions at (419) 410-3572.
URL:https://firststjohn.com/event/bell-choir-4/2026-03-23/
CATEGORIES:Bell Choir,Featured
ATTACH;FMTTYPE=image/jpeg:https://firststjohn.com/wp-content/uploads/2024/03/IMG_1561-scaled.jpeg
END:VEVENT
END:VCALENDAR