BEGIN:VCALENDAR
VERSION:2.0
PRODID:-//First St John - ECPv6.15.20//NONSGML v1.0//EN
CALSCALE:GREGORIAN
METHOD:PUBLISH
X-WR-CALNAME:First St John
X-ORIGINAL-URL:https://firststjohn.com
X-WR-CALDESC:Events for First St John
REFRESH-INTERVAL;VALUE=DURATION:PT1H
X-Robots-Tag:noindex
X-PUBLISHED-TTL:PT1H
BEGIN:VTIMEZONE
TZID:America/Detroit
BEGIN:DAYLIGHT
TZOFFSETFROM:-0500
TZOFFSETTO:-0400
TZNAME:EDT
DTSTART:20250309T070000
END:DAYLIGHT
BEGIN:STANDARD
TZOFFSETFROM:-0400
TZOFFSETTO:-0500
TZNAME:EST
DTSTART:20251102T060000
END:STANDARD
BEGIN:DAYLIGHT
TZOFFSETFROM:-0500
TZOFFSETTO:-0400
TZNAME:EDT
DTSTART:20260308T070000
END:DAYLIGHT
BEGIN:STANDARD
TZOFFSETFROM:-0400
TZOFFSETTO:-0500
TZNAME:EST
DTSTART:20261101T060000
END:STANDARD
BEGIN:DAYLIGHT
TZOFFSETFROM:-0500
TZOFFSETTO:-0400
TZNAME:EDT
DTSTART:20270314T070000
END:DAYLIGHT
BEGIN:STANDARD
TZOFFSETFROM:-0400
TZOFFSETTO:-0500
TZNAME:EST
DTSTART:20271107T060000
END:STANDARD
END:VTIMEZONE
BEGIN:VTIMEZONE
TZID:America/New_York
BEGIN:DAYLIGHT
TZOFFSETFROM:-0500
TZOFFSETTO:-0400
TZNAME:EDT
DTSTART:20250309T070000
END:DAYLIGHT
BEGIN:STANDARD
TZOFFSETFROM:-0400
TZOFFSETTO:-0500
TZNAME:EST
DTSTART:20251102T060000
END:STANDARD
BEGIN:DAYLIGHT
TZOFFSETFROM:-0500
TZOFFSETTO:-0400
TZNAME:EDT
DTSTART:20260308T070000
END:DAYLIGHT
BEGIN:STANDARD
TZOFFSETFROM:-0400
TZOFFSETTO:-0500
TZNAME:EST
DTSTART:20261101T060000
END:STANDARD
BEGIN:DAYLIGHT
TZOFFSETFROM:-0500
TZOFFSETTO:-0400
TZNAME:EDT
DTSTART:20270314T070000
END:DAYLIGHT
BEGIN:STANDARD
TZOFFSETFROM:-0400
TZOFFSETTO:-0500
TZNAME:EST
DTSTART:20271107T060000
END:STANDARD
END:VTIMEZONE
BEGIN:VEVENT
DTSTART;TZID=America/Detroit:20260129T110000
DTEND;TZID=America/Detroit:20260129T110000
DTSTAMP:20260423T183043
CREATED:20251003T154421Z
LAST-MODIFIED:20251003T154421Z
UID:10013665-1769684400-1769684400@firststjohn.com
SUMMARY:Adult Bible Study
DESCRIPTION:ADULT BIBLE STUDY\nAdult Bible Study\, led by Pastor Rayl\, will resume on Thursday\, September 18th in the lounge. They will meet every Thursday at 11am. The subject of the study will be determined by the class the first meeting. If you would like more information\, please contact Pastor Rayl (pastor1@firststjohn.com) or by calling the church office: 419-691-7222.
URL:https://firststjohn.com/event/bible-study-5-2/2026-01-29/
CATEGORIES:Christian Education,Featured,Fellowship
ATTACH;FMTTYPE=image/jpeg:https://firststjohn.com/wp-content/uploads/2021/07/img62.jpg
END:VEVENT
BEGIN:VEVENT
DTSTART;TZID=America/Detroit:20260128T180000
DTEND;TZID=America/Detroit:20260128T180000
DTSTAMP:20260423T183043
CREATED:20250908T161802Z
LAST-MODIFIED:20250908T161802Z
UID:10012292-1769623200-1769623200@firststjohn.com
SUMMARY:Choir Rehearsal
DESCRIPTION:JOIN US FOR CHOIR REHEARSAL! The choir is off to a great start! If you have ever considered joining the choir this is a great time to check it out! The next practice will be on Wednesday\, September 10th at 6pm. Our new choir director\, JoAnne Chrysochoos is eager to meet you and hopes you will join her! Come make a joyful noise to the Lord!
URL:https://firststjohn.com/event/choir-rehearsal-3/2026-01-28/
CATEGORIES:Choir,Fellowship
ATTACH;FMTTYPE=image/png:https://firststjohn.com/wp-content/uploads/2024/02/img10.png
END:VEVENT
BEGIN:VEVENT
DTSTART;TZID=America/Detroit:20260126T193000
DTEND;TZID=America/Detroit:20260126T193000
DTSTAMP:20260423T183043
CREATED:20260106T183147Z
LAST-MODIFIED:20260302T235758Z
UID:10014731-1769455800-1769455800@firststjohn.com
SUMMARY:Dartball (Home)
DESCRIPTION:DARTBALL STARTS SOON!\nDartball season is almost upon us. Teams meet every other Monday night starting on September 29th in the church gym. On Monday\, September 22nd we will have a dartball practice up in Founders Hall (gym) before the season starts at 7pm\, so come check it out! (For more information call Bob Haar at 419-250-9409. It is easy\, fun and fellowship. No experience required.
URL:https://firststjohn.com/event/dartball-home-3/2026-01-26/
CATEGORIES:Chapel,Church Office,Featured,Fellowship
ATTACH;FMTTYPE=image/jpeg:https://firststjohn.com/wp-content/uploads/2024/02/img23.jpg
END:VEVENT
BEGIN:VEVENT
DTSTART;TZID=America/Detroit:20260126T173000
DTEND;TZID=America/Detroit:20260126T173000
DTSTAMP:20260423T183043
CREATED:20250908T170450Z
LAST-MODIFIED:20250908T170450Z
UID:10013400-1769448600-1769448600@firststjohn.com
SUMMARY:Bell Choir
DESCRIPTION:FIRST ST. JOHN BELL CHOIR\nOur fabulous Bell Choir is looking for people to join us starting Sept. 15h in the church at 5:30 pm. We will give you instructions on how to hold and ring the bell. Come and give it a try! Contact Cheri  Sergent for any questions at (419) 410-3572.
URL:https://firststjohn.com/event/bell-choir-4/2026-01-26/
CATEGORIES:Bell Choir,Featured
ATTACH;FMTTYPE=image/jpeg:https://firststjohn.com/wp-content/uploads/2024/03/IMG_1561-scaled.jpeg
END:VEVENT
BEGIN:VEVENT
DTSTART;TZID=America/Detroit:20260126T093000
DTEND;TZID=America/Detroit:20260126T093000
DTSTAMP:20260423T183043
CREATED:20260105T211913Z
LAST-MODIFIED:20260106T180104Z
UID:10014711-1769419800-1769419800@firststjohn.com
SUMMARY:Quilting
DESCRIPTION:Everyone is welcome to join us! Bring a sack lunch. Workshops on Mondays from 9:30 am – 1:00 pm in January\, February\, and March. \nIf Oregon schools are closed for weather\, NO QUILTING
URL:https://firststjohn.com/event/quilting-3/2026-01-26/
CATEGORIES:Chapel,Church Office,Featured,Fellowship,Hannah Circle,WELCA
ATTACH;FMTTYPE=image/jpeg:https://firststjohn.com/wp-content/uploads/2024/12/QUILTERS-8.jpg
END:VEVENT
BEGIN:VEVENT
DTSTART;TZID=America/Detroit:20260125T103000
DTEND;TZID=America/Detroit:20260125T103000
DTSTAMP:20260423T183043
CREATED:20260106T182953Z
LAST-MODIFIED:20260106T182953Z
UID:10012815-1769337000-1769337000@firststjohn.com
SUMMARY:Worship/Comm
DESCRIPTION:RETURN TO FALL/WINTER SERVICE SCHEDULE We provide two Sunday services now at 8 am and 10:30 am. Please plan to join us on Sunday\, at either service. The church nursery is available for your use. See the contents of the newsletter for more festivities happening as well!
URL:https://firststjohn.com/event/early-worship-service-4-6-8/
LOCATION:Sanctuary\, 2471 Seaman St\, Toledo\, OH\, 43605\, United States
CATEGORIES:Children,Deacons,Elders,Featured,Trustees,Worship,Youth
ATTACH;FMTTYPE=image/jpeg:https://firststjohn.com/wp-content/uploads/2024/02/wine-and-bread.jpg
END:VEVENT
BEGIN:VEVENT
DTSTART;TZID=America/Detroit:20260125T103000
DTEND;TZID=America/Detroit:20260125T103000
DTSTAMP:20260423T183043
CREATED:20251108T173504Z
LAST-MODIFIED:20260303T002539Z
UID:10015034-1769337000-1769337000@firststjohn.com
SUMMARY:Worship
DESCRIPTION:RETURN TO FALL/WINTER SERVICE SCHEDULE We provide two Sunday services now at 8 am and 10:30 am. Please plan to join us on Sunday\, at either service. The church nursery is available for your use. See the contents of the newsletter for more festivities happening as well!
URL:https://firststjohn.com/event/early-worship-service-4-6/2026-01-25/
LOCATION:Sanctuary\, 2471 Seaman St\, Toledo\, OH\, 43605\, United States
CATEGORIES:Children,Deacons,Elders,Featured,Trustees,Worship,Youth
ATTACH;FMTTYPE=image/jpeg:https://firststjohn.com/wp-content/uploads/2024/02/wine-and-bread.jpg
END:VEVENT
BEGIN:VEVENT
DTSTART;TZID=America/Detroit:20260125T091500
DTEND;TZID=America/Detroit:20260125T091500
DTSTAMP:20260423T183043
CREATED:20251108T174857Z
LAST-MODIFIED:20251108T174857Z
UID:10013987-1769332500-1769332500@firststjohn.com
SUMMARY:Ephesians Study
DESCRIPTION:
URL:https://firststjohn.com/event/adult-bible-study-starts-4/2026-01-25/
CATEGORIES:Christian Education,Featured,Fellowship
ATTACH;FMTTYPE=image/jpeg:https://firststjohn.com/wp-content/uploads/2021/07/img62.jpg
END:VEVENT
BEGIN:VEVENT
DTSTART;TZID=America/New_York:20260125T080000
DTEND;TZID=America/New_York:20260125T080000
DTSTAMP:20260423T183043
CREATED:20250908T162850Z
LAST-MODIFIED:20260402T162122Z
UID:10012553-1769328000-1769328000@firststjohn.com
SUMMARY:Worship
DESCRIPTION:RETURN TO FALL/WINTER SERVICE SCHEDULE We will return to two services on Sept 7th at 8 am and 10:30 am. Please plan to join us on Sunday\, Sept 7th at either service. The church nursery will resume during 2nd service starting September 14th. See the contents of the newsletter for more festivities happening on Sept 7th as well!
URL:https://firststjohn.com/event/early-worship-service-3-2-2-4-19-4-3-4/2026-01-25/
LOCATION:Sanctuary\, 2471 Seaman St\, Toledo\, OH\, 43605\, United States
CATEGORIES:Children,Deacons,Elders,Featured,Trustees,Worship,Youth
ATTACH;FMTTYPE=image/jpeg:https://firststjohn.com/wp-content/uploads/2024/02/wine-and-bread.jpg
END:VEVENT
BEGIN:VEVENT
DTSTART;TZID=America/Detroit:20260122T110000
DTEND;TZID=America/Detroit:20260122T110000
DTSTAMP:20260423T183043
CREATED:20251003T154421Z
LAST-MODIFIED:20251003T154421Z
UID:10013664-1769079600-1769079600@firststjohn.com
SUMMARY:Adult Bible Study
DESCRIPTION:ADULT BIBLE STUDY\nAdult Bible Study\, led by Pastor Rayl\, will resume on Thursday\, September 18th in the lounge. They will meet every Thursday at 11am. The subject of the study will be determined by the class the first meeting. If you would like more information\, please contact Pastor Rayl (pastor1@firststjohn.com) or by calling the church office: 419-691-7222.
URL:https://firststjohn.com/event/bible-study-5-2/2026-01-22/
CATEGORIES:Christian Education,Featured,Fellowship
ATTACH;FMTTYPE=image/jpeg:https://firststjohn.com/wp-content/uploads/2021/07/img62.jpg
END:VEVENT
BEGIN:VEVENT
DTSTART;TZID=America/Detroit:20260121T180000
DTEND;TZID=America/Detroit:20260121T180000
DTSTAMP:20260423T183043
CREATED:20250908T161802Z
LAST-MODIFIED:20250908T161802Z
UID:10012291-1769018400-1769018400@firststjohn.com
SUMMARY:Choir Rehearsal
DESCRIPTION:JOIN US FOR CHOIR REHEARSAL! The choir is off to a great start! If you have ever considered joining the choir this is a great time to check it out! The next practice will be on Wednesday\, September 10th at 6pm. Our new choir director\, JoAnne Chrysochoos is eager to meet you and hopes you will join her! Come make a joyful noise to the Lord!
URL:https://firststjohn.com/event/choir-rehearsal-3/2026-01-21/
CATEGORIES:Choir,Fellowship
ATTACH;FMTTYPE=image/png:https://firststjohn.com/wp-content/uploads/2024/02/img10.png
END:VEVENT
BEGIN:VEVENT
DTSTART;TZID=America/Detroit:20260120T000000
DTEND;TZID=America/Detroit:20260120T000000
DTSTAMP:20260423T183043
CREATED:20260106T182110Z
LAST-MODIFIED:20260106T182110Z
UID:10014729-1768867200-1768867200@firststjohn.com
SUMMARY:Council Dinner & Mtg at Packo's on Front St
DESCRIPTION:JANUARY CHURCH COUNCIL DINNER \nOur upcoming Council/Dinner meeting will be held on Tuesday\, January 20th at 6:30 pm at Tony Packo’s on Front Street. All new incoming members as well as outgoing members and their spouses or significant others are invited. The church will donate $10 toward each person’s  meal. \nPlease make sure to RSVP to Dave Wilbarger at email.dow@gmail.com or 419-205-7855 or to the church office at 419-691-7222. Please RSVP by January 19th.
URL:https://firststjohn.com/event/council-dinner-mtg-at-packos-on-front-st/
CATEGORIES:Church Council
ATTACH;FMTTYPE=image/png:https://firststjohn.com/wp-content/uploads/2024/02/cropped-ELCA_4c_globe.png
END:VEVENT
BEGIN:VEVENT
DTSTART;TZID=America/Detroit:20260119T173000
DTEND;TZID=America/Detroit:20260119T173000
DTSTAMP:20260423T183043
CREATED:20250908T170450Z
LAST-MODIFIED:20250908T170450Z
UID:10013399-1768843800-1768843800@firststjohn.com
SUMMARY:Bell Choir
DESCRIPTION:FIRST ST. JOHN BELL CHOIR\nOur fabulous Bell Choir is looking for people to join us starting Sept. 15h in the church at 5:30 pm. We will give you instructions on how to hold and ring the bell. Come and give it a try! Contact Cheri  Sergent for any questions at (419) 410-3572.
URL:https://firststjohn.com/event/bell-choir-4/2026-01-19/
CATEGORIES:Bell Choir,Featured
ATTACH;FMTTYPE=image/jpeg:https://firststjohn.com/wp-content/uploads/2024/03/IMG_1561-scaled.jpeg
END:VEVENT
BEGIN:VEVENT
DTSTART;TZID=America/Detroit:20260119T093000
DTEND;TZID=America/Detroit:20260119T093000
DTSTAMP:20260423T183043
CREATED:20260105T211913Z
LAST-MODIFIED:20260106T180104Z
UID:10014710-1768815000-1768815000@firststjohn.com
SUMMARY:Quilting
DESCRIPTION:Everyone is welcome to join us! Bring a sack lunch. Workshops on Mondays from 9:30 am – 1:00 pm in January\, February\, and March. \nIf Oregon schools are closed for weather\, NO QUILTING
URL:https://firststjohn.com/event/quilting-3/2026-01-19/
CATEGORIES:Chapel,Church Office,Featured,Fellowship,Hannah Circle,WELCA
ATTACH;FMTTYPE=image/jpeg:https://firststjohn.com/wp-content/uploads/2024/12/QUILTERS-8.jpg
END:VEVENT
BEGIN:VEVENT
DTSTART;VALUE=DATE:20260119
DTEND;VALUE=DATE:20260120
DTSTAMP:20260423T183043
CREATED:20260106T181625Z
LAST-MODIFIED:20260106T181625Z
UID:10014728-1768780800-1768867199@firststjohn.com
SUMMARY:OFFICE/SCHOOL CLOSED
DESCRIPTION:
URL:https://firststjohn.com/event/office-school-closed-5/
ORGANIZER;CN="Jennifer Hess":MAILTO:office@firststjohn.com
END:VEVENT
BEGIN:VEVENT
DTSTART;VALUE=DATE:20260119
DTEND;VALUE=DATE:20260120
DTSTAMP:20260423T183043
CREATED:20260106T181538Z
LAST-MODIFIED:20260106T181538Z
UID:10014727-1768780800-1768867199@firststjohn.com
SUMMARY:MLK DAY
DESCRIPTION:
URL:https://firststjohn.com/event/mlk-day-2/
ORGANIZER;CN="Jennifer Hess":MAILTO:office@firststjohn.com
END:VEVENT
BEGIN:VEVENT
DTSTART;TZID=America/Detroit:20260118T114500
DTEND;TZID=America/Detroit:20260118T114500
DTSTAMP:20260423T183043
CREATED:20260104T174717Z
LAST-MODIFIED:20260106T181231Z
UID:10014724-1768736700-1768736700@firststjohn.com
SUMMARY:Catechism
DESCRIPTION:FIRST & SECOND YEAR CATECHISM\nIt is time to organize a new Catechism Class. Pastor Rayl is inviting parents of kids in fifth through seventh grades to meet with him in the catechism classroom. Please send your questions to Pastor Rayl at email\,  Pastor1@firststjohn.com or text\, 567-395-0143. Hope to see you there.
URL:https://firststjohn.com/event/catechism/2026-01-18/
CATEGORIES:Christian Education,Youth
ATTACH;FMTTYPE=image/png:https://firststjohn.com/wp-content/uploads/2025/03/BulCover-03-30-25.png
END:VEVENT
BEGIN:VEVENT
DTSTART;TZID=America/Detroit:20260118T103000
DTEND;TZID=America/Detroit:20260118T103000
DTSTAMP:20260423T183043
CREATED:20251108T173504Z
LAST-MODIFIED:20260303T002539Z
UID:10012814-1768732200-1768732200@firststjohn.com
SUMMARY:Worship
DESCRIPTION:RETURN TO FALL/WINTER SERVICE SCHEDULE We provide two Sunday services now at 8 am and 10:30 am. Please plan to join us on Sunday\, at either service. The church nursery is available for your use. See the contents of the newsletter for more festivities happening as well!
URL:https://firststjohn.com/event/early-worship-service-4-6/2026-01-18/
LOCATION:Sanctuary\, 2471 Seaman St\, Toledo\, OH\, 43605\, United States
CATEGORIES:Children,Deacons,Elders,Featured,Trustees,Worship,Youth
ATTACH;FMTTYPE=image/jpeg:https://firststjohn.com/wp-content/uploads/2024/02/wine-and-bread.jpg
END:VEVENT
BEGIN:VEVENT
DTSTART;TZID=America/Detroit:20260118T091500
DTEND;TZID=America/Detroit:20260118T091500
DTSTAMP:20260423T183043
CREATED:20251108T174857Z
LAST-MODIFIED:20251108T174857Z
UID:10013986-1768727700-1768727700@firststjohn.com
SUMMARY:Ephesians Study
DESCRIPTION:
URL:https://firststjohn.com/event/adult-bible-study-starts-4/2026-01-18/
CATEGORIES:Christian Education,Featured,Fellowship
ATTACH;FMTTYPE=image/jpeg:https://firststjohn.com/wp-content/uploads/2021/07/img62.jpg
END:VEVENT
BEGIN:VEVENT
DTSTART;TZID=America/New_York:20260118T080000
DTEND;TZID=America/New_York:20260118T080000
DTSTAMP:20260423T183043
CREATED:20250908T162850Z
LAST-MODIFIED:20260402T162122Z
UID:10012552-1768723200-1768723200@firststjohn.com
SUMMARY:Worship
DESCRIPTION:RETURN TO FALL/WINTER SERVICE SCHEDULE We will return to two services on Sept 7th at 8 am and 10:30 am. Please plan to join us on Sunday\, Sept 7th at either service. The church nursery will resume during 2nd service starting September 14th. See the contents of the newsletter for more festivities happening on Sept 7th as well!
URL:https://firststjohn.com/event/early-worship-service-3-2-2-4-19-4-3-4/2026-01-18/
LOCATION:Sanctuary\, 2471 Seaman St\, Toledo\, OH\, 43605\, United States
CATEGORIES:Children,Deacons,Elders,Featured,Trustees,Worship,Youth
ATTACH;FMTTYPE=image/jpeg:https://firststjohn.com/wp-content/uploads/2024/02/wine-and-bread.jpg
END:VEVENT
BEGIN:VEVENT
DTSTART;VALUE=DATE:20260118
DTEND;VALUE=DATE:20260119
DTSTAMP:20260423T183043
CREATED:20260106T181448Z
LAST-MODIFIED:20260106T181448Z
UID:10014726-1768694400-1768780799@firststjohn.com
SUMMARY:Family Blessing
DESCRIPTION:
URL:https://firststjohn.com/event/family-blessing/
ORGANIZER;CN="Jennifer Hess":MAILTO:office@firststjohn.com
END:VEVENT
BEGIN:VEVENT
DTSTART;TZID=America/Detroit:20260115T110000
DTEND;TZID=America/Detroit:20260115T110000
DTSTAMP:20260423T183043
CREATED:20251003T154421Z
LAST-MODIFIED:20251003T154421Z
UID:10013663-1768474800-1768474800@firststjohn.com
SUMMARY:Adult Bible Study
DESCRIPTION:ADULT BIBLE STUDY\nAdult Bible Study\, led by Pastor Rayl\, will resume on Thursday\, September 18th in the lounge. They will meet every Thursday at 11am. The subject of the study will be determined by the class the first meeting. If you would like more information\, please contact Pastor Rayl (pastor1@firststjohn.com) or by calling the church office: 419-691-7222.
URL:https://firststjohn.com/event/bible-study-5-2/2026-01-15/
CATEGORIES:Christian Education,Featured,Fellowship
ATTACH;FMTTYPE=image/jpeg:https://firststjohn.com/wp-content/uploads/2021/07/img62.jpg
END:VEVENT
BEGIN:VEVENT
DTSTART;TZID=America/Detroit:20260114T190000
DTEND;TZID=America/Detroit:20260114T190000
DTSTAMP:20260423T183043
CREATED:20260106T181054Z
LAST-MODIFIED:20260106T181054Z
UID:10014723-1768417200-1768417200@firststjohn.com
SUMMARY:Day School Board Mtg
DESCRIPTION:
URL:https://firststjohn.com/event/day-school-board-mtg-6/
CATEGORIES:Dayschool
ATTACH;FMTTYPE=image/jpeg:https://firststjohn.com/wp-content/uploads/2024/02/img40.jpeg
END:VEVENT
BEGIN:VEVENT
DTSTART;TZID=America/Detroit:20260114T180000
DTEND;TZID=America/Detroit:20260114T180000
DTSTAMP:20260423T183043
CREATED:20250908T161802Z
LAST-MODIFIED:20250908T161802Z
UID:10012290-1768413600-1768413600@firststjohn.com
SUMMARY:Choir Rehearsal
DESCRIPTION:JOIN US FOR CHOIR REHEARSAL! The choir is off to a great start! If you have ever considered joining the choir this is a great time to check it out! The next practice will be on Wednesday\, September 10th at 6pm. Our new choir director\, JoAnne Chrysochoos is eager to meet you and hopes you will join her! Come make a joyful noise to the Lord!
URL:https://firststjohn.com/event/choir-rehearsal-3/2026-01-14/
CATEGORIES:Choir,Fellowship
ATTACH;FMTTYPE=image/png:https://firststjohn.com/wp-content/uploads/2024/02/img10.png
END:VEVENT
BEGIN:VEVENT
DTSTART;TZID=America/Detroit:20260113T130000
DTEND;TZID=America/Detroit:20260113T130000
DTSTAMP:20260423T183043
CREATED:20260106T180802Z
LAST-MODIFIED:20260106T180802Z
UID:10014722-1768309200-1768309200@firststjohn.com
SUMMARY:Afternoon Piano Concert in church
DESCRIPTION:AFTERNOON CONCERT SERIES \nPlease join us on Tuesday\, January 13th at 1:00 pm in the church for a wonderful music concert!  Pianist Tumaini Sango\, completing his master’s degree from BGSU will present a diverse program of both classical music and jazz. See you there!
URL:https://firststjohn.com/event/afternoon-piano-concert-in-church/
CATEGORIES:Piano Recital
ATTACH;FMTTYPE=image/jpeg:https://firststjohn.com/wp-content/uploads/2024/06/pianorecital.jpg
END:VEVENT
BEGIN:VEVENT
DTSTART;TZID=America/Detroit:20260112T193000
DTEND;TZID=America/Detroit:20260112T193000
DTSTAMP:20260423T183043
CREATED:20251108T174101Z
LAST-MODIFIED:20260106T180317Z
UID:10014721-1768246200-1768246200@firststjohn.com
SUMMARY:Dartball (Away)
DESCRIPTION:
URL:https://firststjohn.com/event/dartball-practise-2-2-2/2026-01-12/
CATEGORIES:Chapel,Church Office,Featured,Fellowship
ATTACH;FMTTYPE=image/jpeg:https://firststjohn.com/wp-content/uploads/2024/02/img23.jpg
END:VEVENT
BEGIN:VEVENT
DTSTART;TZID=America/Detroit:20260112T173000
DTEND;TZID=America/Detroit:20260112T173000
DTSTAMP:20260423T183043
CREATED:20250908T170450Z
LAST-MODIFIED:20250908T170450Z
UID:10013398-1768239000-1768239000@firststjohn.com
SUMMARY:Bell Choir
DESCRIPTION:FIRST ST. JOHN BELL CHOIR\nOur fabulous Bell Choir is looking for people to join us starting Sept. 15h in the church at 5:30 pm. We will give you instructions on how to hold and ring the bell. Come and give it a try! Contact Cheri  Sergent for any questions at (419) 410-3572.
URL:https://firststjohn.com/event/bell-choir-4/2026-01-12/
CATEGORIES:Bell Choir,Featured
ATTACH;FMTTYPE=image/jpeg:https://firststjohn.com/wp-content/uploads/2024/03/IMG_1561-scaled.jpeg
END:VEVENT
BEGIN:VEVENT
DTSTART;TZID=America/Detroit:20260112T093000
DTEND;TZID=America/Detroit:20260112T093000
DTSTAMP:20260423T183043
CREATED:20260105T211913Z
LAST-MODIFIED:20260106T180104Z
UID:10014709-1768210200-1768210200@firststjohn.com
SUMMARY:Quilting
DESCRIPTION:Everyone is welcome to join us! Bring a sack lunch. Workshops on Mondays from 9:30 am – 1:00 pm in January\, February\, and March. \nIf Oregon schools are closed for weather\, NO QUILTING
URL:https://firststjohn.com/event/quilting-3/2026-01-12/
CATEGORIES:Chapel,Church Office,Featured,Fellowship,Hannah Circle,WELCA
ATTACH;FMTTYPE=image/jpeg:https://firststjohn.com/wp-content/uploads/2024/12/QUILTERS-8.jpg
END:VEVENT
BEGIN:VEVENT
DTSTART;TZID=America/Detroit:20260111T140000
DTEND;TZID=America/Detroit:20260111T140000
DTSTAMP:20260423T183043
CREATED:20260106T175257Z
LAST-MODIFIED:20260106T175606Z
UID:10014708-1768140000-1768140000@firststjohn.com
SUMMARY:Chapel Comm
DESCRIPTION:CHAPEL COMMUNION\nChapel communion begins again on Sunday\, September 14th at 2:00 pm. Note: The second Sunday of the month at 2:00 pm will be our regular schedule for Chapel Communion.
URL:https://firststjohn.com/event/chapel-comm-4/
CATEGORIES:Chapel
ATTACH;FMTTYPE=image/jpeg:https://firststjohn.com/wp-content/uploads/2024/03/Chapel.jpg
END:VEVENT
BEGIN:VEVENT
DTSTART;TZID=America/Detroit:20260111T140000
DTEND;TZID=America/Detroit:20260111T140000
DTSTAMP:20260423T183043
CREATED:20250104T174044Z
LAST-MODIFIED:20260106T175859Z
UID:10010293-1768140000-1768140000@firststjohn.com
SUMMARY:WELCA Board Meeting
DESCRIPTION:WELCA BOARD will meet on Monday\, January 6th at 6:30 pm at Applebee’s in Northwood for their Christmas party.
URL:https://firststjohn.com/event/welca-board-meeting/
LOCATION:Applebee’s in Northwood
CATEGORIES:Featured,WELCA
ATTACH;FMTTYPE=image/jpeg:https://firststjohn.com/wp-content/uploads/2024/02/img21-1.jpg
END:VEVENT
END:VCALENDAR