BEGIN:VCALENDAR
VERSION:2.0
PRODID:-//First St John - ECPv6.15.20//NONSGML v1.0//EN
CALSCALE:GREGORIAN
METHOD:PUBLISH
X-WR-CALNAME:First St John
X-ORIGINAL-URL:https://firststjohn.com
X-WR-CALDESC:Events for First St John
REFRESH-INTERVAL;VALUE=DURATION:PT1H
X-Robots-Tag:noindex
X-PUBLISHED-TTL:PT1H
BEGIN:VTIMEZONE
TZID:America/Detroit
BEGIN:DAYLIGHT
TZOFFSETFROM:-0500
TZOFFSETTO:-0400
TZNAME:EDT
DTSTART:20240310T070000
END:DAYLIGHT
BEGIN:STANDARD
TZOFFSETFROM:-0400
TZOFFSETTO:-0500
TZNAME:EST
DTSTART:20241103T060000
END:STANDARD
BEGIN:DAYLIGHT
TZOFFSETFROM:-0500
TZOFFSETTO:-0400
TZNAME:EDT
DTSTART:20250309T070000
END:DAYLIGHT
BEGIN:STANDARD
TZOFFSETFROM:-0400
TZOFFSETTO:-0500
TZNAME:EST
DTSTART:20251102T060000
END:STANDARD
BEGIN:DAYLIGHT
TZOFFSETFROM:-0500
TZOFFSETTO:-0400
TZNAME:EDT
DTSTART:20260308T070000
END:DAYLIGHT
BEGIN:STANDARD
TZOFFSETFROM:-0400
TZOFFSETTO:-0500
TZNAME:EST
DTSTART:20261101T060000
END:STANDARD
END:VTIMEZONE
BEGIN:VTIMEZONE
TZID:America/New_York
BEGIN:DAYLIGHT
TZOFFSETFROM:-0500
TZOFFSETTO:-0400
TZNAME:EDT
DTSTART:20240310T070000
END:DAYLIGHT
BEGIN:STANDARD
TZOFFSETFROM:-0400
TZOFFSETTO:-0500
TZNAME:EST
DTSTART:20241103T060000
END:STANDARD
BEGIN:DAYLIGHT
TZOFFSETFROM:-0500
TZOFFSETTO:-0400
TZNAME:EDT
DTSTART:20250309T070000
END:DAYLIGHT
BEGIN:STANDARD
TZOFFSETFROM:-0400
TZOFFSETTO:-0500
TZNAME:EST
DTSTART:20251102T060000
END:STANDARD
BEGIN:DAYLIGHT
TZOFFSETFROM:-0500
TZOFFSETTO:-0400
TZNAME:EDT
DTSTART:20260308T070000
END:DAYLIGHT
BEGIN:STANDARD
TZOFFSETFROM:-0400
TZOFFSETTO:-0500
TZNAME:EST
DTSTART:20261101T060000
END:STANDARD
END:VTIMEZONE
BEGIN:VEVENT
DTSTART;TZID=America/Detroit:20251203T180000
DTEND;TZID=America/Detroit:20251203T180000
DTSTAMP:20260424T112846
CREATED:20250908T161802Z
LAST-MODIFIED:20250908T161802Z
UID:10012284-1764784800-1764784800@firststjohn.com
SUMMARY:Choir Rehearsal
DESCRIPTION:JOIN US FOR CHOIR REHEARSAL! The choir is off to a great start! If you have ever considered joining the choir this is a great time to check it out! The next practice will be on Wednesday\, September 10th at 6pm. Our new choir director\, JoAnne Chrysochoos is eager to meet you and hopes you will join her! Come make a joyful noise to the Lord!
URL:https://firststjohn.com/event/choir-rehearsal-3/2025-12-03/
CATEGORIES:Choir,Fellowship
ATTACH;FMTTYPE=image/png:https://firststjohn.com/wp-content/uploads/2024/02/img10.png
END:VEVENT
BEGIN:VEVENT
DTSTART;TZID=America/New_York:20251202T110000
DTEND;TZID=America/New_York:20251202T110000
DTSTAMP:20260424T112846
CREATED:20251209T224132Z
LAST-MODIFIED:20251209T224132Z
UID:10012213-1764673200-1764673200@firststjohn.com
SUMMARY:Ruth Circle at Ralphie's
DESCRIPTION:“The Woman of Consistency” \nThe Ruth Circle meets on the first tuesday of the month at 11 am.
URL:https://firststjohn.com/event/ruth-circle-2-2-3-2-4-2-3/
LOCATION:Lounge
CATEGORIES:Chapel,Church Office,Featured,Fellowship,WELCA
ATTACH;FMTTYPE=image/jpeg:https://firststjohn.com/wp-content/uploads/2024/02/334204847_715639593392527_2754186504092574106_n.jpg
END:VEVENT
BEGIN:VEVENT
DTSTART;TZID=America/Detroit:20251201T193000
DTEND;TZID=America/Detroit:20251201T193000
DTSTAMP:20260424T112846
CREATED:20251103T184656Z
LAST-MODIFIED:20251108T173955Z
UID:10014330-1764617400-1764617400@firststjohn.com
SUMMARY:Dartball (Home)
DESCRIPTION:DARTBALL STARTS SOON!\nDartball season is almost upon us. Teams meet every other Monday night starting on September 29th in the church gym. On Monday\, September 22nd we will have a dartball practice up in Founders Hall (gym) before the season starts at 7pm\, so come check it out! (For more information call Bob Haar at 419-250-9409. It is easy\, fun and fellowship. No experience required.
URL:https://firststjohn.com/event/dartball-practise-2-2/2025-12-01/
CATEGORIES:Chapel,Church Office,Featured,Fellowship
ATTACH;FMTTYPE=image/jpeg:https://firststjohn.com/wp-content/uploads/2024/02/img23.jpg
END:VEVENT
BEGIN:VEVENT
DTSTART;TZID=America/Detroit:20251201T173000
DTEND;TZID=America/Detroit:20251201T173000
DTSTAMP:20260424T112846
CREATED:20250908T170450Z
LAST-MODIFIED:20250908T170450Z
UID:10013392-1764610200-1764610200@firststjohn.com
SUMMARY:Bell Choir
DESCRIPTION:FIRST ST. JOHN BELL CHOIR\nOur fabulous Bell Choir is looking for people to join us starting Sept. 15h in the church at 5:30 pm. We will give you instructions on how to hold and ring the bell. Come and give it a try! Contact Cheri  Sergent for any questions at (419) 410-3572.
URL:https://firststjohn.com/event/bell-choir-4/2025-12-01/
CATEGORIES:Bell Choir,Featured
ATTACH;FMTTYPE=image/jpeg:https://firststjohn.com/wp-content/uploads/2024/03/IMG_1561-scaled.jpeg
END:VEVENT
BEGIN:VEVENT
DTSTART;TZID=America/Detroit:20251130T103000
DTEND;TZID=America/Detroit:20251130T103000
DTSTAMP:20260424T112846
CREATED:20251108T173504Z
LAST-MODIFIED:20260303T002539Z
UID:10012807-1764498600-1764498600@firststjohn.com
SUMMARY:Worship
DESCRIPTION:RETURN TO FALL/WINTER SERVICE SCHEDULE We provide two Sunday services now at 8 am and 10:30 am. Please plan to join us on Sunday\, at either service. The church nursery is available for your use. See the contents of the newsletter for more festivities happening as well!
URL:https://firststjohn.com/event/early-worship-service-4-6/2025-11-30/
LOCATION:Sanctuary\, 2471 Seaman St\, Toledo\, OH\, 43605\, United States
CATEGORIES:Children,Deacons,Elders,Featured,Trustees,Worship,Youth
ATTACH;FMTTYPE=image/jpeg:https://firststjohn.com/wp-content/uploads/2024/02/wine-and-bread.jpg
END:VEVENT
BEGIN:VEVENT
DTSTART;TZID=America/Detroit:20251130T091500
DTEND;TZID=America/Detroit:20251130T091500
DTSTAMP:20260424T112846
CREATED:20251108T174857Z
LAST-MODIFIED:20251108T174857Z
UID:10013979-1764494100-1764494100@firststjohn.com
SUMMARY:Ephesians Study
DESCRIPTION:
URL:https://firststjohn.com/event/adult-bible-study-starts-4/2025-11-30/
CATEGORIES:Christian Education,Featured,Fellowship
ATTACH;FMTTYPE=image/jpeg:https://firststjohn.com/wp-content/uploads/2021/07/img62.jpg
END:VEVENT
BEGIN:VEVENT
DTSTART;TZID=America/New_York:20251130T080000
DTEND;TZID=America/New_York:20251130T080000
DTSTAMP:20260424T112846
CREATED:20251129T212134Z
LAST-MODIFIED:20251129T212246Z
UID:10012545-1764489600-1764489600@firststjohn.com
SUMMARY:Worship/Comm (Service is Canceled)
DESCRIPTION:Our 8:00am service is canceled\, but the 10:30am service will be held as usual.  See you there.
URL:https://firststjohn.com/event/early-worship-service-3-2-2-4-19-4-3-4-9/
LOCATION:Sanctuary\, 2471 Seaman St\, Toledo\, OH\, 43605\, United States
CATEGORIES:Children,Deacons,Elders,Featured,Trustees,Worship,Youth
ATTACH;FMTTYPE=image/jpeg:https://firststjohn.com/wp-content/uploads/2024/02/wine-and-bread.jpg
END:VEVENT
BEGIN:VEVENT
DTSTART;VALUE=DATE:20251128
DTEND;VALUE=DATE:20251129
DTSTAMP:20260424T112846
CREATED:20251108T182130Z
LAST-MODIFIED:20251108T182457Z
UID:10014553-1764316800-1764349200@firststjohn.com
SUMMARY:CLOSED
DESCRIPTION:
URL:https://firststjohn.com/event/closed-3/2025-11-28/
ORGANIZER;CN="Jennifer Hess":MAILTO:office@firststjohn.com
END:VEVENT
BEGIN:VEVENT
DTSTART;VALUE=DATE:20251128
DTEND;VALUE=DATE:20251129
DTSTAMP:20260424T112846
CREATED:20251108T182015Z
LAST-MODIFIED:20251108T182205Z
UID:10014551-1764288000-1764374399@firststjohn.com
SUMMARY:OFFICE & SCHOOL
DESCRIPTION:
URL:https://firststjohn.com/event/office-school-closed-3/
ORGANIZER;CN="Jennifer Hess":MAILTO:office@firststjohn.com
END:VEVENT
BEGIN:VEVENT
DTSTART;VALUE=DATE:20251127
DTEND;VALUE=DATE:20251128
DTSTAMP:20260424T112846
CREATED:20251108T182130Z
LAST-MODIFIED:20251108T182457Z
UID:10014552-1764201600-1764287999@firststjohn.com
SUMMARY:CLOSED
DESCRIPTION:
URL:https://firststjohn.com/event/closed-3/2025-11-27/
ORGANIZER;CN="Jennifer Hess":MAILTO:office@firststjohn.com
END:VEVENT
BEGIN:VEVENT
DTSTART;VALUE=DATE:20251127
DTEND;VALUE=DATE:20251128
DTSTAMP:20260424T112846
CREATED:20251108T181933Z
LAST-MODIFIED:20251108T181933Z
UID:10014550-1764201600-1764287999@firststjohn.com
SUMMARY:HAPPY THANKSGIVING
DESCRIPTION:
URL:https://firststjohn.com/event/happy-thanksgiving-2/
ORGANIZER;CN="Jennifer Hess":MAILTO:office@firststjohn.com
END:VEVENT
BEGIN:VEVENT
DTSTART;VALUE=DATE:20251126
DTEND;VALUE=DATE:20251127
DTSTAMP:20260424T112846
CREATED:20251108T181857Z
LAST-MODIFIED:20251108T181857Z
UID:10014549-1764115200-1764201599@firststjohn.com
SUMMARY:SCHOOL CLOSED
DESCRIPTION:
URL:https://firststjohn.com/event/school-closed-3/
ORGANIZER;CN="Jennifer Hess":MAILTO:office@firststjohn.com
END:VEVENT
BEGIN:VEVENT
DTSTART;TZID=America/Detroit:20251124T173000
DTEND;TZID=America/Detroit:20251124T173000
DTSTAMP:20260424T112846
CREATED:20250908T170450Z
LAST-MODIFIED:20250908T170450Z
UID:10013391-1764005400-1764005400@firststjohn.com
SUMMARY:Bell Choir
DESCRIPTION:FIRST ST. JOHN BELL CHOIR\nOur fabulous Bell Choir is looking for people to join us starting Sept. 15h in the church at 5:30 pm. We will give you instructions on how to hold and ring the bell. Come and give it a try! Contact Cheri  Sergent for any questions at (419) 410-3572.
URL:https://firststjohn.com/event/bell-choir-4/2025-11-24/
CATEGORIES:Bell Choir,Featured
ATTACH;FMTTYPE=image/jpeg:https://firststjohn.com/wp-content/uploads/2024/03/IMG_1561-scaled.jpeg
END:VEVENT
BEGIN:VEVENT
DTSTART;TZID=America/Detroit:20251123T103000
DTEND;TZID=America/Detroit:20251123T103000
DTSTAMP:20260424T112846
CREATED:20251108T181753Z
LAST-MODIFIED:20251108T181753Z
UID:10012806-1763893800-1763893800@firststjohn.com
SUMMARY:Worship/Comm
DESCRIPTION:RETURN TO FALL/WINTER SERVICE SCHEDULE We provide two Sunday services now at 8 am and 10:30 am. Please plan to join us on Sunday\, at either service. The church nursery is available for your use. See the contents of the newsletter for more festivities happening as well!
URL:https://firststjohn.com/event/early-worship-service-4-6-3/
LOCATION:Sanctuary\, 2471 Seaman St\, Toledo\, OH\, 43605\, United States
CATEGORIES:Children,Deacons,Elders,Featured,Trustees,Worship,Youth
ATTACH;FMTTYPE=image/jpeg:https://firststjohn.com/wp-content/uploads/2024/02/wine-and-bread.jpg
END:VEVENT
BEGIN:VEVENT
DTSTART;TZID=America/Detroit:20251123T091500
DTEND;TZID=America/Detroit:20251123T091500
DTSTAMP:20260424T112846
CREATED:20251108T174857Z
LAST-MODIFIED:20251108T174857Z
UID:10013978-1763889300-1763889300@firststjohn.com
SUMMARY:Ephesians Study
DESCRIPTION:
URL:https://firststjohn.com/event/adult-bible-study-starts-4/2025-11-23/
CATEGORIES:Christian Education,Featured,Fellowship
ATTACH;FMTTYPE=image/jpeg:https://firststjohn.com/wp-content/uploads/2021/07/img62.jpg
END:VEVENT
BEGIN:VEVENT
DTSTART;TZID=America/New_York:20251123T080000
DTEND;TZID=America/New_York:20251123T080000
DTSTAMP:20260424T112846
CREATED:20251108T181704Z
LAST-MODIFIED:20251108T181705Z
UID:10012544-1763884800-1763884800@firststjohn.com
SUMMARY:Worship
DESCRIPTION:
URL:https://firststjohn.com/event/early-worship-service-3-2-2-4-19-4-3-4-8/
LOCATION:Sanctuary\, 2471 Seaman St\, Toledo\, OH\, 43605\, United States
CATEGORIES:Children,Deacons,Elders,Featured,Trustees,Worship,Youth
ATTACH;FMTTYPE=image/jpeg:https://firststjohn.com/wp-content/uploads/2024/02/wine-and-bread.jpg
END:VEVENT
BEGIN:VEVENT
DTSTART;VALUE=DATE:20251123
DTEND;VALUE=DATE:20251124
DTSTAMP:20260424T112846
CREATED:20251108T183153Z
LAST-MODIFIED:20251108T183153Z
UID:10014555-1763856000-1763942399@firststjohn.com
SUMMARY:Child Shoebox Deadline
DESCRIPTION:
URL:https://firststjohn.com/event/child-shoebox-deadline-2/
ORGANIZER;CN="Jennifer Hess":MAILTO:office@firststjohn.com
END:VEVENT
BEGIN:VEVENT
DTSTART;VALUE=DATE:20251123
DTEND;VALUE=DATE:20251124
DTSTAMP:20260424T112846
CREATED:20251108T183102Z
LAST-MODIFIED:20251118T181716Z
UID:10014554-1763856000-1763942399@firststjohn.com
SUMMARY:Operation Christmas
DESCRIPTION:
URL:https://firststjohn.com/event/operation-christmas-2/
ATTACH;FMTTYPE=image/png:https://firststjohn.com/wp-content/uploads/2024/12/FSJ-Christmas-Eve-Services.png
ORGANIZER;CN="Jennifer Hess":MAILTO:office@firststjohn.com
END:VEVENT
BEGIN:VEVENT
DTSTART;TZID=America/Detroit:20251120T110000
DTEND;TZID=America/Detroit:20251120T110000
DTSTAMP:20260424T112846
CREATED:20251102T012111Z
LAST-MODIFIED:20251108T181510Z
UID:10014534-1763636400-1763636400@firststjohn.com
SUMMARY:Thanksgiving Feast (gym)
DESCRIPTION:
URL:https://firststjohn.com/event/thanksgiving-feast-gym-3/2025-11-20/
LOCATION:Gym
CATEGORIES:Fellowship
ATTACH;FMTTYPE=image/jpeg:https://firststjohn.com/wp-content/uploads/2024/03/Thanksgiving-Cards.jpg
ORGANIZER;CN="Jennifer Hess":MAILTO:office@firststjohn.com
END:VEVENT
BEGIN:VEVENT
DTSTART;TZID=America/Detroit:20251119T180000
DTEND;TZID=America/Detroit:20251119T180000
DTSTAMP:20260424T112846
CREATED:20250908T161802Z
LAST-MODIFIED:20250908T161802Z
UID:10012282-1763575200-1763575200@firststjohn.com
SUMMARY:Choir Rehearsal
DESCRIPTION:JOIN US FOR CHOIR REHEARSAL! The choir is off to a great start! If you have ever considered joining the choir this is a great time to check it out! The next practice will be on Wednesday\, September 10th at 6pm. Our new choir director\, JoAnne Chrysochoos is eager to meet you and hopes you will join her! Come make a joyful noise to the Lord!
URL:https://firststjohn.com/event/choir-rehearsal-3/2025-11-19/
CATEGORIES:Choir,Fellowship
ATTACH;FMTTYPE=image/png:https://firststjohn.com/wp-content/uploads/2024/02/img10.png
END:VEVENT
BEGIN:VEVENT
DTSTART;TZID=America/Detroit:20251119T110000
DTEND;TZID=America/Detroit:20251119T110000
DTSTAMP:20260424T112846
CREATED:20251102T012111Z
LAST-MODIFIED:20251108T181510Z
UID:10014533-1763550000-1763550000@firststjohn.com
SUMMARY:Thanksgiving Feast (gym)
DESCRIPTION:
URL:https://firststjohn.com/event/thanksgiving-feast-gym-3/2025-11-19/
LOCATION:Gym
CATEGORIES:Fellowship
ATTACH;FMTTYPE=image/jpeg:https://firststjohn.com/wp-content/uploads/2024/03/Thanksgiving-Cards.jpg
ORGANIZER;CN="Jennifer Hess":MAILTO:office@firststjohn.com
END:VEVENT
BEGIN:VEVENT
DTSTART;TZID=America/Detroit:20251118T130000
DTEND;TZID=America/Detroit:20251118T130000
DTSTAMP:20260424T112846
CREATED:20251101T131501Z
LAST-MODIFIED:20251108T180931Z
UID:10010637-1763470800-1763470800@firststjohn.com
SUMMARY:Tues @ 1pm Concert
DESCRIPTION:
URL:https://firststjohn.com/event/tues-1pm-concert/
CATEGORIES:Piano Recital
ATTACH;FMTTYPE=image/jpeg:https://firststjohn.com/wp-content/uploads/2024/06/pianorecital.jpg
ORGANIZER;CN="Jennifer Hess":MAILTO:office@firststjohn.com
END:VEVENT
BEGIN:VEVENT
DTSTART;TZID=America/Detroit:20251118T110000
DTEND;TZID=America/Detroit:20251118T110000
DTSTAMP:20260424T112846
CREATED:20251102T012111Z
LAST-MODIFIED:20251108T181510Z
UID:10014532-1763463600-1763463600@firststjohn.com
SUMMARY:Thanksgiving Feast (gym)
DESCRIPTION:
URL:https://firststjohn.com/event/thanksgiving-feast-gym-3/2025-11-18/
LOCATION:Gym
CATEGORIES:Fellowship
ATTACH;FMTTYPE=image/jpeg:https://firststjohn.com/wp-content/uploads/2024/03/Thanksgiving-Cards.jpg
ORGANIZER;CN="Jennifer Hess":MAILTO:office@firststjohn.com
END:VEVENT
BEGIN:VEVENT
DTSTART;TZID=America/Detroit:20251117T193000
DTEND;TZID=America/Detroit:20251117T193000
DTSTAMP:20260424T112846
CREATED:20251108T174101Z
LAST-MODIFIED:20260106T180317Z
UID:10014329-1763407800-1763407800@firststjohn.com
SUMMARY:Dartball (Away)
DESCRIPTION:
URL:https://firststjohn.com/event/dartball-practise-2-2-2/2025-11-17/
CATEGORIES:Chapel,Church Office,Featured,Fellowship
ATTACH;FMTTYPE=image/jpeg:https://firststjohn.com/wp-content/uploads/2024/02/img23.jpg
END:VEVENT
BEGIN:VEVENT
DTSTART;TZID=America/Detroit:20251117T193000
DTEND;TZID=America/Detroit:20251117T193000
DTSTAMP:20260424T112846
CREATED:20251103T184656Z
LAST-MODIFIED:20251108T173955Z
UID:10014639-1763407800-1763407800@firststjohn.com
SUMMARY:Dartball (Home)
DESCRIPTION:DARTBALL STARTS SOON!\nDartball season is almost upon us. Teams meet every other Monday night starting on September 29th in the church gym. On Monday\, September 22nd we will have a dartball practice up in Founders Hall (gym) before the season starts at 7pm\, so come check it out! (For more information call Bob Haar at 419-250-9409. It is easy\, fun and fellowship. No experience required.
URL:https://firststjohn.com/event/dartball-practise-2-2/2025-11-17/
CATEGORIES:Chapel,Church Office,Featured,Fellowship
ATTACH;FMTTYPE=image/jpeg:https://firststjohn.com/wp-content/uploads/2024/02/img23.jpg
END:VEVENT
BEGIN:VEVENT
DTSTART;TZID=America/Detroit:20251117T183000
DTEND;TZID=America/Detroit:20251117T183000
DTSTAMP:20260424T112846
CREATED:20251108T180409Z
LAST-MODIFIED:20251108T180409Z
UID:10011105-1763404200-1763404200@firststjohn.com
SUMMARY:WELCA Mtg
DESCRIPTION:
URL:https://firststjohn.com/event/welca-2-2/
CATEGORIES:Featured,WELCA
ATTACH;FMTTYPE=image/jpeg:https://firststjohn.com/wp-content/uploads/2024/02/img21-1.jpg
END:VEVENT
BEGIN:VEVENT
DTSTART;TZID=America/Detroit:20251117T173000
DTEND;TZID=America/Detroit:20251117T173000
DTSTAMP:20260424T112846
CREATED:20250908T170450Z
LAST-MODIFIED:20250908T170450Z
UID:10013390-1763400600-1763400600@firststjohn.com
SUMMARY:Bell Choir
DESCRIPTION:FIRST ST. JOHN BELL CHOIR\nOur fabulous Bell Choir is looking for people to join us starting Sept. 15h in the church at 5:30 pm. We will give you instructions on how to hold and ring the bell. Come and give it a try! Contact Cheri  Sergent for any questions at (419) 410-3572.
URL:https://firststjohn.com/event/bell-choir-4/2025-11-17/
CATEGORIES:Bell Choir,Featured
ATTACH;FMTTYPE=image/jpeg:https://firststjohn.com/wp-content/uploads/2024/03/IMG_1561-scaled.jpeg
END:VEVENT
BEGIN:VEVENT
DTSTART;TZID=America/Detroit:20251117T110000
DTEND;TZID=America/Detroit:20251117T110000
DTSTAMP:20260424T112846
CREATED:20251102T012111Z
LAST-MODIFIED:20251108T181510Z
UID:10009686-1763377200-1763377200@firststjohn.com
SUMMARY:Thanksgiving Feast (gym)
DESCRIPTION:
URL:https://firststjohn.com/event/thanksgiving-feast-gym-3/2025-11-17/
LOCATION:Gym
CATEGORIES:Fellowship
ATTACH;FMTTYPE=image/jpeg:https://firststjohn.com/wp-content/uploads/2024/03/Thanksgiving-Cards.jpg
ORGANIZER;CN="Jennifer Hess":MAILTO:office@firststjohn.com
END:VEVENT
BEGIN:VEVENT
DTSTART;TZID=America/Detroit:20251116T103000
DTEND;TZID=America/Detroit:20251116T103000
DTSTAMP:20260424T112846
CREATED:20251108T173504Z
LAST-MODIFIED:20260303T002539Z
UID:10012805-1763289000-1763289000@firststjohn.com
SUMMARY:Worship
DESCRIPTION:RETURN TO FALL/WINTER SERVICE SCHEDULE We provide two Sunday services now at 8 am and 10:30 am. Please plan to join us on Sunday\, at either service. The church nursery is available for your use. See the contents of the newsletter for more festivities happening as well!
URL:https://firststjohn.com/event/early-worship-service-4-6/2025-11-16/
LOCATION:Sanctuary\, 2471 Seaman St\, Toledo\, OH\, 43605\, United States
CATEGORIES:Children,Deacons,Elders,Featured,Trustees,Worship,Youth
ATTACH;FMTTYPE=image/jpeg:https://firststjohn.com/wp-content/uploads/2024/02/wine-and-bread.jpg
END:VEVENT
BEGIN:VEVENT
DTSTART;TZID=America/Detroit:20251116T091500
DTEND;TZID=America/Detroit:20251116T091500
DTSTAMP:20260424T112846
CREATED:20251108T174857Z
LAST-MODIFIED:20251108T174857Z
UID:10013977-1763284500-1763284500@firststjohn.com
SUMMARY:Ephesians Study
DESCRIPTION:
URL:https://firststjohn.com/event/adult-bible-study-starts-4/2025-11-16/
CATEGORIES:Christian Education,Featured,Fellowship
ATTACH;FMTTYPE=image/jpeg:https://firststjohn.com/wp-content/uploads/2021/07/img62.jpg
END:VEVENT
END:VCALENDAR