BEGIN:VCALENDAR
VERSION:2.0
PRODID:-//First St John - ECPv6.15.20//NONSGML v1.0//EN
CALSCALE:GREGORIAN
METHOD:PUBLISH
X-ORIGINAL-URL:https://firststjohn.com
X-WR-CALDESC:Events for First St John
REFRESH-INTERVAL;VALUE=DURATION:PT1H
X-Robots-Tag:noindex
X-PUBLISHED-TTL:PT1H
BEGIN:VTIMEZONE
TZID:America/New_York
BEGIN:DAYLIGHT
TZOFFSETFROM:-0500
TZOFFSETTO:-0400
TZNAME:EDT
DTSTART:20240310T070000
END:DAYLIGHT
BEGIN:STANDARD
TZOFFSETFROM:-0400
TZOFFSETTO:-0500
TZNAME:EST
DTSTART:20241103T060000
END:STANDARD
BEGIN:DAYLIGHT
TZOFFSETFROM:-0500
TZOFFSETTO:-0400
TZNAME:EDT
DTSTART:20250309T070000
END:DAYLIGHT
BEGIN:STANDARD
TZOFFSETFROM:-0400
TZOFFSETTO:-0500
TZNAME:EST
DTSTART:20251102T060000
END:STANDARD
BEGIN:DAYLIGHT
TZOFFSETFROM:-0500
TZOFFSETTO:-0400
TZNAME:EDT
DTSTART:20260308T070000
END:DAYLIGHT
BEGIN:STANDARD
TZOFFSETFROM:-0400
TZOFFSETTO:-0500
TZNAME:EST
DTSTART:20261101T060000
END:STANDARD
END:VTIMEZONE
BEGIN:VTIMEZONE
TZID:America/Detroit
BEGIN:DAYLIGHT
TZOFFSETFROM:-0500
TZOFFSETTO:-0400
TZNAME:EDT
DTSTART:20240310T070000
END:DAYLIGHT
BEGIN:STANDARD
TZOFFSETFROM:-0400
TZOFFSETTO:-0500
TZNAME:EST
DTSTART:20241103T060000
END:STANDARD
BEGIN:DAYLIGHT
TZOFFSETFROM:-0500
TZOFFSETTO:-0400
TZNAME:EDT
DTSTART:20250309T070000
END:DAYLIGHT
BEGIN:STANDARD
TZOFFSETFROM:-0400
TZOFFSETTO:-0500
TZNAME:EST
DTSTART:20251102T060000
END:STANDARD
BEGIN:DAYLIGHT
TZOFFSETFROM:-0500
TZOFFSETTO:-0400
TZNAME:EDT
DTSTART:20260308T070000
END:DAYLIGHT
BEGIN:STANDARD
TZOFFSETFROM:-0400
TZOFFSETTO:-0500
TZNAME:EST
DTSTART:20261101T060000
END:STANDARD
END:VTIMEZONE
BEGIN:VEVENT
DTSTART;TZID=America/New_York:20250302T080000
DTEND;TZID=America/New_York:20250302T080000
DTSTAMP:20260426T001844
CREATED:20250301T222650Z
LAST-MODIFIED:20250301T222651Z
UID:10006839-1740902400-1740902400@firststjohn.com
SUMMARY:Worship/Comm
DESCRIPTION:From the Sunday after Labor Day until Memorial Day we Have Two Worship Service Times each Sunday\, 8:00 AM and 10:30 AM with J.A.M. (Sunday School) at 9:15
URL:https://firststjohn.com/event/early-worship-service-3-2-2-4-15/
LOCATION:Sanctuary\, 2471 Seaman St\, Toledo\, OH\, 43605\, United States
CATEGORIES:Children,Deacons,Elders,Trustees,Worship,Youth
ATTACH;FMTTYPE=image/jpeg:https://firststjohn.com/wp-content/uploads/2024/02/wine-and-bread.jpg
END:VEVENT
BEGIN:VEVENT
DTSTART;TZID=America/New_York:20250302T091500
DTEND;TZID=America/New_York:20250302T091500
DTSTAMP:20260426T001844
CREATED:20241102T124957Z
LAST-MODIFIED:20241102T124957Z
UID:10008713-1740906900-1740906900@firststjohn.com
SUMMARY:JAM S. School
DESCRIPTION:
URL:https://firststjohn.com/event/jam-sunday-school-starts-2-2/2025-03-02/
LOCATION:Children’s SS classroom
CATEGORIES:Children,Christian Education,Youth
ATTACH;FMTTYPE=image/jpeg:https://firststjohn.com/wp-content/uploads/2024/02/kids.jpg
END:VEVENT
BEGIN:VEVENT
DTSTART;TZID=America/Detroit:20250305T110000
DTEND;TZID=America/Detroit:20250305T110000
DTSTAMP:20260426T001844
CREATED:20250301T221610Z
LAST-MODIFIED:20250306T171847Z
UID:10010908-1741172400-1741172400@firststjohn.com
SUMMARY:Lenten Service
DESCRIPTION:Lenten season is upon us and services will begin on Wednesday\, March 5th for Ash Wednesday services at 11am and 7pm\, and each Wednesday at 11am and 7pm for Lent until Easter on Sunday\, April 20th.
URL:https://firststjohn.com/event/lenten-service-3/2025-03-05/
CATEGORIES:Children,Deacons,Elders,Featured,Trustees,Worship,Youth
ATTACH;FMTTYPE=image/jpeg:https://firststjohn.com/wp-content/uploads/2024/02/wine-and-bread.jpg
END:VEVENT
BEGIN:VEVENT
DTSTART;TZID=America/Detroit:20250305T190000
DTEND;TZID=America/Detroit:20250305T190000
DTSTAMP:20260426T001844
CREATED:20250301T221839Z
LAST-MODIFIED:20250305T202844Z
UID:10010909-1741201200-1741201200@firststjohn.com
SUMMARY:Lenten Service
DESCRIPTION:Lenten season is upon us and services will begin on Wednesday\, March 5th for Ash Wednesday services at 11am and 7pm\, and each Wednesday at 11am and 7pm for Lent until Easter on Sunday\, April 20th.
URL:https://firststjohn.com/event/lenten-service-4/2025-03-05/
CATEGORIES:Children,Deacons,Elders,Trustees,Worship,Youth
ATTACH;FMTTYPE=image/jpeg:https://firststjohn.com/wp-content/uploads/2024/02/wine-and-bread.jpg
END:VEVENT
BEGIN:VEVENT
DTSTART;TZID=America/New_York:20250309T080000
DTEND;TZID=America/New_York:20250309T080000
DTSTAMP:20260426T001844
CREATED:20240813T151631Z
LAST-MODIFIED:20250305T205105Z
UID:10006840-1741507200-1741507200@firststjohn.com
SUMMARY:Worship
DESCRIPTION:From the Sunday after Labor Day until Memorial Day we Have Two Worship Service Times each Sunday\, 8:00 AM and 10:30 AM with J.A.M. (Sunday School) at 9:15
URL:https://firststjohn.com/event/early-worship-service-3-2-2-4/2025-03-09/
LOCATION:Sanctuary\, 2471 Seaman St\, Toledo\, OH\, 43605\, United States
CATEGORIES:Children,Deacons,Elders,Trustees,Worship,Youth
ATTACH;FMTTYPE=image/jpeg:https://firststjohn.com/wp-content/uploads/2024/02/wine-and-bread.jpg
END:VEVENT
BEGIN:VEVENT
DTSTART;TZID=America/New_York:20250309T091500
DTEND;TZID=America/New_York:20250309T091500
DTSTAMP:20260426T001844
CREATED:20241102T124957Z
LAST-MODIFIED:20241102T124957Z
UID:10008714-1741511700-1741511700@firststjohn.com
SUMMARY:JAM S. School
DESCRIPTION:
URL:https://firststjohn.com/event/jam-sunday-school-starts-2-2/2025-03-09/
LOCATION:Children’s SS classroom
CATEGORIES:Children,Christian Education,Youth
ATTACH;FMTTYPE=image/jpeg:https://firststjohn.com/wp-content/uploads/2024/02/kids.jpg
END:VEVENT
BEGIN:VEVENT
DTSTART;TZID=America/Detroit:20250312T110000
DTEND;TZID=America/Detroit:20250312T110000
DTSTAMP:20260426T001844
CREATED:20250301T221610Z
LAST-MODIFIED:20250306T171847Z
UID:10010935-1741777200-1741777200@firststjohn.com
SUMMARY:Lenten Service
DESCRIPTION:Lenten season is upon us and services will begin on Wednesday\, March 5th for Ash Wednesday services at 11am and 7pm\, and each Wednesday at 11am and 7pm for Lent until Easter on Sunday\, April 20th.
URL:https://firststjohn.com/event/lenten-service-3/2025-03-12/
CATEGORIES:Children,Deacons,Elders,Featured,Trustees,Worship,Youth
ATTACH;FMTTYPE=image/jpeg:https://firststjohn.com/wp-content/uploads/2024/02/wine-and-bread.jpg
END:VEVENT
BEGIN:VEVENT
DTSTART;TZID=America/Detroit:20250312T190000
DTEND;TZID=America/Detroit:20250312T190000
DTSTAMP:20260426T001844
CREATED:20250301T221839Z
LAST-MODIFIED:20250305T202844Z
UID:10010937-1741806000-1741806000@firststjohn.com
SUMMARY:Lenten Service
DESCRIPTION:Lenten season is upon us and services will begin on Wednesday\, March 5th for Ash Wednesday services at 11am and 7pm\, and each Wednesday at 11am and 7pm for Lent until Easter on Sunday\, April 20th.
URL:https://firststjohn.com/event/lenten-service-4/2025-03-12/
CATEGORIES:Children,Deacons,Elders,Trustees,Worship,Youth
ATTACH;FMTTYPE=image/jpeg:https://firststjohn.com/wp-content/uploads/2024/02/wine-and-bread.jpg
END:VEVENT
BEGIN:VEVENT
DTSTART;TZID=America/New_York:20250316T080000
DTEND;TZID=America/New_York:20250316T080000
DTSTAMP:20260426T001844
CREATED:20250301T223732Z
LAST-MODIFIED:20250301T223732Z
UID:10006841-1742112000-1742112000@firststjohn.com
SUMMARY:Worship/Comm
DESCRIPTION:From the Sunday after Labor Day until Memorial Day we Have Two Worship Service Times each Sunday\, 8:00 AM and 10:30 AM with J.A.M. (Sunday School) at 9:15
URL:https://firststjohn.com/event/early-worship-service-3-2-2-4-16/
LOCATION:Sanctuary\, 2471 Seaman St\, Toledo\, OH\, 43605\, United States
CATEGORIES:Children,Deacons,Elders,Trustees,Worship,Youth
ATTACH;FMTTYPE=image/jpeg:https://firststjohn.com/wp-content/uploads/2024/02/wine-and-bread.jpg
END:VEVENT
BEGIN:VEVENT
DTSTART;TZID=America/New_York:20250316T091500
DTEND;TZID=America/New_York:20250316T091500
DTSTAMP:20260426T001844
CREATED:20241102T124957Z
LAST-MODIFIED:20241102T124957Z
UID:10008715-1742116500-1742116500@firststjohn.com
SUMMARY:JAM S. School
DESCRIPTION:
URL:https://firststjohn.com/event/jam-sunday-school-starts-2-2/2025-03-16/
LOCATION:Children’s SS classroom
CATEGORIES:Children,Christian Education,Youth
ATTACH;FMTTYPE=image/jpeg:https://firststjohn.com/wp-content/uploads/2024/02/kids.jpg
END:VEVENT
BEGIN:VEVENT
DTSTART;TZID=America/Detroit:20250319T110000
DTEND;TZID=America/Detroit:20250319T110000
DTSTAMP:20260426T001844
CREATED:20250301T223354Z
LAST-MODIFIED:20250305T203042Z
UID:10010936-1742382000-1742382000@firststjohn.com
SUMMARY:Lenten Service
DESCRIPTION:Lenten season is upon us and services will begin on Wednesday\, March 5th for Ash Wednesday services at 11am and 7pm\, and each Wednesday at 11am and 7pm for Lent until Easter on Sunday\, April 20th.
URL:https://firststjohn.com/event/lenten-service-3-2/2025-03-19/
CATEGORIES:Children,Deacons,Elders,Trustees,Worship,Youth
ATTACH;FMTTYPE=image/jpeg:https://firststjohn.com/wp-content/uploads/2024/02/wine-and-bread.jpg
END:VEVENT
BEGIN:VEVENT
DTSTART;TZID=America/Detroit:20250319T190000
DTEND;TZID=America/Detroit:20250319T190000
DTSTAMP:20260426T001844
CREATED:20250301T221839Z
LAST-MODIFIED:20250305T202844Z
UID:10010938-1742410800-1742410800@firststjohn.com
SUMMARY:Lenten Service
DESCRIPTION:Lenten season is upon us and services will begin on Wednesday\, March 5th for Ash Wednesday services at 11am and 7pm\, and each Wednesday at 11am and 7pm for Lent until Easter on Sunday\, April 20th.
URL:https://firststjohn.com/event/lenten-service-4/2025-03-19/
CATEGORIES:Children,Deacons,Elders,Trustees,Worship,Youth
ATTACH;FMTTYPE=image/jpeg:https://firststjohn.com/wp-content/uploads/2024/02/wine-and-bread.jpg
END:VEVENT
BEGIN:VEVENT
DTSTART;TZID=America/New_York:20250323T080000
DTEND;TZID=America/New_York:20250323T080000
DTSTAMP:20260426T001844
CREATED:20240813T151631Z
LAST-MODIFIED:20250305T205105Z
UID:10006842-1742716800-1742716800@firststjohn.com
SUMMARY:Worship
DESCRIPTION:From the Sunday after Labor Day until Memorial Day we Have Two Worship Service Times each Sunday\, 8:00 AM and 10:30 AM with J.A.M. (Sunday School) at 9:15
URL:https://firststjohn.com/event/early-worship-service-3-2-2-4/2025-03-23/
LOCATION:Sanctuary\, 2471 Seaman St\, Toledo\, OH\, 43605\, United States
CATEGORIES:Children,Deacons,Elders,Trustees,Worship,Youth
ATTACH;FMTTYPE=image/jpeg:https://firststjohn.com/wp-content/uploads/2024/02/wine-and-bread.jpg
END:VEVENT
BEGIN:VEVENT
DTSTART;TZID=America/New_York:20250323T091500
DTEND;TZID=America/New_York:20250323T091500
DTSTAMP:20260426T001844
CREATED:20241102T124957Z
LAST-MODIFIED:20241102T124957Z
UID:10008716-1742721300-1742721300@firststjohn.com
SUMMARY:JAM S. School
DESCRIPTION:
URL:https://firststjohn.com/event/jam-sunday-school-starts-2-2/2025-03-23/
LOCATION:Children’s SS classroom
CATEGORIES:Children,Christian Education,Youth
ATTACH;FMTTYPE=image/jpeg:https://firststjohn.com/wp-content/uploads/2024/02/kids.jpg
END:VEVENT
BEGIN:VEVENT
DTSTART;TZID=America/Detroit:20250326T110000
DTEND;TZID=America/Detroit:20250326T110000
DTSTAMP:20260426T001844
CREATED:20250301T223615Z
LAST-MODIFIED:20250301T223615Z
UID:10010940-1742986800-1742986800@firststjohn.com
SUMMARY:Chapel Service
DESCRIPTION:Lenten season is upon us and services will begin on Wednesday\, March 5th for Ash Wednesday services at 11am and 7pm\, and each Wednesday at 11am and 7pm for Lent until Easter on Sunday\, April 20th.
URL:https://firststjohn.com/event/lenten-service-5/
CATEGORIES:Children,Deacons,Elders,Trustees,Worship,Youth
ATTACH;FMTTYPE=image/jpeg:https://firststjohn.com/wp-content/uploads/2024/02/wine-and-bread.jpg
END:VEVENT
BEGIN:VEVENT
DTSTART;TZID=America/Detroit:20250326T190000
DTEND;TZID=America/Detroit:20250326T190000
DTSTAMP:20260426T001844
CREATED:20250301T221839Z
LAST-MODIFIED:20250305T202844Z
UID:10010939-1743015600-1743015600@firststjohn.com
SUMMARY:Lenten Service
DESCRIPTION:Lenten season is upon us and services will begin on Wednesday\, March 5th for Ash Wednesday services at 11am and 7pm\, and each Wednesday at 11am and 7pm for Lent until Easter on Sunday\, April 20th.
URL:https://firststjohn.com/event/lenten-service-4/2025-03-26/
CATEGORIES:Children,Deacons,Elders,Trustees,Worship,Youth
ATTACH;FMTTYPE=image/jpeg:https://firststjohn.com/wp-content/uploads/2024/02/wine-and-bread.jpg
END:VEVENT
BEGIN:VEVENT
DTSTART;TZID=America/New_York:20250330T080000
DTEND;TZID=America/New_York:20250330T080000
DTSTAMP:20260426T001844
CREATED:20250301T224422Z
LAST-MODIFIED:20250301T224422Z
UID:10006843-1743321600-1743321600@firststjohn.com
SUMMARY:Worship/Comm
DESCRIPTION:From the Sunday after Labor Day until Memorial Day we Have Two Worship Service Times each Sunday\, 8:00 AM and 10:30 AM with J.A.M. (Sunday School) at 9:15
URL:https://firststjohn.com/event/early-worship-service-3-2-2-4-17/
LOCATION:Sanctuary\, 2471 Seaman St\, Toledo\, OH\, 43605\, United States
CATEGORIES:Children,Deacons,Elders,Trustees,Worship,Youth
ATTACH;FMTTYPE=image/jpeg:https://firststjohn.com/wp-content/uploads/2024/02/wine-and-bread.jpg
END:VEVENT
BEGIN:VEVENT
DTSTART;TZID=America/New_York:20250330T091500
DTEND;TZID=America/New_York:20250330T091500
DTSTAMP:20260426T001844
CREATED:20241102T124957Z
LAST-MODIFIED:20241102T124957Z
UID:10008717-1743326100-1743326100@firststjohn.com
SUMMARY:JAM S. School
DESCRIPTION:
URL:https://firststjohn.com/event/jam-sunday-school-starts-2-2/2025-03-30/
LOCATION:Children’s SS classroom
CATEGORIES:Children,Christian Education,Youth
ATTACH;FMTTYPE=image/jpeg:https://firststjohn.com/wp-content/uploads/2024/02/kids.jpg
END:VEVENT
BEGIN:VEVENT
DTSTART;TZID=America/Detroit:20250402T110000
DTEND;TZID=America/Detroit:20250402T110000
DTSTAMP:20260426T001844
CREATED:20250305T203145Z
LAST-MODIFIED:20250305T203145Z
UID:10010947-1743591600-1743591600@firststjohn.com
SUMMARY:Lenten Service
DESCRIPTION:Lenten season is upon us and services will begin on Wednesday\, March 5th for Ash Wednesday services at 11am and 7pm\, and each Wednesday at 11am and 7pm for Lent until Easter on Sunday\, April 20th.
URL:https://firststjohn.com/event/lenten-service-3-2-2/
CATEGORIES:Children,Deacons,Elders,Trustees,Worship,Youth
ATTACH;FMTTYPE=image/jpeg:https://firststjohn.com/wp-content/uploads/2024/02/wine-and-bread.jpg
END:VEVENT
BEGIN:VEVENT
DTSTART;TZID=America/Detroit:20250402T190000
DTEND;TZID=America/Detroit:20250402T190000
DTSTAMP:20260426T001844
CREATED:20250301T221839Z
LAST-MODIFIED:20250305T202844Z
UID:10010945-1743620400-1743620400@firststjohn.com
SUMMARY:Lenten Service
DESCRIPTION:Lenten season is upon us and services will begin on Wednesday\, March 5th for Ash Wednesday services at 11am and 7pm\, and each Wednesday at 11am and 7pm for Lent until Easter on Sunday\, April 20th.
URL:https://firststjohn.com/event/lenten-service-4/2025-04-02/
CATEGORIES:Children,Deacons,Elders,Trustees,Worship,Youth
ATTACH;FMTTYPE=image/jpeg:https://firststjohn.com/wp-content/uploads/2024/02/wine-and-bread.jpg
END:VEVENT
BEGIN:VEVENT
DTSTART;TZID=America/New_York:20250406T080000
DTEND;TZID=America/New_York:20250406T080000
DTSTAMP:20260426T001844
CREATED:20250331T225223Z
LAST-MODIFIED:20250331T225224Z
UID:10006844-1743926400-1743926400@firststjohn.com
SUMMARY:Worship/Comm
DESCRIPTION:From the Sunday after Labor Day until Memorial Day we Have Two Worship Service Times each Sunday\, 8:00 AM and 10:30 AM with J.A.M. (Sunday School) at 9:15
URL:https://firststjohn.com/event/early-worship-service-3-2-2-4-21/
LOCATION:Sanctuary\, 2471 Seaman St\, Toledo\, OH\, 43605\, United States
CATEGORIES:Children,Deacons,Elders,Trustees,Worship,Youth
ATTACH;FMTTYPE=image/jpeg:https://firststjohn.com/wp-content/uploads/2024/02/wine-and-bread.jpg
END:VEVENT
BEGIN:VEVENT
DTSTART;TZID=America/New_York:20250406T091500
DTEND;TZID=America/New_York:20250406T091500
DTSTAMP:20260426T001844
CREATED:20241102T124957Z
LAST-MODIFIED:20241102T124957Z
UID:10008718-1743930900-1743930900@firststjohn.com
SUMMARY:JAM S. School
DESCRIPTION:
URL:https://firststjohn.com/event/jam-sunday-school-starts-2-2/2025-04-06/
LOCATION:Children’s SS classroom
CATEGORIES:Children,Christian Education,Youth
ATTACH;FMTTYPE=image/jpeg:https://firststjohn.com/wp-content/uploads/2024/02/kids.jpg
END:VEVENT
BEGIN:VEVENT
DTSTART;TZID=America/Detroit:20250409T110000
DTEND;TZID=America/Detroit:20250409T110000
DTSTAMP:20260426T001844
CREATED:20250301T223354Z
LAST-MODIFIED:20250305T203042Z
UID:10010948-1744196400-1744196400@firststjohn.com
SUMMARY:Lenten Service
DESCRIPTION:Lenten season is upon us and services will begin on Wednesday\, March 5th for Ash Wednesday services at 11am and 7pm\, and each Wednesday at 11am and 7pm for Lent until Easter on Sunday\, April 20th.
URL:https://firststjohn.com/event/lenten-service-3-2/2025-04-09/
CATEGORIES:Children,Deacons,Elders,Trustees,Worship,Youth
ATTACH;FMTTYPE=image/jpeg:https://firststjohn.com/wp-content/uploads/2024/02/wine-and-bread.jpg
END:VEVENT
BEGIN:VEVENT
DTSTART;TZID=America/Detroit:20250409T190000
DTEND;TZID=America/Detroit:20250409T190000
DTSTAMP:20260426T001844
CREATED:20250301T221839Z
LAST-MODIFIED:20250305T202844Z
UID:10010946-1744225200-1744225200@firststjohn.com
SUMMARY:Lenten Service
DESCRIPTION:Lenten season is upon us and services will begin on Wednesday\, March 5th for Ash Wednesday services at 11am and 7pm\, and each Wednesday at 11am and 7pm for Lent until Easter on Sunday\, April 20th.
URL:https://firststjohn.com/event/lenten-service-4/2025-04-09/
CATEGORIES:Children,Deacons,Elders,Trustees,Worship,Youth
ATTACH;FMTTYPE=image/jpeg:https://firststjohn.com/wp-content/uploads/2024/02/wine-and-bread.jpg
END:VEVENT
BEGIN:VEVENT
DTSTART;TZID=America/New_York:20250413T080000
DTEND;TZID=America/New_York:20250413T080000
DTSTAMP:20260426T001844
CREATED:20240813T151631Z
LAST-MODIFIED:20250305T205105Z
UID:10010954-1744531200-1744531200@firststjohn.com
SUMMARY:Worship
DESCRIPTION:From the Sunday after Labor Day until Memorial Day we Have Two Worship Service Times each Sunday\, 8:00 AM and 10:30 AM with J.A.M. (Sunday School) at 9:15
URL:https://firststjohn.com/event/early-worship-service-3-2-2-4/2025-04-13/
LOCATION:Sanctuary\, 2471 Seaman St\, Toledo\, OH\, 43605\, United States
CATEGORIES:Children,Deacons,Elders,Trustees,Worship,Youth
ATTACH;FMTTYPE=image/jpeg:https://firststjohn.com/wp-content/uploads/2024/02/wine-and-bread.jpg
END:VEVENT
BEGIN:VEVENT
DTSTART;TZID=America/New_York:20250413T091500
DTEND;TZID=America/New_York:20250413T091500
DTSTAMP:20260426T001844
CREATED:20241102T124957Z
LAST-MODIFIED:20241102T124957Z
UID:10008719-1744535700-1744535700@firststjohn.com
SUMMARY:JAM S. School
DESCRIPTION:
URL:https://firststjohn.com/event/jam-sunday-school-starts-2-2/2025-04-13/
LOCATION:Children’s SS classroom
CATEGORIES:Children,Christian Education,Youth
ATTACH;FMTTYPE=image/jpeg:https://firststjohn.com/wp-content/uploads/2024/02/kids.jpg
END:VEVENT
BEGIN:VEVENT
DTSTART;TZID=America/Detroit:20250417T110000
DTEND;TZID=America/Detroit:20250417T110000
DTSTAMP:20260426T001844
CREATED:20250401T001316Z
LAST-MODIFIED:20250401T001316Z
UID:10010951-1744887600-1744887600@firststjohn.com
SUMMARY:Maundy Thursday Service
DESCRIPTION:
URL:https://firststjohn.com/event/maundy-thursday-2-3/
CATEGORIES:Children,Deacons,Elders,Trustees,Worship,Youth
ATTACH;FMTTYPE=image/jpeg:https://firststjohn.com/wp-content/uploads/2024/02/wine-and-bread.jpg
END:VEVENT
BEGIN:VEVENT
DTSTART;TZID=America/Detroit:20250417T190000
DTEND;TZID=America/Detroit:20250417T190000
DTSTAMP:20260426T001844
CREATED:20250305T204045Z
LAST-MODIFIED:20250401T001408Z
UID:10010952-1744916400-1744916400@firststjohn.com
SUMMARY:Maundy Thursday Service
DESCRIPTION:
URL:https://firststjohn.com/event/maundy-thursday-2/
CATEGORIES:Children,Deacons,Elders,Trustees,Worship,Youth
ATTACH;FMTTYPE=image/jpeg:https://firststjohn.com/wp-content/uploads/2024/02/wine-and-bread.jpg
END:VEVENT
BEGIN:VEVENT
DTSTART;TZID=America/Detroit:20250418T120000
DTEND;TZID=America/Detroit:20250418T120000
DTSTAMP:20260426T001844
CREATED:20250305T204501Z
LAST-MODIFIED:20250401T002150Z
UID:10010953-1744977600-1744977600@firststjohn.com
SUMMARY:Good Friday Service
DESCRIPTION:
URL:https://firststjohn.com/event/maundy-thursday-2-2/
CATEGORIES:Children,Deacons,Elders,Trustees,Worship,Youth
ATTACH;FMTTYPE=image/jpeg:https://firststjohn.com/wp-content/uploads/2024/02/wine-and-bread.jpg
END:VEVENT
BEGIN:VEVENT
DTSTART;TZID=America/New_York:20250420T080000
DTEND;TZID=America/New_York:20250420T080000
DTSTAMP:20260426T001844
CREATED:20250305T205239Z
LAST-MODIFIED:20250402T225654Z
UID:10006846-1745136000-1745136000@firststjohn.com
SUMMARY:Worship/Comm
DESCRIPTION:From the Sunday after Labor Day until Memorial Day we Have Two Worship Service Times each Sunday\, 8:00 AM and 10:30 AM with J.A.M. (Sunday School) at 9:15
URL:https://firststjohn.com/event/early-worship-service-3-2-2-4-20/
LOCATION:Sanctuary\, 2471 Seaman St\, Toledo\, OH\, 43605\, United States
CATEGORIES:Children,Deacons,Elders,Trustees,Worship,Youth
ATTACH;FMTTYPE=image/jpeg:https://firststjohn.com/wp-content/uploads/2024/02/wine-and-bread.jpg
END:VEVENT
END:VCALENDAR