BEGIN:VCALENDAR
VERSION:2.0
PRODID:-//First St John - ECPv6.15.20//NONSGML v1.0//EN
CALSCALE:GREGORIAN
METHOD:PUBLISH
X-WR-CALNAME:First St John
X-ORIGINAL-URL:https://firststjohn.com
X-WR-CALDESC:Events for First St John
REFRESH-INTERVAL;VALUE=DURATION:PT1H
X-Robots-Tag:noindex
X-PUBLISHED-TTL:PT1H
BEGIN:VTIMEZONE
TZID:America/New_York
BEGIN:DAYLIGHT
TZOFFSETFROM:-0500
TZOFFSETTO:-0400
TZNAME:EDT
DTSTART:20240310T070000
END:DAYLIGHT
BEGIN:STANDARD
TZOFFSETFROM:-0400
TZOFFSETTO:-0500
TZNAME:EST
DTSTART:20241103T060000
END:STANDARD
BEGIN:DAYLIGHT
TZOFFSETFROM:-0500
TZOFFSETTO:-0400
TZNAME:EDT
DTSTART:20250309T070000
END:DAYLIGHT
BEGIN:STANDARD
TZOFFSETFROM:-0400
TZOFFSETTO:-0500
TZNAME:EST
DTSTART:20251102T060000
END:STANDARD
BEGIN:DAYLIGHT
TZOFFSETFROM:-0500
TZOFFSETTO:-0400
TZNAME:EDT
DTSTART:20260308T070000
END:DAYLIGHT
BEGIN:STANDARD
TZOFFSETFROM:-0400
TZOFFSETTO:-0500
TZNAME:EST
DTSTART:20261101T060000
END:STANDARD
END:VTIMEZONE
BEGIN:VTIMEZONE
TZID:America/Detroit
BEGIN:DAYLIGHT
TZOFFSETFROM:-0500
TZOFFSETTO:-0400
TZNAME:EDT
DTSTART:20240310T070000
END:DAYLIGHT
BEGIN:STANDARD
TZOFFSETFROM:-0400
TZOFFSETTO:-0500
TZNAME:EST
DTSTART:20241103T060000
END:STANDARD
BEGIN:DAYLIGHT
TZOFFSETFROM:-0500
TZOFFSETTO:-0400
TZNAME:EDT
DTSTART:20250309T070000
END:DAYLIGHT
BEGIN:STANDARD
TZOFFSETFROM:-0400
TZOFFSETTO:-0500
TZNAME:EST
DTSTART:20251102T060000
END:STANDARD
BEGIN:DAYLIGHT
TZOFFSETFROM:-0500
TZOFFSETTO:-0400
TZNAME:EDT
DTSTART:20260308T070000
END:DAYLIGHT
BEGIN:STANDARD
TZOFFSETFROM:-0400
TZOFFSETTO:-0500
TZNAME:EST
DTSTART:20261101T060000
END:STANDARD
END:VTIMEZONE
BEGIN:VEVENT
DTSTART;TZID=America/New_York:20251207T080000
DTEND;TZID=America/New_York:20251207T080000
DTSTAMP:20260423T215855
CREATED:20250908T162850Z
LAST-MODIFIED:20260402T162122Z
UID:10012546-1765094400-1765094400@firststjohn.com
SUMMARY:Worship
DESCRIPTION:RETURN TO FALL/WINTER SERVICE SCHEDULE We will return to two services on Sept 7th at 8 am and 10:30 am. Please plan to join us on Sunday\, Sept 7th at either service. The church nursery will resume during 2nd service starting September 14th. See the contents of the newsletter for more festivities happening on Sept 7th as well!
URL:https://firststjohn.com/event/early-worship-service-3-2-2-4-19-4-3-4/2025-12-07/
LOCATION:Sanctuary\, 2471 Seaman St\, Toledo\, OH\, 43605\, United States
CATEGORIES:Children,Deacons,Elders,Featured,Trustees,Worship,Youth
ATTACH;FMTTYPE=image/jpeg:https://firststjohn.com/wp-content/uploads/2024/02/wine-and-bread.jpg
END:VEVENT
BEGIN:VEVENT
DTSTART;TZID=America/Detroit:20251207T103000
DTEND;TZID=America/Detroit:20251207T103000
DTSTAMP:20260423T215855
CREATED:20251108T173504Z
LAST-MODIFIED:20260303T002539Z
UID:10012808-1765103400-1765103400@firststjohn.com
SUMMARY:Worship
DESCRIPTION:RETURN TO FALL/WINTER SERVICE SCHEDULE We provide two Sunday services now at 8 am and 10:30 am. Please plan to join us on Sunday\, at either service. The church nursery is available for your use. See the contents of the newsletter for more festivities happening as well!
URL:https://firststjohn.com/event/early-worship-service-4-6/2025-12-07/
LOCATION:Sanctuary\, 2471 Seaman St\, Toledo\, OH\, 43605\, United States
CATEGORIES:Children,Deacons,Elders,Featured,Trustees,Worship,Youth
ATTACH;FMTTYPE=image/jpeg:https://firststjohn.com/wp-content/uploads/2024/02/wine-and-bread.jpg
END:VEVENT
BEGIN:VEVENT
DTSTART;TZID=America/Detroit:20251207T114500
DTEND;TZID=America/Detroit:20251207T114500
DTSTAMP:20260423T215855
CREATED:20250908T171325Z
LAST-MODIFIED:20251209T234233Z
UID:10013643-1765107900-1765107900@firststjohn.com
SUMMARY:Catechism
DESCRIPTION:FIRST & SECOND YEAR CATECHISM\nIt is time to organize a new Catechism Class. Pastor Rayl is inviting parents of kids in fifth through seventh grades to meet with him in the catechism classroom. Please send your questions to Pastor Rayl at email\,  Pastor1@firststjohn.com or text\, 567-395-0143. Hope to see you there.
URL:https://firststjohn.com/event/catechism-mtg-2-2/
LOCATION:OH
CATEGORIES:Christian Education,Youth
ATTACH;FMTTYPE=image/png:https://firststjohn.com/wp-content/uploads/2025/03/BulCover-03-30-25.png
END:VEVENT
BEGIN:VEVENT
DTSTART;TZID=America/Detroit:20251207T120000
DTEND;TZID=America/Detroit:20251207T120000
DTSTAMP:20260423T215855
CREATED:20251203T162742Z
LAST-MODIFIED:20251203T162742Z
UID:10014559-1765108800-1765108800@firststjohn.com
SUMMARY:CHURCH CHRISTMAS PARTY
DESCRIPTION:THE CHURCH CHRISTMAS PARTY sponsored by our church council\, will be Sunday\, December 7th after second service\, food served by noon. All our invited to attend\, but reservations are required. Butch’s Country Catering will provide Beef Stroganoff\, mac & cheese\, salad\, and a roll & butter. Desserts and beverages will also be provided by the board. There will be a sign-up sheet in the Narthex (lobby) to write your name and the number of people that will be attending. The deadline for reservations will be November 23\, 2025. At the Church Christmas Party\, there will be a silent auction of Gift Baskets. If you could\, we would appreciate if you could donate a gift basket or if you do not have time to put together a basket\, could you consider donating Gift Cards.
URL:https://firststjohn.com/event/church-christmas-party/
LOCATION:OH
CATEGORIES:Children,Elders,Featured,Fellowship,Trustees,WELCA,Youth
ATTACH;FMTTYPE=image/jpeg:https://firststjohn.com/wp-content/uploads/2024/03/ADULT-CHRISTMAS-PARTY-2013-3-scaled.jpg
ORGANIZER;CN="Jennifer Hess":MAILTO:office@firststjohn.com
END:VEVENT
END:VCALENDAR