BEGIN:VCALENDAR
VERSION:2.0
PRODID:-//First St John - ECPv6.15.20//NONSGML v1.0//EN
CALSCALE:GREGORIAN
METHOD:PUBLISH
X-WR-CALNAME:First St John
X-ORIGINAL-URL:https://firststjohn.com
X-WR-CALDESC:Events for First St John
REFRESH-INTERVAL;VALUE=DURATION:PT1H
X-Robots-Tag:noindex
X-PUBLISHED-TTL:PT1H
BEGIN:VTIMEZONE
TZID:America/New_York
BEGIN:DAYLIGHT
TZOFFSETFROM:-0500
TZOFFSETTO:-0400
TZNAME:EDT
DTSTART:20230312T070000
END:DAYLIGHT
BEGIN:STANDARD
TZOFFSETFROM:-0400
TZOFFSETTO:-0500
TZNAME:EST
DTSTART:20231105T060000
END:STANDARD
BEGIN:DAYLIGHT
TZOFFSETFROM:-0500
TZOFFSETTO:-0400
TZNAME:EDT
DTSTART:20240310T070000
END:DAYLIGHT
BEGIN:STANDARD
TZOFFSETFROM:-0400
TZOFFSETTO:-0500
TZNAME:EST
DTSTART:20241103T060000
END:STANDARD
BEGIN:DAYLIGHT
TZOFFSETFROM:-0500
TZOFFSETTO:-0400
TZNAME:EDT
DTSTART:20250309T070000
END:DAYLIGHT
BEGIN:STANDARD
TZOFFSETFROM:-0400
TZOFFSETTO:-0500
TZNAME:EST
DTSTART:20251102T060000
END:STANDARD
END:VTIMEZONE
BEGIN:VTIMEZONE
TZID:America/Detroit
BEGIN:DAYLIGHT
TZOFFSETFROM:-0500
TZOFFSETTO:-0400
TZNAME:EDT
DTSTART:20230312T070000
END:DAYLIGHT
BEGIN:STANDARD
TZOFFSETFROM:-0400
TZOFFSETTO:-0500
TZNAME:EST
DTSTART:20231105T060000
END:STANDARD
BEGIN:DAYLIGHT
TZOFFSETFROM:-0500
TZOFFSETTO:-0400
TZNAME:EDT
DTSTART:20240310T070000
END:DAYLIGHT
BEGIN:STANDARD
TZOFFSETFROM:-0400
TZOFFSETTO:-0500
TZNAME:EST
DTSTART:20241103T060000
END:STANDARD
BEGIN:DAYLIGHT
TZOFFSETFROM:-0500
TZOFFSETTO:-0400
TZNAME:EDT
DTSTART:20250309T070000
END:DAYLIGHT
BEGIN:STANDARD
TZOFFSETFROM:-0400
TZOFFSETTO:-0500
TZNAME:EST
DTSTART:20251102T060000
END:STANDARD
END:VTIMEZONE
BEGIN:VEVENT
DTSTART;TZID=America/New_York:20241201T080000
DTEND;TZID=America/New_York:20241201T080000
DTSTAMP:20260425T114444
CREATED:20240813T151631Z
LAST-MODIFIED:20250305T205105Z
UID:10006826-1733040000-1733040000@firststjohn.com
SUMMARY:Worship
DESCRIPTION:From the Sunday after Labor Day until Memorial Day we Have Two Worship Service Times each Sunday\, 8:00 AM and 10:30 AM with J.A.M. (Sunday School) at 9:15
URL:https://firststjohn.com/event/early-worship-service-3-2-2-4/2024-12-01/
LOCATION:Sanctuary\, 2471 Seaman St\, Toledo\, OH\, 43605\, United States
CATEGORIES:Children,Deacons,Elders,Trustees,Worship,Youth
ATTACH;FMTTYPE=image/jpeg:https://firststjohn.com/wp-content/uploads/2024/02/wine-and-bread.jpg
END:VEVENT
BEGIN:VEVENT
DTSTART;TZID=America/New_York:20241201T091500
DTEND;TZID=America/New_York:20241201T091500
DTSTAMP:20260425T114444
CREATED:20241102T124957Z
LAST-MODIFIED:20241102T124957Z
UID:10008700-1733044500-1733044500@firststjohn.com
SUMMARY:JAM S. School
DESCRIPTION:
URL:https://firststjohn.com/event/jam-sunday-school-starts-2-2/2024-12-01/
LOCATION:Children’s SS classroom
CATEGORIES:Children,Christian Education,Youth
ATTACH;FMTTYPE=image/jpeg:https://firststjohn.com/wp-content/uploads/2024/02/kids.jpg
END:VEVENT
BEGIN:VEVENT
DTSTART;TZID=America/New_York:20241208T080000
DTEND;TZID=America/New_York:20241208T080000
DTSTAMP:20260425T114444
CREATED:20241201T214148Z
LAST-MODIFIED:20241201T214251Z
UID:10006827-1733644800-1733644800@firststjohn.com
SUMMARY:Worship
DESCRIPTION:From the Sunday after Labor Day until Memorial Day we Have Two Worship Service Times each Sunday\, 8:00 AM and 10:30 AM with J.A.M. (Sunday School) at 9:15
URL:https://firststjohn.com/event/early-worship-service-3-2-2-4-8/
LOCATION:Sanctuary\, 2471 Seaman St\, Toledo\, OH\, 43605\, United States
CATEGORIES:Children,Deacons,Elders,Trustees,Worship,Youth
ATTACH;FMTTYPE=image/jpeg:https://firststjohn.com/wp-content/uploads/2024/02/wine-and-bread.jpg
END:VEVENT
BEGIN:VEVENT
DTSTART;TZID=America/New_York:20241208T091500
DTEND;TZID=America/New_York:20241208T091500
DTSTAMP:20260425T114444
CREATED:20241102T124957Z
LAST-MODIFIED:20241102T124957Z
UID:10008701-1733649300-1733649300@firststjohn.com
SUMMARY:JAM S. School
DESCRIPTION:
URL:https://firststjohn.com/event/jam-sunday-school-starts-2-2/2024-12-08/
LOCATION:Children’s SS classroom
CATEGORIES:Children,Christian Education,Youth
ATTACH;FMTTYPE=image/jpeg:https://firststjohn.com/wp-content/uploads/2024/02/kids.jpg
END:VEVENT
BEGIN:VEVENT
DTSTART;TZID=America/Detroit:20241214T100000
DTEND;TZID=America/Detroit:20241214T100000
DTSTAMP:20260425T114444
CREATED:20241201T215837Z
LAST-MODIFIED:20241201T215837Z
UID:10009901-1734170400-1734170400@firststjohn.com
SUMMARY:JAM Christmas Program Rehearsal
DESCRIPTION:
URL:https://firststjohn.com/event/jam-christmas-program-rehearsal/
LOCATION:OH
CATEGORIES:Children,Christian Education,Youth
ATTACH;FMTTYPE=image/jpeg:https://firststjohn.com/wp-content/uploads/2024/11/christmas-jam-jar.jpg
ORGANIZER;CN="Jennifer Hess":MAILTO:office@firststjohn.com
END:VEVENT
BEGIN:VEVENT
DTSTART;VALUE=DATE:20241215
DTEND;VALUE=DATE:20241216
DTSTAMP:20260425T114444
CREATED:20241201T220026Z
LAST-MODIFIED:20241202T210246Z
UID:10009902-1734220800-1734307199@firststjohn.com
SUMMARY:JAM Christmas Pgm (2nd)
DESCRIPTION:
URL:https://firststjohn.com/event/jam-christmas-program-2nd/
LOCATION:OH
CATEGORIES:Children,Christian Education,Featured,Youth
ATTACH;FMTTYPE=image/jpeg:https://firststjohn.com/wp-content/uploads/2024/11/christmas-jam-jar.jpg
ORGANIZER;CN="Jennifer Hess":MAILTO:office@firststjohn.com
END:VEVENT
BEGIN:VEVENT
DTSTART;TZID=America/New_York:20241215T080000
DTEND;TZID=America/New_York:20241215T080000
DTSTAMP:20260425T114444
CREATED:20240813T151631Z
LAST-MODIFIED:20250305T205105Z
UID:10006828-1734249600-1734249600@firststjohn.com
SUMMARY:Worship
DESCRIPTION:From the Sunday after Labor Day until Memorial Day we Have Two Worship Service Times each Sunday\, 8:00 AM and 10:30 AM with J.A.M. (Sunday School) at 9:15
URL:https://firststjohn.com/event/early-worship-service-3-2-2-4/2024-12-15/
LOCATION:Sanctuary\, 2471 Seaman St\, Toledo\, OH\, 43605\, United States
CATEGORIES:Children,Deacons,Elders,Trustees,Worship,Youth
ATTACH;FMTTYPE=image/jpeg:https://firststjohn.com/wp-content/uploads/2024/02/wine-and-bread.jpg
END:VEVENT
BEGIN:VEVENT
DTSTART;TZID=America/New_York:20241215T091500
DTEND;TZID=America/New_York:20241215T091500
DTSTAMP:20260425T114444
CREATED:20241102T124957Z
LAST-MODIFIED:20241102T124957Z
UID:10008702-1734254100-1734254100@firststjohn.com
SUMMARY:JAM S. School
DESCRIPTION:
URL:https://firststjohn.com/event/jam-sunday-school-starts-2-2/2024-12-15/
LOCATION:Children’s SS classroom
CATEGORIES:Children,Christian Education,Youth
ATTACH;FMTTYPE=image/jpeg:https://firststjohn.com/wp-content/uploads/2024/02/kids.jpg
END:VEVENT
BEGIN:VEVENT
DTSTART;TZID=America/New_York:20241222T080000
DTEND;TZID=America/New_York:20241222T080000
DTSTAMP:20260425T114444
CREATED:20241201T221556Z
LAST-MODIFIED:20241201T221556Z
UID:10006829-1734854400-1734854400@firststjohn.com
SUMMARY:Worship
DESCRIPTION:From the Sunday after Labor Day until Memorial Day we Have Two Worship Service Times each Sunday\, 8:00 AM and 10:30 AM with J.A.M. (Sunday School) at 9:15
URL:https://firststjohn.com/event/early-worship-service-3-2-2-4-9/
LOCATION:Sanctuary\, 2471 Seaman St\, Toledo\, OH\, 43605\, United States
CATEGORIES:Children,Deacons,Elders,Trustees,Worship,Youth
ATTACH;FMTTYPE=image/jpeg:https://firststjohn.com/wp-content/uploads/2024/02/wine-and-bread.jpg
END:VEVENT
BEGIN:VEVENT
DTSTART;TZID=America/New_York:20241222T091500
DTEND;TZID=America/New_York:20241222T091500
DTSTAMP:20260425T114444
CREATED:20241102T124957Z
LAST-MODIFIED:20241102T124957Z
UID:10008703-1734858900-1734858900@firststjohn.com
SUMMARY:JAM S. School
DESCRIPTION:
URL:https://firststjohn.com/event/jam-sunday-school-starts-2-2/2024-12-22/
LOCATION:Children’s SS classroom
CATEGORIES:Children,Christian Education,Youth
ATTACH;FMTTYPE=image/jpeg:https://firststjohn.com/wp-content/uploads/2024/02/kids.jpg
END:VEVENT
BEGIN:VEVENT
DTSTART;TZID=America/New_York:20241229T080000
DTEND;TZID=America/New_York:20241229T080000
DTSTAMP:20260425T114444
CREATED:20241201T222705Z
LAST-MODIFIED:20241201T222705Z
UID:10006830-1735459200-1735459200@firststjohn.com
SUMMARY:Worship
DESCRIPTION:From the Sunday after Labor Day until Memorial Day we Have Two Worship Service Times each Sunday\, 8:00 AM and 10:30 AM with J.A.M. (Sunday School) at 9:15
URL:https://firststjohn.com/event/early-worship-service-3-2-2-4-10/
LOCATION:Sanctuary\, 2471 Seaman St\, Toledo\, OH\, 43605\, United States
CATEGORIES:Children,Deacons,Elders,Trustees,Worship,Youth
ATTACH;FMTTYPE=image/jpeg:https://firststjohn.com/wp-content/uploads/2024/02/wine-and-bread.jpg
END:VEVENT
BEGIN:VEVENT
DTSTART;TZID=America/New_York:20241229T091500
DTEND;TZID=America/New_York:20241229T091500
DTSTAMP:20260425T114444
CREATED:20241102T124957Z
LAST-MODIFIED:20241102T124957Z
UID:10008704-1735463700-1735463700@firststjohn.com
SUMMARY:JAM S. School
DESCRIPTION:
URL:https://firststjohn.com/event/jam-sunday-school-starts-2-2/2024-12-29/
LOCATION:Children’s SS classroom
CATEGORIES:Children,Christian Education,Youth
ATTACH;FMTTYPE=image/jpeg:https://firststjohn.com/wp-content/uploads/2024/02/kids.jpg
END:VEVENT
END:VCALENDAR