BEGIN:VCALENDAR
VERSION:2.0
PRODID:-//First St John - ECPv6.15.20//NONSGML v1.0//EN
CALSCALE:GREGORIAN
METHOD:PUBLISH
X-ORIGINAL-URL:https://firststjohn.com
X-WR-CALDESC:Events for First St John
REFRESH-INTERVAL;VALUE=DURATION:PT1H
X-Robots-Tag:noindex
X-PUBLISHED-TTL:PT1H
BEGIN:VTIMEZONE
TZID:America/New_York
BEGIN:DAYLIGHT
TZOFFSETFROM:-0500
TZOFFSETTO:-0400
TZNAME:EDT
DTSTART:20230312T070000
END:DAYLIGHT
BEGIN:STANDARD
TZOFFSETFROM:-0400
TZOFFSETTO:-0500
TZNAME:EST
DTSTART:20231105T060000
END:STANDARD
BEGIN:DAYLIGHT
TZOFFSETFROM:-0500
TZOFFSETTO:-0400
TZNAME:EDT
DTSTART:20240310T070000
END:DAYLIGHT
BEGIN:STANDARD
TZOFFSETFROM:-0400
TZOFFSETTO:-0500
TZNAME:EST
DTSTART:20241103T060000
END:STANDARD
BEGIN:DAYLIGHT
TZOFFSETFROM:-0500
TZOFFSETTO:-0400
TZNAME:EDT
DTSTART:20250309T070000
END:DAYLIGHT
BEGIN:STANDARD
TZOFFSETFROM:-0400
TZOFFSETTO:-0500
TZNAME:EST
DTSTART:20251102T060000
END:STANDARD
END:VTIMEZONE
BEGIN:VEVENT
DTSTART;TZID=America/New_York:20240804T090000
DTEND;TZID=America/New_York:20240804T090000
DTSTAMP:20260425T221330
CREATED:20240730T200352Z
LAST-MODIFIED:20240730T200352Z
UID:10005983-1722762000-1722762000@firststjohn.com
SUMMARY:Worship/Comm
DESCRIPTION:WE ARE ON OUR SUMMER WORSHIP SCHEDULE. NOW UNTIL LABOR DAY THERE WILL BE ONLY ONE WORSHIP SERVICE AT 9:00 AM\, WITH HOLY COMMUNION CELEBRATED EACH WEEK.
URL:https://firststjohn.com/event/early-worship-service-3-2-2/2024-08-04/
LOCATION:Sanctuary\, 2471 Seaman St\, Toledo\, OH\, 43605\, United States
CATEGORIES:Children,Deacons,Elders,Trustees,Worship,Youth
ATTACH;FMTTYPE=image/jpeg:https://firststjohn.com/wp-content/uploads/2024/02/wine-and-bread.jpg
END:VEVENT
BEGIN:VEVENT
DTSTART;TZID=America/New_York:20240811T090000
DTEND;TZID=America/New_York:20240811T090000
DTSTAMP:20260425T221330
CREATED:20240730T200352Z
LAST-MODIFIED:20240730T200352Z
UID:10005984-1723366800-1723366800@firststjohn.com
SUMMARY:Worship/Comm
DESCRIPTION:WE ARE ON OUR SUMMER WORSHIP SCHEDULE. NOW UNTIL LABOR DAY THERE WILL BE ONLY ONE WORSHIP SERVICE AT 9:00 AM\, WITH HOLY COMMUNION CELEBRATED EACH WEEK.
URL:https://firststjohn.com/event/early-worship-service-3-2-2/2024-08-11/
LOCATION:Sanctuary\, 2471 Seaman St\, Toledo\, OH\, 43605\, United States
CATEGORIES:Children,Deacons,Elders,Trustees,Worship,Youth
ATTACH;FMTTYPE=image/jpeg:https://firststjohn.com/wp-content/uploads/2024/02/wine-and-bread.jpg
END:VEVENT
BEGIN:VEVENT
DTSTART;TZID=America/New_York:20240818T090000
DTEND;TZID=America/New_York:20240818T090000
DTSTAMP:20260425T221330
CREATED:20240813T145059Z
LAST-MODIFIED:20240813T145100Z
UID:10005985-1723971600-1723971600@firststjohn.com
SUMMARY:Worship/Comm Special Music: Dana Baker\, Baritone
DESCRIPTION:WE ARE ON OUR SUMMER WORSHIP SCHEDULE. NOW UNTIL LABOR DAY THERE WILL BE ONLY ONE WORSHIP SERVICE AT 9:00 AM\, WITH HOLY COMMUNION CELEBRATED EACH WEEK.
URL:https://firststjohn.com/event/early-worship-service-3-2-2-2/
LOCATION:Sanctuary\, 2471 Seaman St\, Toledo\, OH\, 43605\, United States
CATEGORIES:Children,Deacons,Elders,Trustees,Worship,Youth
ATTACH;FMTTYPE=image/jpeg:https://firststjohn.com/wp-content/uploads/2024/02/wine-and-bread.jpg
END:VEVENT
BEGIN:VEVENT
DTSTART;TZID=America/New_York:20240825T090000
DTEND;TZID=America/New_York:20240825T090000
DTSTAMP:20260425T221330
CREATED:20240813T150003Z
LAST-MODIFIED:20240820T152209Z
UID:10005986-1724576400-1724576400@firststjohn.com
SUMMARY:Worship/Comm Special Music: Patricia McCauley\, Soprano
DESCRIPTION:WE ARE ON OUR SUMMER WORSHIP SCHEDULE. NOW UNTIL LABOR DAY THERE WILL BE ONLY ONE WORSHIP SERVICE AT 9:00 AM\, WITH HOLY COMMUNION CELEBRATED EACH WEEK.
URL:https://firststjohn.com/event/early-worship-service-3-2-2-3/
LOCATION:Sanctuary\, 2471 Seaman St\, Toledo\, OH\, 43605\, United States
CATEGORIES:Children,Deacons,Elders,Featured,Trustees,Worship,Youth
ATTACH;FMTTYPE=image/jpeg:https://firststjohn.com/wp-content/uploads/2024/02/wine-and-bread.jpg
END:VEVENT
BEGIN:VEVENT
DTSTART;TZID=America/New_York:20240827T183000
DTEND;TZID=America/New_York:20240827T183000
DTSTAMP:20260425T221330
CREATED:20240826T134435Z
LAST-MODIFIED:20240826T134435Z
UID:10007848-1724783400-1724783400@firststjohn.com
SUMMARY:NURSERY WORKDAY
DESCRIPTION:As we work towards being able to provide a nursery for parents of young children when we go to two services\, it is necessary to get our space ready and organized. Please consider helping next Tuesday\, August 27th at 6:30pm downstairs in the JAM area of the church. We have some large pieces of furniture that need to be moved\, and some items to clear out. Thanks in advance!
URL:https://firststjohn.com/event/nursery-workday/
LOCATION:OH
CATEGORIES:Children,Nursery,Worship,Youth
ATTACH;FMTTYPE=image/jpeg:https://firststjohn.com/wp-content/uploads/2024/03/img130.jpg
ORGANIZER;CN="Jennifer Hess":MAILTO:office@firststjohn.com
END:VEVENT
END:VCALENDAR