BEGIN:VCALENDAR
VERSION:2.0
PRODID:-//First St John - ECPv6.15.20//NONSGML v1.0//EN
CALSCALE:GREGORIAN
METHOD:PUBLISH
X-ORIGINAL-URL:https://firststjohn.com
X-WR-CALDESC:Events for First St John
REFRESH-INTERVAL;VALUE=DURATION:PT1H
X-Robots-Tag:noindex
X-PUBLISHED-TTL:PT1H
BEGIN:VTIMEZONE
TZID:America/Detroit
BEGIN:DAYLIGHT
TZOFFSETFROM:-0500
TZOFFSETTO:-0400
TZNAME:EDT
DTSTART:20240310T070000
END:DAYLIGHT
BEGIN:STANDARD
TZOFFSETFROM:-0400
TZOFFSETTO:-0500
TZNAME:EST
DTSTART:20241103T060000
END:STANDARD
BEGIN:DAYLIGHT
TZOFFSETFROM:-0500
TZOFFSETTO:-0400
TZNAME:EDT
DTSTART:20250309T070000
END:DAYLIGHT
BEGIN:STANDARD
TZOFFSETFROM:-0400
TZOFFSETTO:-0500
TZNAME:EST
DTSTART:20251102T060000
END:STANDARD
BEGIN:DAYLIGHT
TZOFFSETFROM:-0500
TZOFFSETTO:-0400
TZNAME:EDT
DTSTART:20260308T070000
END:DAYLIGHT
BEGIN:STANDARD
TZOFFSETFROM:-0400
TZOFFSETTO:-0500
TZNAME:EST
DTSTART:20261101T060000
END:STANDARD
END:VTIMEZONE
BEGIN:VEVENT
DTSTART;TZID=America/Detroit:20250526T083000
DTEND;TZID=America/Detroit:20250526T083000
DTSTAMP:20260425T084320
CREATED:20250503T222915Z
LAST-MODIFIED:20250503T222915Z
UID:10011448-1748248200-1748248200@firststjohn.com
SUMMARY:Memorial Ceremony
DESCRIPTION:MEMORIAL DAY CEREMONY \nJoin us on Monday\, May 26h for a brief Memorial Day Service of Remembrance. A Memorial Service honoring fallen veterans will take place outside in the back parking lot\, near the cemetery\, on  Monday\, May 26th at approximately 8:30 a.m. Veterans and the Veterans Auxiliary will be conducting the service.
URL:https://firststjohn.com/event/memorial-ceremony-2/
LOCATION:OH
CATEGORIES:Deacons,Elders,Trustees,Worship,Youth
ATTACH;FMTTYPE=image/jpeg:https://firststjohn.com/wp-content/uploads/2024/03/2011-MEMORIAL-DAY-029-scaled.jpg
END:VEVENT
END:VCALENDAR