BEGIN:VCALENDAR
VERSION:2.0
PRODID:-//First St John - ECPv6.15.20//NONSGML v1.0//EN
CALSCALE:GREGORIAN
METHOD:PUBLISH
X-ORIGINAL-URL:https://firststjohn.com
X-WR-CALDESC:Events for First St John
REFRESH-INTERVAL;VALUE=DURATION:PT1H
X-Robots-Tag:noindex
X-PUBLISHED-TTL:PT1H
BEGIN:VTIMEZONE
TZID:America/New_York
BEGIN:DAYLIGHT
TZOFFSETFROM:-0500
TZOFFSETTO:-0400
TZNAME:EDT
DTSTART:20230312T070000
END:DAYLIGHT
BEGIN:STANDARD
TZOFFSETFROM:-0400
TZOFFSETTO:-0500
TZNAME:EST
DTSTART:20231105T060000
END:STANDARD
BEGIN:DAYLIGHT
TZOFFSETFROM:-0500
TZOFFSETTO:-0400
TZNAME:EDT
DTSTART:20240310T070000
END:DAYLIGHT
BEGIN:STANDARD
TZOFFSETFROM:-0400
TZOFFSETTO:-0500
TZNAME:EST
DTSTART:20241103T060000
END:STANDARD
BEGIN:DAYLIGHT
TZOFFSETFROM:-0500
TZOFFSETTO:-0400
TZNAME:EDT
DTSTART:20250309T070000
END:DAYLIGHT
BEGIN:STANDARD
TZOFFSETFROM:-0400
TZOFFSETTO:-0500
TZNAME:EST
DTSTART:20251102T060000
END:STANDARD
END:VTIMEZONE
BEGIN:VEVENT
DTSTART;TZID=America/New_York:20241201T080000
DTEND;TZID=America/New_York:20241201T080000
DTSTAMP:20260425T114644
CREATED:20240813T151631Z
LAST-MODIFIED:20250305T205105Z
UID:10006826-1733040000-1733040000@firststjohn.com
SUMMARY:Worship
DESCRIPTION:From the Sunday after Labor Day until Memorial Day we Have Two Worship Service Times each Sunday\, 8:00 AM and 10:30 AM with J.A.M. (Sunday School) at 9:15
URL:https://firststjohn.com/event/early-worship-service-3-2-2-4/2024-12-01/
LOCATION:Sanctuary\, 2471 Seaman St\, Toledo\, OH\, 43605\, United States
CATEGORIES:Children,Deacons,Elders,Trustees,Worship,Youth
ATTACH;FMTTYPE=image/jpeg:https://firststjohn.com/wp-content/uploads/2024/02/wine-and-bread.jpg
END:VEVENT
BEGIN:VEVENT
DTSTART;TZID=America/New_York:20241202T183000
DTEND;TZID=America/New_York:20241202T183000
DTSTAMP:20260425T114644
CREATED:20241201T213326Z
LAST-MODIFIED:20241201T213327Z
UID:10009697-1733164200-1733164200@firststjohn.com
SUMMARY:Altar Guild @ Beth Hugueley's
DESCRIPTION:
URL:https://firststjohn.com/event/altar-guild-3-3/
LOCATION:OH
CATEGORIES:WELCA,Worship
ATTACH;FMTTYPE=image/jpeg:https://firststjohn.com/wp-content/uploads/2024/03/ALTAR-GUILD-1993.jpg
END:VEVENT
BEGIN:VEVENT
DTSTART;TZID=America/New_York:20241208T080000
DTEND;TZID=America/New_York:20241208T080000
DTSTAMP:20260425T114644
CREATED:20241201T214148Z
LAST-MODIFIED:20241201T214251Z
UID:10006827-1733644800-1733644800@firststjohn.com
SUMMARY:Worship
DESCRIPTION:From the Sunday after Labor Day until Memorial Day we Have Two Worship Service Times each Sunday\, 8:00 AM and 10:30 AM with J.A.M. (Sunday School) at 9:15
URL:https://firststjohn.com/event/early-worship-service-3-2-2-4-8/
LOCATION:Sanctuary\, 2471 Seaman St\, Toledo\, OH\, 43605\, United States
CATEGORIES:Children,Deacons,Elders,Trustees,Worship,Youth
ATTACH;FMTTYPE=image/jpeg:https://firststjohn.com/wp-content/uploads/2024/02/wine-and-bread.jpg
END:VEVENT
BEGIN:VEVENT
DTSTART;TZID=America/New_York:20241208T103000
DTEND;TZID=America/New_York:20241208T103000
DTSTAMP:20260425T114644
CREATED:20241201T214435Z
LAST-MODIFIED:20241201T214435Z
UID:10007602-1733653800-1733653800@firststjohn.com
SUMMARY:Worship/Comm/Baptism
DESCRIPTION:From the Sunday after Labor Day until Memorial Day we Have Two Worship Service Times each Sunday\, 8:00 AM and 10:30 AM with J.A.M. (Sunday School) at 9:15
URL:https://firststjohn.com/event/late-worship-service-4-2-2-8/
LOCATION:Sanctuary\, 2471 Seaman St\, Toledo\, OH\, 43605\, United States
CATEGORIES:Deacons,Elders,Fellowship,Trustees,Worship
ATTACH;FMTTYPE=image/jpeg:https://firststjohn.com/wp-content/uploads/2024/02/wine-and-bread.jpg
END:VEVENT
BEGIN:VEVENT
DTSTART;TZID=America/New_York:20241215T080000
DTEND;TZID=America/New_York:20241215T080000
DTSTAMP:20260425T114644
CREATED:20240813T151631Z
LAST-MODIFIED:20250305T205105Z
UID:10006828-1734249600-1734249600@firststjohn.com
SUMMARY:Worship
DESCRIPTION:From the Sunday after Labor Day until Memorial Day we Have Two Worship Service Times each Sunday\, 8:00 AM and 10:30 AM with J.A.M. (Sunday School) at 9:15
URL:https://firststjohn.com/event/early-worship-service-3-2-2-4/2024-12-15/
LOCATION:Sanctuary\, 2471 Seaman St\, Toledo\, OH\, 43605\, United States
CATEGORIES:Children,Deacons,Elders,Trustees,Worship,Youth
ATTACH;FMTTYPE=image/jpeg:https://firststjohn.com/wp-content/uploads/2024/02/wine-and-bread.jpg
END:VEVENT
BEGIN:VEVENT
DTSTART;TZID=America/New_York:20241222T080000
DTEND;TZID=America/New_York:20241222T080000
DTSTAMP:20260425T114644
CREATED:20241201T221556Z
LAST-MODIFIED:20241201T221556Z
UID:10006829-1734854400-1734854400@firststjohn.com
SUMMARY:Worship
DESCRIPTION:From the Sunday after Labor Day until Memorial Day we Have Two Worship Service Times each Sunday\, 8:00 AM and 10:30 AM with J.A.M. (Sunday School) at 9:15
URL:https://firststjohn.com/event/early-worship-service-3-2-2-4-9/
LOCATION:Sanctuary\, 2471 Seaman St\, Toledo\, OH\, 43605\, United States
CATEGORIES:Children,Deacons,Elders,Trustees,Worship,Youth
ATTACH;FMTTYPE=image/jpeg:https://firststjohn.com/wp-content/uploads/2024/02/wine-and-bread.jpg
END:VEVENT
BEGIN:VEVENT
DTSTART;TZID=America/New_York:20241222T103000
DTEND;TZID=America/New_York:20241222T103000
DTSTAMP:20260425T114644
CREATED:20241201T221641Z
LAST-MODIFIED:20241201T221641Z
UID:10007604-1734863400-1734863400@firststjohn.com
SUMMARY:Worship/Comm
DESCRIPTION:From the Sunday after Labor Day until Memorial Day we Have Two Worship Service Times each Sunday\, 8:00 AM and 10:30 AM with J.A.M. (Sunday School) at 9:15
URL:https://firststjohn.com/event/late-worship-service-4-2-2-9/
LOCATION:Sanctuary\, 2471 Seaman St\, Toledo\, OH\, 43605\, United States
CATEGORIES:Deacons,Elders,Fellowship,Trustees,Worship
ATTACH;FMTTYPE=image/jpeg:https://firststjohn.com/wp-content/uploads/2024/02/wine-and-bread.jpg
END:VEVENT
BEGIN:VEVENT
DTSTART;TZID=America/New_York:20241229T080000
DTEND;TZID=America/New_York:20241229T080000
DTSTAMP:20260425T114644
CREATED:20241201T222705Z
LAST-MODIFIED:20241201T222705Z
UID:10006830-1735459200-1735459200@firststjohn.com
SUMMARY:Worship
DESCRIPTION:From the Sunday after Labor Day until Memorial Day we Have Two Worship Service Times each Sunday\, 8:00 AM and 10:30 AM with J.A.M. (Sunday School) at 9:15
URL:https://firststjohn.com/event/early-worship-service-3-2-2-4-10/
LOCATION:Sanctuary\, 2471 Seaman St\, Toledo\, OH\, 43605\, United States
CATEGORIES:Children,Deacons,Elders,Trustees,Worship,Youth
ATTACH;FMTTYPE=image/jpeg:https://firststjohn.com/wp-content/uploads/2024/02/wine-and-bread.jpg
END:VEVENT
END:VCALENDAR