BEGIN:VCALENDAR
VERSION:2.0
PRODID:-//First St John - ECPv6.15.20//NONSGML v1.0//EN
CALSCALE:GREGORIAN
METHOD:PUBLISH
X-WR-CALNAME:First St John
X-ORIGINAL-URL:https://firststjohn.com
X-WR-CALDESC:Events for First St John
REFRESH-INTERVAL;VALUE=DURATION:PT1H
X-Robots-Tag:noindex
X-PUBLISHED-TTL:PT1H
BEGIN:VTIMEZONE
TZID:America/New_York
BEGIN:DAYLIGHT
TZOFFSETFROM:-0500
TZOFFSETTO:-0400
TZNAME:EDT
DTSTART:20260308T070000
END:DAYLIGHT
BEGIN:STANDARD
TZOFFSETFROM:-0400
TZOFFSETTO:-0500
TZNAME:EST
DTSTART:20261101T060000
END:STANDARD
BEGIN:DAYLIGHT
TZOFFSETFROM:-0500
TZOFFSETTO:-0400
TZNAME:EDT
DTSTART:20270314T070000
END:DAYLIGHT
BEGIN:STANDARD
TZOFFSETFROM:-0400
TZOFFSETTO:-0500
TZNAME:EST
DTSTART:20271107T060000
END:STANDARD
BEGIN:DAYLIGHT
TZOFFSETFROM:-0500
TZOFFSETTO:-0400
TZNAME:EDT
DTSTART:20280312T070000
END:DAYLIGHT
BEGIN:STANDARD
TZOFFSETFROM:-0400
TZOFFSETTO:-0500
TZNAME:EST
DTSTART:20281105T060000
END:STANDARD
BEGIN:DAYLIGHT
TZOFFSETFROM:-0500
TZOFFSETTO:-0400
TZNAME:EDT
DTSTART:20290311T070000
END:DAYLIGHT
BEGIN:STANDARD
TZOFFSETFROM:-0400
TZOFFSETTO:-0500
TZNAME:EST
DTSTART:20291104T060000
END:STANDARD
END:VTIMEZONE
BEGIN:VEVENT
DTSTART;TZID=America/New_York:20270602T093000
DTEND;TZID=America/New_York:20270602T093000
DTSTAMP:20260425T102927
CREATED:20250808T154846Z
LAST-MODIFIED:20250808T154846Z
UID:10012096-1811928600-1811928600@firststjohn.com
SUMMARY:Miriam Circle
DESCRIPTION:The Miriam Circle meets on the first wednesday of each month at 9:30 am.
URL:https://firststjohn.com/event/miriam-circle-2-4-2-9/2027-06-02/
LOCATION:Applebee’s in Northwood
CATEGORIES:Fellowship,WELCA
ATTACH;FMTTYPE=image/jpeg:https://firststjohn.com/wp-content/uploads/2024/03/MIRIAM-CIRCLE.jpg
END:VEVENT
BEGIN:VEVENT
DTSTART;TZID=America/New_York:20270602T110000
DTEND;TZID=America/New_York:20270602T110000
DTSTAMP:20260425T102927
CREATED:20260402T151023Z
LAST-MODIFIED:20260402T151023Z
UID:10015051-1811934000-1811934000@firststjohn.com
SUMMARY:Ruth Circle
DESCRIPTION:“The Woman of Consistency” \nThe Ruth Circle meets on the first tuesday of the month at 11 am.
URL:https://firststjohn.com/event/ruth-circle-2-2-3-2-4-2-6/2027-06-02/
LOCATION:Lounge
CATEGORIES:Chapel,Church Office,Featured,Fellowship,WELCA
ATTACH;FMTTYPE=image/jpeg:https://firststjohn.com/wp-content/uploads/2024/02/334204847_715639593392527_2754186504092574106_n.jpg
END:VEVENT
BEGIN:VEVENT
DTSTART;TZID=America/New_York:20270605T113000
DTEND;TZID=America/New_York:20270605T113000
DTSTAMP:20260425T102927
CREATED:20260202T205045Z
LAST-MODIFIED:20260202T205045Z
UID:10014763-1812195000-1812195000@firststjohn.com
SUMMARY:Rebecca Circle at The Old Bag of Nails
DESCRIPTION:
URL:https://firststjohn.com/event/rebecca-circle-3-4-2-2-3/2027-06-05/
LOCATION:Lounge
CATEGORIES:Featured,Fellowship,WELCA
ATTACH;FMTTYPE=image/jpeg:https://firststjohn.com/wp-content/uploads/2024/02/337269207_453075980310956_2926394173531348876_n.jpg
END:VEVENT
BEGIN:VEVENT
DTSTART;TZID=America/New_York:20270703T113000
DTEND;TZID=America/New_York:20270703T113000
DTSTAMP:20260425T102927
CREATED:20260202T205045Z
LAST-MODIFIED:20260202T205045Z
UID:10014764-1814614200-1814614200@firststjohn.com
SUMMARY:Rebecca Circle at The Old Bag of Nails
DESCRIPTION:
URL:https://firststjohn.com/event/rebecca-circle-3-4-2-2-3/2027-07-03/
LOCATION:Lounge
CATEGORIES:Featured,Fellowship,WELCA
ATTACH;FMTTYPE=image/jpeg:https://firststjohn.com/wp-content/uploads/2024/02/337269207_453075980310956_2926394173531348876_n.jpg
END:VEVENT
BEGIN:VEVENT
DTSTART;TZID=America/New_York:20270707T093000
DTEND;TZID=America/New_York:20270707T093000
DTSTAMP:20260425T102927
CREATED:20250808T154846Z
LAST-MODIFIED:20250808T154846Z
UID:10012097-1814952600-1814952600@firststjohn.com
SUMMARY:Miriam Circle
DESCRIPTION:The Miriam Circle meets on the first wednesday of each month at 9:30 am.
URL:https://firststjohn.com/event/miriam-circle-2-4-2-9/2027-07-07/
LOCATION:Applebee’s in Northwood
CATEGORIES:Fellowship,WELCA
ATTACH;FMTTYPE=image/jpeg:https://firststjohn.com/wp-content/uploads/2024/03/MIRIAM-CIRCLE.jpg
END:VEVENT
BEGIN:VEVENT
DTSTART;TZID=America/New_York:20270707T110000
DTEND;TZID=America/New_York:20270707T110000
DTSTAMP:20260425T102927
CREATED:20260402T151023Z
LAST-MODIFIED:20260402T151023Z
UID:10015052-1814958000-1814958000@firststjohn.com
SUMMARY:Ruth Circle
DESCRIPTION:“The Woman of Consistency” \nThe Ruth Circle meets on the first tuesday of the month at 11 am.
URL:https://firststjohn.com/event/ruth-circle-2-2-3-2-4-2-6/2027-07-07/
LOCATION:Lounge
CATEGORIES:Chapel,Church Office,Featured,Fellowship,WELCA
ATTACH;FMTTYPE=image/jpeg:https://firststjohn.com/wp-content/uploads/2024/02/334204847_715639593392527_2754186504092574106_n.jpg
END:VEVENT
BEGIN:VEVENT
DTSTART;TZID=America/New_York:20270804T093000
DTEND;TZID=America/New_York:20270804T093000
DTSTAMP:20260425T102927
CREATED:20250808T154846Z
LAST-MODIFIED:20250808T154846Z
UID:10012098-1817371800-1817371800@firststjohn.com
SUMMARY:Miriam Circle
DESCRIPTION:The Miriam Circle meets on the first wednesday of each month at 9:30 am.
URL:https://firststjohn.com/event/miriam-circle-2-4-2-9/2027-08-04/
LOCATION:Applebee’s in Northwood
CATEGORIES:Fellowship,WELCA
ATTACH;FMTTYPE=image/jpeg:https://firststjohn.com/wp-content/uploads/2024/03/MIRIAM-CIRCLE.jpg
END:VEVENT
BEGIN:VEVENT
DTSTART;TZID=America/New_York:20270804T110000
DTEND;TZID=America/New_York:20270804T110000
DTSTAMP:20260425T102927
CREATED:20260402T151023Z
LAST-MODIFIED:20260402T151023Z
UID:10015053-1817377200-1817377200@firststjohn.com
SUMMARY:Ruth Circle
DESCRIPTION:“The Woman of Consistency” \nThe Ruth Circle meets on the first tuesday of the month at 11 am.
URL:https://firststjohn.com/event/ruth-circle-2-2-3-2-4-2-6/2027-08-04/
LOCATION:Lounge
CATEGORIES:Chapel,Church Office,Featured,Fellowship,WELCA
ATTACH;FMTTYPE=image/jpeg:https://firststjohn.com/wp-content/uploads/2024/02/334204847_715639593392527_2754186504092574106_n.jpg
END:VEVENT
BEGIN:VEVENT
DTSTART;TZID=America/New_York:20270807T113000
DTEND;TZID=America/New_York:20270807T113000
DTSTAMP:20260425T102927
CREATED:20260202T205045Z
LAST-MODIFIED:20260202T205045Z
UID:10014765-1817638200-1817638200@firststjohn.com
SUMMARY:Rebecca Circle at The Old Bag of Nails
DESCRIPTION:
URL:https://firststjohn.com/event/rebecca-circle-3-4-2-2-3/2027-08-07/
LOCATION:Lounge
CATEGORIES:Featured,Fellowship,WELCA
ATTACH;FMTTYPE=image/jpeg:https://firststjohn.com/wp-content/uploads/2024/02/337269207_453075980310956_2926394173531348876_n.jpg
END:VEVENT
BEGIN:VEVENT
DTSTART;TZID=America/New_York:20270901T093000
DTEND;TZID=America/New_York:20270901T093000
DTSTAMP:20260425T102927
CREATED:20250808T154846Z
LAST-MODIFIED:20250808T154846Z
UID:10012099-1819791000-1819791000@firststjohn.com
SUMMARY:Miriam Circle
DESCRIPTION:The Miriam Circle meets on the first wednesday of each month at 9:30 am.
URL:https://firststjohn.com/event/miriam-circle-2-4-2-9/2027-09-01/
LOCATION:Applebee’s in Northwood
CATEGORIES:Fellowship,WELCA
ATTACH;FMTTYPE=image/jpeg:https://firststjohn.com/wp-content/uploads/2024/03/MIRIAM-CIRCLE.jpg
END:VEVENT
BEGIN:VEVENT
DTSTART;TZID=America/New_York:20270901T110000
DTEND;TZID=America/New_York:20270901T110000
DTSTAMP:20260425T102927
CREATED:20260402T151023Z
LAST-MODIFIED:20260402T151023Z
UID:10015054-1819796400-1819796400@firststjohn.com
SUMMARY:Ruth Circle
DESCRIPTION:“The Woman of Consistency” \nThe Ruth Circle meets on the first tuesday of the month at 11 am.
URL:https://firststjohn.com/event/ruth-circle-2-2-3-2-4-2-6/2027-09-01/
LOCATION:Lounge
CATEGORIES:Chapel,Church Office,Featured,Fellowship,WELCA
ATTACH;FMTTYPE=image/jpeg:https://firststjohn.com/wp-content/uploads/2024/02/334204847_715639593392527_2754186504092574106_n.jpg
END:VEVENT
BEGIN:VEVENT
DTSTART;TZID=America/New_York:20270904T113000
DTEND;TZID=America/New_York:20270904T113000
DTSTAMP:20260425T102927
CREATED:20260202T205045Z
LAST-MODIFIED:20260202T205045Z
UID:10014766-1820057400-1820057400@firststjohn.com
SUMMARY:Rebecca Circle at The Old Bag of Nails
DESCRIPTION:
URL:https://firststjohn.com/event/rebecca-circle-3-4-2-2-3/2027-09-04/
LOCATION:Lounge
CATEGORIES:Featured,Fellowship,WELCA
ATTACH;FMTTYPE=image/jpeg:https://firststjohn.com/wp-content/uploads/2024/02/337269207_453075980310956_2926394173531348876_n.jpg
END:VEVENT
BEGIN:VEVENT
DTSTART;TZID=America/New_York:20271002T113000
DTEND;TZID=America/New_York:20271002T113000
DTSTAMP:20260425T102927
CREATED:20260202T205045Z
LAST-MODIFIED:20260202T205045Z
UID:10014767-1822476600-1822476600@firststjohn.com
SUMMARY:Rebecca Circle at The Old Bag of Nails
DESCRIPTION:
URL:https://firststjohn.com/event/rebecca-circle-3-4-2-2-3/2027-10-02/
LOCATION:Lounge
CATEGORIES:Featured,Fellowship,WELCA
ATTACH;FMTTYPE=image/jpeg:https://firststjohn.com/wp-content/uploads/2024/02/337269207_453075980310956_2926394173531348876_n.jpg
END:VEVENT
BEGIN:VEVENT
DTSTART;TZID=America/New_York:20271006T093000
DTEND;TZID=America/New_York:20271006T093000
DTSTAMP:20260425T102927
CREATED:20250808T154846Z
LAST-MODIFIED:20250808T154846Z
UID:10012100-1822815000-1822815000@firststjohn.com
SUMMARY:Miriam Circle
DESCRIPTION:The Miriam Circle meets on the first wednesday of each month at 9:30 am.
URL:https://firststjohn.com/event/miriam-circle-2-4-2-9/2027-10-06/
LOCATION:Applebee’s in Northwood
CATEGORIES:Fellowship,WELCA
ATTACH;FMTTYPE=image/jpeg:https://firststjohn.com/wp-content/uploads/2024/03/MIRIAM-CIRCLE.jpg
END:VEVENT
BEGIN:VEVENT
DTSTART;TZID=America/New_York:20271006T110000
DTEND;TZID=America/New_York:20271006T110000
DTSTAMP:20260425T102927
CREATED:20260402T151023Z
LAST-MODIFIED:20260402T151023Z
UID:10015055-1822820400-1822820400@firststjohn.com
SUMMARY:Ruth Circle
DESCRIPTION:“The Woman of Consistency” \nThe Ruth Circle meets on the first tuesday of the month at 11 am.
URL:https://firststjohn.com/event/ruth-circle-2-2-3-2-4-2-6/2027-10-06/
LOCATION:Lounge
CATEGORIES:Chapel,Church Office,Featured,Fellowship,WELCA
ATTACH;FMTTYPE=image/jpeg:https://firststjohn.com/wp-content/uploads/2024/02/334204847_715639593392527_2754186504092574106_n.jpg
END:VEVENT
BEGIN:VEVENT
DTSTART;TZID=America/New_York:20271103T093000
DTEND;TZID=America/New_York:20271103T093000
DTSTAMP:20260425T102927
CREATED:20250808T154846Z
LAST-MODIFIED:20250808T154846Z
UID:10012101-1825234200-1825234200@firststjohn.com
SUMMARY:Miriam Circle
DESCRIPTION:The Miriam Circle meets on the first wednesday of each month at 9:30 am.
URL:https://firststjohn.com/event/miriam-circle-2-4-2-9/2027-11-03/
LOCATION:Applebee’s in Northwood
CATEGORIES:Fellowship,WELCA
ATTACH;FMTTYPE=image/jpeg:https://firststjohn.com/wp-content/uploads/2024/03/MIRIAM-CIRCLE.jpg
END:VEVENT
BEGIN:VEVENT
DTSTART;TZID=America/New_York:20271103T110000
DTEND;TZID=America/New_York:20271103T110000
DTSTAMP:20260425T102927
CREATED:20260402T151023Z
LAST-MODIFIED:20260402T151023Z
UID:10015056-1825239600-1825239600@firststjohn.com
SUMMARY:Ruth Circle
DESCRIPTION:“The Woman of Consistency” \nThe Ruth Circle meets on the first tuesday of the month at 11 am.
URL:https://firststjohn.com/event/ruth-circle-2-2-3-2-4-2-6/2027-11-03/
LOCATION:Lounge
CATEGORIES:Chapel,Church Office,Featured,Fellowship,WELCA
ATTACH;FMTTYPE=image/jpeg:https://firststjohn.com/wp-content/uploads/2024/02/334204847_715639593392527_2754186504092574106_n.jpg
END:VEVENT
BEGIN:VEVENT
DTSTART;TZID=America/New_York:20271106T113000
DTEND;TZID=America/New_York:20271106T113000
DTSTAMP:20260425T102927
CREATED:20260202T205045Z
LAST-MODIFIED:20260202T205045Z
UID:10014768-1825500600-1825500600@firststjohn.com
SUMMARY:Rebecca Circle at The Old Bag of Nails
DESCRIPTION:
URL:https://firststjohn.com/event/rebecca-circle-3-4-2-2-3/2027-11-06/
LOCATION:Lounge
CATEGORIES:Featured,Fellowship,WELCA
ATTACH;FMTTYPE=image/jpeg:https://firststjohn.com/wp-content/uploads/2024/02/337269207_453075980310956_2926394173531348876_n.jpg
END:VEVENT
BEGIN:VEVENT
DTSTART;TZID=America/New_York:20271201T093000
DTEND;TZID=America/New_York:20271201T093000
DTSTAMP:20260425T102927
CREATED:20250808T154846Z
LAST-MODIFIED:20250808T154846Z
UID:10012102-1827653400-1827653400@firststjohn.com
SUMMARY:Miriam Circle
DESCRIPTION:The Miriam Circle meets on the first wednesday of each month at 9:30 am.
URL:https://firststjohn.com/event/miriam-circle-2-4-2-9/2027-12-01/
LOCATION:Applebee’s in Northwood
CATEGORIES:Fellowship,WELCA
ATTACH;FMTTYPE=image/jpeg:https://firststjohn.com/wp-content/uploads/2024/03/MIRIAM-CIRCLE.jpg
END:VEVENT
BEGIN:VEVENT
DTSTART;TZID=America/New_York:20271201T110000
DTEND;TZID=America/New_York:20271201T110000
DTSTAMP:20260425T102927
CREATED:20260402T151023Z
LAST-MODIFIED:20260402T151023Z
UID:10015057-1827658800-1827658800@firststjohn.com
SUMMARY:Ruth Circle
DESCRIPTION:“The Woman of Consistency” \nThe Ruth Circle meets on the first tuesday of the month at 11 am.
URL:https://firststjohn.com/event/ruth-circle-2-2-3-2-4-2-6/2027-12-01/
LOCATION:Lounge
CATEGORIES:Chapel,Church Office,Featured,Fellowship,WELCA
ATTACH;FMTTYPE=image/jpeg:https://firststjohn.com/wp-content/uploads/2024/02/334204847_715639593392527_2754186504092574106_n.jpg
END:VEVENT
BEGIN:VEVENT
DTSTART;TZID=America/New_York:20271204T113000
DTEND;TZID=America/New_York:20271204T113000
DTSTAMP:20260425T102927
CREATED:20260202T205045Z
LAST-MODIFIED:20260202T205045Z
UID:10014769-1827919800-1827919800@firststjohn.com
SUMMARY:Rebecca Circle at The Old Bag of Nails
DESCRIPTION:
URL:https://firststjohn.com/event/rebecca-circle-3-4-2-2-3/2027-12-04/
LOCATION:Lounge
CATEGORIES:Featured,Fellowship,WELCA
ATTACH;FMTTYPE=image/jpeg:https://firststjohn.com/wp-content/uploads/2024/02/337269207_453075980310956_2926394173531348876_n.jpg
END:VEVENT
BEGIN:VEVENT
DTSTART;TZID=America/New_York:20280101T113000
DTEND;TZID=America/New_York:20280101T113000
DTSTAMP:20260425T102927
CREATED:20260202T205045Z
LAST-MODIFIED:20260202T205045Z
UID:10014770-1830339000-1830339000@firststjohn.com
SUMMARY:Rebecca Circle at The Old Bag of Nails
DESCRIPTION:
URL:https://firststjohn.com/event/rebecca-circle-3-4-2-2-3/2028-01-01/
LOCATION:Lounge
CATEGORIES:Featured,Fellowship,WELCA
ATTACH;FMTTYPE=image/jpeg:https://firststjohn.com/wp-content/uploads/2024/02/337269207_453075980310956_2926394173531348876_n.jpg
END:VEVENT
BEGIN:VEVENT
DTSTART;TZID=America/New_York:20280105T093000
DTEND;TZID=America/New_York:20280105T093000
DTSTAMP:20260425T102927
CREATED:20250808T154846Z
LAST-MODIFIED:20250808T154846Z
UID:10012103-1830677400-1830677400@firststjohn.com
SUMMARY:Miriam Circle
DESCRIPTION:The Miriam Circle meets on the first wednesday of each month at 9:30 am.
URL:https://firststjohn.com/event/miriam-circle-2-4-2-9/2028-01-05/
LOCATION:Applebee’s in Northwood
CATEGORIES:Fellowship,WELCA
ATTACH;FMTTYPE=image/jpeg:https://firststjohn.com/wp-content/uploads/2024/03/MIRIAM-CIRCLE.jpg
END:VEVENT
BEGIN:VEVENT
DTSTART;TZID=America/New_York:20280105T110000
DTEND;TZID=America/New_York:20280105T110000
DTSTAMP:20260425T102927
CREATED:20260402T151023Z
LAST-MODIFIED:20260402T151023Z
UID:10015058-1830682800-1830682800@firststjohn.com
SUMMARY:Ruth Circle
DESCRIPTION:“The Woman of Consistency” \nThe Ruth Circle meets on the first tuesday of the month at 11 am.
URL:https://firststjohn.com/event/ruth-circle-2-2-3-2-4-2-6/2028-01-05/
LOCATION:Lounge
CATEGORIES:Chapel,Church Office,Featured,Fellowship,WELCA
ATTACH;FMTTYPE=image/jpeg:https://firststjohn.com/wp-content/uploads/2024/02/334204847_715639593392527_2754186504092574106_n.jpg
END:VEVENT
BEGIN:VEVENT
DTSTART;TZID=America/New_York:20280202T093000
DTEND;TZID=America/New_York:20280202T093000
DTSTAMP:20260425T102927
CREATED:20250808T154846Z
LAST-MODIFIED:20250808T154846Z
UID:10012104-1833096600-1833096600@firststjohn.com
SUMMARY:Miriam Circle
DESCRIPTION:The Miriam Circle meets on the first wednesday of each month at 9:30 am.
URL:https://firststjohn.com/event/miriam-circle-2-4-2-9/2028-02-02/
LOCATION:Applebee’s in Northwood
CATEGORIES:Fellowship,WELCA
ATTACH;FMTTYPE=image/jpeg:https://firststjohn.com/wp-content/uploads/2024/03/MIRIAM-CIRCLE.jpg
END:VEVENT
BEGIN:VEVENT
DTSTART;TZID=America/New_York:20280202T110000
DTEND;TZID=America/New_York:20280202T110000
DTSTAMP:20260425T102927
CREATED:20260402T151023Z
LAST-MODIFIED:20260402T151023Z
UID:10015059-1833102000-1833102000@firststjohn.com
SUMMARY:Ruth Circle
DESCRIPTION:“The Woman of Consistency” \nThe Ruth Circle meets on the first tuesday of the month at 11 am.
URL:https://firststjohn.com/event/ruth-circle-2-2-3-2-4-2-6/2028-02-02/
LOCATION:Lounge
CATEGORIES:Chapel,Church Office,Featured,Fellowship,WELCA
ATTACH;FMTTYPE=image/jpeg:https://firststjohn.com/wp-content/uploads/2024/02/334204847_715639593392527_2754186504092574106_n.jpg
END:VEVENT
BEGIN:VEVENT
DTSTART;TZID=America/New_York:20280205T113000
DTEND;TZID=America/New_York:20280205T113000
DTSTAMP:20260425T102927
CREATED:20260202T205045Z
LAST-MODIFIED:20260202T205045Z
UID:10014771-1833363000-1833363000@firststjohn.com
SUMMARY:Rebecca Circle at The Old Bag of Nails
DESCRIPTION:
URL:https://firststjohn.com/event/rebecca-circle-3-4-2-2-3/2028-02-05/
LOCATION:Lounge
CATEGORIES:Featured,Fellowship,WELCA
ATTACH;FMTTYPE=image/jpeg:https://firststjohn.com/wp-content/uploads/2024/02/337269207_453075980310956_2926394173531348876_n.jpg
END:VEVENT
BEGIN:VEVENT
DTSTART;TZID=America/New_York:20280301T093000
DTEND;TZID=America/New_York:20280301T093000
DTSTAMP:20260425T102927
CREATED:20250808T154846Z
LAST-MODIFIED:20250808T154846Z
UID:10012105-1835515800-1835515800@firststjohn.com
SUMMARY:Miriam Circle
DESCRIPTION:The Miriam Circle meets on the first wednesday of each month at 9:30 am.
URL:https://firststjohn.com/event/miriam-circle-2-4-2-9/2028-03-01/
LOCATION:Applebee’s in Northwood
CATEGORIES:Fellowship,WELCA
ATTACH;FMTTYPE=image/jpeg:https://firststjohn.com/wp-content/uploads/2024/03/MIRIAM-CIRCLE.jpg
END:VEVENT
BEGIN:VEVENT
DTSTART;TZID=America/New_York:20280301T110000
DTEND;TZID=America/New_York:20280301T110000
DTSTAMP:20260425T102927
CREATED:20260402T151023Z
LAST-MODIFIED:20260402T151023Z
UID:10015060-1835521200-1835521200@firststjohn.com
SUMMARY:Ruth Circle
DESCRIPTION:“The Woman of Consistency” \nThe Ruth Circle meets on the first tuesday of the month at 11 am.
URL:https://firststjohn.com/event/ruth-circle-2-2-3-2-4-2-6/2028-03-01/
LOCATION:Lounge
CATEGORIES:Chapel,Church Office,Featured,Fellowship,WELCA
ATTACH;FMTTYPE=image/jpeg:https://firststjohn.com/wp-content/uploads/2024/02/334204847_715639593392527_2754186504092574106_n.jpg
END:VEVENT
BEGIN:VEVENT
DTSTART;TZID=America/New_York:20280304T113000
DTEND;TZID=America/New_York:20280304T113000
DTSTAMP:20260425T102927
CREATED:20260202T205045Z
LAST-MODIFIED:20260202T205045Z
UID:10014772-1835782200-1835782200@firststjohn.com
SUMMARY:Rebecca Circle at The Old Bag of Nails
DESCRIPTION:
URL:https://firststjohn.com/event/rebecca-circle-3-4-2-2-3/2028-03-04/
LOCATION:Lounge
CATEGORIES:Featured,Fellowship,WELCA
ATTACH;FMTTYPE=image/jpeg:https://firststjohn.com/wp-content/uploads/2024/02/337269207_453075980310956_2926394173531348876_n.jpg
END:VEVENT
END:VCALENDAR