BEGIN:VCALENDAR
VERSION:2.0
PRODID:-//First St John - ECPv6.15.20//NONSGML v1.0//EN
CALSCALE:GREGORIAN
METHOD:PUBLISH
X-ORIGINAL-URL:https://firststjohn.com
X-WR-CALDESC:Events for First St John
REFRESH-INTERVAL;VALUE=DURATION:PT1H
X-Robots-Tag:noindex
X-PUBLISHED-TTL:PT1H
BEGIN:VTIMEZONE
TZID:America/New_York
BEGIN:DAYLIGHT
TZOFFSETFROM:-0500
TZOFFSETTO:-0400
TZNAME:EDT
DTSTART:20270314T070000
END:DAYLIGHT
BEGIN:STANDARD
TZOFFSETFROM:-0400
TZOFFSETTO:-0500
TZNAME:EST
DTSTART:20271107T060000
END:STANDARD
BEGIN:DAYLIGHT
TZOFFSETFROM:-0500
TZOFFSETTO:-0400
TZNAME:EDT
DTSTART:20280312T070000
END:DAYLIGHT
BEGIN:STANDARD
TZOFFSETFROM:-0400
TZOFFSETTO:-0500
TZNAME:EST
DTSTART:20281105T060000
END:STANDARD
BEGIN:DAYLIGHT
TZOFFSETFROM:-0500
TZOFFSETTO:-0400
TZNAME:EDT
DTSTART:20290311T070000
END:DAYLIGHT
BEGIN:STANDARD
TZOFFSETFROM:-0400
TZOFFSETTO:-0500
TZNAME:EST
DTSTART:20291104T060000
END:STANDARD
BEGIN:DAYLIGHT
TZOFFSETFROM:-0500
TZOFFSETTO:-0400
TZNAME:EDT
DTSTART:20300310T070000
END:DAYLIGHT
BEGIN:STANDARD
TZOFFSETFROM:-0400
TZOFFSETTO:-0500
TZNAME:EST
DTSTART:20301103T060000
END:STANDARD
END:VTIMEZONE
BEGIN:VEVENT
DTSTART;TZID=America/New_York:20281104T113000
DTEND;TZID=America/New_York:20281104T113000
DTSTAMP:20260425T115720
CREATED:20260202T205045Z
LAST-MODIFIED:20260202T205045Z
UID:10014780-1856950200-1856950200@firststjohn.com
SUMMARY:Rebecca Circle at The Old Bag of Nails
DESCRIPTION:
URL:https://firststjohn.com/event/rebecca-circle-3-4-2-2-3/2028-11-04/
LOCATION:Lounge
CATEGORIES:Featured,Fellowship,WELCA
ATTACH;FMTTYPE=image/jpeg:https://firststjohn.com/wp-content/uploads/2024/02/337269207_453075980310956_2926394173531348876_n.jpg
END:VEVENT
BEGIN:VEVENT
DTSTART;TZID=America/New_York:20281202T113000
DTEND;TZID=America/New_York:20281202T113000
DTSTAMP:20260425T115720
CREATED:20260202T205045Z
LAST-MODIFIED:20260202T205045Z
UID:10014781-1859369400-1859369400@firststjohn.com
SUMMARY:Rebecca Circle at The Old Bag of Nails
DESCRIPTION:
URL:https://firststjohn.com/event/rebecca-circle-3-4-2-2-3/2028-12-02/
LOCATION:Lounge
CATEGORIES:Featured,Fellowship,WELCA
ATTACH;FMTTYPE=image/jpeg:https://firststjohn.com/wp-content/uploads/2024/02/337269207_453075980310956_2926394173531348876_n.jpg
END:VEVENT
BEGIN:VEVENT
DTSTART;TZID=America/New_York:20281206T093000
DTEND;TZID=America/New_York:20281206T093000
DTSTAMP:20260425T115720
CREATED:20250808T154846Z
LAST-MODIFIED:20250808T154846Z
UID:10012114-1859707800-1859707800@firststjohn.com
SUMMARY:Miriam Circle
DESCRIPTION:The Miriam Circle meets on the first wednesday of each month at 9:30 am.
URL:https://firststjohn.com/event/miriam-circle-2-4-2-9/2028-12-06/
LOCATION:Applebee’s in Northwood
CATEGORIES:Fellowship,WELCA
ATTACH;FMTTYPE=image/jpeg:https://firststjohn.com/wp-content/uploads/2024/03/MIRIAM-CIRCLE.jpg
END:VEVENT
BEGIN:VEVENT
DTSTART;TZID=America/New_York:20281206T110000
DTEND;TZID=America/New_York:20281206T110000
DTSTAMP:20260425T115721
CREATED:20260402T151023Z
LAST-MODIFIED:20260402T151023Z
UID:10015069-1859713200-1859713200@firststjohn.com
SUMMARY:Ruth Circle
DESCRIPTION:“The Woman of Consistency” \nThe Ruth Circle meets on the first tuesday of the month at 11 am.
URL:https://firststjohn.com/event/ruth-circle-2-2-3-2-4-2-6/2028-12-06/
LOCATION:Lounge
CATEGORIES:Chapel,Church Office,Featured,Fellowship,WELCA
ATTACH;FMTTYPE=image/jpeg:https://firststjohn.com/wp-content/uploads/2024/02/334204847_715639593392527_2754186504092574106_n.jpg
END:VEVENT
BEGIN:VEVENT
DTSTART;TZID=America/New_York:20290103T093000
DTEND;TZID=America/New_York:20290103T093000
DTSTAMP:20260425T115721
CREATED:20250808T154846Z
LAST-MODIFIED:20250808T154846Z
UID:10012115-1862127000-1862127000@firststjohn.com
SUMMARY:Miriam Circle
DESCRIPTION:The Miriam Circle meets on the first wednesday of each month at 9:30 am.
URL:https://firststjohn.com/event/miriam-circle-2-4-2-9/2029-01-03/
LOCATION:Applebee’s in Northwood
CATEGORIES:Fellowship,WELCA
ATTACH;FMTTYPE=image/jpeg:https://firststjohn.com/wp-content/uploads/2024/03/MIRIAM-CIRCLE.jpg
END:VEVENT
BEGIN:VEVENT
DTSTART;TZID=America/New_York:20290103T110000
DTEND;TZID=America/New_York:20290103T110000
DTSTAMP:20260425T115721
CREATED:20260402T151023Z
LAST-MODIFIED:20260402T151023Z
UID:10015070-1862132400-1862132400@firststjohn.com
SUMMARY:Ruth Circle
DESCRIPTION:“The Woman of Consistency” \nThe Ruth Circle meets on the first tuesday of the month at 11 am.
URL:https://firststjohn.com/event/ruth-circle-2-2-3-2-4-2-6/2029-01-03/
LOCATION:Lounge
CATEGORIES:Chapel,Church Office,Featured,Fellowship,WELCA
ATTACH;FMTTYPE=image/jpeg:https://firststjohn.com/wp-content/uploads/2024/02/334204847_715639593392527_2754186504092574106_n.jpg
END:VEVENT
BEGIN:VEVENT
DTSTART;TZID=America/New_York:20290106T113000
DTEND;TZID=America/New_York:20290106T113000
DTSTAMP:20260425T115721
CREATED:20260202T205045Z
LAST-MODIFIED:20260202T205045Z
UID:10014782-1862393400-1862393400@firststjohn.com
SUMMARY:Rebecca Circle at The Old Bag of Nails
DESCRIPTION:
URL:https://firststjohn.com/event/rebecca-circle-3-4-2-2-3/2029-01-06/
LOCATION:Lounge
CATEGORIES:Featured,Fellowship,WELCA
ATTACH;FMTTYPE=image/jpeg:https://firststjohn.com/wp-content/uploads/2024/02/337269207_453075980310956_2926394173531348876_n.jpg
END:VEVENT
BEGIN:VEVENT
DTSTART;TZID=America/New_York:20290203T113000
DTEND;TZID=America/New_York:20290203T113000
DTSTAMP:20260425T115721
CREATED:20260202T205045Z
LAST-MODIFIED:20260202T205045Z
UID:10014783-1864812600-1864812600@firststjohn.com
SUMMARY:Rebecca Circle at The Old Bag of Nails
DESCRIPTION:
URL:https://firststjohn.com/event/rebecca-circle-3-4-2-2-3/2029-02-03/
LOCATION:Lounge
CATEGORIES:Featured,Fellowship,WELCA
ATTACH;FMTTYPE=image/jpeg:https://firststjohn.com/wp-content/uploads/2024/02/337269207_453075980310956_2926394173531348876_n.jpg
END:VEVENT
BEGIN:VEVENT
DTSTART;TZID=America/New_York:20290207T093000
DTEND;TZID=America/New_York:20290207T093000
DTSTAMP:20260425T115721
CREATED:20250808T154846Z
LAST-MODIFIED:20250808T154846Z
UID:10012116-1865151000-1865151000@firststjohn.com
SUMMARY:Miriam Circle
DESCRIPTION:The Miriam Circle meets on the first wednesday of each month at 9:30 am.
URL:https://firststjohn.com/event/miriam-circle-2-4-2-9/2029-02-07/
LOCATION:Applebee’s in Northwood
CATEGORIES:Fellowship,WELCA
ATTACH;FMTTYPE=image/jpeg:https://firststjohn.com/wp-content/uploads/2024/03/MIRIAM-CIRCLE.jpg
END:VEVENT
BEGIN:VEVENT
DTSTART;TZID=America/New_York:20290207T110000
DTEND;TZID=America/New_York:20290207T110000
DTSTAMP:20260425T115721
CREATED:20260402T151023Z
LAST-MODIFIED:20260402T151023Z
UID:10015071-1865156400-1865156400@firststjohn.com
SUMMARY:Ruth Circle
DESCRIPTION:“The Woman of Consistency” \nThe Ruth Circle meets on the first tuesday of the month at 11 am.
URL:https://firststjohn.com/event/ruth-circle-2-2-3-2-4-2-6/2029-02-07/
LOCATION:Lounge
CATEGORIES:Chapel,Church Office,Featured,Fellowship,WELCA
ATTACH;FMTTYPE=image/jpeg:https://firststjohn.com/wp-content/uploads/2024/02/334204847_715639593392527_2754186504092574106_n.jpg
END:VEVENT
BEGIN:VEVENT
DTSTART;TZID=America/New_York:20290303T113000
DTEND;TZID=America/New_York:20290303T113000
DTSTAMP:20260425T115721
CREATED:20260202T205045Z
LAST-MODIFIED:20260202T205045Z
UID:10014784-1867231800-1867231800@firststjohn.com
SUMMARY:Rebecca Circle at The Old Bag of Nails
DESCRIPTION:
URL:https://firststjohn.com/event/rebecca-circle-3-4-2-2-3/2029-03-03/
LOCATION:Lounge
CATEGORIES:Featured,Fellowship,WELCA
ATTACH;FMTTYPE=image/jpeg:https://firststjohn.com/wp-content/uploads/2024/02/337269207_453075980310956_2926394173531348876_n.jpg
END:VEVENT
BEGIN:VEVENT
DTSTART;TZID=America/New_York:20290307T093000
DTEND;TZID=America/New_York:20290307T093000
DTSTAMP:20260425T115721
CREATED:20250808T154846Z
LAST-MODIFIED:20250808T154846Z
UID:10012117-1867570200-1867570200@firststjohn.com
SUMMARY:Miriam Circle
DESCRIPTION:The Miriam Circle meets on the first wednesday of each month at 9:30 am.
URL:https://firststjohn.com/event/miriam-circle-2-4-2-9/2029-03-07/
LOCATION:Applebee’s in Northwood
CATEGORIES:Fellowship,WELCA
ATTACH;FMTTYPE=image/jpeg:https://firststjohn.com/wp-content/uploads/2024/03/MIRIAM-CIRCLE.jpg
END:VEVENT
BEGIN:VEVENT
DTSTART;TZID=America/New_York:20290307T110000
DTEND;TZID=America/New_York:20290307T110000
DTSTAMP:20260425T115721
CREATED:20260402T151023Z
LAST-MODIFIED:20260402T151023Z
UID:10015072-1867575600-1867575600@firststjohn.com
SUMMARY:Ruth Circle
DESCRIPTION:“The Woman of Consistency” \nThe Ruth Circle meets on the first tuesday of the month at 11 am.
URL:https://firststjohn.com/event/ruth-circle-2-2-3-2-4-2-6/2029-03-07/
LOCATION:Lounge
CATEGORIES:Chapel,Church Office,Featured,Fellowship,WELCA
ATTACH;FMTTYPE=image/jpeg:https://firststjohn.com/wp-content/uploads/2024/02/334204847_715639593392527_2754186504092574106_n.jpg
END:VEVENT
BEGIN:VEVENT
DTSTART;TZID=America/New_York:20290404T093000
DTEND;TZID=America/New_York:20290404T093000
DTSTAMP:20260425T115721
CREATED:20250808T154846Z
LAST-MODIFIED:20250808T154846Z
UID:10012118-1869989400-1869989400@firststjohn.com
SUMMARY:Miriam Circle
DESCRIPTION:The Miriam Circle meets on the first wednesday of each month at 9:30 am.
URL:https://firststjohn.com/event/miriam-circle-2-4-2-9/2029-04-04/
LOCATION:Applebee’s in Northwood
CATEGORIES:Fellowship,WELCA
ATTACH;FMTTYPE=image/jpeg:https://firststjohn.com/wp-content/uploads/2024/03/MIRIAM-CIRCLE.jpg
END:VEVENT
BEGIN:VEVENT
DTSTART;TZID=America/New_York:20290404T110000
DTEND;TZID=America/New_York:20290404T110000
DTSTAMP:20260425T115721
CREATED:20260402T151023Z
LAST-MODIFIED:20260402T151023Z
UID:10015073-1869994800-1869994800@firststjohn.com
SUMMARY:Ruth Circle
DESCRIPTION:“The Woman of Consistency” \nThe Ruth Circle meets on the first tuesday of the month at 11 am.
URL:https://firststjohn.com/event/ruth-circle-2-2-3-2-4-2-6/2029-04-04/
LOCATION:Lounge
CATEGORIES:Chapel,Church Office,Featured,Fellowship,WELCA
ATTACH;FMTTYPE=image/jpeg:https://firststjohn.com/wp-content/uploads/2024/02/334204847_715639593392527_2754186504092574106_n.jpg
END:VEVENT
BEGIN:VEVENT
DTSTART;TZID=America/New_York:20290407T113000
DTEND;TZID=America/New_York:20290407T113000
DTSTAMP:20260425T115721
CREATED:20260202T205045Z
LAST-MODIFIED:20260202T205045Z
UID:10014785-1870255800-1870255800@firststjohn.com
SUMMARY:Rebecca Circle at The Old Bag of Nails
DESCRIPTION:
URL:https://firststjohn.com/event/rebecca-circle-3-4-2-2-3/2029-04-07/
LOCATION:Lounge
CATEGORIES:Featured,Fellowship,WELCA
ATTACH;FMTTYPE=image/jpeg:https://firststjohn.com/wp-content/uploads/2024/02/337269207_453075980310956_2926394173531348876_n.jpg
END:VEVENT
BEGIN:VEVENT
DTSTART;TZID=America/New_York:20290502T093000
DTEND;TZID=America/New_York:20290502T093000
DTSTAMP:20260425T115721
CREATED:20250808T154846Z
LAST-MODIFIED:20250808T154846Z
UID:10012119-1872408600-1872408600@firststjohn.com
SUMMARY:Miriam Circle
DESCRIPTION:The Miriam Circle meets on the first wednesday of each month at 9:30 am.
URL:https://firststjohn.com/event/miriam-circle-2-4-2-9/2029-05-02/
LOCATION:Applebee’s in Northwood
CATEGORIES:Fellowship,WELCA
ATTACH;FMTTYPE=image/jpeg:https://firststjohn.com/wp-content/uploads/2024/03/MIRIAM-CIRCLE.jpg
END:VEVENT
BEGIN:VEVENT
DTSTART;TZID=America/New_York:20290502T110000
DTEND;TZID=America/New_York:20290502T110000
DTSTAMP:20260425T115721
CREATED:20260402T151023Z
LAST-MODIFIED:20260402T151023Z
UID:10015074-1872414000-1872414000@firststjohn.com
SUMMARY:Ruth Circle
DESCRIPTION:“The Woman of Consistency” \nThe Ruth Circle meets on the first tuesday of the month at 11 am.
URL:https://firststjohn.com/event/ruth-circle-2-2-3-2-4-2-6/2029-05-02/
LOCATION:Lounge
CATEGORIES:Chapel,Church Office,Featured,Fellowship,WELCA
ATTACH;FMTTYPE=image/jpeg:https://firststjohn.com/wp-content/uploads/2024/02/334204847_715639593392527_2754186504092574106_n.jpg
END:VEVENT
BEGIN:VEVENT
DTSTART;TZID=America/New_York:20290505T113000
DTEND;TZID=America/New_York:20290505T113000
DTSTAMP:20260425T115721
CREATED:20260202T205045Z
LAST-MODIFIED:20260202T205045Z
UID:10014786-1872675000-1872675000@firststjohn.com
SUMMARY:Rebecca Circle at The Old Bag of Nails
DESCRIPTION:
URL:https://firststjohn.com/event/rebecca-circle-3-4-2-2-3/2029-05-05/
LOCATION:Lounge
CATEGORIES:Featured,Fellowship,WELCA
ATTACH;FMTTYPE=image/jpeg:https://firststjohn.com/wp-content/uploads/2024/02/337269207_453075980310956_2926394173531348876_n.jpg
END:VEVENT
BEGIN:VEVENT
DTSTART;TZID=America/New_York:20290602T113000
DTEND;TZID=America/New_York:20290602T113000
DTSTAMP:20260425T115721
CREATED:20260202T205045Z
LAST-MODIFIED:20260202T205045Z
UID:10014787-1875094200-1875094200@firststjohn.com
SUMMARY:Rebecca Circle at The Old Bag of Nails
DESCRIPTION:
URL:https://firststjohn.com/event/rebecca-circle-3-4-2-2-3/2029-06-02/
LOCATION:Lounge
CATEGORIES:Featured,Fellowship,WELCA
ATTACH;FMTTYPE=image/jpeg:https://firststjohn.com/wp-content/uploads/2024/02/337269207_453075980310956_2926394173531348876_n.jpg
END:VEVENT
BEGIN:VEVENT
DTSTART;TZID=America/New_York:20290606T093000
DTEND;TZID=America/New_York:20290606T093000
DTSTAMP:20260425T115721
CREATED:20250808T154846Z
LAST-MODIFIED:20250808T154846Z
UID:10012120-1875432600-1875432600@firststjohn.com
SUMMARY:Miriam Circle
DESCRIPTION:The Miriam Circle meets on the first wednesday of each month at 9:30 am.
URL:https://firststjohn.com/event/miriam-circle-2-4-2-9/2029-06-06/
LOCATION:Applebee’s in Northwood
CATEGORIES:Fellowship,WELCA
ATTACH;FMTTYPE=image/jpeg:https://firststjohn.com/wp-content/uploads/2024/03/MIRIAM-CIRCLE.jpg
END:VEVENT
BEGIN:VEVENT
DTSTART;TZID=America/New_York:20290606T110000
DTEND;TZID=America/New_York:20290606T110000
DTSTAMP:20260425T115721
CREATED:20260402T151023Z
LAST-MODIFIED:20260402T151023Z
UID:10015075-1875438000-1875438000@firststjohn.com
SUMMARY:Ruth Circle
DESCRIPTION:“The Woman of Consistency” \nThe Ruth Circle meets on the first tuesday of the month at 11 am.
URL:https://firststjohn.com/event/ruth-circle-2-2-3-2-4-2-6/2029-06-06/
LOCATION:Lounge
CATEGORIES:Chapel,Church Office,Featured,Fellowship,WELCA
ATTACH;FMTTYPE=image/jpeg:https://firststjohn.com/wp-content/uploads/2024/02/334204847_715639593392527_2754186504092574106_n.jpg
END:VEVENT
BEGIN:VEVENT
DTSTART;TZID=America/New_York:20290704T093000
DTEND;TZID=America/New_York:20290704T093000
DTSTAMP:20260425T115721
CREATED:20250808T154846Z
LAST-MODIFIED:20250808T154846Z
UID:10012121-1877851800-1877851800@firststjohn.com
SUMMARY:Miriam Circle
DESCRIPTION:The Miriam Circle meets on the first wednesday of each month at 9:30 am.
URL:https://firststjohn.com/event/miriam-circle-2-4-2-9/2029-07-04/
LOCATION:Applebee’s in Northwood
CATEGORIES:Fellowship,WELCA
ATTACH;FMTTYPE=image/jpeg:https://firststjohn.com/wp-content/uploads/2024/03/MIRIAM-CIRCLE.jpg
END:VEVENT
BEGIN:VEVENT
DTSTART;TZID=America/New_York:20290704T110000
DTEND;TZID=America/New_York:20290704T110000
DTSTAMP:20260425T115721
CREATED:20260402T151023Z
LAST-MODIFIED:20260402T151023Z
UID:10015076-1877857200-1877857200@firststjohn.com
SUMMARY:Ruth Circle
DESCRIPTION:“The Woman of Consistency” \nThe Ruth Circle meets on the first tuesday of the month at 11 am.
URL:https://firststjohn.com/event/ruth-circle-2-2-3-2-4-2-6/2029-07-04/
LOCATION:Lounge
CATEGORIES:Chapel,Church Office,Featured,Fellowship,WELCA
ATTACH;FMTTYPE=image/jpeg:https://firststjohn.com/wp-content/uploads/2024/02/334204847_715639593392527_2754186504092574106_n.jpg
END:VEVENT
BEGIN:VEVENT
DTSTART;TZID=America/New_York:20290707T113000
DTEND;TZID=America/New_York:20290707T113000
DTSTAMP:20260425T115721
CREATED:20260202T205045Z
LAST-MODIFIED:20260202T205045Z
UID:10014788-1878118200-1878118200@firststjohn.com
SUMMARY:Rebecca Circle at The Old Bag of Nails
DESCRIPTION:
URL:https://firststjohn.com/event/rebecca-circle-3-4-2-2-3/2029-07-07/
LOCATION:Lounge
CATEGORIES:Featured,Fellowship,WELCA
ATTACH;FMTTYPE=image/jpeg:https://firststjohn.com/wp-content/uploads/2024/02/337269207_453075980310956_2926394173531348876_n.jpg
END:VEVENT
BEGIN:VEVENT
DTSTART;TZID=America/New_York:20290801T093000
DTEND;TZID=America/New_York:20290801T093000
DTSTAMP:20260425T115721
CREATED:20250808T154846Z
LAST-MODIFIED:20250808T154846Z
UID:10012122-1880271000-1880271000@firststjohn.com
SUMMARY:Miriam Circle
DESCRIPTION:The Miriam Circle meets on the first wednesday of each month at 9:30 am.
URL:https://firststjohn.com/event/miriam-circle-2-4-2-9/2029-08-01/
LOCATION:Applebee’s in Northwood
CATEGORIES:Fellowship,WELCA
ATTACH;FMTTYPE=image/jpeg:https://firststjohn.com/wp-content/uploads/2024/03/MIRIAM-CIRCLE.jpg
END:VEVENT
BEGIN:VEVENT
DTSTART;TZID=America/New_York:20290801T110000
DTEND;TZID=America/New_York:20290801T110000
DTSTAMP:20260425T115721
CREATED:20260402T151023Z
LAST-MODIFIED:20260402T151023Z
UID:10015077-1880276400-1880276400@firststjohn.com
SUMMARY:Ruth Circle
DESCRIPTION:“The Woman of Consistency” \nThe Ruth Circle meets on the first tuesday of the month at 11 am.
URL:https://firststjohn.com/event/ruth-circle-2-2-3-2-4-2-6/2029-08-01/
LOCATION:Lounge
CATEGORIES:Chapel,Church Office,Featured,Fellowship,WELCA
ATTACH;FMTTYPE=image/jpeg:https://firststjohn.com/wp-content/uploads/2024/02/334204847_715639593392527_2754186504092574106_n.jpg
END:VEVENT
BEGIN:VEVENT
DTSTART;TZID=America/New_York:20290804T113000
DTEND;TZID=America/New_York:20290804T113000
DTSTAMP:20260425T115721
CREATED:20260202T205045Z
LAST-MODIFIED:20260202T205045Z
UID:10014789-1880537400-1880537400@firststjohn.com
SUMMARY:Rebecca Circle at The Old Bag of Nails
DESCRIPTION:
URL:https://firststjohn.com/event/rebecca-circle-3-4-2-2-3/2029-08-04/
LOCATION:Lounge
CATEGORIES:Featured,Fellowship,WELCA
ATTACH;FMTTYPE=image/jpeg:https://firststjohn.com/wp-content/uploads/2024/02/337269207_453075980310956_2926394173531348876_n.jpg
END:VEVENT
BEGIN:VEVENT
DTSTART;TZID=America/New_York:20290901T113000
DTEND;TZID=America/New_York:20290901T113000
DTSTAMP:20260425T115721
CREATED:20260202T205045Z
LAST-MODIFIED:20260202T205045Z
UID:10014790-1882956600-1882956600@firststjohn.com
SUMMARY:Rebecca Circle at The Old Bag of Nails
DESCRIPTION:
URL:https://firststjohn.com/event/rebecca-circle-3-4-2-2-3/2029-09-01/
LOCATION:Lounge
CATEGORIES:Featured,Fellowship,WELCA
ATTACH;FMTTYPE=image/jpeg:https://firststjohn.com/wp-content/uploads/2024/02/337269207_453075980310956_2926394173531348876_n.jpg
END:VEVENT
BEGIN:VEVENT
DTSTART;TZID=America/New_York:20290905T093000
DTEND;TZID=America/New_York:20290905T093000
DTSTAMP:20260425T115721
CREATED:20250808T154846Z
LAST-MODIFIED:20250808T154846Z
UID:10012123-1883295000-1883295000@firststjohn.com
SUMMARY:Miriam Circle
DESCRIPTION:The Miriam Circle meets on the first wednesday of each month at 9:30 am.
URL:https://firststjohn.com/event/miriam-circle-2-4-2-9/2029-09-05/
LOCATION:Applebee’s in Northwood
CATEGORIES:Fellowship,WELCA
ATTACH;FMTTYPE=image/jpeg:https://firststjohn.com/wp-content/uploads/2024/03/MIRIAM-CIRCLE.jpg
END:VEVENT
END:VCALENDAR