BEGIN:VCALENDAR
VERSION:2.0
PRODID:-//First St John - ECPv6.15.20//NONSGML v1.0//EN
CALSCALE:GREGORIAN
METHOD:PUBLISH
X-WR-CALNAME:First St John
X-ORIGINAL-URL:https://firststjohn.com
X-WR-CALDESC:Events for First St John
REFRESH-INTERVAL;VALUE=DURATION:PT1H
X-Robots-Tag:noindex
X-PUBLISHED-TTL:PT1H
BEGIN:VTIMEZONE
TZID:America/Detroit
BEGIN:DAYLIGHT
TZOFFSETFROM:-0500
TZOFFSETTO:-0400
TZNAME:EDT
DTSTART:20230312T070000
END:DAYLIGHT
BEGIN:STANDARD
TZOFFSETFROM:-0400
TZOFFSETTO:-0500
TZNAME:EST
DTSTART:20231105T060000
END:STANDARD
BEGIN:DAYLIGHT
TZOFFSETFROM:-0500
TZOFFSETTO:-0400
TZNAME:EDT
DTSTART:20240310T070000
END:DAYLIGHT
BEGIN:STANDARD
TZOFFSETFROM:-0400
TZOFFSETTO:-0500
TZNAME:EST
DTSTART:20241103T060000
END:STANDARD
BEGIN:DAYLIGHT
TZOFFSETFROM:-0500
TZOFFSETTO:-0400
TZNAME:EDT
DTSTART:20250309T070000
END:DAYLIGHT
BEGIN:STANDARD
TZOFFSETFROM:-0400
TZOFFSETTO:-0500
TZNAME:EST
DTSTART:20251102T060000
END:STANDARD
BEGIN:DAYLIGHT
TZOFFSETFROM:-0500
TZOFFSETTO:-0400
TZNAME:EDT
DTSTART:20260308T070000
END:DAYLIGHT
BEGIN:STANDARD
TZOFFSETFROM:-0400
TZOFFSETTO:-0500
TZNAME:EST
DTSTART:20261101T060000
END:STANDARD
END:VTIMEZONE
BEGIN:VTIMEZONE
TZID:America/New_York
BEGIN:DAYLIGHT
TZOFFSETFROM:-0500
TZOFFSETTO:-0400
TZNAME:EDT
DTSTART:20230312T070000
END:DAYLIGHT
BEGIN:STANDARD
TZOFFSETFROM:-0400
TZOFFSETTO:-0500
TZNAME:EST
DTSTART:20231105T060000
END:STANDARD
BEGIN:DAYLIGHT
TZOFFSETFROM:-0500
TZOFFSETTO:-0400
TZNAME:EDT
DTSTART:20240310T070000
END:DAYLIGHT
BEGIN:STANDARD
TZOFFSETFROM:-0400
TZOFFSETTO:-0500
TZNAME:EST
DTSTART:20241103T060000
END:STANDARD
BEGIN:DAYLIGHT
TZOFFSETFROM:-0500
TZOFFSETTO:-0400
TZNAME:EDT
DTSTART:20250309T070000
END:DAYLIGHT
BEGIN:STANDARD
TZOFFSETFROM:-0400
TZOFFSETTO:-0500
TZNAME:EST
DTSTART:20251102T060000
END:STANDARD
BEGIN:DAYLIGHT
TZOFFSETFROM:-0500
TZOFFSETTO:-0400
TZNAME:EDT
DTSTART:20260308T070000
END:DAYLIGHT
BEGIN:STANDARD
TZOFFSETFROM:-0400
TZOFFSETTO:-0500
TZNAME:EST
DTSTART:20261101T060000
END:STANDARD
END:VTIMEZONE
BEGIN:VEVENT
DTSTART;TZID=America/Detroit:20250303T093000
DTEND;TZID=America/Detroit:20250303T093000
DTSTAMP:20260424T121821
CREATED:20250109T012328Z
LAST-MODIFIED:20250109T012329Z
UID:10010036-1740994200-1740994200@firststjohn.com
SUMMARY:Quilting
DESCRIPTION:Everyone is welcome to join us! Bring a sack lunch. Workshops on Mondays from 9:30 am – 1:00 pm in January\, February\, and March. \nIf Oregon schools are closed for weather\, NO QUILTING
URL:https://firststjohn.com/event/quilting-2/2025-03-03/
CATEGORIES:Chapel,Church Office,Featured,Fellowship,Hannah Circle,WELCA
ATTACH;FMTTYPE=image/jpeg:https://firststjohn.com/wp-content/uploads/2024/12/QUILTERS-8.jpg
END:VEVENT
BEGIN:VEVENT
DTSTART;TZID=America/Detroit:20250224T093000
DTEND;TZID=America/Detroit:20250224T093000
DTSTAMP:20260424T121821
CREATED:20250109T012328Z
LAST-MODIFIED:20250109T012329Z
UID:10010035-1740389400-1740389400@firststjohn.com
SUMMARY:Quilting
DESCRIPTION:Everyone is welcome to join us! Bring a sack lunch. Workshops on Mondays from 9:30 am – 1:00 pm in January\, February\, and March. \nIf Oregon schools are closed for weather\, NO QUILTING
URL:https://firststjohn.com/event/quilting-2/2025-02-24/
CATEGORIES:Chapel,Church Office,Featured,Fellowship,Hannah Circle,WELCA
ATTACH;FMTTYPE=image/jpeg:https://firststjohn.com/wp-content/uploads/2024/12/QUILTERS-8.jpg
END:VEVENT
BEGIN:VEVENT
DTSTART;TZID=America/Detroit:20250217T093000
DTEND;TZID=America/Detroit:20250217T093000
DTSTAMP:20260424T121821
CREATED:20250109T012328Z
LAST-MODIFIED:20250109T012329Z
UID:10010034-1739784600-1739784600@firststjohn.com
SUMMARY:Quilting
DESCRIPTION:Everyone is welcome to join us! Bring a sack lunch. Workshops on Mondays from 9:30 am – 1:00 pm in January\, February\, and March. \nIf Oregon schools are closed for weather\, NO QUILTING
URL:https://firststjohn.com/event/quilting-2/2025-02-17/
CATEGORIES:Chapel,Church Office,Featured,Fellowship,Hannah Circle,WELCA
ATTACH;FMTTYPE=image/jpeg:https://firststjohn.com/wp-content/uploads/2024/12/QUILTERS-8.jpg
END:VEVENT
BEGIN:VEVENT
DTSTART;TZID=America/Detroit:20250210T093000
DTEND;TZID=America/Detroit:20250210T093000
DTSTAMP:20260424T121821
CREATED:20250109T012328Z
LAST-MODIFIED:20250109T012329Z
UID:10010033-1739179800-1739179800@firststjohn.com
SUMMARY:Quilting
DESCRIPTION:Everyone is welcome to join us! Bring a sack lunch. Workshops on Mondays from 9:30 am – 1:00 pm in January\, February\, and March. \nIf Oregon schools are closed for weather\, NO QUILTING
URL:https://firststjohn.com/event/quilting-2/2025-02-10/
CATEGORIES:Chapel,Church Office,Featured,Fellowship,Hannah Circle,WELCA
ATTACH;FMTTYPE=image/jpeg:https://firststjohn.com/wp-content/uploads/2024/12/QUILTERS-8.jpg
END:VEVENT
BEGIN:VEVENT
DTSTART;TZID=America/New_York:20250205T093000
DTEND;TZID=America/New_York:20250205T093000
DTSTAMP:20260424T121821
CREATED:20250203T125732Z
LAST-MODIFIED:20250203T125732Z
UID:10009823-1738747800-1738747800@firststjohn.com
SUMMARY:Miriam Circle
DESCRIPTION:The Miriam Circle meets on the first wednesday of each month at 9:30 am.
URL:https://firststjohn.com/event/miriam-circle-2-4-2-4/
LOCATION:Lounge
CATEGORIES:Fellowship,WELCA
ATTACH;FMTTYPE=image/jpeg:https://firststjohn.com/wp-content/uploads/2024/03/MIRIAM-CIRCLE.jpg
END:VEVENT
BEGIN:VEVENT
DTSTART;TZID=America/New_York:20250203T183000
DTEND;TZID=America/New_York:20250203T183000
DTSTAMP:20260424T121821
CREATED:20240813T150549Z
LAST-MODIFIED:20241201T203723Z
UID:10009699-1738607400-1738607400@firststjohn.com
SUMMARY:Altar Guild
DESCRIPTION:
URL:https://firststjohn.com/event/altar-guild-3/2025-02-03/
CATEGORIES:WELCA,Worship
ATTACH;FMTTYPE=image/jpeg:https://firststjohn.com/wp-content/uploads/2024/03/ALTAR-GUILD-1993.jpg
END:VEVENT
BEGIN:VEVENT
DTSTART;TZID=America/Detroit:20250203T093000
DTEND;TZID=America/Detroit:20250203T093000
DTSTAMP:20260424T121821
CREATED:20250109T012328Z
LAST-MODIFIED:20250109T012329Z
UID:10010032-1738575000-1738575000@firststjohn.com
SUMMARY:Quilting
DESCRIPTION:Everyone is welcome to join us! Bring a sack lunch. Workshops on Mondays from 9:30 am – 1:00 pm in January\, February\, and March. \nIf Oregon schools are closed for weather\, NO QUILTING
URL:https://firststjohn.com/event/quilting-2/2025-02-03/
CATEGORIES:Chapel,Church Office,Featured,Fellowship,Hannah Circle,WELCA
ATTACH;FMTTYPE=image/jpeg:https://firststjohn.com/wp-content/uploads/2024/12/QUILTERS-8.jpg
END:VEVENT
BEGIN:VEVENT
DTSTART;TZID=America/New_York:20250201T113000
DTEND;TZID=America/New_York:20250201T113000
DTSTAMP:20260424T121821
CREATED:20241027T115218Z
LAST-MODIFIED:20241027T115218Z
UID:10000413-1738409400-1738409400@firststjohn.com
SUMMARY:Rebecca Circle
DESCRIPTION:
URL:https://firststjohn.com/event/rebecca-circle-3/2025-02-01/
LOCATION:Lounge
CATEGORIES:Featured,Fellowship,WELCA
ATTACH;FMTTYPE=image/jpeg:https://firststjohn.com/wp-content/uploads/2024/02/337269207_453075980310956_2926394173531348876_n.jpg
END:VEVENT
BEGIN:VEVENT
DTSTART;TZID=America/Detroit:20250127T093000
DTEND;TZID=America/Detroit:20250127T093000
DTSTAMP:20260424T121821
CREATED:20250109T012328Z
LAST-MODIFIED:20250109T012329Z
UID:10010031-1737970200-1737970200@firststjohn.com
SUMMARY:Quilting
DESCRIPTION:Everyone is welcome to join us! Bring a sack lunch. Workshops on Mondays from 9:30 am – 1:00 pm in January\, February\, and March. \nIf Oregon schools are closed for weather\, NO QUILTING
URL:https://firststjohn.com/event/quilting-2/2025-01-27/
CATEGORIES:Chapel,Church Office,Featured,Fellowship,Hannah Circle,WELCA
ATTACH;FMTTYPE=image/jpeg:https://firststjohn.com/wp-content/uploads/2024/12/QUILTERS-8.jpg
END:VEVENT
BEGIN:VEVENT
DTSTART;TZID=America/Detroit:20250113T093000
DTEND;TZID=America/Detroit:20250113T093000
DTSTAMP:20260424T121821
CREATED:20250109T012328Z
LAST-MODIFIED:20250109T012329Z
UID:10010029-1736760600-1736760600@firststjohn.com
SUMMARY:Quilting
DESCRIPTION:Everyone is welcome to join us! Bring a sack lunch. Workshops on Mondays from 9:30 am – 1:00 pm in January\, February\, and March. \nIf Oregon schools are closed for weather\, NO QUILTING
URL:https://firststjohn.com/event/quilting-2/2025-01-13/
CATEGORIES:Chapel,Church Office,Featured,Fellowship,Hannah Circle,WELCA
ATTACH;FMTTYPE=image/jpeg:https://firststjohn.com/wp-content/uploads/2024/12/QUILTERS-8.jpg
END:VEVENT
BEGIN:VEVENT
DTSTART;TZID=America/New_York:20250108T113000
DTEND;TZID=America/New_York:20250108T113000
DTSTAMP:20260424T121821
CREATED:20241231T210038Z
LAST-MODIFIED:20250104T153651Z
UID:10009822-1736335800-1736335800@firststjohn.com
SUMMARY:Miriam Circle
DESCRIPTION:The Miriam Circle meets on the first wednesday of each month at 9:30 am.
URL:https://firststjohn.com/event/miriam-circle-2-4-2-3/
LOCATION:Lounge
CATEGORIES:Chapel,Church Office,Featured,Fellowship,WELCA
ATTACH;FMTTYPE=image/jpeg:https://firststjohn.com/wp-content/uploads/2024/03/MIRIAM-CIRCLE.jpg
END:VEVENT
BEGIN:VEVENT
DTSTART;TZID=America/New_York:20250107T110000
DTEND;TZID=America/New_York:20250107T110000
DTSTAMP:20260424T121821
CREATED:20241110T195619Z
LAST-MODIFIED:20250104T153550Z
UID:10009945-1736247600-1736247600@firststjohn.com
SUMMARY:Ruth Circle in lounge
DESCRIPTION:“The Woman of Consistency” \nThe Ruth Circle meets on the first tuesday of the month at 11 am.
URL:https://firststjohn.com/event/ruth-circle-2-2-3-2/2025-01-07/
LOCATION:Lounge
CATEGORIES:Chapel,Church Office,Featured,Fellowship,WELCA
ATTACH;FMTTYPE=image/jpeg:https://firststjohn.com/wp-content/uploads/2024/02/334204847_715639593392527_2754186504092574106_n.jpg
END:VEVENT
BEGIN:VEVENT
DTSTART;TZID=America/New_York:20250106T183000
DTEND;TZID=America/New_York:20250106T183000
DTSTAMP:20260424T121821
CREATED:20240813T150549Z
LAST-MODIFIED:20241201T203723Z
UID:10009698-1736188200-1736188200@firststjohn.com
SUMMARY:Altar Guild
DESCRIPTION:
URL:https://firststjohn.com/event/altar-guild-3/2025-01-06/
CATEGORIES:WELCA,Worship
ATTACH;FMTTYPE=image/jpeg:https://firststjohn.com/wp-content/uploads/2024/03/ALTAR-GUILD-1993.jpg
END:VEVENT
BEGIN:VEVENT
DTSTART;TZID=America/Detroit:20250106T093000
DTEND;TZID=America/Detroit:20250106T093000
DTSTAMP:20260424T121821
CREATED:20250104T153351Z
LAST-MODIFIED:20250104T161614Z
UID:10009938-1736155800-1736155800@firststjohn.com
SUMMARY:Quilting
DESCRIPTION:Everyone is welcome to join us! Bring a sack lunch. Workshops on Mondays from 9:30 am – 1:00 pm in January\, February\, and March. \nIf Oregon schools are closed for weather\, NO QUILTING
URL:https://firststjohn.com/event/quilting/
CATEGORIES:Fellowship,WELCA
ATTACH;FMTTYPE=image/jpeg:https://firststjohn.com/wp-content/uploads/2024/12/QUILTERS-8.jpg
END:VEVENT
BEGIN:VEVENT
DTSTART;TZID=America/New_York:20250104T113000
DTEND;TZID=America/New_York:20250104T113000
DTSTAMP:20260424T121821
CREATED:20241027T115218Z
LAST-MODIFIED:20241027T115218Z
UID:10000412-1735990200-1735990200@firststjohn.com
SUMMARY:Rebecca Circle
DESCRIPTION:
URL:https://firststjohn.com/event/rebecca-circle-3/2025-01-04/
LOCATION:Lounge
CATEGORIES:Featured,Fellowship,WELCA
ATTACH;FMTTYPE=image/jpeg:https://firststjohn.com/wp-content/uploads/2024/02/337269207_453075980310956_2926394173531348876_n.jpg
END:VEVENT
BEGIN:VEVENT
DTSTART;VALUE=DATE:20241215
DTEND;VALUE=DATE:20241216
DTSTAMP:20260424T121821
CREATED:20241201T220304Z
LAST-MODIFIED:20241201T220304Z
UID:10009903-1734220800-1734307199@firststjohn.com
SUMMARY:WELCA Cookie Sale
DESCRIPTION:
URL:https://firststjohn.com/event/welca-cookie-sale/
CATEGORIES:WELCA
ATTACH;FMTTYPE=image/jpeg:https://firststjohn.com/wp-content/uploads/2024/11/FSJ-Christmas-Cookies.jpg
ORGANIZER;CN="Jennifer Hess":MAILTO:office@firststjohn.com
END:VEVENT
BEGIN:VEVENT
DTSTART;TZID=America/New_York:20241207T113000
DTEND;TZID=America/New_York:20241207T113000
DTSTAMP:20260424T121821
CREATED:20241102T124706Z
LAST-MODIFIED:20241202T211138Z
UID:10000410-1733571000-1733571000@firststjohn.com
SUMMARY:Rebecca Circle @ Old Bag of Nails
DESCRIPTION:We will meet for our Christmas Luncheon.  See you there!
URL:https://firststjohn.com/event/rebecca-circle-3-2/
LOCATION:Old Bag of Nails
CATEGORIES:Featured,Fellowship,WELCA
ATTACH;FMTTYPE=image/jpeg:https://firststjohn.com/wp-content/uploads/2024/02/337269207_453075980310956_2926394173531348876_n.jpg
ORGANIZER;CN="Jennifer Hess":MAILTO:office@firststjohn.com
END:VEVENT
BEGIN:VEVENT
DTSTART;TZID=America/New_York:20241204T113000
DTEND;TZID=America/New_York:20241204T113000
DTSTAMP:20260424T121821
CREATED:20241201T214003Z
LAST-MODIFIED:20241202T210833Z
UID:10009821-1733311800-1733311800@firststjohn.com
SUMMARY:Miriam Circle @ Oregon Inn
DESCRIPTION:The Miriam Circle meets on the first wednesday of each month at 9:30 am.
URL:https://firststjohn.com/event/miriam-circle-2-4-2-2/
LOCATION:Lounge
CATEGORIES:Featured,Fellowship,WELCA
ATTACH;FMTTYPE=image/jpeg:https://firststjohn.com/wp-content/uploads/2024/03/MIRIAM-CIRCLE.jpg
END:VEVENT
BEGIN:VEVENT
DTSTART;TZID=America/New_York:20241203T113000
DTEND;TZID=America/New_York:20241203T113000
DTSTAMP:20260424T121821
CREATED:20241201T213901Z
LAST-MODIFIED:20241202T210718Z
UID:10009761-1733225400-1733225400@firststjohn.com
SUMMARY:Ruth Circle @ Applebee's
DESCRIPTION:“The Woman of Consistency” \nThe Ruth Circle meets on the first tuesday of the month at 11 am.
URL:https://firststjohn.com/event/ruth-circle-2-2-3-2-2/
LOCATION:Lounge
CATEGORIES:Featured,Fellowship,WELCA
ATTACH;FMTTYPE=image/jpeg:https://firststjohn.com/wp-content/uploads/2024/02/334204847_715639593392527_2754186504092574106_n.jpg
END:VEVENT
BEGIN:VEVENT
DTSTART;TZID=America/New_York:20241202T183000
DTEND;TZID=America/New_York:20241202T183000
DTSTAMP:20260424T121821
CREATED:20241201T213326Z
LAST-MODIFIED:20241201T213327Z
UID:10009697-1733164200-1733164200@firststjohn.com
SUMMARY:Altar Guild @ Beth Hugueley's
DESCRIPTION:
URL:https://firststjohn.com/event/altar-guild-3-3/
CATEGORIES:WELCA,Worship
ATTACH;FMTTYPE=image/jpeg:https://firststjohn.com/wp-content/uploads/2024/03/ALTAR-GUILD-1993.jpg
END:VEVENT
BEGIN:VEVENT
DTSTART;TZID=America/New_York:20241201T173000
DTEND;TZID=America/New_York:20241201T173000
DTSTAMP:20260424T121821
CREATED:20240316T173912Z
LAST-MODIFIED:20241116T155045Z
UID:10002070-1733074200-1733074200@firststjohn.com
SUMMARY:Family Christmas Party
DESCRIPTION:FAMILY CHRISTMAS PARTY \nMark your calendars! The Family Christmas party will be held on December 1\, 2024\, in the gym. Fried baked chicken\, mashed potatoes and gravy\, salad and a roll with butter will be served. Karaoke will be the entertainment for the night. We will also hold a raffle basket auction that night. If anyone would like to donate an item\, basket\, or gift card for the auction please let Sue Ann Rodgers know or drop it off in the church office. An RSVP will begin to be included in the weekly bulletin/announcements starting next week.\nRebecca Circle – Decorations\nHannah Circle – Kitchen & Clean Up
URL:https://firststjohn.com/event/family-christmas-party/
LOCATION:Gym
CATEGORIES:Featured,Fellowship,WELCA
ATTACH;FMTTYPE=image/jpeg:https://firststjohn.com/wp-content/uploads/2024/03/Family-Christmas-Party.jpg
ORGANIZER;CN="Jennifer Hess":MAILTO:office@firststjohn.com
END:VEVENT
BEGIN:VEVENT
DTSTART;TZID=America/Detroit:20241118T183000
DTEND;TZID=America/Detroit:20241118T183000
DTSTAMP:20260424T121821
CREATED:20241102T132341Z
LAST-MODIFIED:20241110T200532Z
UID:10009666-1731954600-1731954600@firststjohn.com
SUMMARY:WELCA mtg
DESCRIPTION:
URL:https://firststjohn.com/event/welca-mtg-2/
CATEGORIES:Featured,Fellowship,WELCA
ATTACH;FMTTYPE=image/jpeg:https://firststjohn.com/wp-content/uploads/2024/02/img21-1.jpg
END:VEVENT
BEGIN:VEVENT
DTSTART;VALUE=DATE:20241110
DTEND;VALUE=DATE:20241111
DTSTAMP:20260424T121821
CREATED:20240316T173358Z
LAST-MODIFIED:20240318T201029Z
UID:10002068-1731196800-1731283199@firststjohn.com
SUMMARY:Women's Awareness Sunday
DESCRIPTION:
URL:https://firststjohn.com/event/womens-awareness-sunday/
LOCATION:Lounge
CATEGORIES:Fellowship,WELCA
ATTACH;FMTTYPE=image/jpeg:https://firststjohn.com/wp-content/uploads/2024/03/Womens-Awareness-Sunday.jpg
END:VEVENT
BEGIN:VEVENT
DTSTART;TZID=America/New_York:20241106T093000
DTEND;TZID=America/New_York:20241106T093000
DTSTAMP:20260424T121821
CREATED:20241027T115452Z
LAST-MODIFIED:20241027T115452Z
UID:10001774-1730885400-1730885400@firststjohn.com
SUMMARY:Miriam Circle
DESCRIPTION:The Miriam Circle meets on the first wednesday of each month at 9:30 am.
URL:https://firststjohn.com/event/miriam-circle-2-4/
LOCATION:Lounge
CATEGORIES:Featured,Fellowship,WELCA
ATTACH;FMTTYPE=image/jpeg:https://firststjohn.com/wp-content/uploads/2024/03/MIRIAM-CIRCLE.jpg
END:VEVENT
BEGIN:VEVENT
DTSTART;TZID=America/New_York:20241105T110000
DTEND;TZID=America/New_York:20241105T110000
DTSTAMP:20260424T121821
CREATED:20241027T115342Z
LAST-MODIFIED:20241027T115342Z
UID:10001470-1730804400-1730804400@firststjohn.com
SUMMARY:Ruth Circle in lounge
DESCRIPTION:“The Woman of Consistency” \nThe Ruth Circle meets on the first tuesday of the month at 11 am.
URL:https://firststjohn.com/event/ruth-circle-2-2-3/
LOCATION:Lounge
CATEGORIES:Featured,Fellowship,WELCA
ATTACH;FMTTYPE=image/jpeg:https://firststjohn.com/wp-content/uploads/2024/02/334204847_715639593392527_2754186504092574106_n.jpg
END:VEVENT
BEGIN:VEVENT
DTSTART;TZID=America/New_York:20241021T183000
DTEND;TZID=America/New_York:20241021T183000
DTSTAMP:20260424T121822
CREATED:20241001T142931Z
LAST-MODIFIED:20241001T143050Z
UID:10009236-1729535400-1729535400@firststjohn.com
SUMMARY:WELCA Board
DESCRIPTION:
URL:https://firststjohn.com/event/welca-board-2/
CATEGORIES:WELCA
ATTACH;FMTTYPE=image/jpeg:https://firststjohn.com/wp-content/uploads/2024/02/img21-1.jpg
END:VEVENT
BEGIN:VEVENT
DTSTART;TZID=America/New_York:20241005T113000
DTEND;TZID=America/New_York:20241005T113000
DTSTAMP:20260424T121822
CREATED:20241001T132351Z
LAST-MODIFIED:20241001T132352Z
UID:10000409-1728127800-1728127800@firststjohn.com
SUMMARY:Rebecca Circle in lounge
DESCRIPTION:
URL:https://firststjohn.com/event/rebecca-circle-2/
LOCATION:Lounge
CATEGORIES:Fellowship,WELCA
ATTACH;FMTTYPE=image/jpeg:https://firststjohn.com/wp-content/uploads/2024/02/337269207_453075980310956_2926394173531348876_n.jpg
END:VEVENT
BEGIN:VEVENT
DTSTART;TZID=America/New_York:20241002T093000
DTEND;TZID=America/New_York:20241002T093000
DTSTAMP:20260424T121822
CREATED:20240402T230922Z
LAST-MODIFIED:20240402T235527Z
UID:10001773-1727861400-1727861400@firststjohn.com
SUMMARY:Miriam Circle
DESCRIPTION:The Miriam Circle meets on the first wednesday of each month at 9:30 am.
URL:https://firststjohn.com/event/miriam-circle-2/2024-10-02/
LOCATION:Lounge
CATEGORIES:Fellowship,WELCA
ATTACH;FMTTYPE=image/jpeg:https://firststjohn.com/wp-content/uploads/2024/03/MIRIAM-CIRCLE.jpg
END:VEVENT
BEGIN:VEVENT
DTSTART;TZID=America/New_York:20240916T183000
DTEND;TZID=America/New_York:20240916T183000
DTSTAMP:20260424T121822
CREATED:20240912T163110Z
LAST-MODIFIED:20240912T163110Z
UID:10008150-1726511400-1726511400@firststjohn.com
SUMMARY:WELCA Mtg
DESCRIPTION:
URL:https://firststjohn.com/event/welca-mtg/
CATEGORIES:WELCA
ATTACH;FMTTYPE=image/jpeg:https://firststjohn.com/wp-content/uploads/2024/02/img21-2.jpg
END:VEVENT
BEGIN:VEVENT
DTSTART;TZID=America/New_York:20240909T183000
DTEND;TZID=America/New_York:20240909T183000
DTSTAMP:20260424T121822
CREATED:20240912T161859Z
LAST-MODIFIED:20240912T161859Z
UID:10002139-1725906600-1725906600@firststjohn.com
SUMMARY:Altar Guild Mtg
DESCRIPTION:
URL:https://firststjohn.com/event/altar-guild-3-2/
CATEGORIES:WELCA,Worship
ATTACH;FMTTYPE=image/jpeg:https://firststjohn.com/wp-content/uploads/2024/03/ALTAR-GUILD-1993.jpg
END:VEVENT
END:VCALENDAR