BEGIN:VCALENDAR
VERSION:2.0
PRODID:-//First St John - ECPv6.15.20//NONSGML v1.0//EN
CALSCALE:GREGORIAN
METHOD:PUBLISH
X-ORIGINAL-URL:https://firststjohn.com
X-WR-CALDESC:Events for First St John
REFRESH-INTERVAL;VALUE=DURATION:PT1H
X-Robots-Tag:noindex
X-PUBLISHED-TTL:PT1H
BEGIN:VTIMEZONE
TZID:America/New_York
BEGIN:DAYLIGHT
TZOFFSETFROM:-0500
TZOFFSETTO:-0400
TZNAME:EDT
DTSTART:20240310T070000
END:DAYLIGHT
BEGIN:STANDARD
TZOFFSETFROM:-0400
TZOFFSETTO:-0500
TZNAME:EST
DTSTART:20241103T060000
END:STANDARD
BEGIN:DAYLIGHT
TZOFFSETFROM:-0500
TZOFFSETTO:-0400
TZNAME:EDT
DTSTART:20250309T070000
END:DAYLIGHT
BEGIN:STANDARD
TZOFFSETFROM:-0400
TZOFFSETTO:-0500
TZNAME:EST
DTSTART:20251102T060000
END:STANDARD
BEGIN:DAYLIGHT
TZOFFSETFROM:-0500
TZOFFSETTO:-0400
TZNAME:EDT
DTSTART:20260308T070000
END:DAYLIGHT
BEGIN:STANDARD
TZOFFSETFROM:-0400
TZOFFSETTO:-0500
TZNAME:EST
DTSTART:20261101T060000
END:STANDARD
END:VTIMEZONE
BEGIN:VTIMEZONE
TZID:America/Detroit
BEGIN:DAYLIGHT
TZOFFSETFROM:-0500
TZOFFSETTO:-0400
TZNAME:EDT
DTSTART:20240310T070000
END:DAYLIGHT
BEGIN:STANDARD
TZOFFSETFROM:-0400
TZOFFSETTO:-0500
TZNAME:EST
DTSTART:20241103T060000
END:STANDARD
BEGIN:DAYLIGHT
TZOFFSETFROM:-0500
TZOFFSETTO:-0400
TZNAME:EDT
DTSTART:20250309T070000
END:DAYLIGHT
BEGIN:STANDARD
TZOFFSETFROM:-0400
TZOFFSETTO:-0500
TZNAME:EST
DTSTART:20251102T060000
END:STANDARD
BEGIN:DAYLIGHT
TZOFFSETFROM:-0500
TZOFFSETTO:-0400
TZNAME:EDT
DTSTART:20260308T070000
END:DAYLIGHT
BEGIN:STANDARD
TZOFFSETFROM:-0400
TZOFFSETTO:-0500
TZNAME:EST
DTSTART:20261101T060000
END:STANDARD
END:VTIMEZONE
BEGIN:VEVENT
DTSTART;TZID=America/New_York:20250709T113000
DTEND;TZID=America/New_York:20250709T113000
DTSTAMP:20260424T055035
CREATED:20241110T195722Z
LAST-MODIFIED:20250701T185159Z
UID:10011592-1752060600-1752060600@firststjohn.com
SUMMARY:Miriam Circle
DESCRIPTION:The Miriam Circle meets on the first wednesday of each month at 9:30 am.
URL:https://firststjohn.com/event/miriam-circle-2-4-2/
LOCATION:Applebee’s in Northwood
CATEGORIES:Fellowship,WELCA
ATTACH;FMTTYPE=image/jpeg:https://firststjohn.com/wp-content/uploads/2024/03/MIRIAM-CIRCLE.jpg
END:VEVENT
BEGIN:VEVENT
DTSTART;TZID=America/New_York:20250705T113000
DTEND;TZID=America/New_York:20250705T113000
DTSTAMP:20260424T055035
CREATED:20241027T115218Z
LAST-MODIFIED:20241027T115218Z
UID:10000418-1751715000-1751715000@firststjohn.com
SUMMARY:Rebecca Circle
DESCRIPTION:
URL:https://firststjohn.com/event/rebecca-circle-3/2025-07-05/
LOCATION:Lounge
CATEGORIES:Featured,Fellowship,WELCA
ATTACH;FMTTYPE=image/jpeg:https://firststjohn.com/wp-content/uploads/2024/02/337269207_453075980310956_2926394173531348876_n.jpg
END:VEVENT
BEGIN:VEVENT
DTSTART;TZID=America/New_York:20250702T113000
DTEND;TZID=America/New_York:20250702T113000
DTSTAMP:20260424T055035
CREATED:20250701T184843Z
LAST-MODIFIED:20250701T185004Z
UID:10009951-1751455800-1751455800@firststjohn.com
SUMMARY:Ruth Circle at American Table
DESCRIPTION:“The Woman of Consistency” \nThe Ruth Circle meets on the first tuesday of the month at 11 am.
URL:https://firststjohn.com/event/ruth-circle-2-2-3-2-4/
LOCATION:Lounge
CATEGORIES:Chapel,Church Office,Featured,Fellowship,WELCA
ATTACH;FMTTYPE=image/jpeg:https://firststjohn.com/wp-content/uploads/2024/02/334204847_715639593392527_2754186504092574106_n.jpg
END:VEVENT
BEGIN:VEVENT
DTSTART;TZID=America/New_York:20250607T113000
DTEND;TZID=America/New_York:20250607T113000
DTSTAMP:20260424T055035
CREATED:20241027T115218Z
LAST-MODIFIED:20241027T115218Z
UID:10000417-1749295800-1749295800@firststjohn.com
SUMMARY:Rebecca Circle
DESCRIPTION:
URL:https://firststjohn.com/event/rebecca-circle-3/2025-06-07/
LOCATION:Lounge
CATEGORIES:Featured,Fellowship,WELCA
ATTACH;FMTTYPE=image/jpeg:https://firststjohn.com/wp-content/uploads/2024/02/337269207_453075980310956_2926394173531348876_n.jpg
END:VEVENT
BEGIN:VEVENT
DTSTART;TZID=America/New_York:20250604T113000
DTEND;TZID=America/New_York:20250604T113000
DTSTAMP:20260424T055035
CREATED:20250607T153619Z
LAST-MODIFIED:20250607T153619Z
UID:10009827-1749036600-1749036600@firststjohn.com
SUMMARY:Miriam Circle @ American Table
DESCRIPTION:The Miriam Circle meets on the first Wednesday of each month at 11:30 am.
URL:https://firststjohn.com/event/miriam-circle-2-4-2-8/
LOCATION:Lounge
CATEGORIES:Fellowship,WELCA
ATTACH;FMTTYPE=image/jpeg:https://firststjohn.com/wp-content/uploads/2024/03/MIRIAM-CIRCLE.jpg
END:VEVENT
BEGIN:VEVENT
DTSTART;TZID=America/New_York:20250603T113000
DTEND;TZID=America/New_York:20250603T113000
DTSTAMP:20260424T055035
CREATED:20250607T153442Z
LAST-MODIFIED:20250607T153442Z
UID:10009950-1748950200-1748950200@firststjohn.com
SUMMARY:Ruth Circle @ Mancino's
DESCRIPTION:“The Woman of Consistency” \nThe Ruth Circle meets on the first tuesday of the month at 11:30 am.
URL:https://firststjohn.com/event/ruth-circle-2-2-3-2-3/
LOCATION:Lounge
CATEGORIES:Chapel,Church Office,Featured,Fellowship,WELCA
ATTACH;FMTTYPE=image/jpeg:https://firststjohn.com/wp-content/uploads/2024/02/334204847_715639593392527_2754186504092574106_n.jpg
END:VEVENT
BEGIN:VEVENT
DTSTART;TZID=America/Detroit:20250519T183000
DTEND;TZID=America/Detroit:20250519T183000
DTSTAMP:20260424T055035
CREATED:20250503T220415Z
LAST-MODIFIED:20250503T221006Z
UID:10011149-1747679400-1747679400@firststjohn.com
SUMMARY:WELCA
DESCRIPTION:WELCA NEWS \nHappy Mother’s Day to all the Moms! The board met on Monday April 21st in the lounge. The board would like to thank everyone for the donations of candy. Such cute ideas everyone came up with\,  we made $240.00\, which will be split. $120.00 will be given to the Personal Needs Pantry and $120.00 to WELCA.  Don’t forget to help the Card Party out by donating items for door prizes and raffle prizes. The committee does such a wonderful job each year putting this together. Our next project the board is working on will be selling some of the electric roaster we have in the attic. This will take place in June. First we have to see how many still work\, then have them brought down from the attic.. If you or someone you know would like one\, let us know by June. Our Spaghetti Dinner will be on October 4th from 4pm -7pm. More details will be in our September newsletter. Carry out or dine in this year. Some like to socialize and just relax having dinner.  Our next meeting will be May 19th in the lounge. All women of First St. John are welcome to join us.\n— Sue Ann Rogers\, President
URL:https://firststjohn.com/event/welca-3/
CATEGORIES:Featured,WELCA
ATTACH;FMTTYPE=image/jpeg:https://firststjohn.com/wp-content/uploads/2024/02/img21-1.jpg
END:VEVENT
BEGIN:VEVENT
DTSTART;TZID=America/Detroit:20250513T120000
DTEND;TZID=America/Detroit:20250513T120000
DTSTAMP:20260424T055035
CREATED:20250503T215626Z
LAST-MODIFIED:20250503T215626Z
UID:10011143-1747137600-1747137600@firststjohn.com
SUMMARY:Card Party
DESCRIPTION:ANNUAL CARD PARTY\nThe Card Party and Luncheon is back! Join us on Tuesday\, May 13th at noon. Tallies (admission) are $15.  For reservations\, please call either the church office at 419-691-7222 or Jane Schuetz at 419-691-5506. The elevator will be available. We ask that you arrive by 11:30am if elevator access needed to avoid the noon car line for the Day School.\nWe need donations of door prizes and raffle prizes ($5 to $25 or more for raffle prizes)\, either something  you make or that you can ask a business to donate. Boxes are in the lounge and the Narthex for placing your donations.\nEveryone is welcome to join us for a fun day!
URL:https://firststjohn.com/event/card-party-2/
CATEGORIES:Featured,Fellowship,WELCA
ATTACH;FMTTYPE=image/jpeg:https://firststjohn.com/wp-content/uploads/2024/03/maxresdefault.jpg
END:VEVENT
BEGIN:VEVENT
DTSTART;TZID=America/New_York:20250507T093000
DTEND;TZID=America/New_York:20250507T093000
DTSTAMP:20260424T055035
CREATED:20250503T212917Z
LAST-MODIFIED:20250503T212917Z
UID:10009826-1746610200-1746610200@firststjohn.com
SUMMARY:Miriam Circle
DESCRIPTION:The Miriam Circle meets on the first wednesday of each month at 9:30 am.
URL:https://firststjohn.com/event/miriam-circle-2-4-2-7/
LOCATION:Lounge
CATEGORIES:Fellowship,WELCA
ATTACH;FMTTYPE=image/jpeg:https://firststjohn.com/wp-content/uploads/2024/03/MIRIAM-CIRCLE.jpg
END:VEVENT
BEGIN:VEVENT
DTSTART;TZID=America/New_York:20250506T110000
DTEND;TZID=America/New_York:20250506T110000
DTSTAMP:20260424T055035
CREATED:20241110T195619Z
LAST-MODIFIED:20250104T153550Z
UID:10009949-1746529200-1746529200@firststjohn.com
SUMMARY:Ruth Circle in lounge
DESCRIPTION:“The Woman of Consistency” \nThe Ruth Circle meets on the first tuesday of the month at 11 am.
URL:https://firststjohn.com/event/ruth-circle-2-2-3-2/2025-05-06/
LOCATION:Lounge
CATEGORIES:Chapel,Church Office,Featured,Fellowship,WELCA
ATTACH;FMTTYPE=image/jpeg:https://firststjohn.com/wp-content/uploads/2024/02/334204847_715639593392527_2754186504092574106_n.jpg
END:VEVENT
BEGIN:VEVENT
DTSTART;TZID=America/New_York:20250505T183000
DTEND;TZID=America/New_York:20250505T183000
DTSTAMP:20260424T055035
CREATED:20240813T150549Z
LAST-MODIFIED:20241201T203723Z
UID:10009702-1746469800-1746469800@firststjohn.com
SUMMARY:Altar Guild
DESCRIPTION:
URL:https://firststjohn.com/event/altar-guild-3/2025-05-05/
CATEGORIES:WELCA,Worship
ATTACH;FMTTYPE=image/jpeg:https://firststjohn.com/wp-content/uploads/2024/03/ALTAR-GUILD-1993.jpg
END:VEVENT
BEGIN:VEVENT
DTSTART;TZID=America/New_York:20250503T113000
DTEND;TZID=America/New_York:20250503T113000
DTSTAMP:20260424T055035
CREATED:20241027T115218Z
LAST-MODIFIED:20241027T115218Z
UID:10000416-1746271800-1746271800@firststjohn.com
SUMMARY:Rebecca Circle
DESCRIPTION:
URL:https://firststjohn.com/event/rebecca-circle-3/2025-05-03/
LOCATION:Lounge
CATEGORIES:Featured,Fellowship,WELCA
ATTACH;FMTTYPE=image/jpeg:https://firststjohn.com/wp-content/uploads/2024/02/337269207_453075980310956_2926394173531348876_n.jpg
END:VEVENT
BEGIN:VEVENT
DTSTART;TZID=America/New_York:20250407T183000
DTEND;TZID=America/New_York:20250407T183000
DTSTAMP:20260424T055035
CREATED:20240813T150549Z
LAST-MODIFIED:20241201T203723Z
UID:10009701-1744050600-1744050600@firststjohn.com
SUMMARY:Altar Guild
DESCRIPTION:
URL:https://firststjohn.com/event/altar-guild-3/2025-04-07/
CATEGORIES:WELCA,Worship
ATTACH;FMTTYPE=image/jpeg:https://firststjohn.com/wp-content/uploads/2024/03/ALTAR-GUILD-1993.jpg
END:VEVENT
BEGIN:VEVENT
DTSTART;TZID=America/New_York:20250405T113000
DTEND;TZID=America/New_York:20250405T113000
DTSTAMP:20260424T055035
CREATED:20241027T115218Z
LAST-MODIFIED:20241027T115218Z
UID:10000415-1743852600-1743852600@firststjohn.com
SUMMARY:Rebecca Circle
DESCRIPTION:
URL:https://firststjohn.com/event/rebecca-circle-3/2025-04-05/
LOCATION:Lounge
CATEGORIES:Featured,Fellowship,WELCA
ATTACH;FMTTYPE=image/jpeg:https://firststjohn.com/wp-content/uploads/2024/02/337269207_453075980310956_2926394173531348876_n.jpg
END:VEVENT
BEGIN:VEVENT
DTSTART;TZID=America/New_York:20250402T093000
DTEND;TZID=America/New_York:20250402T093000
DTSTAMP:20260424T055035
CREATED:20250331T014329Z
LAST-MODIFIED:20250331T014329Z
UID:10009825-1743586200-1743586200@firststjohn.com
SUMMARY:Miriam Circle
DESCRIPTION:The Miriam Circle meets on the first wednesday of each month at 9:30 am.
URL:https://firststjohn.com/event/miriam-circle-2-4-2-6/
LOCATION:Lounge
CATEGORIES:Fellowship,WELCA
ATTACH;FMTTYPE=image/jpeg:https://firststjohn.com/wp-content/uploads/2024/03/MIRIAM-CIRCLE.jpg
END:VEVENT
BEGIN:VEVENT
DTSTART;TZID=America/New_York:20250401T110000
DTEND;TZID=America/New_York:20250401T110000
DTSTAMP:20260424T055035
CREATED:20241110T195619Z
LAST-MODIFIED:20250104T153550Z
UID:10009948-1743505200-1743505200@firststjohn.com
SUMMARY:Ruth Circle in lounge
DESCRIPTION:“The Woman of Consistency” \nThe Ruth Circle meets on the first tuesday of the month at 11 am.
URL:https://firststjohn.com/event/ruth-circle-2-2-3-2/2025-04-01/
LOCATION:Lounge
CATEGORIES:Chapel,Church Office,Featured,Fellowship,WELCA
ATTACH;FMTTYPE=image/jpeg:https://firststjohn.com/wp-content/uploads/2024/02/334204847_715639593392527_2754186504092574106_n.jpg
END:VEVENT
BEGIN:VEVENT
DTSTART;TZID=America/Detroit:20250331T093000
DTEND;TZID=America/Detroit:20250331T093000
DTSTAMP:20260424T055035
CREATED:20250109T012328Z
LAST-MODIFIED:20250109T012329Z
UID:10010040-1743413400-1743413400@firststjohn.com
SUMMARY:Quilting
DESCRIPTION:Everyone is welcome to join us! Bring a sack lunch. Workshops on Mondays from 9:30 am – 1:00 pm in January\, February\, and March. \nIf Oregon schools are closed for weather\, NO QUILTING
URL:https://firststjohn.com/event/quilting-2/2025-03-31/
CATEGORIES:Chapel,Church Office,Featured,Fellowship,Hannah Circle,WELCA
ATTACH;FMTTYPE=image/jpeg:https://firststjohn.com/wp-content/uploads/2024/12/QUILTERS-8.jpg
END:VEVENT
BEGIN:VEVENT
DTSTART;TZID=America/Detroit:20250324T093000
DTEND;TZID=America/Detroit:20250324T093000
DTSTAMP:20260424T055035
CREATED:20250109T012328Z
LAST-MODIFIED:20250109T012329Z
UID:10010039-1742808600-1742808600@firststjohn.com
SUMMARY:Quilting
DESCRIPTION:Everyone is welcome to join us! Bring a sack lunch. Workshops on Mondays from 9:30 am – 1:00 pm in January\, February\, and March. \nIf Oregon schools are closed for weather\, NO QUILTING
URL:https://firststjohn.com/event/quilting-2/2025-03-24/
CATEGORIES:Chapel,Church Office,Featured,Fellowship,Hannah Circle,WELCA
ATTACH;FMTTYPE=image/jpeg:https://firststjohn.com/wp-content/uploads/2024/12/QUILTERS-8.jpg
END:VEVENT
BEGIN:VEVENT
DTSTART;TZID=America/Detroit:20250317T183000
DTEND;TZID=America/Detroit:20250317T183000
DTSTAMP:20260424T055035
CREATED:20251101T190044Z
LAST-MODIFIED:20251108T180327Z
UID:10010943-1742236200-1742236200@firststjohn.com
SUMMARY:WELCA Mtg
DESCRIPTION:
URL:https://firststjohn.com/event/welca-2/
CATEGORIES:Featured,WELCA
ATTACH;FMTTYPE=image/jpeg:https://firststjohn.com/wp-content/uploads/2024/02/img21-1.jpg
END:VEVENT
BEGIN:VEVENT
DTSTART;TZID=America/Detroit:20250317T093000
DTEND;TZID=America/Detroit:20250317T093000
DTSTAMP:20260424T055035
CREATED:20250109T012328Z
LAST-MODIFIED:20250109T012329Z
UID:10010038-1742203800-1742203800@firststjohn.com
SUMMARY:Quilting
DESCRIPTION:Everyone is welcome to join us! Bring a sack lunch. Workshops on Mondays from 9:30 am – 1:00 pm in January\, February\, and March. \nIf Oregon schools are closed for weather\, NO QUILTING
URL:https://firststjohn.com/event/quilting-2/2025-03-17/
CATEGORIES:Chapel,Church Office,Featured,Fellowship,Hannah Circle,WELCA
ATTACH;FMTTYPE=image/jpeg:https://firststjohn.com/wp-content/uploads/2024/12/QUILTERS-8.jpg
END:VEVENT
BEGIN:VEVENT
DTSTART;TZID=America/Detroit:20250310T093000
DTEND;TZID=America/Detroit:20250310T093000
DTSTAMP:20260424T055035
CREATED:20250109T012328Z
LAST-MODIFIED:20250109T012329Z
UID:10010037-1741599000-1741599000@firststjohn.com
SUMMARY:Quilting
DESCRIPTION:Everyone is welcome to join us! Bring a sack lunch. Workshops on Mondays from 9:30 am – 1:00 pm in January\, February\, and March. \nIf Oregon schools are closed for weather\, NO QUILTING
URL:https://firststjohn.com/event/quilting-2/2025-03-10/
CATEGORIES:Chapel,Church Office,Featured,Fellowship,Hannah Circle,WELCA
ATTACH;FMTTYPE=image/jpeg:https://firststjohn.com/wp-content/uploads/2024/12/QUILTERS-8.jpg
END:VEVENT
BEGIN:VEVENT
DTSTART;TZID=America/New_York:20250305T093000
DTEND;TZID=America/New_York:20250305T093000
DTSTAMP:20260424T055035
CREATED:20250301T221300Z
LAST-MODIFIED:20250301T221309Z
UID:10009824-1741167000-1741167000@firststjohn.com
SUMMARY:Miriam Circle
DESCRIPTION:The Miriam Circle meets on the first wednesday of each month at 9:30 am.
URL:https://firststjohn.com/event/miriam-circle-2-4-2-5/
LOCATION:Lounge
CATEGORIES:Fellowship,WELCA
ATTACH;FMTTYPE=image/jpeg:https://firststjohn.com/wp-content/uploads/2024/03/MIRIAM-CIRCLE.jpg
END:VEVENT
BEGIN:VEVENT
DTSTART;TZID=America/New_York:20250304T110000
DTEND;TZID=America/New_York:20250304T110000
DTSTAMP:20260424T055035
CREATED:20241110T195619Z
LAST-MODIFIED:20250104T153550Z
UID:10009947-1741086000-1741086000@firststjohn.com
SUMMARY:Ruth Circle in lounge
DESCRIPTION:“The Woman of Consistency” \nThe Ruth Circle meets on the first tuesday of the month at 11 am.
URL:https://firststjohn.com/event/ruth-circle-2-2-3-2/2025-03-04/
LOCATION:Lounge
CATEGORIES:Chapel,Church Office,Featured,Fellowship,WELCA
ATTACH;FMTTYPE=image/jpeg:https://firststjohn.com/wp-content/uploads/2024/02/334204847_715639593392527_2754186504092574106_n.jpg
END:VEVENT
BEGIN:VEVENT
DTSTART;TZID=America/New_York:20250303T183000
DTEND;TZID=America/New_York:20250303T183000
DTSTAMP:20260424T055035
CREATED:20240813T150549Z
LAST-MODIFIED:20241201T203723Z
UID:10009700-1741026600-1741026600@firststjohn.com
SUMMARY:Altar Guild
DESCRIPTION:
URL:https://firststjohn.com/event/altar-guild-3/2025-03-03/
CATEGORIES:WELCA,Worship
ATTACH;FMTTYPE=image/jpeg:https://firststjohn.com/wp-content/uploads/2024/03/ALTAR-GUILD-1993.jpg
END:VEVENT
BEGIN:VEVENT
DTSTART;TZID=America/Detroit:20250303T093000
DTEND;TZID=America/Detroit:20250303T093000
DTSTAMP:20260424T055035
CREATED:20250109T012328Z
LAST-MODIFIED:20250109T012329Z
UID:10010036-1740994200-1740994200@firststjohn.com
SUMMARY:Quilting
DESCRIPTION:Everyone is welcome to join us! Bring a sack lunch. Workshops on Mondays from 9:30 am – 1:00 pm in January\, February\, and March. \nIf Oregon schools are closed for weather\, NO QUILTING
URL:https://firststjohn.com/event/quilting-2/2025-03-03/
CATEGORIES:Chapel,Church Office,Featured,Fellowship,Hannah Circle,WELCA
ATTACH;FMTTYPE=image/jpeg:https://firststjohn.com/wp-content/uploads/2024/12/QUILTERS-8.jpg
END:VEVENT
BEGIN:VEVENT
DTSTART;TZID=America/Detroit:20250224T093000
DTEND;TZID=America/Detroit:20250224T093000
DTSTAMP:20260424T055035
CREATED:20250109T012328Z
LAST-MODIFIED:20250109T012329Z
UID:10010035-1740389400-1740389400@firststjohn.com
SUMMARY:Quilting
DESCRIPTION:Everyone is welcome to join us! Bring a sack lunch. Workshops on Mondays from 9:30 am – 1:00 pm in January\, February\, and March. \nIf Oregon schools are closed for weather\, NO QUILTING
URL:https://firststjohn.com/event/quilting-2/2025-02-24/
CATEGORIES:Chapel,Church Office,Featured,Fellowship,Hannah Circle,WELCA
ATTACH;FMTTYPE=image/jpeg:https://firststjohn.com/wp-content/uploads/2024/12/QUILTERS-8.jpg
END:VEVENT
BEGIN:VEVENT
DTSTART;TZID=America/Detroit:20250217T093000
DTEND;TZID=America/Detroit:20250217T093000
DTSTAMP:20260424T055035
CREATED:20250109T012328Z
LAST-MODIFIED:20250109T012329Z
UID:10010034-1739784600-1739784600@firststjohn.com
SUMMARY:Quilting
DESCRIPTION:Everyone is welcome to join us! Bring a sack lunch. Workshops on Mondays from 9:30 am – 1:00 pm in January\, February\, and March. \nIf Oregon schools are closed for weather\, NO QUILTING
URL:https://firststjohn.com/event/quilting-2/2025-02-17/
CATEGORIES:Chapel,Church Office,Featured,Fellowship,Hannah Circle,WELCA
ATTACH;FMTTYPE=image/jpeg:https://firststjohn.com/wp-content/uploads/2024/12/QUILTERS-8.jpg
END:VEVENT
BEGIN:VEVENT
DTSTART;TZID=America/Detroit:20250210T093000
DTEND;TZID=America/Detroit:20250210T093000
DTSTAMP:20260424T055035
CREATED:20250109T012328Z
LAST-MODIFIED:20250109T012329Z
UID:10010033-1739179800-1739179800@firststjohn.com
SUMMARY:Quilting
DESCRIPTION:Everyone is welcome to join us! Bring a sack lunch. Workshops on Mondays from 9:30 am – 1:00 pm in January\, February\, and March. \nIf Oregon schools are closed for weather\, NO QUILTING
URL:https://firststjohn.com/event/quilting-2/2025-02-10/
CATEGORIES:Chapel,Church Office,Featured,Fellowship,Hannah Circle,WELCA
ATTACH;FMTTYPE=image/jpeg:https://firststjohn.com/wp-content/uploads/2024/12/QUILTERS-8.jpg
END:VEVENT
BEGIN:VEVENT
DTSTART;TZID=America/New_York:20250205T093000
DTEND;TZID=America/New_York:20250205T093000
DTSTAMP:20260424T055035
CREATED:20250203T125732Z
LAST-MODIFIED:20250203T125732Z
UID:10009823-1738747800-1738747800@firststjohn.com
SUMMARY:Miriam Circle
DESCRIPTION:The Miriam Circle meets on the first wednesday of each month at 9:30 am.
URL:https://firststjohn.com/event/miriam-circle-2-4-2-4/
LOCATION:Lounge
CATEGORIES:Fellowship,WELCA
ATTACH;FMTTYPE=image/jpeg:https://firststjohn.com/wp-content/uploads/2024/03/MIRIAM-CIRCLE.jpg
END:VEVENT
BEGIN:VEVENT
DTSTART;TZID=America/New_York:20250203T183000
DTEND;TZID=America/New_York:20250203T183000
DTSTAMP:20260424T055035
CREATED:20240813T150549Z
LAST-MODIFIED:20241201T203723Z
UID:10009699-1738607400-1738607400@firststjohn.com
SUMMARY:Altar Guild
DESCRIPTION:
URL:https://firststjohn.com/event/altar-guild-3/2025-02-03/
CATEGORIES:WELCA,Worship
ATTACH;FMTTYPE=image/jpeg:https://firststjohn.com/wp-content/uploads/2024/03/ALTAR-GUILD-1993.jpg
END:VEVENT
END:VCALENDAR