BEGIN:VCALENDAR
VERSION:2.0
PRODID:-//First St John - ECPv6.15.20//NONSGML v1.0//EN
CALSCALE:GREGORIAN
METHOD:PUBLISH
X-ORIGINAL-URL:https://firststjohn.com
X-WR-CALDESC:Events for First St John
REFRESH-INTERVAL;VALUE=DURATION:PT1H
X-Robots-Tag:noindex
X-PUBLISHED-TTL:PT1H
BEGIN:VTIMEZONE
TZID:America/Detroit
BEGIN:DAYLIGHT
TZOFFSETFROM:-0500
TZOFFSETTO:-0400
TZNAME:EDT
DTSTART:20230312T070000
END:DAYLIGHT
BEGIN:STANDARD
TZOFFSETFROM:-0400
TZOFFSETTO:-0500
TZNAME:EST
DTSTART:20231105T060000
END:STANDARD
BEGIN:DAYLIGHT
TZOFFSETFROM:-0500
TZOFFSETTO:-0400
TZNAME:EDT
DTSTART:20240310T070000
END:DAYLIGHT
BEGIN:STANDARD
TZOFFSETFROM:-0400
TZOFFSETTO:-0500
TZNAME:EST
DTSTART:20241103T060000
END:STANDARD
BEGIN:DAYLIGHT
TZOFFSETFROM:-0500
TZOFFSETTO:-0400
TZNAME:EDT
DTSTART:20250309T070000
END:DAYLIGHT
BEGIN:STANDARD
TZOFFSETFROM:-0400
TZOFFSETTO:-0500
TZNAME:EST
DTSTART:20251102T060000
END:STANDARD
BEGIN:DAYLIGHT
TZOFFSETFROM:-0500
TZOFFSETTO:-0400
TZNAME:EDT
DTSTART:20260308T070000
END:DAYLIGHT
BEGIN:STANDARD
TZOFFSETFROM:-0400
TZOFFSETTO:-0500
TZNAME:EST
DTSTART:20261101T060000
END:STANDARD
BEGIN:DAYLIGHT
TZOFFSETFROM:-0500
TZOFFSETTO:-0400
TZNAME:EDT
DTSTART:20270314T070000
END:DAYLIGHT
BEGIN:STANDARD
TZOFFSETFROM:-0400
TZOFFSETTO:-0500
TZNAME:EST
DTSTART:20271107T060000
END:STANDARD
END:VTIMEZONE
BEGIN:VTIMEZONE
TZID:America/New_York
BEGIN:DAYLIGHT
TZOFFSETFROM:-0500
TZOFFSETTO:-0400
TZNAME:EDT
DTSTART:20230312T070000
END:DAYLIGHT
BEGIN:STANDARD
TZOFFSETFROM:-0400
TZOFFSETTO:-0500
TZNAME:EST
DTSTART:20231105T060000
END:STANDARD
BEGIN:DAYLIGHT
TZOFFSETFROM:-0500
TZOFFSETTO:-0400
TZNAME:EDT
DTSTART:20240310T070000
END:DAYLIGHT
BEGIN:STANDARD
TZOFFSETFROM:-0400
TZOFFSETTO:-0500
TZNAME:EST
DTSTART:20241103T060000
END:STANDARD
BEGIN:DAYLIGHT
TZOFFSETFROM:-0500
TZOFFSETTO:-0400
TZNAME:EDT
DTSTART:20250309T070000
END:DAYLIGHT
BEGIN:STANDARD
TZOFFSETFROM:-0400
TZOFFSETTO:-0500
TZNAME:EST
DTSTART:20251102T060000
END:STANDARD
END:VTIMEZONE
BEGIN:VEVENT
DTSTART;TZID=America/Detroit:20260113T130000
DTEND;TZID=America/Detroit:20260113T130000
DTSTAMP:20260424T094532
CREATED:20260106T180802Z
LAST-MODIFIED:20260106T180802Z
UID:10014722-1768309200-1768309200@firststjohn.com
SUMMARY:Afternoon Piano Concert in church
DESCRIPTION:AFTERNOON CONCERT SERIES \nPlease join us on Tuesday\, January 13th at 1:00 pm in the church for a wonderful music concert!  Pianist Tumaini Sango\, completing his master’s degree from BGSU will present a diverse program of both classical music and jazz. See you there!
URL:https://firststjohn.com/event/afternoon-piano-concert-in-church/
CATEGORIES:Piano Recital
ATTACH;FMTTYPE=image/jpeg:https://firststjohn.com/wp-content/uploads/2024/06/pianorecital.jpg
END:VEVENT
BEGIN:VEVENT
DTSTART;TZID=America/Detroit:20251221T140000
DTEND;TZID=America/Detroit:20251221T140000
DTSTAMP:20260424T094532
CREATED:20250607T154539Z
LAST-MODIFIED:20251210T001202Z
UID:10011511-1766325600-1766325600@firststjohn.com
SUMMARY:Piano Recital
DESCRIPTION:
URL:https://firststjohn.com/event/piano-recital-lounge-rental/
LOCATION:Sanctuary\, 2471 Seaman St\, Toledo\, OH\, 43605\, United States
CATEGORIES:Piano Recital
ATTACH;FMTTYPE=image/jpeg:https://firststjohn.com/wp-content/uploads/2024/06/pianorecital.jpg
ORGANIZER;CN="Jennifer Hess":MAILTO:office@firststjohn.com
END:VEVENT
BEGIN:VEVENT
DTSTART;TZID=America/Detroit:20251118T130000
DTEND;TZID=America/Detroit:20251118T130000
DTSTAMP:20260424T094532
CREATED:20251101T131501Z
LAST-MODIFIED:20251108T180931Z
UID:10010637-1763470800-1763470800@firststjohn.com
SUMMARY:Tues @ 1pm Concert
DESCRIPTION:
URL:https://firststjohn.com/event/tues-1pm-concert/
CATEGORIES:Piano Recital
ATTACH;FMTTYPE=image/jpeg:https://firststjohn.com/wp-content/uploads/2024/06/pianorecital.jpg
ORGANIZER;CN="Jennifer Hess":MAILTO:office@firststjohn.com
END:VEVENT
BEGIN:VEVENT
DTSTART;TZID=America/Detroit:20241220T171500
DTEND;TZID=America/Detroit:20241220T171500
DTSTAMP:20260424T094532
CREATED:20241201T221506Z
LAST-MODIFIED:20241201T221506Z
UID:10009912-1734714900-1734714900@firststjohn.com
SUMMARY:Piano recital in church and lounge
DESCRIPTION:
URL:https://firststjohn.com/event/piano-recital-in-church-and-lounge/
CATEGORIES:Piano Recital
ATTACH;FMTTYPE=image/jpeg:https://firststjohn.com/wp-content/uploads/2024/06/pianorecital.jpg
ORGANIZER;CN="Jennifer Hess":MAILTO:office@firststjohn.com
END:VEVENT
BEGIN:VEVENT
DTSTART;TZID=America/New_York:20241024T181500
DTEND;TZID=America/New_York:20241024T181500
DTSTAMP:20260424T094532
CREATED:20241021T125127Z
LAST-MODIFIED:20241021T125213Z
UID:10009306-1729793700-1729793700@firststjohn.com
SUMMARY:Piano Recital Lounge
DESCRIPTION:The piano students of Vivienne Sommerfield will be sharing pieces they have learned this fall. The abilities of the seven performers range from beginner through high school. In addition\, an adult ‘beginner’ who has published two original compositions! We will start the performance at 6:15 pm in the lounge on October 24th. A social time with refreshments follows. You are welcome to come and support our wonderful budding pianists!
URL:https://firststjohn.com/event/piano-recital-lounge-2/
LOCATION:Sanctuary\, 2471 Seaman St\, Toledo\, OH\, 43605\, United States
CATEGORIES:Children,Featured,Fellowship,Piano Recital,Youth
ATTACH;FMTTYPE=image/jpeg:https://firststjohn.com/wp-content/uploads/2024/06/pianorecital.jpg
ORGANIZER;CN="Jennifer Hess":MAILTO:office@firststjohn.com
END:VEVENT
BEGIN:VEVENT
DTSTART;TZID=America/New_York:20241017T173000
DTEND;TZID=America/New_York:20241017T173000
DTSTAMP:20260424T094532
CREATED:20241001T141656Z
LAST-MODIFIED:20241001T141858Z
UID:10009234-1729186200-1729186200@firststjohn.com
SUMMARY:Piano Recital (lounge)
DESCRIPTION:
URL:https://firststjohn.com/event/piano-recital-lounge/
LOCATION:Lounge
CATEGORIES:Piano Recital,Worship
ATTACH;FMTTYPE=image/jpeg:https://firststjohn.com/wp-content/uploads/2024/06/pianorecital.jpg
ORGANIZER;CN="Jennifer Hess":MAILTO:office@firststjohn.com
END:VEVENT
END:VCALENDAR