BEGIN:VCALENDAR
VERSION:2.0
PRODID:-//First St John - ECPv6.15.20//NONSGML v1.0//EN
CALSCALE:GREGORIAN
METHOD:PUBLISH
X-WR-CALNAME:First St John
X-ORIGINAL-URL:https://firststjohn.com
X-WR-CALDESC:Events for First St John
REFRESH-INTERVAL;VALUE=DURATION:PT1H
X-Robots-Tag:noindex
X-PUBLISHED-TTL:PT1H
BEGIN:VTIMEZONE
TZID:America/Detroit
BEGIN:DAYLIGHT
TZOFFSETFROM:-0500
TZOFFSETTO:-0400
TZNAME:EDT
DTSTART:20230312T070000
END:DAYLIGHT
BEGIN:STANDARD
TZOFFSETFROM:-0400
TZOFFSETTO:-0500
TZNAME:EST
DTSTART:20231105T060000
END:STANDARD
BEGIN:DAYLIGHT
TZOFFSETFROM:-0500
TZOFFSETTO:-0400
TZNAME:EDT
DTSTART:20240310T070000
END:DAYLIGHT
BEGIN:STANDARD
TZOFFSETFROM:-0400
TZOFFSETTO:-0500
TZNAME:EST
DTSTART:20241103T060000
END:STANDARD
BEGIN:DAYLIGHT
TZOFFSETFROM:-0500
TZOFFSETTO:-0400
TZNAME:EDT
DTSTART:20250309T070000
END:DAYLIGHT
BEGIN:STANDARD
TZOFFSETFROM:-0400
TZOFFSETTO:-0500
TZNAME:EST
DTSTART:20251102T060000
END:STANDARD
END:VTIMEZONE
BEGIN:VTIMEZONE
TZID:America/New_York
BEGIN:DAYLIGHT
TZOFFSETFROM:-0500
TZOFFSETTO:-0400
TZNAME:EDT
DTSTART:20230312T070000
END:DAYLIGHT
BEGIN:STANDARD
TZOFFSETFROM:-0400
TZOFFSETTO:-0500
TZNAME:EST
DTSTART:20231105T060000
END:STANDARD
BEGIN:DAYLIGHT
TZOFFSETFROM:-0500
TZOFFSETTO:-0400
TZNAME:EDT
DTSTART:20240310T070000
END:DAYLIGHT
BEGIN:STANDARD
TZOFFSETFROM:-0400
TZOFFSETTO:-0500
TZNAME:EST
DTSTART:20241103T060000
END:STANDARD
BEGIN:DAYLIGHT
TZOFFSETFROM:-0500
TZOFFSETTO:-0400
TZNAME:EDT
DTSTART:20250309T070000
END:DAYLIGHT
BEGIN:STANDARD
TZOFFSETFROM:-0400
TZOFFSETTO:-0500
TZNAME:EST
DTSTART:20251102T060000
END:STANDARD
END:VTIMEZONE
BEGIN:VEVENT
DTSTART;TZID=America/Detroit:20241211T183000
DTEND;TZID=America/Detroit:20241211T183000
DTSTAMP:20260424T021917
CREATED:20241201T215408Z
LAST-MODIFIED:20241207T184931Z
UID:10009899-1733941800-1733941800@firststjohn.com
SUMMARY:Hannah Circle at Debbie Smith's House
DESCRIPTION:
URL:https://firststjohn.com/event/hannah-circle-3/
CATEGORIES:Chapel,Church Office,Featured,Fellowship,Hannah Circle
ATTACH;FMTTYPE=image/jpeg:https://firststjohn.com/wp-content/uploads/2024/05/HANNAH-scaled.jpg
END:VEVENT
BEGIN:VEVENT
DTSTART;TZID=America/Detroit:20241106T183000
DTEND;TZID=America/Detroit:20241106T183000
DTSTAMP:20260424T021917
CREATED:20241102T125852Z
LAST-MODIFIED:20241102T130352Z
UID:10009584-1730917800-1730917800@firststjohn.com
SUMMARY:Hannah Circle at Debbie Smith House
DESCRIPTION:
URL:https://firststjohn.com/event/hannah-circle-2/
CATEGORIES:Fellowship,Hannah Circle
ATTACH;FMTTYPE=image/jpeg:https://firststjohn.com/wp-content/uploads/2024/05/HANNAH-scaled.jpg
END:VEVENT
BEGIN:VEVENT
DTSTART;TZID=America/New_York:20240515T183000
DTEND;TZID=America/New_York:20240515T193000
DTSTAMP:20260424T021917
CREATED:20240504T151832Z
LAST-MODIFIED:20240515T124647Z
UID:10005740-1715797800-1715801400@firststjohn.com
SUMMARY:Hannah Circle in the church lounge
DESCRIPTION:Click here for more about the Hannah Circle.
URL:https://firststjohn.com/event/hannah-circle-in-lounge/
LOCATION:Lounge
CATEGORIES:Featured,Fellowship,Hannah Circle,WELCA
ATTACH;FMTTYPE=image/jpeg:https://firststjohn.com/wp-content/uploads/2024/05/HANNAH-scaled.jpg
END:VEVENT
END:VCALENDAR