BEGIN:VCALENDAR
VERSION:2.0
PRODID:-//First St John - ECPv6.15.20//NONSGML v1.0//EN
CALSCALE:GREGORIAN
METHOD:PUBLISH
X-WR-CALNAME:First St John
X-ORIGINAL-URL:https://firststjohn.com
X-WR-CALDESC:Events for First St John
REFRESH-INTERVAL;VALUE=DURATION:PT1H
X-Robots-Tag:noindex
X-PUBLISHED-TTL:PT1H
BEGIN:VTIMEZONE
TZID:America/Detroit
BEGIN:DAYLIGHT
TZOFFSETFROM:-0500
TZOFFSETTO:-0400
TZNAME:EDT
DTSTART:20250309T070000
END:DAYLIGHT
BEGIN:STANDARD
TZOFFSETFROM:-0400
TZOFFSETTO:-0500
TZNAME:EST
DTSTART:20251102T060000
END:STANDARD
BEGIN:DAYLIGHT
TZOFFSETFROM:-0500
TZOFFSETTO:-0400
TZNAME:EDT
DTSTART:20260308T070000
END:DAYLIGHT
BEGIN:STANDARD
TZOFFSETFROM:-0400
TZOFFSETTO:-0500
TZNAME:EST
DTSTART:20261101T060000
END:STANDARD
BEGIN:DAYLIGHT
TZOFFSETFROM:-0500
TZOFFSETTO:-0400
TZNAME:EDT
DTSTART:20270314T070000
END:DAYLIGHT
BEGIN:STANDARD
TZOFFSETFROM:-0400
TZOFFSETTO:-0500
TZNAME:EST
DTSTART:20271107T060000
END:STANDARD
END:VTIMEZONE
BEGIN:VEVENT
DTSTART;TZID=America/Detroit:20260330T093000
DTEND;TZID=America/Detroit:20260330T093000
DTSTAMP:20260423T161402
CREATED:20260105T211913Z
LAST-MODIFIED:20260106T180104Z
UID:10014720-1774863000-1774863000@firststjohn.com
SUMMARY:Quilting
DESCRIPTION:Everyone is welcome to join us! Bring a sack lunch. Workshops on Mondays from 9:30 am – 1:00 pm in January\, February\, and March. \nIf Oregon schools are closed for weather\, NO QUILTING
URL:https://firststjohn.com/event/quilting-3/2026-03-30/
CATEGORIES:Chapel,Church Office,Featured,Fellowship,Hannah Circle,WELCA
ATTACH;FMTTYPE=image/jpeg:https://firststjohn.com/wp-content/uploads/2024/12/QUILTERS-8.jpg
END:VEVENT
BEGIN:VEVENT
DTSTART;TZID=America/Detroit:20260330T193000
DTEND;TZID=America/Detroit:20260330T193000
DTSTAMP:20260423T161402
CREATED:20260202T204728Z
LAST-MODIFIED:20260303T002902Z
UID:10015037-1774899000-1774899000@firststjohn.com
SUMMARY:Dartball (Away)
DESCRIPTION:
URL:https://firststjohn.com/event/dartball-away-2/2026-03-30/
CATEGORIES:Chapel,Church Office,Featured,Fellowship
ATTACH;FMTTYPE=image/jpeg:https://firststjohn.com/wp-content/uploads/2024/02/img23.jpg
END:VEVENT
END:VCALENDAR