BEGIN:VCALENDAR
VERSION:2.0
PRODID:-//First St John - ECPv6.15.20//NONSGML v1.0//EN
CALSCALE:GREGORIAN
METHOD:PUBLISH
X-WR-CALNAME:First St John
X-ORIGINAL-URL:https://firststjohn.com
X-WR-CALDESC:Events for First St John
REFRESH-INTERVAL;VALUE=DURATION:PT1H
X-Robots-Tag:noindex
X-PUBLISHED-TTL:PT1H
BEGIN:VTIMEZONE
TZID:America/Detroit
BEGIN:DAYLIGHT
TZOFFSETFROM:-0500
TZOFFSETTO:-0400
TZNAME:EDT
DTSTART:20250309T070000
END:DAYLIGHT
BEGIN:STANDARD
TZOFFSETFROM:-0400
TZOFFSETTO:-0500
TZNAME:EST
DTSTART:20251102T060000
END:STANDARD
BEGIN:DAYLIGHT
TZOFFSETFROM:-0500
TZOFFSETTO:-0400
TZNAME:EDT
DTSTART:20260308T070000
END:DAYLIGHT
BEGIN:STANDARD
TZOFFSETFROM:-0400
TZOFFSETTO:-0500
TZNAME:EST
DTSTART:20261101T060000
END:STANDARD
BEGIN:DAYLIGHT
TZOFFSETFROM:-0500
TZOFFSETTO:-0400
TZNAME:EDT
DTSTART:20270314T070000
END:DAYLIGHT
BEGIN:STANDARD
TZOFFSETFROM:-0400
TZOFFSETTO:-0500
TZNAME:EST
DTSTART:20271107T060000
END:STANDARD
END:VTIMEZONE
BEGIN:VTIMEZONE
TZID:America/New_York
BEGIN:DAYLIGHT
TZOFFSETFROM:-0500
TZOFFSETTO:-0400
TZNAME:EDT
DTSTART:20250309T070000
END:DAYLIGHT
BEGIN:STANDARD
TZOFFSETFROM:-0400
TZOFFSETTO:-0500
TZNAME:EST
DTSTART:20251102T060000
END:STANDARD
BEGIN:DAYLIGHT
TZOFFSETFROM:-0500
TZOFFSETTO:-0400
TZNAME:EDT
DTSTART:20260308T070000
END:DAYLIGHT
BEGIN:STANDARD
TZOFFSETFROM:-0400
TZOFFSETTO:-0500
TZNAME:EST
DTSTART:20261101T060000
END:STANDARD
BEGIN:DAYLIGHT
TZOFFSETFROM:-0500
TZOFFSETTO:-0400
TZNAME:EDT
DTSTART:20270314T070000
END:DAYLIGHT
BEGIN:STANDARD
TZOFFSETFROM:-0400
TZOFFSETTO:-0500
TZNAME:EST
DTSTART:20271107T060000
END:STANDARD
END:VTIMEZONE
BEGIN:VEVENT
DTSTART;TZID=America/Detroit:20260406T173000
DTEND;TZID=America/Detroit:20260406T173000
DTSTAMP:20260423T201749
CREATED:20250908T170450Z
LAST-MODIFIED:20250908T170450Z
UID:10013410-1775496600-1775496600@firststjohn.com
SUMMARY:Bell Choir
DESCRIPTION:FIRST ST. JOHN BELL CHOIR\nOur fabulous Bell Choir is looking for people to join us starting Sept. 15h in the church at 5:30 pm. We will give you instructions on how to hold and ring the bell. Come and give it a try! Contact Cheri  Sergent for any questions at (419) 410-3572.
URL:https://firststjohn.com/event/bell-choir-4/2026-04-06/
CATEGORIES:Bell Choir,Featured
ATTACH;FMTTYPE=image/jpeg:https://firststjohn.com/wp-content/uploads/2024/03/IMG_1561-scaled.jpeg
END:VEVENT
BEGIN:VEVENT
DTSTART;TZID=America/Detroit:20260406T193000
DTEND;TZID=America/Detroit:20260406T193000
DTSTAMP:20260423T201749
CREATED:20260402T152925Z
LAST-MODIFIED:20260402T152925Z
UID:10015140-1775503800-1775503800@firststjohn.com
SUMMARY:Dartball (Home)
DESCRIPTION:DARTBALL STARTS SOON!\nDartball season is almost upon us. Teams meet every other Monday night starting on September 29th in the church gym. On Monday\, September 22nd we will have a dartball practice up in Founders Hall (gym) before the season starts at 7pm\, so come check it out! (For more information call Bob Haar at 419-250-9409. It is easy\, fun and fellowship. No experience required.
URL:https://firststjohn.com/event/dartball-home-4/
CATEGORIES:Chapel,Church Office,Featured,Fellowship
ATTACH;FMTTYPE=image/jpeg:https://firststjohn.com/wp-content/uploads/2024/02/img23.jpg
END:VEVENT
BEGIN:VEVENT
DTSTART;TZID=America/Detroit:20260409T110000
DTEND;TZID=America/Detroit:20260409T110000
DTSTAMP:20260423T201749
CREATED:20251003T154421Z
LAST-MODIFIED:20251003T154421Z
UID:10013675-1775732400-1775732400@firststjohn.com
SUMMARY:Adult Bible Study
DESCRIPTION:ADULT BIBLE STUDY\nAdult Bible Study\, led by Pastor Rayl\, will resume on Thursday\, September 18th in the lounge. They will meet every Thursday at 11am. The subject of the study will be determined by the class the first meeting. If you would like more information\, please contact Pastor Rayl (pastor1@firststjohn.com) or by calling the church office: 419-691-7222.
URL:https://firststjohn.com/event/bible-study-5-2/2026-04-09/
CATEGORIES:Christian Education,Featured,Fellowship
ATTACH;FMTTYPE=image/jpeg:https://firststjohn.com/wp-content/uploads/2021/07/img62.jpg
END:VEVENT
BEGIN:VEVENT
DTSTART;TZID=America/New_York:20260411T083000
DTEND;TZID=America/New_York:20260411T083000
DTSTAMP:20260423T201749
CREATED:20251108T174642Z
LAST-MODIFIED:20251108T174643Z
UID:10014466-1775896200-1775896200@firststjohn.com
SUMMARY:Fellowship Breakfast (American Table)
DESCRIPTION:FELLOWSHIP BREAKFAST the next fellowship breakfast will be held on Saturday\, April 5th at 8:30 am at the American Table restaurant on the corner of Wheeling and Navarre (note the location change). See you there!  Good Food\, Good Friends\, and good conversations. Come join us! \n\nEveryone is invited
URL:https://firststjohn.com/event/fellowship-breakfast-2/2026-04-11/
LOCATION:American Table\, 846 S Wheeling St\, Oregon\, OH\, 43616\, United States
CATEGORIES:Featured,Fellowship
ATTACH;FMTTYPE=image/jpeg:https://firststjohn.com/wp-content/uploads/2024/03/Fellowship-Breakfast.jpg
END:VEVENT
BEGIN:VEVENT
DTSTART;TZID=America/New_York:20260412T080000
DTEND;TZID=America/New_York:20260412T080000
DTSTAMP:20260423T201749
CREATED:20250908T162850Z
LAST-MODIFIED:20260402T162122Z
UID:10012564-1775980800-1775980800@firststjohn.com
SUMMARY:Worship
DESCRIPTION:RETURN TO FALL/WINTER SERVICE SCHEDULE We will return to two services on Sept 7th at 8 am and 10:30 am. Please plan to join us on Sunday\, Sept 7th at either service. The church nursery will resume during 2nd service starting September 14th. See the contents of the newsletter for more festivities happening on Sept 7th as well!
URL:https://firststjohn.com/event/early-worship-service-3-2-2-4-19-4-3-4/2026-04-12/
LOCATION:Sanctuary\, 2471 Seaman St\, Toledo\, OH\, 43605\, United States
CATEGORIES:Children,Deacons,Elders,Featured,Trustees,Worship,Youth
ATTACH;FMTTYPE=image/jpeg:https://firststjohn.com/wp-content/uploads/2024/02/wine-and-bread.jpg
END:VEVENT
BEGIN:VEVENT
DTSTART;TZID=America/Detroit:20260412T103000
DTEND;TZID=America/Detroit:20260412T103000
DTSTAMP:20260423T201749
CREATED:20260402T155204Z
LAST-MODIFIED:20260402T155204Z
UID:10012826-1775989800-1775989800@firststjohn.com
SUMMARY:Worship/Comm
DESCRIPTION:RETURN TO FALL/WINTER SERVICE SCHEDULE We provide two Sunday services now at 8 am and 10:30 am. Please plan to join us on Sunday\, at either service. The church nursery is available for your use. See the contents of the newsletter for more festivities happening as well!
URL:https://firststjohn.com/event/early-worship-service-4-6-12/
LOCATION:Sanctuary\, 2471 Seaman St\, Toledo\, OH\, 43605\, United States
CATEGORIES:Children,Deacons,Elders,Featured,Trustees,Worship,Youth
ATTACH;FMTTYPE=image/jpeg:https://firststjohn.com/wp-content/uploads/2024/02/wine-and-bread.jpg
END:VEVENT
BEGIN:VEVENT
DTSTART;TZID=America/Detroit:20260413T173000
DTEND;TZID=America/Detroit:20260413T173000
DTSTAMP:20260423T201749
CREATED:20250908T170450Z
LAST-MODIFIED:20250908T170450Z
UID:10013411-1776101400-1776101400@firststjohn.com
SUMMARY:Bell Choir
DESCRIPTION:FIRST ST. JOHN BELL CHOIR\nOur fabulous Bell Choir is looking for people to join us starting Sept. 15h in the church at 5:30 pm. We will give you instructions on how to hold and ring the bell. Come and give it a try! Contact Cheri  Sergent for any questions at (419) 410-3572.
URL:https://firststjohn.com/event/bell-choir-4/2026-04-13/
CATEGORIES:Bell Choir,Featured
ATTACH;FMTTYPE=image/jpeg:https://firststjohn.com/wp-content/uploads/2024/03/IMG_1561-scaled.jpeg
END:VEVENT
BEGIN:VEVENT
DTSTART;TZID=America/Detroit:20260416T110000
DTEND;TZID=America/Detroit:20260416T110000
DTSTAMP:20260423T201749
CREATED:20251003T154421Z
LAST-MODIFIED:20251003T154421Z
UID:10013676-1776337200-1776337200@firststjohn.com
SUMMARY:Adult Bible Study
DESCRIPTION:ADULT BIBLE STUDY\nAdult Bible Study\, led by Pastor Rayl\, will resume on Thursday\, September 18th in the lounge. They will meet every Thursday at 11am. The subject of the study will be determined by the class the first meeting. If you would like more information\, please contact Pastor Rayl (pastor1@firststjohn.com) or by calling the church office: 419-691-7222.
URL:https://firststjohn.com/event/bible-study-5-2/2026-04-16/
CATEGORIES:Christian Education,Featured,Fellowship
ATTACH;FMTTYPE=image/jpeg:https://firststjohn.com/wp-content/uploads/2021/07/img62.jpg
END:VEVENT
BEGIN:VEVENT
DTSTART;TZID=America/Detroit:20260416T180000
DTEND;TZID=America/Detroit:20260416T180000
DTSTAMP:20260423T201749
CREATED:20260413T191507Z
LAST-MODIFIED:20260413T191507Z
UID:10015738-1776362400-1776362400@firststjohn.com
SUMMARY:Choir Rehearsal
DESCRIPTION:JOIN US FOR CHOIR REHEARSAL! The choir is off to a great start! If you have ever considered joining the choir this is a great time to check it out! The next practice will be on Wednesday\, September 10th at 6pm. Our new choir director\, JoAnne Chrysochoos is eager to meet you and hopes you will join her! Come make a joyful noise to the Lord!
URL:https://firststjohn.com/event/choir-rehearsal-4-2/2026-04-16/
CATEGORIES:Choir,Featured,Fellowship
ATTACH;FMTTYPE=image/png:https://firststjohn.com/wp-content/uploads/2024/02/img10.png
END:VEVENT
BEGIN:VEVENT
DTSTART;TZID=America/New_York:20260419T080000
DTEND;TZID=America/New_York:20260419T080000
DTSTAMP:20260423T201749
CREATED:20250908T162850Z
LAST-MODIFIED:20260402T162122Z
UID:10012565-1776585600-1776585600@firststjohn.com
SUMMARY:Worship
DESCRIPTION:RETURN TO FALL/WINTER SERVICE SCHEDULE We will return to two services on Sept 7th at 8 am and 10:30 am. Please plan to join us on Sunday\, Sept 7th at either service. The church nursery will resume during 2nd service starting September 14th. See the contents of the newsletter for more festivities happening on Sept 7th as well!
URL:https://firststjohn.com/event/early-worship-service-3-2-2-4-19-4-3-4/2026-04-19/
LOCATION:Sanctuary\, 2471 Seaman St\, Toledo\, OH\, 43605\, United States
CATEGORIES:Children,Deacons,Elders,Featured,Trustees,Worship,Youth
ATTACH;FMTTYPE=image/jpeg:https://firststjohn.com/wp-content/uploads/2024/02/wine-and-bread.jpg
END:VEVENT
BEGIN:VEVENT
DTSTART;TZID=America/Detroit:20260419T103000
DTEND;TZID=America/Detroit:20260419T103000
DTSTAMP:20260423T201749
CREATED:20251108T173504Z
LAST-MODIFIED:20260303T002539Z
UID:10012827-1776594600-1776594600@firststjohn.com
SUMMARY:Worship
DESCRIPTION:RETURN TO FALL/WINTER SERVICE SCHEDULE We provide two Sunday services now at 8 am and 10:30 am. Please plan to join us on Sunday\, at either service. The church nursery is available for your use. See the contents of the newsletter for more festivities happening as well!
URL:https://firststjohn.com/event/early-worship-service-4-6/2026-04-19/
LOCATION:Sanctuary\, 2471 Seaman St\, Toledo\, OH\, 43605\, United States
CATEGORIES:Children,Deacons,Elders,Featured,Trustees,Worship,Youth
ATTACH;FMTTYPE=image/jpeg:https://firststjohn.com/wp-content/uploads/2024/02/wine-and-bread.jpg
END:VEVENT
BEGIN:VEVENT
DTSTART;TZID=America/Detroit:20260420T173000
DTEND;TZID=America/Detroit:20260420T173000
DTSTAMP:20260423T201749
CREATED:20250908T170450Z
LAST-MODIFIED:20250908T170450Z
UID:10013412-1776706200-1776706200@firststjohn.com
SUMMARY:Bell Choir
DESCRIPTION:FIRST ST. JOHN BELL CHOIR\nOur fabulous Bell Choir is looking for people to join us starting Sept. 15h in the church at 5:30 pm. We will give you instructions on how to hold and ring the bell. Come and give it a try! Contact Cheri  Sergent for any questions at (419) 410-3572.
URL:https://firststjohn.com/event/bell-choir-4/2026-04-20/
CATEGORIES:Bell Choir,Featured
ATTACH;FMTTYPE=image/jpeg:https://firststjohn.com/wp-content/uploads/2024/03/IMG_1561-scaled.jpeg
END:VEVENT
BEGIN:VEVENT
DTSTART;TZID=America/Detroit:20260422T180000
DTEND;TZID=America/Detroit:20260422T180000
DTSTAMP:20260423T201749
CREATED:20260413T191507Z
LAST-MODIFIED:20260413T191507Z
UID:10016004-1776880800-1776880800@firststjohn.com
SUMMARY:Choir Rehearsal
DESCRIPTION:JOIN US FOR CHOIR REHEARSAL! The choir is off to a great start! If you have ever considered joining the choir this is a great time to check it out! The next practice will be on Wednesday\, September 10th at 6pm. Our new choir director\, JoAnne Chrysochoos is eager to meet you and hopes you will join her! Come make a joyful noise to the Lord!
URL:https://firststjohn.com/event/choir-rehearsal-4-2/2026-04-22/
CATEGORIES:Choir,Featured,Fellowship
ATTACH;FMTTYPE=image/png:https://firststjohn.com/wp-content/uploads/2024/02/img10.png
END:VEVENT
BEGIN:VEVENT
DTSTART;TZID=America/Detroit:20260423T110000
DTEND;TZID=America/Detroit:20260423T110000
DTSTAMP:20260423T201749
CREATED:20251003T154421Z
LAST-MODIFIED:20251003T154421Z
UID:10013677-1776942000-1776942000@firststjohn.com
SUMMARY:Adult Bible Study
DESCRIPTION:ADULT BIBLE STUDY\nAdult Bible Study\, led by Pastor Rayl\, will resume on Thursday\, September 18th in the lounge. They will meet every Thursday at 11am. The subject of the study will be determined by the class the first meeting. If you would like more information\, please contact Pastor Rayl (pastor1@firststjohn.com) or by calling the church office: 419-691-7222.
URL:https://firststjohn.com/event/bible-study-5-2/2026-04-23/
CATEGORIES:Christian Education,Featured,Fellowship
ATTACH;FMTTYPE=image/jpeg:https://firststjohn.com/wp-content/uploads/2021/07/img62.jpg
END:VEVENT
BEGIN:VEVENT
DTSTART;TZID=America/New_York:20260426T080000
DTEND;TZID=America/New_York:20260426T080000
DTSTAMP:20260423T201749
CREATED:20250908T162850Z
LAST-MODIFIED:20260402T162122Z
UID:10012566-1777190400-1777190400@firststjohn.com
SUMMARY:Worship
DESCRIPTION:RETURN TO FALL/WINTER SERVICE SCHEDULE We will return to two services on Sept 7th at 8 am and 10:30 am. Please plan to join us on Sunday\, Sept 7th at either service. The church nursery will resume during 2nd service starting September 14th. See the contents of the newsletter for more festivities happening on Sept 7th as well!
URL:https://firststjohn.com/event/early-worship-service-3-2-2-4-19-4-3-4/2026-04-26/
LOCATION:Sanctuary\, 2471 Seaman St\, Toledo\, OH\, 43605\, United States
CATEGORIES:Children,Deacons,Elders,Featured,Trustees,Worship,Youth
ATTACH;FMTTYPE=image/jpeg:https://firststjohn.com/wp-content/uploads/2024/02/wine-and-bread.jpg
END:VEVENT
BEGIN:VEVENT
DTSTART;TZID=America/Detroit:20260426T103000
DTEND;TZID=America/Detroit:20260426T103000
DTSTAMP:20260423T201749
CREATED:20260402T162315Z
LAST-MODIFIED:20260402T162316Z
UID:10012828-1777199400-1777199400@firststjohn.com
SUMMARY:Worship/Comm
DESCRIPTION:RETURN TO FALL/WINTER SERVICE SCHEDULE We provide two Sunday services now at 8 am and 10:30 am. Please plan to join us on Sunday\, at either service. The church nursery is available for your use. See the contents of the newsletter for more festivities happening as well!
URL:https://firststjohn.com/event/early-worship-service-4-6-13/
LOCATION:Sanctuary\, 2471 Seaman St\, Toledo\, OH\, 43605\, United States
CATEGORIES:Children,Deacons,Elders,Featured,Trustees,Worship,Youth
ATTACH;FMTTYPE=image/jpeg:https://firststjohn.com/wp-content/uploads/2024/02/wine-and-bread.jpg
END:VEVENT
BEGIN:VEVENT
DTSTART;TZID=America/Detroit:20260427T173000
DTEND;TZID=America/Detroit:20260427T173000
DTSTAMP:20260423T201749
CREATED:20250908T170450Z
LAST-MODIFIED:20250908T170450Z
UID:10013413-1777311000-1777311000@firststjohn.com
SUMMARY:Bell Choir
DESCRIPTION:FIRST ST. JOHN BELL CHOIR\nOur fabulous Bell Choir is looking for people to join us starting Sept. 15h in the church at 5:30 pm. We will give you instructions on how to hold and ring the bell. Come and give it a try! Contact Cheri  Sergent for any questions at (419) 410-3572.
URL:https://firststjohn.com/event/bell-choir-4/2026-04-27/
CATEGORIES:Bell Choir,Featured
ATTACH;FMTTYPE=image/jpeg:https://firststjohn.com/wp-content/uploads/2024/03/IMG_1561-scaled.jpeg
END:VEVENT
BEGIN:VEVENT
DTSTART;TZID=America/Detroit:20260429T180000
DTEND;TZID=America/Detroit:20260429T180000
DTSTAMP:20260423T201749
CREATED:20260413T191507Z
LAST-MODIFIED:20260413T191507Z
UID:10016005-1777485600-1777485600@firststjohn.com
SUMMARY:Choir Rehearsal
DESCRIPTION:JOIN US FOR CHOIR REHEARSAL! The choir is off to a great start! If you have ever considered joining the choir this is a great time to check it out! The next practice will be on Wednesday\, September 10th at 6pm. Our new choir director\, JoAnne Chrysochoos is eager to meet you and hopes you will join her! Come make a joyful noise to the Lord!
URL:https://firststjohn.com/event/choir-rehearsal-4-2/2026-04-29/
CATEGORIES:Choir,Featured,Fellowship
ATTACH;FMTTYPE=image/png:https://firststjohn.com/wp-content/uploads/2024/02/img10.png
END:VEVENT
BEGIN:VEVENT
DTSTART;TZID=America/Detroit:20260430T110000
DTEND;TZID=America/Detroit:20260430T110000
DTSTAMP:20260423T201749
CREATED:20251003T154421Z
LAST-MODIFIED:20251003T154421Z
UID:10013678-1777546800-1777546800@firststjohn.com
SUMMARY:Adult Bible Study
DESCRIPTION:ADULT BIBLE STUDY\nAdult Bible Study\, led by Pastor Rayl\, will resume on Thursday\, September 18th in the lounge. They will meet every Thursday at 11am. The subject of the study will be determined by the class the first meeting. If you would like more information\, please contact Pastor Rayl (pastor1@firststjohn.com) or by calling the church office: 419-691-7222.
URL:https://firststjohn.com/event/bible-study-5-2/2026-04-30/
CATEGORIES:Christian Education,Featured,Fellowship
ATTACH;FMTTYPE=image/jpeg:https://firststjohn.com/wp-content/uploads/2021/07/img62.jpg
END:VEVENT
BEGIN:VEVENT
DTSTART;TZID=America/New_York:20260502T113000
DTEND;TZID=America/New_York:20260502T113000
DTSTAMP:20260423T201749
CREATED:20260202T205045Z
LAST-MODIFIED:20260202T205045Z
UID:10014750-1777721400-1777721400@firststjohn.com
SUMMARY:Rebecca Circle at The Old Bag of Nails
DESCRIPTION:
URL:https://firststjohn.com/event/rebecca-circle-3-4-2-2-3/2026-05-02/
LOCATION:Lounge
CATEGORIES:Featured,Fellowship,WELCA
ATTACH;FMTTYPE=image/jpeg:https://firststjohn.com/wp-content/uploads/2024/02/337269207_453075980310956_2926394173531348876_n.jpg
END:VEVENT
BEGIN:VEVENT
DTSTART;TZID=America/New_York:20260503T080000
DTEND;TZID=America/New_York:20260503T080000
DTSTAMP:20260423T201749
CREATED:20250908T162850Z
LAST-MODIFIED:20260402T162122Z
UID:10012567-1777795200-1777795200@firststjohn.com
SUMMARY:Worship
DESCRIPTION:RETURN TO FALL/WINTER SERVICE SCHEDULE We will return to two services on Sept 7th at 8 am and 10:30 am. Please plan to join us on Sunday\, Sept 7th at either service. The church nursery will resume during 2nd service starting September 14th. See the contents of the newsletter for more festivities happening on Sept 7th as well!
URL:https://firststjohn.com/event/early-worship-service-3-2-2-4-19-4-3-4/2026-05-03/
LOCATION:Sanctuary\, 2471 Seaman St\, Toledo\, OH\, 43605\, United States
CATEGORIES:Children,Deacons,Elders,Featured,Trustees,Worship,Youth
ATTACH;FMTTYPE=image/jpeg:https://firststjohn.com/wp-content/uploads/2024/02/wine-and-bread.jpg
END:VEVENT
BEGIN:VEVENT
DTSTART;TZID=America/Detroit:20260503T103000
DTEND;TZID=America/Detroit:20260503T103000
DTSTAMP:20260423T201749
CREATED:20251108T173504Z
LAST-MODIFIED:20260303T002539Z
UID:10012829-1777804200-1777804200@firststjohn.com
SUMMARY:Worship
DESCRIPTION:RETURN TO FALL/WINTER SERVICE SCHEDULE We provide two Sunday services now at 8 am and 10:30 am. Please plan to join us on Sunday\, at either service. The church nursery is available for your use. See the contents of the newsletter for more festivities happening as well!
URL:https://firststjohn.com/event/early-worship-service-4-6/2026-05-03/
LOCATION:Sanctuary\, 2471 Seaman St\, Toledo\, OH\, 43605\, United States
CATEGORIES:Children,Deacons,Elders,Featured,Trustees,Worship,Youth
ATTACH;FMTTYPE=image/jpeg:https://firststjohn.com/wp-content/uploads/2024/02/wine-and-bread.jpg
END:VEVENT
BEGIN:VEVENT
DTSTART;TZID=America/Detroit:20260504T173000
DTEND;TZID=America/Detroit:20260504T173000
DTSTAMP:20260423T201749
CREATED:20250908T170450Z
LAST-MODIFIED:20250908T170450Z
UID:10013414-1777915800-1777915800@firststjohn.com
SUMMARY:Bell Choir
DESCRIPTION:FIRST ST. JOHN BELL CHOIR\nOur fabulous Bell Choir is looking for people to join us starting Sept. 15h in the church at 5:30 pm. We will give you instructions on how to hold and ring the bell. Come and give it a try! Contact Cheri  Sergent for any questions at (419) 410-3572.
URL:https://firststjohn.com/event/bell-choir-4/2026-05-04/
CATEGORIES:Bell Choir,Featured
ATTACH;FMTTYPE=image/jpeg:https://firststjohn.com/wp-content/uploads/2024/03/IMG_1561-scaled.jpeg
END:VEVENT
BEGIN:VEVENT
DTSTART;TZID=America/New_York:20260506T110000
DTEND;TZID=America/New_York:20260506T110000
DTSTAMP:20260423T201749
CREATED:20260402T151023Z
LAST-MODIFIED:20260402T151023Z
UID:10015038-1778065200-1778065200@firststjohn.com
SUMMARY:Ruth Circle
DESCRIPTION:“The Woman of Consistency” \nThe Ruth Circle meets on the first tuesday of the month at 11 am.
URL:https://firststjohn.com/event/ruth-circle-2-2-3-2-4-2-6/2026-05-06/
LOCATION:Lounge
CATEGORIES:Chapel,Church Office,Featured,Fellowship,WELCA
ATTACH;FMTTYPE=image/jpeg:https://firststjohn.com/wp-content/uploads/2024/02/334204847_715639593392527_2754186504092574106_n.jpg
END:VEVENT
BEGIN:VEVENT
DTSTART;TZID=America/Detroit:20260506T180000
DTEND;TZID=America/Detroit:20260506T180000
DTSTAMP:20260423T201749
CREATED:20260413T191507Z
LAST-MODIFIED:20260413T191507Z
UID:10016006-1778090400-1778090400@firststjohn.com
SUMMARY:Choir Rehearsal
DESCRIPTION:JOIN US FOR CHOIR REHEARSAL! The choir is off to a great start! If you have ever considered joining the choir this is a great time to check it out! The next practice will be on Wednesday\, September 10th at 6pm. Our new choir director\, JoAnne Chrysochoos is eager to meet you and hopes you will join her! Come make a joyful noise to the Lord!
URL:https://firststjohn.com/event/choir-rehearsal-4-2/2026-05-06/
CATEGORIES:Choir,Featured,Fellowship
ATTACH;FMTTYPE=image/png:https://firststjohn.com/wp-content/uploads/2024/02/img10.png
END:VEVENT
BEGIN:VEVENT
DTSTART;TZID=America/Detroit:20260507T110000
DTEND;TZID=America/Detroit:20260507T110000
DTSTAMP:20260423T201749
CREATED:20251003T154421Z
LAST-MODIFIED:20251003T154421Z
UID:10013679-1778151600-1778151600@firststjohn.com
SUMMARY:Adult Bible Study
DESCRIPTION:ADULT BIBLE STUDY\nAdult Bible Study\, led by Pastor Rayl\, will resume on Thursday\, September 18th in the lounge. They will meet every Thursday at 11am. The subject of the study will be determined by the class the first meeting. If you would like more information\, please contact Pastor Rayl (pastor1@firststjohn.com) or by calling the church office: 419-691-7222.
URL:https://firststjohn.com/event/bible-study-5-2/2026-05-07/
CATEGORIES:Christian Education,Featured,Fellowship
ATTACH;FMTTYPE=image/jpeg:https://firststjohn.com/wp-content/uploads/2021/07/img62.jpg
END:VEVENT
BEGIN:VEVENT
DTSTART;TZID=America/New_York:20260509T083000
DTEND;TZID=America/New_York:20260509T083000
DTSTAMP:20260423T201749
CREATED:20251108T174642Z
LAST-MODIFIED:20251108T174643Z
UID:10014467-1778315400-1778315400@firststjohn.com
SUMMARY:Fellowship Breakfast (American Table)
DESCRIPTION:FELLOWSHIP BREAKFAST the next fellowship breakfast will be held on Saturday\, April 5th at 8:30 am at the American Table restaurant on the corner of Wheeling and Navarre (note the location change). See you there!  Good Food\, Good Friends\, and good conversations. Come join us! \n\nEveryone is invited
URL:https://firststjohn.com/event/fellowship-breakfast-2/2026-05-09/
LOCATION:American Table\, 846 S Wheeling St\, Oregon\, OH\, 43616\, United States
CATEGORIES:Featured,Fellowship
ATTACH;FMTTYPE=image/jpeg:https://firststjohn.com/wp-content/uploads/2024/03/Fellowship-Breakfast.jpg
END:VEVENT
BEGIN:VEVENT
DTSTART;TZID=America/New_York:20260510T080000
DTEND;TZID=America/New_York:20260510T080000
DTSTAMP:20260423T201749
CREATED:20250908T162850Z
LAST-MODIFIED:20260402T162122Z
UID:10012568-1778400000-1778400000@firststjohn.com
SUMMARY:Worship
DESCRIPTION:RETURN TO FALL/WINTER SERVICE SCHEDULE We will return to two services on Sept 7th at 8 am and 10:30 am. Please plan to join us on Sunday\, Sept 7th at either service. The church nursery will resume during 2nd service starting September 14th. See the contents of the newsletter for more festivities happening on Sept 7th as well!
URL:https://firststjohn.com/event/early-worship-service-3-2-2-4-19-4-3-4/2026-05-10/
LOCATION:Sanctuary\, 2471 Seaman St\, Toledo\, OH\, 43605\, United States
CATEGORIES:Children,Deacons,Elders,Featured,Trustees,Worship,Youth
ATTACH;FMTTYPE=image/jpeg:https://firststjohn.com/wp-content/uploads/2024/02/wine-and-bread.jpg
END:VEVENT
BEGIN:VEVENT
DTSTART;TZID=America/Detroit:20260510T103000
DTEND;TZID=America/Detroit:20260510T103000
DTSTAMP:20260423T201749
CREATED:20251108T173504Z
LAST-MODIFIED:20260303T002539Z
UID:10012830-1778409000-1778409000@firststjohn.com
SUMMARY:Worship
DESCRIPTION:RETURN TO FALL/WINTER SERVICE SCHEDULE We provide two Sunday services now at 8 am and 10:30 am. Please plan to join us on Sunday\, at either service. The church nursery is available for your use. See the contents of the newsletter for more festivities happening as well!
URL:https://firststjohn.com/event/early-worship-service-4-6/2026-05-10/
LOCATION:Sanctuary\, 2471 Seaman St\, Toledo\, OH\, 43605\, United States
CATEGORIES:Children,Deacons,Elders,Featured,Trustees,Worship,Youth
ATTACH;FMTTYPE=image/jpeg:https://firststjohn.com/wp-content/uploads/2024/02/wine-and-bread.jpg
END:VEVENT
BEGIN:VEVENT
DTSTART;TZID=America/Detroit:20260511T173000
DTEND;TZID=America/Detroit:20260511T173000
DTSTAMP:20260423T201749
CREATED:20250908T170450Z
LAST-MODIFIED:20250908T170450Z
UID:10013415-1778520600-1778520600@firststjohn.com
SUMMARY:Bell Choir
DESCRIPTION:FIRST ST. JOHN BELL CHOIR\nOur fabulous Bell Choir is looking for people to join us starting Sept. 15h in the church at 5:30 pm. We will give you instructions on how to hold and ring the bell. Come and give it a try! Contact Cheri  Sergent for any questions at (419) 410-3572.
URL:https://firststjohn.com/event/bell-choir-4/2026-05-11/
CATEGORIES:Bell Choir,Featured
ATTACH;FMTTYPE=image/jpeg:https://firststjohn.com/wp-content/uploads/2024/03/IMG_1561-scaled.jpeg
END:VEVENT
END:VCALENDAR