BEGIN:VCALENDAR
VERSION:2.0
PRODID:-//First St John - ECPv6.15.20//NONSGML v1.0//EN
CALSCALE:GREGORIAN
METHOD:PUBLISH
X-ORIGINAL-URL:https://firststjohn.com
X-WR-CALDESC:Events for First St John
REFRESH-INTERVAL;VALUE=DURATION:PT1H
X-Robots-Tag:noindex
X-PUBLISHED-TTL:PT1H
BEGIN:VTIMEZONE
TZID:America/Detroit
BEGIN:DAYLIGHT
TZOFFSETFROM:-0500
TZOFFSETTO:-0400
TZNAME:EDT
DTSTART:20260308T070000
END:DAYLIGHT
BEGIN:STANDARD
TZOFFSETFROM:-0400
TZOFFSETTO:-0500
TZNAME:EST
DTSTART:20261101T060000
END:STANDARD
BEGIN:DAYLIGHT
TZOFFSETFROM:-0500
TZOFFSETTO:-0400
TZNAME:EDT
DTSTART:20270314T070000
END:DAYLIGHT
BEGIN:STANDARD
TZOFFSETFROM:-0400
TZOFFSETTO:-0500
TZNAME:EST
DTSTART:20271107T060000
END:STANDARD
BEGIN:DAYLIGHT
TZOFFSETFROM:-0500
TZOFFSETTO:-0400
TZNAME:EDT
DTSTART:20280312T070000
END:DAYLIGHT
BEGIN:STANDARD
TZOFFSETFROM:-0400
TZOFFSETTO:-0500
TZNAME:EST
DTSTART:20281105T060000
END:STANDARD
END:VTIMEZONE
BEGIN:VTIMEZONE
TZID:America/New_York
BEGIN:DAYLIGHT
TZOFFSETFROM:-0500
TZOFFSETTO:-0400
TZNAME:EDT
DTSTART:20260308T070000
END:DAYLIGHT
BEGIN:STANDARD
TZOFFSETFROM:-0400
TZOFFSETTO:-0500
TZNAME:EST
DTSTART:20261101T060000
END:STANDARD
BEGIN:DAYLIGHT
TZOFFSETFROM:-0500
TZOFFSETTO:-0400
TZNAME:EDT
DTSTART:20270314T070000
END:DAYLIGHT
BEGIN:STANDARD
TZOFFSETFROM:-0400
TZOFFSETTO:-0500
TZNAME:EST
DTSTART:20271107T060000
END:STANDARD
BEGIN:DAYLIGHT
TZOFFSETFROM:-0500
TZOFFSETTO:-0400
TZNAME:EDT
DTSTART:20280312T070000
END:DAYLIGHT
BEGIN:STANDARD
TZOFFSETFROM:-0400
TZOFFSETTO:-0500
TZNAME:EST
DTSTART:20281105T060000
END:STANDARD
END:VTIMEZONE
BEGIN:VEVENT
DTSTART;TZID=America/Detroit:20270117T103000
DTEND;TZID=America/Detroit:20270117T103000
DTSTAMP:20260425T082645
CREATED:20251108T173504Z
LAST-MODIFIED:20260303T002539Z
UID:10012866-1800181800-1800181800@firststjohn.com
SUMMARY:Worship
DESCRIPTION:RETURN TO FALL/WINTER SERVICE SCHEDULE We provide two Sunday services now at 8 am and 10:30 am. Please plan to join us on Sunday\, at either service. The church nursery is available for your use. See the contents of the newsletter for more festivities happening as well!
URL:https://firststjohn.com/event/early-worship-service-4-6/2027-01-17/
LOCATION:Sanctuary\, 2471 Seaman St\, Toledo\, OH\, 43605\, United States
CATEGORIES:Children,Deacons,Elders,Featured,Trustees,Worship,Youth
ATTACH;FMTTYPE=image/jpeg:https://firststjohn.com/wp-content/uploads/2024/02/wine-and-bread.jpg
END:VEVENT
BEGIN:VEVENT
DTSTART;TZID=America/Detroit:20270118T173000
DTEND;TZID=America/Detroit:20270118T173000
DTSTAMP:20260425T082645
CREATED:20250908T170450Z
LAST-MODIFIED:20250908T170450Z
UID:10013451-1800293400-1800293400@firststjohn.com
SUMMARY:Bell Choir
DESCRIPTION:FIRST ST. JOHN BELL CHOIR\nOur fabulous Bell Choir is looking for people to join us starting Sept. 15h in the church at 5:30 pm. We will give you instructions on how to hold and ring the bell. Come and give it a try! Contact Cheri  Sergent for any questions at (419) 410-3572.
URL:https://firststjohn.com/event/bell-choir-4/2027-01-18/
CATEGORIES:Bell Choir,Featured
ATTACH;FMTTYPE=image/jpeg:https://firststjohn.com/wp-content/uploads/2024/03/IMG_1561-scaled.jpeg
END:VEVENT
BEGIN:VEVENT
DTSTART;TZID=America/Detroit:20270121T110000
DTEND;TZID=America/Detroit:20270121T110000
DTSTAMP:20260425T082645
CREATED:20251003T154421Z
LAST-MODIFIED:20251003T154421Z
UID:10013716-1800529200-1800529200@firststjohn.com
SUMMARY:Adult Bible Study
DESCRIPTION:ADULT BIBLE STUDY\nAdult Bible Study\, led by Pastor Rayl\, will resume on Thursday\, September 18th in the lounge. They will meet every Thursday at 11am. The subject of the study will be determined by the class the first meeting. If you would like more information\, please contact Pastor Rayl (pastor1@firststjohn.com) or by calling the church office: 419-691-7222.
URL:https://firststjohn.com/event/bible-study-5-2/2027-01-21/
CATEGORIES:Christian Education,Featured,Fellowship
ATTACH;FMTTYPE=image/jpeg:https://firststjohn.com/wp-content/uploads/2021/07/img62.jpg
END:VEVENT
BEGIN:VEVENT
DTSTART;TZID=America/New_York:20270124T080000
DTEND;TZID=America/New_York:20270124T080000
DTSTAMP:20260425T082645
CREATED:20250908T162850Z
LAST-MODIFIED:20260402T162122Z
UID:10012605-1800777600-1800777600@firststjohn.com
SUMMARY:Worship
DESCRIPTION:RETURN TO FALL/WINTER SERVICE SCHEDULE We will return to two services on Sept 7th at 8 am and 10:30 am. Please plan to join us on Sunday\, Sept 7th at either service. The church nursery will resume during 2nd service starting September 14th. See the contents of the newsletter for more festivities happening on Sept 7th as well!
URL:https://firststjohn.com/event/early-worship-service-3-2-2-4-19-4-3-4/2027-01-24/
LOCATION:Sanctuary\, 2471 Seaman St\, Toledo\, OH\, 43605\, United States
CATEGORIES:Children,Deacons,Elders,Featured,Trustees,Worship,Youth
ATTACH;FMTTYPE=image/jpeg:https://firststjohn.com/wp-content/uploads/2024/02/wine-and-bread.jpg
END:VEVENT
BEGIN:VEVENT
DTSTART;TZID=America/Detroit:20270124T103000
DTEND;TZID=America/Detroit:20270124T103000
DTSTAMP:20260425T082645
CREATED:20251108T173504Z
LAST-MODIFIED:20260303T002539Z
UID:10012867-1800786600-1800786600@firststjohn.com
SUMMARY:Worship
DESCRIPTION:RETURN TO FALL/WINTER SERVICE SCHEDULE We provide two Sunday services now at 8 am and 10:30 am. Please plan to join us on Sunday\, at either service. The church nursery is available for your use. See the contents of the newsletter for more festivities happening as well!
URL:https://firststjohn.com/event/early-worship-service-4-6/2027-01-24/
LOCATION:Sanctuary\, 2471 Seaman St\, Toledo\, OH\, 43605\, United States
CATEGORIES:Children,Deacons,Elders,Featured,Trustees,Worship,Youth
ATTACH;FMTTYPE=image/jpeg:https://firststjohn.com/wp-content/uploads/2024/02/wine-and-bread.jpg
END:VEVENT
BEGIN:VEVENT
DTSTART;TZID=America/Detroit:20270125T173000
DTEND;TZID=America/Detroit:20270125T173000
DTSTAMP:20260425T082645
CREATED:20250908T170450Z
LAST-MODIFIED:20250908T170450Z
UID:10013452-1800898200-1800898200@firststjohn.com
SUMMARY:Bell Choir
DESCRIPTION:FIRST ST. JOHN BELL CHOIR\nOur fabulous Bell Choir is looking for people to join us starting Sept. 15h in the church at 5:30 pm. We will give you instructions on how to hold and ring the bell. Come and give it a try! Contact Cheri  Sergent for any questions at (419) 410-3572.
URL:https://firststjohn.com/event/bell-choir-4/2027-01-25/
CATEGORIES:Bell Choir,Featured
ATTACH;FMTTYPE=image/jpeg:https://firststjohn.com/wp-content/uploads/2024/03/IMG_1561-scaled.jpeg
END:VEVENT
BEGIN:VEVENT
DTSTART;TZID=America/Detroit:20270128T110000
DTEND;TZID=America/Detroit:20270128T110000
DTSTAMP:20260425T082645
CREATED:20251003T154421Z
LAST-MODIFIED:20251003T154421Z
UID:10013717-1801134000-1801134000@firststjohn.com
SUMMARY:Adult Bible Study
DESCRIPTION:ADULT BIBLE STUDY\nAdult Bible Study\, led by Pastor Rayl\, will resume on Thursday\, September 18th in the lounge. They will meet every Thursday at 11am. The subject of the study will be determined by the class the first meeting. If you would like more information\, please contact Pastor Rayl (pastor1@firststjohn.com) or by calling the church office: 419-691-7222.
URL:https://firststjohn.com/event/bible-study-5-2/2027-01-28/
CATEGORIES:Christian Education,Featured,Fellowship
ATTACH;FMTTYPE=image/jpeg:https://firststjohn.com/wp-content/uploads/2021/07/img62.jpg
END:VEVENT
BEGIN:VEVENT
DTSTART;TZID=America/New_York:20270131T080000
DTEND;TZID=America/New_York:20270131T080000
DTSTAMP:20260425T082645
CREATED:20250908T162850Z
LAST-MODIFIED:20260402T162122Z
UID:10012606-1801382400-1801382400@firststjohn.com
SUMMARY:Worship
DESCRIPTION:RETURN TO FALL/WINTER SERVICE SCHEDULE We will return to two services on Sept 7th at 8 am and 10:30 am. Please plan to join us on Sunday\, Sept 7th at either service. The church nursery will resume during 2nd service starting September 14th. See the contents of the newsletter for more festivities happening on Sept 7th as well!
URL:https://firststjohn.com/event/early-worship-service-3-2-2-4-19-4-3-4/2027-01-31/
LOCATION:Sanctuary\, 2471 Seaman St\, Toledo\, OH\, 43605\, United States
CATEGORIES:Children,Deacons,Elders,Featured,Trustees,Worship,Youth
ATTACH;FMTTYPE=image/jpeg:https://firststjohn.com/wp-content/uploads/2024/02/wine-and-bread.jpg
END:VEVENT
BEGIN:VEVENT
DTSTART;TZID=America/Detroit:20270131T103000
DTEND;TZID=America/Detroit:20270131T103000
DTSTAMP:20260425T082645
CREATED:20251108T173504Z
LAST-MODIFIED:20260303T002539Z
UID:10012868-1801391400-1801391400@firststjohn.com
SUMMARY:Worship
DESCRIPTION:RETURN TO FALL/WINTER SERVICE SCHEDULE We provide two Sunday services now at 8 am and 10:30 am. Please plan to join us on Sunday\, at either service. The church nursery is available for your use. See the contents of the newsletter for more festivities happening as well!
URL:https://firststjohn.com/event/early-worship-service-4-6/2027-01-31/
LOCATION:Sanctuary\, 2471 Seaman St\, Toledo\, OH\, 43605\, United States
CATEGORIES:Children,Deacons,Elders,Featured,Trustees,Worship,Youth
ATTACH;FMTTYPE=image/jpeg:https://firststjohn.com/wp-content/uploads/2024/02/wine-and-bread.jpg
END:VEVENT
BEGIN:VEVENT
DTSTART;TZID=America/Detroit:20270201T173000
DTEND;TZID=America/Detroit:20270201T173000
DTSTAMP:20260425T082645
CREATED:20250908T170450Z
LAST-MODIFIED:20250908T170450Z
UID:10013453-1801503000-1801503000@firststjohn.com
SUMMARY:Bell Choir
DESCRIPTION:FIRST ST. JOHN BELL CHOIR\nOur fabulous Bell Choir is looking for people to join us starting Sept. 15h in the church at 5:30 pm. We will give you instructions on how to hold and ring the bell. Come and give it a try! Contact Cheri  Sergent for any questions at (419) 410-3572.
URL:https://firststjohn.com/event/bell-choir-4/2027-02-01/
CATEGORIES:Bell Choir,Featured
ATTACH;FMTTYPE=image/jpeg:https://firststjohn.com/wp-content/uploads/2024/03/IMG_1561-scaled.jpeg
END:VEVENT
BEGIN:VEVENT
DTSTART;TZID=America/New_York:20270203T110000
DTEND;TZID=America/New_York:20270203T110000
DTSTAMP:20260425T082645
CREATED:20260402T151023Z
LAST-MODIFIED:20260402T151023Z
UID:10015047-1801652400-1801652400@firststjohn.com
SUMMARY:Ruth Circle
DESCRIPTION:“The Woman of Consistency” \nThe Ruth Circle meets on the first tuesday of the month at 11 am.
URL:https://firststjohn.com/event/ruth-circle-2-2-3-2-4-2-6/2027-02-03/
LOCATION:Lounge
CATEGORIES:Chapel,Church Office,Featured,Fellowship,WELCA
ATTACH;FMTTYPE=image/jpeg:https://firststjohn.com/wp-content/uploads/2024/02/334204847_715639593392527_2754186504092574106_n.jpg
END:VEVENT
BEGIN:VEVENT
DTSTART;TZID=America/Detroit:20270204T110000
DTEND;TZID=America/Detroit:20270204T110000
DTSTAMP:20260425T082645
CREATED:20251003T154421Z
LAST-MODIFIED:20251003T154421Z
UID:10013718-1801738800-1801738800@firststjohn.com
SUMMARY:Adult Bible Study
DESCRIPTION:ADULT BIBLE STUDY\nAdult Bible Study\, led by Pastor Rayl\, will resume on Thursday\, September 18th in the lounge. They will meet every Thursday at 11am. The subject of the study will be determined by the class the first meeting. If you would like more information\, please contact Pastor Rayl (pastor1@firststjohn.com) or by calling the church office: 419-691-7222.
URL:https://firststjohn.com/event/bible-study-5-2/2027-02-04/
CATEGORIES:Christian Education,Featured,Fellowship
ATTACH;FMTTYPE=image/jpeg:https://firststjohn.com/wp-content/uploads/2021/07/img62.jpg
END:VEVENT
BEGIN:VEVENT
DTSTART;TZID=America/New_York:20270206T113000
DTEND;TZID=America/New_York:20270206T113000
DTSTAMP:20260425T082645
CREATED:20260202T205045Z
LAST-MODIFIED:20260202T205045Z
UID:10014759-1801913400-1801913400@firststjohn.com
SUMMARY:Rebecca Circle at The Old Bag of Nails
DESCRIPTION:
URL:https://firststjohn.com/event/rebecca-circle-3-4-2-2-3/2027-02-06/
LOCATION:Lounge
CATEGORIES:Featured,Fellowship,WELCA
ATTACH;FMTTYPE=image/jpeg:https://firststjohn.com/wp-content/uploads/2024/02/337269207_453075980310956_2926394173531348876_n.jpg
END:VEVENT
BEGIN:VEVENT
DTSTART;TZID=America/New_York:20270207T080000
DTEND;TZID=America/New_York:20270207T080000
DTSTAMP:20260425T082645
CREATED:20250908T162850Z
LAST-MODIFIED:20260402T162122Z
UID:10012607-1801987200-1801987200@firststjohn.com
SUMMARY:Worship
DESCRIPTION:RETURN TO FALL/WINTER SERVICE SCHEDULE We will return to two services on Sept 7th at 8 am and 10:30 am. Please plan to join us on Sunday\, Sept 7th at either service. The church nursery will resume during 2nd service starting September 14th. See the contents of the newsletter for more festivities happening on Sept 7th as well!
URL:https://firststjohn.com/event/early-worship-service-3-2-2-4-19-4-3-4/2027-02-07/
LOCATION:Sanctuary\, 2471 Seaman St\, Toledo\, OH\, 43605\, United States
CATEGORIES:Children,Deacons,Elders,Featured,Trustees,Worship,Youth
ATTACH;FMTTYPE=image/jpeg:https://firststjohn.com/wp-content/uploads/2024/02/wine-and-bread.jpg
END:VEVENT
BEGIN:VEVENT
DTSTART;TZID=America/Detroit:20270207T103000
DTEND;TZID=America/Detroit:20270207T103000
DTSTAMP:20260425T082645
CREATED:20251108T173504Z
LAST-MODIFIED:20260303T002539Z
UID:10012869-1801996200-1801996200@firststjohn.com
SUMMARY:Worship
DESCRIPTION:RETURN TO FALL/WINTER SERVICE SCHEDULE We provide two Sunday services now at 8 am and 10:30 am. Please plan to join us on Sunday\, at either service. The church nursery is available for your use. See the contents of the newsletter for more festivities happening as well!
URL:https://firststjohn.com/event/early-worship-service-4-6/2027-02-07/
LOCATION:Sanctuary\, 2471 Seaman St\, Toledo\, OH\, 43605\, United States
CATEGORIES:Children,Deacons,Elders,Featured,Trustees,Worship,Youth
ATTACH;FMTTYPE=image/jpeg:https://firststjohn.com/wp-content/uploads/2024/02/wine-and-bread.jpg
END:VEVENT
BEGIN:VEVENT
DTSTART;TZID=America/Detroit:20270208T173000
DTEND;TZID=America/Detroit:20270208T173000
DTSTAMP:20260425T082645
CREATED:20250908T170450Z
LAST-MODIFIED:20250908T170450Z
UID:10013454-1802107800-1802107800@firststjohn.com
SUMMARY:Bell Choir
DESCRIPTION:FIRST ST. JOHN BELL CHOIR\nOur fabulous Bell Choir is looking for people to join us starting Sept. 15h in the church at 5:30 pm. We will give you instructions on how to hold and ring the bell. Come and give it a try! Contact Cheri  Sergent for any questions at (419) 410-3572.
URL:https://firststjohn.com/event/bell-choir-4/2027-02-08/
CATEGORIES:Bell Choir,Featured
ATTACH;FMTTYPE=image/jpeg:https://firststjohn.com/wp-content/uploads/2024/03/IMG_1561-scaled.jpeg
END:VEVENT
BEGIN:VEVENT
DTSTART;TZID=America/Detroit:20270211T110000
DTEND;TZID=America/Detroit:20270211T110000
DTSTAMP:20260425T082645
CREATED:20251003T154421Z
LAST-MODIFIED:20251003T154421Z
UID:10013719-1802343600-1802343600@firststjohn.com
SUMMARY:Adult Bible Study
DESCRIPTION:ADULT BIBLE STUDY\nAdult Bible Study\, led by Pastor Rayl\, will resume on Thursday\, September 18th in the lounge. They will meet every Thursday at 11am. The subject of the study will be determined by the class the first meeting. If you would like more information\, please contact Pastor Rayl (pastor1@firststjohn.com) or by calling the church office: 419-691-7222.
URL:https://firststjohn.com/event/bible-study-5-2/2027-02-11/
CATEGORIES:Christian Education,Featured,Fellowship
ATTACH;FMTTYPE=image/jpeg:https://firststjohn.com/wp-content/uploads/2021/07/img62.jpg
END:VEVENT
BEGIN:VEVENT
DTSTART;TZID=America/New_York:20270213T083000
DTEND;TZID=America/New_York:20270213T083000
DTSTAMP:20260425T082645
CREATED:20251108T174642Z
LAST-MODIFIED:20251108T174643Z
UID:10014476-1802507400-1802507400@firststjohn.com
SUMMARY:Fellowship Breakfast (American Table)
DESCRIPTION:FELLOWSHIP BREAKFAST the next fellowship breakfast will be held on Saturday\, April 5th at 8:30 am at the American Table restaurant on the corner of Wheeling and Navarre (note the location change). See you there!  Good Food\, Good Friends\, and good conversations. Come join us! \n\nEveryone is invited
URL:https://firststjohn.com/event/fellowship-breakfast-2/2027-02-13/
LOCATION:American Table\, 846 S Wheeling St\, Oregon\, OH\, 43616\, United States
CATEGORIES:Featured,Fellowship
ATTACH;FMTTYPE=image/jpeg:https://firststjohn.com/wp-content/uploads/2024/03/Fellowship-Breakfast.jpg
END:VEVENT
BEGIN:VEVENT
DTSTART;TZID=America/New_York:20270214T080000
DTEND;TZID=America/New_York:20270214T080000
DTSTAMP:20260425T082645
CREATED:20250908T162850Z
LAST-MODIFIED:20260402T162122Z
UID:10012608-1802592000-1802592000@firststjohn.com
SUMMARY:Worship
DESCRIPTION:RETURN TO FALL/WINTER SERVICE SCHEDULE We will return to two services on Sept 7th at 8 am and 10:30 am. Please plan to join us on Sunday\, Sept 7th at either service. The church nursery will resume during 2nd service starting September 14th. See the contents of the newsletter for more festivities happening on Sept 7th as well!
URL:https://firststjohn.com/event/early-worship-service-3-2-2-4-19-4-3-4/2027-02-14/
LOCATION:Sanctuary\, 2471 Seaman St\, Toledo\, OH\, 43605\, United States
CATEGORIES:Children,Deacons,Elders,Featured,Trustees,Worship,Youth
ATTACH;FMTTYPE=image/jpeg:https://firststjohn.com/wp-content/uploads/2024/02/wine-and-bread.jpg
END:VEVENT
BEGIN:VEVENT
DTSTART;TZID=America/Detroit:20270214T103000
DTEND;TZID=America/Detroit:20270214T103000
DTSTAMP:20260425T082645
CREATED:20251108T173504Z
LAST-MODIFIED:20260303T002539Z
UID:10012870-1802601000-1802601000@firststjohn.com
SUMMARY:Worship
DESCRIPTION:RETURN TO FALL/WINTER SERVICE SCHEDULE We provide two Sunday services now at 8 am and 10:30 am. Please plan to join us on Sunday\, at either service. The church nursery is available for your use. See the contents of the newsletter for more festivities happening as well!
URL:https://firststjohn.com/event/early-worship-service-4-6/2027-02-14/
LOCATION:Sanctuary\, 2471 Seaman St\, Toledo\, OH\, 43605\, United States
CATEGORIES:Children,Deacons,Elders,Featured,Trustees,Worship,Youth
ATTACH;FMTTYPE=image/jpeg:https://firststjohn.com/wp-content/uploads/2024/02/wine-and-bread.jpg
END:VEVENT
BEGIN:VEVENT
DTSTART;TZID=America/Detroit:20270215T173000
DTEND;TZID=America/Detroit:20270215T173000
DTSTAMP:20260425T082645
CREATED:20250908T170450Z
LAST-MODIFIED:20250908T170450Z
UID:10013455-1802712600-1802712600@firststjohn.com
SUMMARY:Bell Choir
DESCRIPTION:FIRST ST. JOHN BELL CHOIR\nOur fabulous Bell Choir is looking for people to join us starting Sept. 15h in the church at 5:30 pm. We will give you instructions on how to hold and ring the bell. Come and give it a try! Contact Cheri  Sergent for any questions at (419) 410-3572.
URL:https://firststjohn.com/event/bell-choir-4/2027-02-15/
CATEGORIES:Bell Choir,Featured
ATTACH;FMTTYPE=image/jpeg:https://firststjohn.com/wp-content/uploads/2024/03/IMG_1561-scaled.jpeg
END:VEVENT
BEGIN:VEVENT
DTSTART;TZID=America/Detroit:20270218T110000
DTEND;TZID=America/Detroit:20270218T110000
DTSTAMP:20260425T082645
CREATED:20251003T154421Z
LAST-MODIFIED:20251003T154421Z
UID:10013720-1802948400-1802948400@firststjohn.com
SUMMARY:Adult Bible Study
DESCRIPTION:ADULT BIBLE STUDY\nAdult Bible Study\, led by Pastor Rayl\, will resume on Thursday\, September 18th in the lounge. They will meet every Thursday at 11am. The subject of the study will be determined by the class the first meeting. If you would like more information\, please contact Pastor Rayl (pastor1@firststjohn.com) or by calling the church office: 419-691-7222.
URL:https://firststjohn.com/event/bible-study-5-2/2027-02-18/
CATEGORIES:Christian Education,Featured,Fellowship
ATTACH;FMTTYPE=image/jpeg:https://firststjohn.com/wp-content/uploads/2021/07/img62.jpg
END:VEVENT
BEGIN:VEVENT
DTSTART;TZID=America/New_York:20270221T080000
DTEND;TZID=America/New_York:20270221T080000
DTSTAMP:20260425T082645
CREATED:20250908T162850Z
LAST-MODIFIED:20260402T162122Z
UID:10012609-1803196800-1803196800@firststjohn.com
SUMMARY:Worship
DESCRIPTION:RETURN TO FALL/WINTER SERVICE SCHEDULE We will return to two services on Sept 7th at 8 am and 10:30 am. Please plan to join us on Sunday\, Sept 7th at either service. The church nursery will resume during 2nd service starting September 14th. See the contents of the newsletter for more festivities happening on Sept 7th as well!
URL:https://firststjohn.com/event/early-worship-service-3-2-2-4-19-4-3-4/2027-02-21/
LOCATION:Sanctuary\, 2471 Seaman St\, Toledo\, OH\, 43605\, United States
CATEGORIES:Children,Deacons,Elders,Featured,Trustees,Worship,Youth
ATTACH;FMTTYPE=image/jpeg:https://firststjohn.com/wp-content/uploads/2024/02/wine-and-bread.jpg
END:VEVENT
BEGIN:VEVENT
DTSTART;TZID=America/Detroit:20270221T103000
DTEND;TZID=America/Detroit:20270221T103000
DTSTAMP:20260425T082645
CREATED:20251108T173504Z
LAST-MODIFIED:20260303T002539Z
UID:10012871-1803205800-1803205800@firststjohn.com
SUMMARY:Worship
DESCRIPTION:RETURN TO FALL/WINTER SERVICE SCHEDULE We provide two Sunday services now at 8 am and 10:30 am. Please plan to join us on Sunday\, at either service. The church nursery is available for your use. See the contents of the newsletter for more festivities happening as well!
URL:https://firststjohn.com/event/early-worship-service-4-6/2027-02-21/
LOCATION:Sanctuary\, 2471 Seaman St\, Toledo\, OH\, 43605\, United States
CATEGORIES:Children,Deacons,Elders,Featured,Trustees,Worship,Youth
ATTACH;FMTTYPE=image/jpeg:https://firststjohn.com/wp-content/uploads/2024/02/wine-and-bread.jpg
END:VEVENT
BEGIN:VEVENT
DTSTART;TZID=America/Detroit:20270222T173000
DTEND;TZID=America/Detroit:20270222T173000
DTSTAMP:20260425T082645
CREATED:20250908T170450Z
LAST-MODIFIED:20250908T170450Z
UID:10013456-1803317400-1803317400@firststjohn.com
SUMMARY:Bell Choir
DESCRIPTION:FIRST ST. JOHN BELL CHOIR\nOur fabulous Bell Choir is looking for people to join us starting Sept. 15h in the church at 5:30 pm. We will give you instructions on how to hold and ring the bell. Come and give it a try! Contact Cheri  Sergent for any questions at (419) 410-3572.
URL:https://firststjohn.com/event/bell-choir-4/2027-02-22/
CATEGORIES:Bell Choir,Featured
ATTACH;FMTTYPE=image/jpeg:https://firststjohn.com/wp-content/uploads/2024/03/IMG_1561-scaled.jpeg
END:VEVENT
BEGIN:VEVENT
DTSTART;TZID=America/Detroit:20270225T110000
DTEND;TZID=America/Detroit:20270225T110000
DTSTAMP:20260425T082645
CREATED:20251003T154421Z
LAST-MODIFIED:20251003T154421Z
UID:10013721-1803553200-1803553200@firststjohn.com
SUMMARY:Adult Bible Study
DESCRIPTION:ADULT BIBLE STUDY\nAdult Bible Study\, led by Pastor Rayl\, will resume on Thursday\, September 18th in the lounge. They will meet every Thursday at 11am. The subject of the study will be determined by the class the first meeting. If you would like more information\, please contact Pastor Rayl (pastor1@firststjohn.com) or by calling the church office: 419-691-7222.
URL:https://firststjohn.com/event/bible-study-5-2/2027-02-25/
CATEGORIES:Christian Education,Featured,Fellowship
ATTACH;FMTTYPE=image/jpeg:https://firststjohn.com/wp-content/uploads/2021/07/img62.jpg
END:VEVENT
BEGIN:VEVENT
DTSTART;TZID=America/New_York:20270228T080000
DTEND;TZID=America/New_York:20270228T080000
DTSTAMP:20260425T082645
CREATED:20250908T162850Z
LAST-MODIFIED:20260402T162122Z
UID:10012610-1803801600-1803801600@firststjohn.com
SUMMARY:Worship
DESCRIPTION:RETURN TO FALL/WINTER SERVICE SCHEDULE We will return to two services on Sept 7th at 8 am and 10:30 am. Please plan to join us on Sunday\, Sept 7th at either service. The church nursery will resume during 2nd service starting September 14th. See the contents of the newsletter for more festivities happening on Sept 7th as well!
URL:https://firststjohn.com/event/early-worship-service-3-2-2-4-19-4-3-4/2027-02-28/
LOCATION:Sanctuary\, 2471 Seaman St\, Toledo\, OH\, 43605\, United States
CATEGORIES:Children,Deacons,Elders,Featured,Trustees,Worship,Youth
ATTACH;FMTTYPE=image/jpeg:https://firststjohn.com/wp-content/uploads/2024/02/wine-and-bread.jpg
END:VEVENT
BEGIN:VEVENT
DTSTART;TZID=America/Detroit:20270228T103000
DTEND;TZID=America/Detroit:20270228T103000
DTSTAMP:20260425T082645
CREATED:20251108T173504Z
LAST-MODIFIED:20260303T002539Z
UID:10012872-1803810600-1803810600@firststjohn.com
SUMMARY:Worship
DESCRIPTION:RETURN TO FALL/WINTER SERVICE SCHEDULE We provide two Sunday services now at 8 am and 10:30 am. Please plan to join us on Sunday\, at either service. The church nursery is available for your use. See the contents of the newsletter for more festivities happening as well!
URL:https://firststjohn.com/event/early-worship-service-4-6/2027-02-28/
LOCATION:Sanctuary\, 2471 Seaman St\, Toledo\, OH\, 43605\, United States
CATEGORIES:Children,Deacons,Elders,Featured,Trustees,Worship,Youth
ATTACH;FMTTYPE=image/jpeg:https://firststjohn.com/wp-content/uploads/2024/02/wine-and-bread.jpg
END:VEVENT
BEGIN:VEVENT
DTSTART;TZID=America/Detroit:20270301T173000
DTEND;TZID=America/Detroit:20270301T173000
DTSTAMP:20260425T082645
CREATED:20250908T170450Z
LAST-MODIFIED:20250908T170450Z
UID:10013457-1803922200-1803922200@firststjohn.com
SUMMARY:Bell Choir
DESCRIPTION:FIRST ST. JOHN BELL CHOIR\nOur fabulous Bell Choir is looking for people to join us starting Sept. 15h in the church at 5:30 pm. We will give you instructions on how to hold and ring the bell. Come and give it a try! Contact Cheri  Sergent for any questions at (419) 410-3572.
URL:https://firststjohn.com/event/bell-choir-4/2027-03-01/
CATEGORIES:Bell Choir,Featured
ATTACH;FMTTYPE=image/jpeg:https://firststjohn.com/wp-content/uploads/2024/03/IMG_1561-scaled.jpeg
END:VEVENT
BEGIN:VEVENT
DTSTART;TZID=America/New_York:20270303T110000
DTEND;TZID=America/New_York:20270303T110000
DTSTAMP:20260425T082645
CREATED:20260402T151023Z
LAST-MODIFIED:20260402T151023Z
UID:10015048-1804071600-1804071600@firststjohn.com
SUMMARY:Ruth Circle
DESCRIPTION:“The Woman of Consistency” \nThe Ruth Circle meets on the first tuesday of the month at 11 am.
URL:https://firststjohn.com/event/ruth-circle-2-2-3-2-4-2-6/2027-03-03/
LOCATION:Lounge
CATEGORIES:Chapel,Church Office,Featured,Fellowship,WELCA
ATTACH;FMTTYPE=image/jpeg:https://firststjohn.com/wp-content/uploads/2024/02/334204847_715639593392527_2754186504092574106_n.jpg
END:VEVENT
END:VCALENDAR