BEGIN:VCALENDAR
VERSION:2.0
PRODID:-//First St John - ECPv6.15.20//NONSGML v1.0//EN
CALSCALE:GREGORIAN
METHOD:PUBLISH
X-WR-CALNAME:First St John
X-ORIGINAL-URL:https://firststjohn.com
X-WR-CALDESC:Events for First St John
REFRESH-INTERVAL;VALUE=DURATION:PT1H
X-Robots-Tag:noindex
X-PUBLISHED-TTL:PT1H
BEGIN:VTIMEZONE
TZID:America/New_York
BEGIN:DAYLIGHT
TZOFFSETFROM:-0500
TZOFFSETTO:-0400
TZNAME:EDT
DTSTART:20270314T070000
END:DAYLIGHT
BEGIN:STANDARD
TZOFFSETFROM:-0400
TZOFFSETTO:-0500
TZNAME:EST
DTSTART:20271107T060000
END:STANDARD
BEGIN:DAYLIGHT
TZOFFSETFROM:-0500
TZOFFSETTO:-0400
TZNAME:EDT
DTSTART:20280312T070000
END:DAYLIGHT
BEGIN:STANDARD
TZOFFSETFROM:-0400
TZOFFSETTO:-0500
TZNAME:EST
DTSTART:20281105T060000
END:STANDARD
BEGIN:DAYLIGHT
TZOFFSETFROM:-0500
TZOFFSETTO:-0400
TZNAME:EDT
DTSTART:20290311T070000
END:DAYLIGHT
BEGIN:STANDARD
TZOFFSETFROM:-0400
TZOFFSETTO:-0500
TZNAME:EST
DTSTART:20291104T060000
END:STANDARD
END:VTIMEZONE
BEGIN:VTIMEZONE
TZID:America/Detroit
BEGIN:DAYLIGHT
TZOFFSETFROM:-0500
TZOFFSETTO:-0400
TZNAME:EDT
DTSTART:20270314T070000
END:DAYLIGHT
BEGIN:STANDARD
TZOFFSETFROM:-0400
TZOFFSETTO:-0500
TZNAME:EST
DTSTART:20271107T060000
END:STANDARD
BEGIN:DAYLIGHT
TZOFFSETFROM:-0500
TZOFFSETTO:-0400
TZNAME:EDT
DTSTART:20280312T070000
END:DAYLIGHT
BEGIN:STANDARD
TZOFFSETFROM:-0400
TZOFFSETTO:-0500
TZNAME:EST
DTSTART:20281105T060000
END:STANDARD
BEGIN:DAYLIGHT
TZOFFSETFROM:-0500
TZOFFSETTO:-0400
TZNAME:EDT
DTSTART:20290311T070000
END:DAYLIGHT
BEGIN:STANDARD
TZOFFSETFROM:-0400
TZOFFSETTO:-0500
TZNAME:EST
DTSTART:20291104T060000
END:STANDARD
END:VTIMEZONE
BEGIN:VEVENT
DTSTART;TZID=America/New_York:20280123T080000
DTEND;TZID=America/New_York:20280123T080000
DTSTAMP:20260425T112515
CREATED:20250908T162850Z
LAST-MODIFIED:20260402T162122Z
UID:10012657-1832227200-1832227200@firststjohn.com
SUMMARY:Worship
DESCRIPTION:RETURN TO FALL/WINTER SERVICE SCHEDULE We will return to two services on Sept 7th at 8 am and 10:30 am. Please plan to join us on Sunday\, Sept 7th at either service. The church nursery will resume during 2nd service starting September 14th. See the contents of the newsletter for more festivities happening on Sept 7th as well!
URL:https://firststjohn.com/event/early-worship-service-3-2-2-4-19-4-3-4/2028-01-23/
LOCATION:Sanctuary\, 2471 Seaman St\, Toledo\, OH\, 43605\, United States
CATEGORIES:Children,Deacons,Elders,Featured,Trustees,Worship,Youth
ATTACH;FMTTYPE=image/jpeg:https://firststjohn.com/wp-content/uploads/2024/02/wine-and-bread.jpg
END:VEVENT
BEGIN:VEVENT
DTSTART;TZID=America/Detroit:20280123T103000
DTEND;TZID=America/Detroit:20280123T103000
DTSTAMP:20260425T112515
CREATED:20251108T173504Z
LAST-MODIFIED:20260303T002539Z
UID:10012919-1832236200-1832236200@firststjohn.com
SUMMARY:Worship
DESCRIPTION:RETURN TO FALL/WINTER SERVICE SCHEDULE We provide two Sunday services now at 8 am and 10:30 am. Please plan to join us on Sunday\, at either service. The church nursery is available for your use. See the contents of the newsletter for more festivities happening as well!
URL:https://firststjohn.com/event/early-worship-service-4-6/2028-01-23/
LOCATION:Sanctuary\, 2471 Seaman St\, Toledo\, OH\, 43605\, United States
CATEGORIES:Children,Deacons,Elders,Featured,Trustees,Worship,Youth
ATTACH;FMTTYPE=image/jpeg:https://firststjohn.com/wp-content/uploads/2024/02/wine-and-bread.jpg
END:VEVENT
BEGIN:VEVENT
DTSTART;TZID=America/New_York:20280130T080000
DTEND;TZID=America/New_York:20280130T080000
DTSTAMP:20260425T112515
CREATED:20250908T162850Z
LAST-MODIFIED:20260402T162122Z
UID:10012658-1832832000-1832832000@firststjohn.com
SUMMARY:Worship
DESCRIPTION:RETURN TO FALL/WINTER SERVICE SCHEDULE We will return to two services on Sept 7th at 8 am and 10:30 am. Please plan to join us on Sunday\, Sept 7th at either service. The church nursery will resume during 2nd service starting September 14th. See the contents of the newsletter for more festivities happening on Sept 7th as well!
URL:https://firststjohn.com/event/early-worship-service-3-2-2-4-19-4-3-4/2028-01-30/
LOCATION:Sanctuary\, 2471 Seaman St\, Toledo\, OH\, 43605\, United States
CATEGORIES:Children,Deacons,Elders,Featured,Trustees,Worship,Youth
ATTACH;FMTTYPE=image/jpeg:https://firststjohn.com/wp-content/uploads/2024/02/wine-and-bread.jpg
END:VEVENT
BEGIN:VEVENT
DTSTART;TZID=America/Detroit:20280130T103000
DTEND;TZID=America/Detroit:20280130T103000
DTSTAMP:20260425T112515
CREATED:20251108T173504Z
LAST-MODIFIED:20260303T002539Z
UID:10012920-1832841000-1832841000@firststjohn.com
SUMMARY:Worship
DESCRIPTION:RETURN TO FALL/WINTER SERVICE SCHEDULE We provide two Sunday services now at 8 am and 10:30 am. Please plan to join us on Sunday\, at either service. The church nursery is available for your use. See the contents of the newsletter for more festivities happening as well!
URL:https://firststjohn.com/event/early-worship-service-4-6/2028-01-30/
LOCATION:Sanctuary\, 2471 Seaman St\, Toledo\, OH\, 43605\, United States
CATEGORIES:Children,Deacons,Elders,Featured,Trustees,Worship,Youth
ATTACH;FMTTYPE=image/jpeg:https://firststjohn.com/wp-content/uploads/2024/02/wine-and-bread.jpg
END:VEVENT
BEGIN:VEVENT
DTSTART;TZID=America/New_York:20280206T080000
DTEND;TZID=America/New_York:20280206T080000
DTSTAMP:20260425T112515
CREATED:20250908T162850Z
LAST-MODIFIED:20260402T162122Z
UID:10012659-1833436800-1833436800@firststjohn.com
SUMMARY:Worship
DESCRIPTION:RETURN TO FALL/WINTER SERVICE SCHEDULE We will return to two services on Sept 7th at 8 am and 10:30 am. Please plan to join us on Sunday\, Sept 7th at either service. The church nursery will resume during 2nd service starting September 14th. See the contents of the newsletter for more festivities happening on Sept 7th as well!
URL:https://firststjohn.com/event/early-worship-service-3-2-2-4-19-4-3-4/2028-02-06/
LOCATION:Sanctuary\, 2471 Seaman St\, Toledo\, OH\, 43605\, United States
CATEGORIES:Children,Deacons,Elders,Featured,Trustees,Worship,Youth
ATTACH;FMTTYPE=image/jpeg:https://firststjohn.com/wp-content/uploads/2024/02/wine-and-bread.jpg
END:VEVENT
BEGIN:VEVENT
DTSTART;TZID=America/Detroit:20280206T103000
DTEND;TZID=America/Detroit:20280206T103000
DTSTAMP:20260425T112515
CREATED:20251108T173504Z
LAST-MODIFIED:20260303T002539Z
UID:10012921-1833445800-1833445800@firststjohn.com
SUMMARY:Worship
DESCRIPTION:RETURN TO FALL/WINTER SERVICE SCHEDULE We provide two Sunday services now at 8 am and 10:30 am. Please plan to join us on Sunday\, at either service. The church nursery is available for your use. See the contents of the newsletter for more festivities happening as well!
URL:https://firststjohn.com/event/early-worship-service-4-6/2028-02-06/
LOCATION:Sanctuary\, 2471 Seaman St\, Toledo\, OH\, 43605\, United States
CATEGORIES:Children,Deacons,Elders,Featured,Trustees,Worship,Youth
ATTACH;FMTTYPE=image/jpeg:https://firststjohn.com/wp-content/uploads/2024/02/wine-and-bread.jpg
END:VEVENT
BEGIN:VEVENT
DTSTART;TZID=America/Detroit:20280208T183000
DTEND;TZID=America/Detroit:20280208T183000
DTSTAMP:20260425T112515
CREATED:20260303T000217Z
LAST-MODIFIED:20260303T000217Z
UID:10014987-1833647400-1833647400@firststjohn.com
SUMMARY:Finance Mtg
DESCRIPTION:
URL:https://firststjohn.com/event/finance-mtg/2028-02-08/
LOCATION:OH
CATEGORIES:Deacons
ATTACH;FMTTYPE=image/jpeg:https://firststjohn.com/wp-content/uploads/2024/03/img40.jpeg
ORGANIZER;CN="Jennifer Hess":MAILTO:office@firststjohn.com
END:VEVENT
BEGIN:VEVENT
DTSTART;TZID=America/New_York:20280213T080000
DTEND;TZID=America/New_York:20280213T080000
DTSTAMP:20260425T112515
CREATED:20250908T162850Z
LAST-MODIFIED:20260402T162122Z
UID:10012660-1834041600-1834041600@firststjohn.com
SUMMARY:Worship
DESCRIPTION:RETURN TO FALL/WINTER SERVICE SCHEDULE We will return to two services on Sept 7th at 8 am and 10:30 am. Please plan to join us on Sunday\, Sept 7th at either service. The church nursery will resume during 2nd service starting September 14th. See the contents of the newsletter for more festivities happening on Sept 7th as well!
URL:https://firststjohn.com/event/early-worship-service-3-2-2-4-19-4-3-4/2028-02-13/
LOCATION:Sanctuary\, 2471 Seaman St\, Toledo\, OH\, 43605\, United States
CATEGORIES:Children,Deacons,Elders,Featured,Trustees,Worship,Youth
ATTACH;FMTTYPE=image/jpeg:https://firststjohn.com/wp-content/uploads/2024/02/wine-and-bread.jpg
END:VEVENT
BEGIN:VEVENT
DTSTART;TZID=America/Detroit:20280213T103000
DTEND;TZID=America/Detroit:20280213T103000
DTSTAMP:20260425T112515
CREATED:20251108T173504Z
LAST-MODIFIED:20260303T002539Z
UID:10012922-1834050600-1834050600@firststjohn.com
SUMMARY:Worship
DESCRIPTION:RETURN TO FALL/WINTER SERVICE SCHEDULE We provide two Sunday services now at 8 am and 10:30 am. Please plan to join us on Sunday\, at either service. The church nursery is available for your use. See the contents of the newsletter for more festivities happening as well!
URL:https://firststjohn.com/event/early-worship-service-4-6/2028-02-13/
LOCATION:Sanctuary\, 2471 Seaman St\, Toledo\, OH\, 43605\, United States
CATEGORIES:Children,Deacons,Elders,Featured,Trustees,Worship,Youth
ATTACH;FMTTYPE=image/jpeg:https://firststjohn.com/wp-content/uploads/2024/02/wine-and-bread.jpg
END:VEVENT
BEGIN:VEVENT
DTSTART;TZID=America/New_York:20280220T080000
DTEND;TZID=America/New_York:20280220T080000
DTSTAMP:20260425T112515
CREATED:20250908T162850Z
LAST-MODIFIED:20260402T162122Z
UID:10012661-1834646400-1834646400@firststjohn.com
SUMMARY:Worship
DESCRIPTION:RETURN TO FALL/WINTER SERVICE SCHEDULE We will return to two services on Sept 7th at 8 am and 10:30 am. Please plan to join us on Sunday\, Sept 7th at either service. The church nursery will resume during 2nd service starting September 14th. See the contents of the newsletter for more festivities happening on Sept 7th as well!
URL:https://firststjohn.com/event/early-worship-service-3-2-2-4-19-4-3-4/2028-02-20/
LOCATION:Sanctuary\, 2471 Seaman St\, Toledo\, OH\, 43605\, United States
CATEGORIES:Children,Deacons,Elders,Featured,Trustees,Worship,Youth
ATTACH;FMTTYPE=image/jpeg:https://firststjohn.com/wp-content/uploads/2024/02/wine-and-bread.jpg
END:VEVENT
BEGIN:VEVENT
DTSTART;TZID=America/Detroit:20280220T103000
DTEND;TZID=America/Detroit:20280220T103000
DTSTAMP:20260425T112515
CREATED:20251108T173504Z
LAST-MODIFIED:20260303T002539Z
UID:10012923-1834655400-1834655400@firststjohn.com
SUMMARY:Worship
DESCRIPTION:RETURN TO FALL/WINTER SERVICE SCHEDULE We provide two Sunday services now at 8 am and 10:30 am. Please plan to join us on Sunday\, at either service. The church nursery is available for your use. See the contents of the newsletter for more festivities happening as well!
URL:https://firststjohn.com/event/early-worship-service-4-6/2028-02-20/
LOCATION:Sanctuary\, 2471 Seaman St\, Toledo\, OH\, 43605\, United States
CATEGORIES:Children,Deacons,Elders,Featured,Trustees,Worship,Youth
ATTACH;FMTTYPE=image/jpeg:https://firststjohn.com/wp-content/uploads/2024/02/wine-and-bread.jpg
END:VEVENT
BEGIN:VEVENT
DTSTART;TZID=America/New_York:20280227T080000
DTEND;TZID=America/New_York:20280227T080000
DTSTAMP:20260425T112515
CREATED:20250908T162850Z
LAST-MODIFIED:20260402T162122Z
UID:10012662-1835251200-1835251200@firststjohn.com
SUMMARY:Worship
DESCRIPTION:RETURN TO FALL/WINTER SERVICE SCHEDULE We will return to two services on Sept 7th at 8 am and 10:30 am. Please plan to join us on Sunday\, Sept 7th at either service. The church nursery will resume during 2nd service starting September 14th. See the contents of the newsletter for more festivities happening on Sept 7th as well!
URL:https://firststjohn.com/event/early-worship-service-3-2-2-4-19-4-3-4/2028-02-27/
LOCATION:Sanctuary\, 2471 Seaman St\, Toledo\, OH\, 43605\, United States
CATEGORIES:Children,Deacons,Elders,Featured,Trustees,Worship,Youth
ATTACH;FMTTYPE=image/jpeg:https://firststjohn.com/wp-content/uploads/2024/02/wine-and-bread.jpg
END:VEVENT
BEGIN:VEVENT
DTSTART;TZID=America/Detroit:20280227T103000
DTEND;TZID=America/Detroit:20280227T103000
DTSTAMP:20260425T112515
CREATED:20251108T173504Z
LAST-MODIFIED:20260303T002539Z
UID:10012924-1835260200-1835260200@firststjohn.com
SUMMARY:Worship
DESCRIPTION:RETURN TO FALL/WINTER SERVICE SCHEDULE We provide two Sunday services now at 8 am and 10:30 am. Please plan to join us on Sunday\, at either service. The church nursery is available for your use. See the contents of the newsletter for more festivities happening as well!
URL:https://firststjohn.com/event/early-worship-service-4-6/2028-02-27/
LOCATION:Sanctuary\, 2471 Seaman St\, Toledo\, OH\, 43605\, United States
CATEGORIES:Children,Deacons,Elders,Featured,Trustees,Worship,Youth
ATTACH;FMTTYPE=image/jpeg:https://firststjohn.com/wp-content/uploads/2024/02/wine-and-bread.jpg
END:VEVENT
BEGIN:VEVENT
DTSTART;TZID=America/New_York:20280305T080000
DTEND;TZID=America/New_York:20280305T080000
DTSTAMP:20260425T112515
CREATED:20250908T162850Z
LAST-MODIFIED:20260402T162122Z
UID:10012663-1835856000-1835856000@firststjohn.com
SUMMARY:Worship
DESCRIPTION:RETURN TO FALL/WINTER SERVICE SCHEDULE We will return to two services on Sept 7th at 8 am and 10:30 am. Please plan to join us on Sunday\, Sept 7th at either service. The church nursery will resume during 2nd service starting September 14th. See the contents of the newsletter for more festivities happening on Sept 7th as well!
URL:https://firststjohn.com/event/early-worship-service-3-2-2-4-19-4-3-4/2028-03-05/
LOCATION:Sanctuary\, 2471 Seaman St\, Toledo\, OH\, 43605\, United States
CATEGORIES:Children,Deacons,Elders,Featured,Trustees,Worship,Youth
ATTACH;FMTTYPE=image/jpeg:https://firststjohn.com/wp-content/uploads/2024/02/wine-and-bread.jpg
END:VEVENT
BEGIN:VEVENT
DTSTART;TZID=America/Detroit:20280305T103000
DTEND;TZID=America/Detroit:20280305T103000
DTSTAMP:20260425T112515
CREATED:20251108T173504Z
LAST-MODIFIED:20260303T002539Z
UID:10012925-1835865000-1835865000@firststjohn.com
SUMMARY:Worship
DESCRIPTION:RETURN TO FALL/WINTER SERVICE SCHEDULE We provide two Sunday services now at 8 am and 10:30 am. Please plan to join us on Sunday\, at either service. The church nursery is available for your use. See the contents of the newsletter for more festivities happening as well!
URL:https://firststjohn.com/event/early-worship-service-4-6/2028-03-05/
LOCATION:Sanctuary\, 2471 Seaman St\, Toledo\, OH\, 43605\, United States
CATEGORIES:Children,Deacons,Elders,Featured,Trustees,Worship,Youth
ATTACH;FMTTYPE=image/jpeg:https://firststjohn.com/wp-content/uploads/2024/02/wine-and-bread.jpg
END:VEVENT
BEGIN:VEVENT
DTSTART;TZID=America/New_York:20280312T080000
DTEND;TZID=America/New_York:20280312T080000
DTSTAMP:20260425T112515
CREATED:20250908T162850Z
LAST-MODIFIED:20260402T162122Z
UID:10012664-1836460800-1836460800@firststjohn.com
SUMMARY:Worship
DESCRIPTION:RETURN TO FALL/WINTER SERVICE SCHEDULE We will return to two services on Sept 7th at 8 am and 10:30 am. Please plan to join us on Sunday\, Sept 7th at either service. The church nursery will resume during 2nd service starting September 14th. See the contents of the newsletter for more festivities happening on Sept 7th as well!
URL:https://firststjohn.com/event/early-worship-service-3-2-2-4-19-4-3-4/2028-03-12/
LOCATION:Sanctuary\, 2471 Seaman St\, Toledo\, OH\, 43605\, United States
CATEGORIES:Children,Deacons,Elders,Featured,Trustees,Worship,Youth
ATTACH;FMTTYPE=image/jpeg:https://firststjohn.com/wp-content/uploads/2024/02/wine-and-bread.jpg
END:VEVENT
BEGIN:VEVENT
DTSTART;TZID=America/Detroit:20280312T103000
DTEND;TZID=America/Detroit:20280312T103000
DTSTAMP:20260425T112515
CREATED:20251108T173504Z
LAST-MODIFIED:20260303T002539Z
UID:10012926-1836469800-1836469800@firststjohn.com
SUMMARY:Worship
DESCRIPTION:RETURN TO FALL/WINTER SERVICE SCHEDULE We provide two Sunday services now at 8 am and 10:30 am. Please plan to join us on Sunday\, at either service. The church nursery is available for your use. See the contents of the newsletter for more festivities happening as well!
URL:https://firststjohn.com/event/early-worship-service-4-6/2028-03-12/
LOCATION:Sanctuary\, 2471 Seaman St\, Toledo\, OH\, 43605\, United States
CATEGORIES:Children,Deacons,Elders,Featured,Trustees,Worship,Youth
ATTACH;FMTTYPE=image/jpeg:https://firststjohn.com/wp-content/uploads/2024/02/wine-and-bread.jpg
END:VEVENT
BEGIN:VEVENT
DTSTART;TZID=America/Detroit:20280314T183000
DTEND;TZID=America/Detroit:20280314T183000
DTSTAMP:20260425T112515
CREATED:20260303T000217Z
LAST-MODIFIED:20260303T000217Z
UID:10014988-1836671400-1836671400@firststjohn.com
SUMMARY:Finance Mtg
DESCRIPTION:
URL:https://firststjohn.com/event/finance-mtg/2028-03-14/
LOCATION:OH
CATEGORIES:Deacons
ATTACH;FMTTYPE=image/jpeg:https://firststjohn.com/wp-content/uploads/2024/03/img40.jpeg
ORGANIZER;CN="Jennifer Hess":MAILTO:office@firststjohn.com
END:VEVENT
BEGIN:VEVENT
DTSTART;TZID=America/New_York:20280319T080000
DTEND;TZID=America/New_York:20280319T080000
DTSTAMP:20260425T112515
CREATED:20250908T162850Z
LAST-MODIFIED:20260402T162122Z
UID:10012665-1837065600-1837065600@firststjohn.com
SUMMARY:Worship
DESCRIPTION:RETURN TO FALL/WINTER SERVICE SCHEDULE We will return to two services on Sept 7th at 8 am and 10:30 am. Please plan to join us on Sunday\, Sept 7th at either service. The church nursery will resume during 2nd service starting September 14th. See the contents of the newsletter for more festivities happening on Sept 7th as well!
URL:https://firststjohn.com/event/early-worship-service-3-2-2-4-19-4-3-4/2028-03-19/
LOCATION:Sanctuary\, 2471 Seaman St\, Toledo\, OH\, 43605\, United States
CATEGORIES:Children,Deacons,Elders,Featured,Trustees,Worship,Youth
ATTACH;FMTTYPE=image/jpeg:https://firststjohn.com/wp-content/uploads/2024/02/wine-and-bread.jpg
END:VEVENT
BEGIN:VEVENT
DTSTART;TZID=America/Detroit:20280319T103000
DTEND;TZID=America/Detroit:20280319T103000
DTSTAMP:20260425T112515
CREATED:20251108T173504Z
LAST-MODIFIED:20260303T002539Z
UID:10012927-1837074600-1837074600@firststjohn.com
SUMMARY:Worship
DESCRIPTION:RETURN TO FALL/WINTER SERVICE SCHEDULE We provide two Sunday services now at 8 am and 10:30 am. Please plan to join us on Sunday\, at either service. The church nursery is available for your use. See the contents of the newsletter for more festivities happening as well!
URL:https://firststjohn.com/event/early-worship-service-4-6/2028-03-19/
LOCATION:Sanctuary\, 2471 Seaman St\, Toledo\, OH\, 43605\, United States
CATEGORIES:Children,Deacons,Elders,Featured,Trustees,Worship,Youth
ATTACH;FMTTYPE=image/jpeg:https://firststjohn.com/wp-content/uploads/2024/02/wine-and-bread.jpg
END:VEVENT
BEGIN:VEVENT
DTSTART;TZID=America/New_York:20280326T080000
DTEND;TZID=America/New_York:20280326T080000
DTSTAMP:20260425T112515
CREATED:20250908T162850Z
LAST-MODIFIED:20260402T162122Z
UID:10012666-1837670400-1837670400@firststjohn.com
SUMMARY:Worship
DESCRIPTION:RETURN TO FALL/WINTER SERVICE SCHEDULE We will return to two services on Sept 7th at 8 am and 10:30 am. Please plan to join us on Sunday\, Sept 7th at either service. The church nursery will resume during 2nd service starting September 14th. See the contents of the newsletter for more festivities happening on Sept 7th as well!
URL:https://firststjohn.com/event/early-worship-service-3-2-2-4-19-4-3-4/2028-03-26/
LOCATION:Sanctuary\, 2471 Seaman St\, Toledo\, OH\, 43605\, United States
CATEGORIES:Children,Deacons,Elders,Featured,Trustees,Worship,Youth
ATTACH;FMTTYPE=image/jpeg:https://firststjohn.com/wp-content/uploads/2024/02/wine-and-bread.jpg
END:VEVENT
BEGIN:VEVENT
DTSTART;TZID=America/Detroit:20280326T103000
DTEND;TZID=America/Detroit:20280326T103000
DTSTAMP:20260425T112515
CREATED:20251108T173504Z
LAST-MODIFIED:20260303T002539Z
UID:10012928-1837679400-1837679400@firststjohn.com
SUMMARY:Worship
DESCRIPTION:RETURN TO FALL/WINTER SERVICE SCHEDULE We provide two Sunday services now at 8 am and 10:30 am. Please plan to join us on Sunday\, at either service. The church nursery is available for your use. See the contents of the newsletter for more festivities happening as well!
URL:https://firststjohn.com/event/early-worship-service-4-6/2028-03-26/
LOCATION:Sanctuary\, 2471 Seaman St\, Toledo\, OH\, 43605\, United States
CATEGORIES:Children,Deacons,Elders,Featured,Trustees,Worship,Youth
ATTACH;FMTTYPE=image/jpeg:https://firststjohn.com/wp-content/uploads/2024/02/wine-and-bread.jpg
END:VEVENT
BEGIN:VEVENT
DTSTART;TZID=America/New_York:20280402T080000
DTEND;TZID=America/New_York:20280402T080000
DTSTAMP:20260425T112515
CREATED:20250908T162850Z
LAST-MODIFIED:20260402T162122Z
UID:10012667-1838275200-1838275200@firststjohn.com
SUMMARY:Worship
DESCRIPTION:RETURN TO FALL/WINTER SERVICE SCHEDULE We will return to two services on Sept 7th at 8 am and 10:30 am. Please plan to join us on Sunday\, Sept 7th at either service. The church nursery will resume during 2nd service starting September 14th. See the contents of the newsletter for more festivities happening on Sept 7th as well!
URL:https://firststjohn.com/event/early-worship-service-3-2-2-4-19-4-3-4/2028-04-02/
LOCATION:Sanctuary\, 2471 Seaman St\, Toledo\, OH\, 43605\, United States
CATEGORIES:Children,Deacons,Elders,Featured,Trustees,Worship,Youth
ATTACH;FMTTYPE=image/jpeg:https://firststjohn.com/wp-content/uploads/2024/02/wine-and-bread.jpg
END:VEVENT
BEGIN:VEVENT
DTSTART;TZID=America/Detroit:20280402T103000
DTEND;TZID=America/Detroit:20280402T103000
DTSTAMP:20260425T112515
CREATED:20251108T173504Z
LAST-MODIFIED:20260303T002539Z
UID:10012929-1838284200-1838284200@firststjohn.com
SUMMARY:Worship
DESCRIPTION:RETURN TO FALL/WINTER SERVICE SCHEDULE We provide two Sunday services now at 8 am and 10:30 am. Please plan to join us on Sunday\, at either service. The church nursery is available for your use. See the contents of the newsletter for more festivities happening as well!
URL:https://firststjohn.com/event/early-worship-service-4-6/2028-04-02/
LOCATION:Sanctuary\, 2471 Seaman St\, Toledo\, OH\, 43605\, United States
CATEGORIES:Children,Deacons,Elders,Featured,Trustees,Worship,Youth
ATTACH;FMTTYPE=image/jpeg:https://firststjohn.com/wp-content/uploads/2024/02/wine-and-bread.jpg
END:VEVENT
BEGIN:VEVENT
DTSTART;TZID=America/New_York:20280409T080000
DTEND;TZID=America/New_York:20280409T080000
DTSTAMP:20260425T112515
CREATED:20250908T162850Z
LAST-MODIFIED:20260402T162122Z
UID:10012668-1838880000-1838880000@firststjohn.com
SUMMARY:Worship
DESCRIPTION:RETURN TO FALL/WINTER SERVICE SCHEDULE We will return to two services on Sept 7th at 8 am and 10:30 am. Please plan to join us on Sunday\, Sept 7th at either service. The church nursery will resume during 2nd service starting September 14th. See the contents of the newsletter for more festivities happening on Sept 7th as well!
URL:https://firststjohn.com/event/early-worship-service-3-2-2-4-19-4-3-4/2028-04-09/
LOCATION:Sanctuary\, 2471 Seaman St\, Toledo\, OH\, 43605\, United States
CATEGORIES:Children,Deacons,Elders,Featured,Trustees,Worship,Youth
ATTACH;FMTTYPE=image/jpeg:https://firststjohn.com/wp-content/uploads/2024/02/wine-and-bread.jpg
END:VEVENT
BEGIN:VEVENT
DTSTART;TZID=America/Detroit:20280409T103000
DTEND;TZID=America/Detroit:20280409T103000
DTSTAMP:20260425T112515
CREATED:20251108T173504Z
LAST-MODIFIED:20260303T002539Z
UID:10012930-1838889000-1838889000@firststjohn.com
SUMMARY:Worship
DESCRIPTION:RETURN TO FALL/WINTER SERVICE SCHEDULE We provide two Sunday services now at 8 am and 10:30 am. Please plan to join us on Sunday\, at either service. The church nursery is available for your use. See the contents of the newsletter for more festivities happening as well!
URL:https://firststjohn.com/event/early-worship-service-4-6/2028-04-09/
LOCATION:Sanctuary\, 2471 Seaman St\, Toledo\, OH\, 43605\, United States
CATEGORIES:Children,Deacons,Elders,Featured,Trustees,Worship,Youth
ATTACH;FMTTYPE=image/jpeg:https://firststjohn.com/wp-content/uploads/2024/02/wine-and-bread.jpg
END:VEVENT
BEGIN:VEVENT
DTSTART;TZID=America/Detroit:20280411T183000
DTEND;TZID=America/Detroit:20280411T183000
DTSTAMP:20260425T112515
CREATED:20260303T000217Z
LAST-MODIFIED:20260303T000217Z
UID:10014989-1839090600-1839090600@firststjohn.com
SUMMARY:Finance Mtg
DESCRIPTION:
URL:https://firststjohn.com/event/finance-mtg/2028-04-11/
LOCATION:OH
CATEGORIES:Deacons
ATTACH;FMTTYPE=image/jpeg:https://firststjohn.com/wp-content/uploads/2024/03/img40.jpeg
ORGANIZER;CN="Jennifer Hess":MAILTO:office@firststjohn.com
END:VEVENT
BEGIN:VEVENT
DTSTART;TZID=America/New_York:20280416T080000
DTEND;TZID=America/New_York:20280416T080000
DTSTAMP:20260425T112515
CREATED:20250908T162850Z
LAST-MODIFIED:20260402T162122Z
UID:10012669-1839484800-1839484800@firststjohn.com
SUMMARY:Worship
DESCRIPTION:RETURN TO FALL/WINTER SERVICE SCHEDULE We will return to two services on Sept 7th at 8 am and 10:30 am. Please plan to join us on Sunday\, Sept 7th at either service. The church nursery will resume during 2nd service starting September 14th. See the contents of the newsletter for more festivities happening on Sept 7th as well!
URL:https://firststjohn.com/event/early-worship-service-3-2-2-4-19-4-3-4/2028-04-16/
LOCATION:Sanctuary\, 2471 Seaman St\, Toledo\, OH\, 43605\, United States
CATEGORIES:Children,Deacons,Elders,Featured,Trustees,Worship,Youth
ATTACH;FMTTYPE=image/jpeg:https://firststjohn.com/wp-content/uploads/2024/02/wine-and-bread.jpg
END:VEVENT
BEGIN:VEVENT
DTSTART;TZID=America/Detroit:20280416T103000
DTEND;TZID=America/Detroit:20280416T103000
DTSTAMP:20260425T112515
CREATED:20251108T173504Z
LAST-MODIFIED:20260303T002539Z
UID:10012931-1839493800-1839493800@firststjohn.com
SUMMARY:Worship
DESCRIPTION:RETURN TO FALL/WINTER SERVICE SCHEDULE We provide two Sunday services now at 8 am and 10:30 am. Please plan to join us on Sunday\, at either service. The church nursery is available for your use. See the contents of the newsletter for more festivities happening as well!
URL:https://firststjohn.com/event/early-worship-service-4-6/2028-04-16/
LOCATION:Sanctuary\, 2471 Seaman St\, Toledo\, OH\, 43605\, United States
CATEGORIES:Children,Deacons,Elders,Featured,Trustees,Worship,Youth
ATTACH;FMTTYPE=image/jpeg:https://firststjohn.com/wp-content/uploads/2024/02/wine-and-bread.jpg
END:VEVENT
BEGIN:VEVENT
DTSTART;TZID=America/New_York:20280423T080000
DTEND;TZID=America/New_York:20280423T080000
DTSTAMP:20260425T112515
CREATED:20250908T162850Z
LAST-MODIFIED:20260402T162122Z
UID:10012670-1840089600-1840089600@firststjohn.com
SUMMARY:Worship
DESCRIPTION:RETURN TO FALL/WINTER SERVICE SCHEDULE We will return to two services on Sept 7th at 8 am and 10:30 am. Please plan to join us on Sunday\, Sept 7th at either service. The church nursery will resume during 2nd service starting September 14th. See the contents of the newsletter for more festivities happening on Sept 7th as well!
URL:https://firststjohn.com/event/early-worship-service-3-2-2-4-19-4-3-4/2028-04-23/
LOCATION:Sanctuary\, 2471 Seaman St\, Toledo\, OH\, 43605\, United States
CATEGORIES:Children,Deacons,Elders,Featured,Trustees,Worship,Youth
ATTACH;FMTTYPE=image/jpeg:https://firststjohn.com/wp-content/uploads/2024/02/wine-and-bread.jpg
END:VEVENT
END:VCALENDAR