BEGIN:VCALENDAR
VERSION:2.0
PRODID:-//First St John - ECPv6.15.20//NONSGML v1.0//EN
CALSCALE:GREGORIAN
METHOD:PUBLISH
X-ORIGINAL-URL:https://firststjohn.com
X-WR-CALDESC:Events for First St John
REFRESH-INTERVAL;VALUE=DURATION:PT1H
X-Robots-Tag:noindex
X-PUBLISHED-TTL:PT1H
BEGIN:VTIMEZONE
TZID:America/New_York
BEGIN:DAYLIGHT
TZOFFSETFROM:-0500
TZOFFSETTO:-0400
TZNAME:EDT
DTSTART:20240310T070000
END:DAYLIGHT
BEGIN:STANDARD
TZOFFSETFROM:-0400
TZOFFSETTO:-0500
TZNAME:EST
DTSTART:20241103T060000
END:STANDARD
BEGIN:DAYLIGHT
TZOFFSETFROM:-0500
TZOFFSETTO:-0400
TZNAME:EDT
DTSTART:20250309T070000
END:DAYLIGHT
BEGIN:STANDARD
TZOFFSETFROM:-0400
TZOFFSETTO:-0500
TZNAME:EST
DTSTART:20251102T060000
END:STANDARD
BEGIN:DAYLIGHT
TZOFFSETFROM:-0500
TZOFFSETTO:-0400
TZNAME:EDT
DTSTART:20260308T070000
END:DAYLIGHT
BEGIN:STANDARD
TZOFFSETFROM:-0400
TZOFFSETTO:-0500
TZNAME:EST
DTSTART:20261101T060000
END:STANDARD
END:VTIMEZONE
BEGIN:VTIMEZONE
TZID:America/Detroit
BEGIN:DAYLIGHT
TZOFFSETFROM:-0500
TZOFFSETTO:-0400
TZNAME:EDT
DTSTART:20240310T070000
END:DAYLIGHT
BEGIN:STANDARD
TZOFFSETFROM:-0400
TZOFFSETTO:-0500
TZNAME:EST
DTSTART:20241103T060000
END:STANDARD
BEGIN:DAYLIGHT
TZOFFSETFROM:-0500
TZOFFSETTO:-0400
TZNAME:EDT
DTSTART:20250309T070000
END:DAYLIGHT
BEGIN:STANDARD
TZOFFSETFROM:-0400
TZOFFSETTO:-0500
TZNAME:EST
DTSTART:20251102T060000
END:STANDARD
BEGIN:DAYLIGHT
TZOFFSETFROM:-0500
TZOFFSETTO:-0400
TZNAME:EDT
DTSTART:20260308T070000
END:DAYLIGHT
BEGIN:STANDARD
TZOFFSETFROM:-0400
TZOFFSETTO:-0500
TZNAME:EST
DTSTART:20261101T060000
END:STANDARD
END:VTIMEZONE
BEGIN:VEVENT
DTSTART;TZID=America/New_York:20251012T080000
DTEND;TZID=America/New_York:20251012T080000
DTSTAMP:20260424T053303
CREATED:20251003T154856Z
LAST-MODIFIED:20251003T154856Z
UID:10012538-1760256000-1760256000@firststjohn.com
SUMMARY:Worship
DESCRIPTION:RETURN TO FALL/WINTER SERVICE SCHEDULE We will return to two services on Sept 7th at 8 am and 10:30 am. Please plan to join us on Sunday\, Sept 7th at either service. The church nursery will resume during 2nd service starting September 14th. See the contents of the newsletter for more festivities happening on Sept 7th as well!
URL:https://firststjohn.com/event/early-worship-service-3-2-2-4-19-4-3-4-5/
LOCATION:Sanctuary\, 2471 Seaman St\, Toledo\, OH\, 43605\, United States
CATEGORIES:Children,Deacons,Elders,Featured,Trustees,Worship,Youth
ATTACH;FMTTYPE=image/jpeg:https://firststjohn.com/wp-content/uploads/2024/02/wine-and-bread.jpg
END:VEVENT
BEGIN:VEVENT
DTSTART;TZID=America/Detroit:20251012T103000
DTEND;TZID=America/Detroit:20251012T103000
DTSTAMP:20260424T053304
CREATED:20250907T162949Z
LAST-MODIFIED:20250908T163230Z
UID:10012800-1760265000-1760265000@firststjohn.com
SUMMARY:Worship/Comm
DESCRIPTION:RETURN TO FALL/WINTER SERVICE SCHEDULE We will return to two services on Sept 7th at 8 am and 10:30 am. Please plan to join us on Sunday\, Sept 7th at either service. The church nursery will resume during 2nd service starting September 14th. See the contents of the newsletter for more festivities happening on Sept 7th as well!
URL:https://firststjohn.com/event/early-worship-service-4/2025-10-12/
LOCATION:Sanctuary\, 2471 Seaman St\, Toledo\, OH\, 43605\, United States
CATEGORIES:Children,Deacons,Elders,Featured,Trustees,Worship,Youth
ATTACH;FMTTYPE=image/jpeg:https://firststjohn.com/wp-content/uploads/2024/02/wine-and-bread.jpg
END:VEVENT
END:VCALENDAR