BEGIN:VCALENDAR
VERSION:2.0
PRODID:-//First St John - ECPv6.15.20//NONSGML v1.0//EN
CALSCALE:GREGORIAN
METHOD:PUBLISH
X-ORIGINAL-URL:https://firststjohn.com
X-WR-CALDESC:Events for First St John
REFRESH-INTERVAL;VALUE=DURATION:PT1H
X-Robots-Tag:noindex
X-PUBLISHED-TTL:PT1H
BEGIN:VTIMEZONE
TZID:America/Detroit
BEGIN:DAYLIGHT
TZOFFSETFROM:-0500
TZOFFSETTO:-0400
TZNAME:EDT
DTSTART:20270314T070000
END:DAYLIGHT
BEGIN:STANDARD
TZOFFSETFROM:-0400
TZOFFSETTO:-0500
TZNAME:EST
DTSTART:20271107T060000
END:STANDARD
BEGIN:DAYLIGHT
TZOFFSETFROM:-0500
TZOFFSETTO:-0400
TZNAME:EDT
DTSTART:20280312T070000
END:DAYLIGHT
BEGIN:STANDARD
TZOFFSETFROM:-0400
TZOFFSETTO:-0500
TZNAME:EST
DTSTART:20281105T060000
END:STANDARD
BEGIN:DAYLIGHT
TZOFFSETFROM:-0500
TZOFFSETTO:-0400
TZNAME:EDT
DTSTART:20290311T070000
END:DAYLIGHT
BEGIN:STANDARD
TZOFFSETFROM:-0400
TZOFFSETTO:-0500
TZNAME:EST
DTSTART:20291104T060000
END:STANDARD
BEGIN:DAYLIGHT
TZOFFSETFROM:-0500
TZOFFSETTO:-0400
TZNAME:EDT
DTSTART:20300310T070000
END:DAYLIGHT
BEGIN:STANDARD
TZOFFSETFROM:-0400
TZOFFSETTO:-0500
TZNAME:EST
DTSTART:20301103T060000
END:STANDARD
BEGIN:DAYLIGHT
TZOFFSETFROM:-0500
TZOFFSETTO:-0400
TZNAME:EDT
DTSTART:20310309T070000
END:DAYLIGHT
BEGIN:STANDARD
TZOFFSETFROM:-0400
TZOFFSETTO:-0500
TZNAME:EST
DTSTART:20311102T060000
END:STANDARD
BEGIN:DAYLIGHT
TZOFFSETFROM:-0500
TZOFFSETTO:-0400
TZNAME:EDT
DTSTART:20320314T070000
END:DAYLIGHT
BEGIN:STANDARD
TZOFFSETFROM:-0400
TZOFFSETTO:-0500
TZNAME:EST
DTSTART:20321107T060000
END:STANDARD
END:VTIMEZONE
BEGIN:VEVENT
DTSTART;TZID=America/Detroit:20281220T170000
DTEND;TZID=America/Detroit:20281220T170000
DTSTAMP:20260425T064725
CREATED:20260402T160913Z
LAST-MODIFIED:20260402T160913Z
UID:10015702-1860944400-1860944400@firststjohn.com
SUMMARY:Day School Mtg
DESCRIPTION:
URL:https://firststjohn.com/event/day-school-mtg/2028-12-20/
CATEGORIES:Dayschool
ATTACH;FMTTYPE=image/jpeg:https://firststjohn.com/wp-content/uploads/2024/02/img40.jpeg
END:VEVENT
BEGIN:VEVENT
DTSTART;TZID=America/Detroit:20290117T170000
DTEND;TZID=America/Detroit:20290117T170000
DTSTAMP:20260425T064725
CREATED:20260402T160913Z
LAST-MODIFIED:20260402T160913Z
UID:10015703-1863363600-1863363600@firststjohn.com
SUMMARY:Day School Mtg
DESCRIPTION:
URL:https://firststjohn.com/event/day-school-mtg/2029-01-17/
CATEGORIES:Dayschool
ATTACH;FMTTYPE=image/jpeg:https://firststjohn.com/wp-content/uploads/2024/02/img40.jpeg
END:VEVENT
BEGIN:VEVENT
DTSTART;TZID=America/Detroit:20290221T170000
DTEND;TZID=America/Detroit:20290221T170000
DTSTAMP:20260425T064725
CREATED:20260402T160913Z
LAST-MODIFIED:20260402T160913Z
UID:10015704-1866387600-1866387600@firststjohn.com
SUMMARY:Day School Mtg
DESCRIPTION:
URL:https://firststjohn.com/event/day-school-mtg/2029-02-21/
CATEGORIES:Dayschool
ATTACH;FMTTYPE=image/jpeg:https://firststjohn.com/wp-content/uploads/2024/02/img40.jpeg
END:VEVENT
BEGIN:VEVENT
DTSTART;TZID=America/Detroit:20290321T170000
DTEND;TZID=America/Detroit:20290321T170000
DTSTAMP:20260425T064725
CREATED:20260402T160913Z
LAST-MODIFIED:20260402T160913Z
UID:10015705-1868806800-1868806800@firststjohn.com
SUMMARY:Day School Mtg
DESCRIPTION:
URL:https://firststjohn.com/event/day-school-mtg/2029-03-21/
CATEGORIES:Dayschool
ATTACH;FMTTYPE=image/jpeg:https://firststjohn.com/wp-content/uploads/2024/02/img40.jpeg
END:VEVENT
BEGIN:VEVENT
DTSTART;TZID=America/Detroit:20290418T170000
DTEND;TZID=America/Detroit:20290418T170000
DTSTAMP:20260425T064725
CREATED:20260402T160913Z
LAST-MODIFIED:20260402T160913Z
UID:10015706-1871226000-1871226000@firststjohn.com
SUMMARY:Day School Mtg
DESCRIPTION:
URL:https://firststjohn.com/event/day-school-mtg/2029-04-18/
CATEGORIES:Dayschool
ATTACH;FMTTYPE=image/jpeg:https://firststjohn.com/wp-content/uploads/2024/02/img40.jpeg
END:VEVENT
BEGIN:VEVENT
DTSTART;TZID=America/Detroit:20290516T170000
DTEND;TZID=America/Detroit:20290516T170000
DTSTAMP:20260425T064725
CREATED:20260402T160913Z
LAST-MODIFIED:20260402T160913Z
UID:10015707-1873645200-1873645200@firststjohn.com
SUMMARY:Day School Mtg
DESCRIPTION:
URL:https://firststjohn.com/event/day-school-mtg/2029-05-16/
CATEGORIES:Dayschool
ATTACH;FMTTYPE=image/jpeg:https://firststjohn.com/wp-content/uploads/2024/02/img40.jpeg
END:VEVENT
BEGIN:VEVENT
DTSTART;TZID=America/Detroit:20290620T170000
DTEND;TZID=America/Detroit:20290620T170000
DTSTAMP:20260425T064725
CREATED:20260402T160913Z
LAST-MODIFIED:20260402T160913Z
UID:10015708-1876669200-1876669200@firststjohn.com
SUMMARY:Day School Mtg
DESCRIPTION:
URL:https://firststjohn.com/event/day-school-mtg/2029-06-20/
CATEGORIES:Dayschool
ATTACH;FMTTYPE=image/jpeg:https://firststjohn.com/wp-content/uploads/2024/02/img40.jpeg
END:VEVENT
BEGIN:VEVENT
DTSTART;TZID=America/Detroit:20290718T170000
DTEND;TZID=America/Detroit:20290718T170000
DTSTAMP:20260425T064725
CREATED:20260402T160913Z
LAST-MODIFIED:20260402T160913Z
UID:10015709-1879088400-1879088400@firststjohn.com
SUMMARY:Day School Mtg
DESCRIPTION:
URL:https://firststjohn.com/event/day-school-mtg/2029-07-18/
CATEGORIES:Dayschool
ATTACH;FMTTYPE=image/jpeg:https://firststjohn.com/wp-content/uploads/2024/02/img40.jpeg
END:VEVENT
BEGIN:VEVENT
DTSTART;TZID=America/Detroit:20290815T170000
DTEND;TZID=America/Detroit:20290815T170000
DTSTAMP:20260425T064725
CREATED:20260402T160913Z
LAST-MODIFIED:20260402T160913Z
UID:10015710-1881507600-1881507600@firststjohn.com
SUMMARY:Day School Mtg
DESCRIPTION:
URL:https://firststjohn.com/event/day-school-mtg/2029-08-15/
CATEGORIES:Dayschool
ATTACH;FMTTYPE=image/jpeg:https://firststjohn.com/wp-content/uploads/2024/02/img40.jpeg
END:VEVENT
BEGIN:VEVENT
DTSTART;TZID=America/Detroit:20290919T170000
DTEND;TZID=America/Detroit:20290919T170000
DTSTAMP:20260425T064725
CREATED:20260402T160913Z
LAST-MODIFIED:20260402T160913Z
UID:10015711-1884531600-1884531600@firststjohn.com
SUMMARY:Day School Mtg
DESCRIPTION:
URL:https://firststjohn.com/event/day-school-mtg/2029-09-19/
CATEGORIES:Dayschool
ATTACH;FMTTYPE=image/jpeg:https://firststjohn.com/wp-content/uploads/2024/02/img40.jpeg
END:VEVENT
BEGIN:VEVENT
DTSTART;TZID=America/Detroit:20291017T170000
DTEND;TZID=America/Detroit:20291017T170000
DTSTAMP:20260425T064725
CREATED:20260402T160913Z
LAST-MODIFIED:20260402T160913Z
UID:10015712-1886950800-1886950800@firststjohn.com
SUMMARY:Day School Mtg
DESCRIPTION:
URL:https://firststjohn.com/event/day-school-mtg/2029-10-17/
CATEGORIES:Dayschool
ATTACH;FMTTYPE=image/jpeg:https://firststjohn.com/wp-content/uploads/2024/02/img40.jpeg
END:VEVENT
BEGIN:VEVENT
DTSTART;TZID=America/Detroit:20291121T170000
DTEND;TZID=America/Detroit:20291121T170000
DTSTAMP:20260425T064725
CREATED:20260402T160913Z
LAST-MODIFIED:20260402T160913Z
UID:10015713-1889974800-1889974800@firststjohn.com
SUMMARY:Day School Mtg
DESCRIPTION:
URL:https://firststjohn.com/event/day-school-mtg/2029-11-21/
CATEGORIES:Dayschool
ATTACH;FMTTYPE=image/jpeg:https://firststjohn.com/wp-content/uploads/2024/02/img40.jpeg
END:VEVENT
BEGIN:VEVENT
DTSTART;TZID=America/Detroit:20291219T170000
DTEND;TZID=America/Detroit:20291219T170000
DTSTAMP:20260425T064725
CREATED:20260402T160913Z
LAST-MODIFIED:20260402T160913Z
UID:10015714-1892394000-1892394000@firststjohn.com
SUMMARY:Day School Mtg
DESCRIPTION:
URL:https://firststjohn.com/event/day-school-mtg/2029-12-19/
CATEGORIES:Dayschool
ATTACH;FMTTYPE=image/jpeg:https://firststjohn.com/wp-content/uploads/2024/02/img40.jpeg
END:VEVENT
BEGIN:VEVENT
DTSTART;TZID=America/Detroit:20300116T170000
DTEND;TZID=America/Detroit:20300116T170000
DTSTAMP:20260425T064725
CREATED:20260402T160913Z
LAST-MODIFIED:20260402T160913Z
UID:10015715-1894813200-1894813200@firststjohn.com
SUMMARY:Day School Mtg
DESCRIPTION:
URL:https://firststjohn.com/event/day-school-mtg/2030-01-16/
CATEGORIES:Dayschool
ATTACH;FMTTYPE=image/jpeg:https://firststjohn.com/wp-content/uploads/2024/02/img40.jpeg
END:VEVENT
BEGIN:VEVENT
DTSTART;TZID=America/Detroit:20300220T170000
DTEND;TZID=America/Detroit:20300220T170000
DTSTAMP:20260425T064725
CREATED:20260402T160913Z
LAST-MODIFIED:20260402T160913Z
UID:10015716-1897837200-1897837200@firststjohn.com
SUMMARY:Day School Mtg
DESCRIPTION:
URL:https://firststjohn.com/event/day-school-mtg/2030-02-20/
CATEGORIES:Dayschool
ATTACH;FMTTYPE=image/jpeg:https://firststjohn.com/wp-content/uploads/2024/02/img40.jpeg
END:VEVENT
BEGIN:VEVENT
DTSTART;TZID=America/Detroit:20300320T170000
DTEND;TZID=America/Detroit:20300320T170000
DTSTAMP:20260425T064725
CREATED:20260402T160913Z
LAST-MODIFIED:20260402T160913Z
UID:10015717-1900256400-1900256400@firststjohn.com
SUMMARY:Day School Mtg
DESCRIPTION:
URL:https://firststjohn.com/event/day-school-mtg/2030-03-20/
CATEGORIES:Dayschool
ATTACH;FMTTYPE=image/jpeg:https://firststjohn.com/wp-content/uploads/2024/02/img40.jpeg
END:VEVENT
BEGIN:VEVENT
DTSTART;TZID=America/Detroit:20300417T170000
DTEND;TZID=America/Detroit:20300417T170000
DTSTAMP:20260425T064725
CREATED:20260402T160913Z
LAST-MODIFIED:20260402T160913Z
UID:10015718-1902675600-1902675600@firststjohn.com
SUMMARY:Day School Mtg
DESCRIPTION:
URL:https://firststjohn.com/event/day-school-mtg/2030-04-17/
CATEGORIES:Dayschool
ATTACH;FMTTYPE=image/jpeg:https://firststjohn.com/wp-content/uploads/2024/02/img40.jpeg
END:VEVENT
BEGIN:VEVENT
DTSTART;TZID=America/Detroit:20300515T170000
DTEND;TZID=America/Detroit:20300515T170000
DTSTAMP:20260425T064725
CREATED:20260402T160913Z
LAST-MODIFIED:20260402T160913Z
UID:10015719-1905094800-1905094800@firststjohn.com
SUMMARY:Day School Mtg
DESCRIPTION:
URL:https://firststjohn.com/event/day-school-mtg/2030-05-15/
CATEGORIES:Dayschool
ATTACH;FMTTYPE=image/jpeg:https://firststjohn.com/wp-content/uploads/2024/02/img40.jpeg
END:VEVENT
BEGIN:VEVENT
DTSTART;TZID=America/Detroit:20300619T170000
DTEND;TZID=America/Detroit:20300619T170000
DTSTAMP:20260425T064725
CREATED:20260402T160913Z
LAST-MODIFIED:20260402T160913Z
UID:10015720-1908118800-1908118800@firststjohn.com
SUMMARY:Day School Mtg
DESCRIPTION:
URL:https://firststjohn.com/event/day-school-mtg/2030-06-19/
CATEGORIES:Dayschool
ATTACH;FMTTYPE=image/jpeg:https://firststjohn.com/wp-content/uploads/2024/02/img40.jpeg
END:VEVENT
BEGIN:VEVENT
DTSTART;TZID=America/Detroit:20300717T170000
DTEND;TZID=America/Detroit:20300717T170000
DTSTAMP:20260425T064725
CREATED:20260402T160913Z
LAST-MODIFIED:20260402T160913Z
UID:10015721-1910538000-1910538000@firststjohn.com
SUMMARY:Day School Mtg
DESCRIPTION:
URL:https://firststjohn.com/event/day-school-mtg/2030-07-17/
CATEGORIES:Dayschool
ATTACH;FMTTYPE=image/jpeg:https://firststjohn.com/wp-content/uploads/2024/02/img40.jpeg
END:VEVENT
BEGIN:VEVENT
DTSTART;TZID=America/Detroit:20300821T170000
DTEND;TZID=America/Detroit:20300821T170000
DTSTAMP:20260425T064725
CREATED:20260402T160913Z
LAST-MODIFIED:20260402T160913Z
UID:10015722-1913562000-1913562000@firststjohn.com
SUMMARY:Day School Mtg
DESCRIPTION:
URL:https://firststjohn.com/event/day-school-mtg/2030-08-21/
CATEGORIES:Dayschool
ATTACH;FMTTYPE=image/jpeg:https://firststjohn.com/wp-content/uploads/2024/02/img40.jpeg
END:VEVENT
BEGIN:VEVENT
DTSTART;TZID=America/Detroit:20300918T170000
DTEND;TZID=America/Detroit:20300918T170000
DTSTAMP:20260425T064725
CREATED:20260402T160913Z
LAST-MODIFIED:20260402T160913Z
UID:10015723-1915981200-1915981200@firststjohn.com
SUMMARY:Day School Mtg
DESCRIPTION:
URL:https://firststjohn.com/event/day-school-mtg/2030-09-18/
CATEGORIES:Dayschool
ATTACH;FMTTYPE=image/jpeg:https://firststjohn.com/wp-content/uploads/2024/02/img40.jpeg
END:VEVENT
BEGIN:VEVENT
DTSTART;TZID=America/Detroit:20301016T170000
DTEND;TZID=America/Detroit:20301016T170000
DTSTAMP:20260425T064725
CREATED:20260402T160913Z
LAST-MODIFIED:20260402T160913Z
UID:10015724-1918400400-1918400400@firststjohn.com
SUMMARY:Day School Mtg
DESCRIPTION:
URL:https://firststjohn.com/event/day-school-mtg/2030-10-16/
CATEGORIES:Dayschool
ATTACH;FMTTYPE=image/jpeg:https://firststjohn.com/wp-content/uploads/2024/02/img40.jpeg
END:VEVENT
BEGIN:VEVENT
DTSTART;TZID=America/Detroit:20301120T170000
DTEND;TZID=America/Detroit:20301120T170000
DTSTAMP:20260425T064725
CREATED:20260402T160913Z
LAST-MODIFIED:20260402T160913Z
UID:10015725-1921424400-1921424400@firststjohn.com
SUMMARY:Day School Mtg
DESCRIPTION:
URL:https://firststjohn.com/event/day-school-mtg/2030-11-20/
CATEGORIES:Dayschool
ATTACH;FMTTYPE=image/jpeg:https://firststjohn.com/wp-content/uploads/2024/02/img40.jpeg
END:VEVENT
BEGIN:VEVENT
DTSTART;TZID=America/Detroit:20301218T170000
DTEND;TZID=America/Detroit:20301218T170000
DTSTAMP:20260425T064725
CREATED:20260402T160913Z
LAST-MODIFIED:20260402T160913Z
UID:10015726-1923843600-1923843600@firststjohn.com
SUMMARY:Day School Mtg
DESCRIPTION:
URL:https://firststjohn.com/event/day-school-mtg/2030-12-18/
CATEGORIES:Dayschool
ATTACH;FMTTYPE=image/jpeg:https://firststjohn.com/wp-content/uploads/2024/02/img40.jpeg
END:VEVENT
BEGIN:VEVENT
DTSTART;TZID=America/Detroit:20310115T170000
DTEND;TZID=America/Detroit:20310115T170000
DTSTAMP:20260425T064725
CREATED:20260402T160913Z
LAST-MODIFIED:20260402T160913Z
UID:10015727-1926262800-1926262800@firststjohn.com
SUMMARY:Day School Mtg
DESCRIPTION:
URL:https://firststjohn.com/event/day-school-mtg/2031-01-15/
CATEGORIES:Dayschool
ATTACH;FMTTYPE=image/jpeg:https://firststjohn.com/wp-content/uploads/2024/02/img40.jpeg
END:VEVENT
BEGIN:VEVENT
DTSTART;TZID=America/Detroit:20310219T170000
DTEND;TZID=America/Detroit:20310219T170000
DTSTAMP:20260425T064725
CREATED:20260402T160913Z
LAST-MODIFIED:20260402T160913Z
UID:10015728-1929286800-1929286800@firststjohn.com
SUMMARY:Day School Mtg
DESCRIPTION:
URL:https://firststjohn.com/event/day-school-mtg/2031-02-19/
CATEGORIES:Dayschool
ATTACH;FMTTYPE=image/jpeg:https://firststjohn.com/wp-content/uploads/2024/02/img40.jpeg
END:VEVENT
BEGIN:VEVENT
DTSTART;TZID=America/Detroit:20310319T170000
DTEND;TZID=America/Detroit:20310319T170000
DTSTAMP:20260425T064725
CREATED:20260402T160913Z
LAST-MODIFIED:20260402T160913Z
UID:10015729-1931706000-1931706000@firststjohn.com
SUMMARY:Day School Mtg
DESCRIPTION:
URL:https://firststjohn.com/event/day-school-mtg/2031-03-19/
CATEGORIES:Dayschool
ATTACH;FMTTYPE=image/jpeg:https://firststjohn.com/wp-content/uploads/2024/02/img40.jpeg
END:VEVENT
END:VCALENDAR