BEGIN:VCALENDAR
VERSION:2.0
PRODID:-//First St John - ECPv6.15.20//NONSGML v1.0//EN
CALSCALE:GREGORIAN
METHOD:PUBLISH
X-WR-CALNAME:First St John
X-ORIGINAL-URL:https://firststjohn.com
X-WR-CALDESC:Events for First St John
REFRESH-INTERVAL;VALUE=DURATION:PT1H
X-Robots-Tag:noindex
X-PUBLISHED-TTL:PT1H
BEGIN:VTIMEZONE
TZID:America/Detroit
BEGIN:DAYLIGHT
TZOFFSETFROM:-0500
TZOFFSETTO:-0400
TZNAME:EDT
DTSTART:20230312T070000
END:DAYLIGHT
BEGIN:STANDARD
TZOFFSETFROM:-0400
TZOFFSETTO:-0500
TZNAME:EST
DTSTART:20231105T060000
END:STANDARD
BEGIN:DAYLIGHT
TZOFFSETFROM:-0500
TZOFFSETTO:-0400
TZNAME:EDT
DTSTART:20240310T070000
END:DAYLIGHT
BEGIN:STANDARD
TZOFFSETFROM:-0400
TZOFFSETTO:-0500
TZNAME:EST
DTSTART:20241103T060000
END:STANDARD
BEGIN:DAYLIGHT
TZOFFSETFROM:-0500
TZOFFSETTO:-0400
TZNAME:EDT
DTSTART:20250309T070000
END:DAYLIGHT
BEGIN:STANDARD
TZOFFSETFROM:-0400
TZOFFSETTO:-0500
TZNAME:EST
DTSTART:20251102T060000
END:STANDARD
END:VTIMEZONE
BEGIN:VTIMEZONE
TZID:America/New_York
BEGIN:DAYLIGHT
TZOFFSETFROM:-0500
TZOFFSETTO:-0400
TZNAME:EDT
DTSTART:20230312T070000
END:DAYLIGHT
BEGIN:STANDARD
TZOFFSETFROM:-0400
TZOFFSETTO:-0500
TZNAME:EST
DTSTART:20231105T060000
END:STANDARD
BEGIN:DAYLIGHT
TZOFFSETFROM:-0500
TZOFFSETTO:-0400
TZNAME:EDT
DTSTART:20240310T070000
END:DAYLIGHT
BEGIN:STANDARD
TZOFFSETFROM:-0400
TZOFFSETTO:-0500
TZNAME:EST
DTSTART:20241103T060000
END:STANDARD
BEGIN:DAYLIGHT
TZOFFSETFROM:-0500
TZOFFSETTO:-0400
TZNAME:EDT
DTSTART:20250309T070000
END:DAYLIGHT
BEGIN:STANDARD
TZOFFSETFROM:-0400
TZOFFSETTO:-0500
TZNAME:EST
DTSTART:20251102T060000
END:STANDARD
END:VTIMEZONE
BEGIN:VEVENT
DTSTART;TZID=America/Detroit:20241217T190000
DTEND;TZID=America/Detroit:20241217T190000
DTSTAMP:20260424T061503
CREATED:20241201T220741Z
LAST-MODIFIED:20241201T221038Z
UID:10009905-1734462000-1734462000@firststjohn.com
SUMMARY:FSJ Day School Christmas Program
DESCRIPTION:
URL:https://firststjohn.com/event/fsj-day-school-christmas-program/2024-12-17/
LOCATION:Dayschool
CATEGORIES:Dayschool
ATTACH;FMTTYPE=image/jpeg:https://firststjohn.com/wp-content/uploads/2024/03/Dayschool-Open-House.jpg
ORGANIZER;CN="Andrea Buckley":MAILTO:fsjdayschool@firststjohn.com
END:VEVENT
BEGIN:VEVENT
DTSTART;TZID=America/Detroit:20241216T190000
DTEND;TZID=America/Detroit:20241216T190000
DTSTAMP:20260424T061503
CREATED:20241201T220741Z
LAST-MODIFIED:20241201T221038Z
UID:10009904-1734375600-1734375600@firststjohn.com
SUMMARY:FSJ Day School Christmas Program
DESCRIPTION:
URL:https://firststjohn.com/event/fsj-day-school-christmas-program/2024-12-16/
LOCATION:Dayschool
CATEGORIES:Dayschool
ATTACH;FMTTYPE=image/jpeg:https://firststjohn.com/wp-content/uploads/2024/03/Dayschool-Open-House.jpg
ORGANIZER;CN="Andrea Buckley":MAILTO:fsjdayschool@firststjohn.com
END:VEVENT
BEGIN:VEVENT
DTSTART;TZID=America/Detroit:20241115T090000
DTEND;TZID=America/Detroit:20241115T090000
DTSTAMP:20260424T061503
CREATED:20241102T131744Z
LAST-MODIFIED:20241110T200154Z
UID:10009660-1731661200-1731661200@firststjohn.com
SUMMARY:Day School Feast Setup All day
DESCRIPTION:
URL:https://firststjohn.com/event/day-school-feast-setup-all-day/
LOCATION:Dayschool
CATEGORIES:Dayschool,Featured
ATTACH;FMTTYPE=image/jpeg:https://firststjohn.com/wp-content/uploads/2024/11/FSJ-Thanksgiving-Feast-scaled.jpeg
ORGANIZER;CN="Andrea Buckley":MAILTO:fsjdayschool@firststjohn.com
END:VEVENT
BEGIN:VEVENT
DTSTART;TZID=America/New_York:20241101T090000
DTEND;TZID=America/New_York:20241101T090000
DTSTAMP:20260424T061503
CREATED:20241027T185127Z
LAST-MODIFIED:20241027T185127Z
UID:10009311-1730451600-1730451600@firststjohn.com
SUMMARY:Day School Teacher In-Service (lounge)
DESCRIPTION:
URL:https://firststjohn.com/event/day-school-teacher-in-service-lounge/
LOCATION:Lounge
CATEGORIES:Dayschool
ATTACH;FMTTYPE=image/jpeg:https://firststjohn.com/wp-content/uploads/2024/04/Playground1-scaled.jpg
ORGANIZER;CN="Jennifer Hess":MAILTO:office@firststjohn.com
END:VEVENT
BEGIN:VEVENT
DTSTART;TZID=America/New_York:20241009T183000
DTEND;TZID=America/New_York:20241009T183000
DTSTAMP:20260424T061503
CREATED:20241001T135644Z
LAST-MODIFIED:20241001T135710Z
UID:10008956-1728498600-1728498600@firststjohn.com
SUMMARY:Day School Board Mtg
DESCRIPTION:
URL:https://firststjohn.com/event/day-school-board-mtg-4/
CATEGORIES:Dayschool
ATTACH;FMTTYPE=image/jpeg:https://firststjohn.com/wp-content/uploads/2024/04/Playground1-scaled.jpg
ORGANIZER;CN="Jennifer Hess":MAILTO:office@firststjohn.com
END:VEVENT
BEGIN:VEVENT
DTSTART;TZID=America/New_York:20241005T080000
DTEND;TZID=America/New_York:20241005T080000
DTSTAMP:20260424T061503
CREATED:20240930T222600Z
LAST-MODIFIED:20240930T222734Z
UID:10008686-1728115200-1728115200@firststjohn.com
SUMMARY:Day School Applebee’s Pancake Breakfast Fundraiser
DESCRIPTION:APPLEBEE’S PANCAKE BREAKFAST \nApplebee’s Restaurant in Northwood\, OH will be open the morning of October 5th just for the First St John Day School Flapjack Fundraiser. Come join us and let the First St. John staff and Applebee’s serve you a hearty breakfast of 3 pancakes (all you can eat!)\, 2 slices of bacon\, and your choice of beverage (coffee\, soda\, tea\, orange juice or milk). Tickets are $10 per person (adult or child) and can be purchased in the Day School office or on the Day School website www.firststjohndayschool.org.
URL:https://firststjohn.com/event/day-school-applebees-pancake-breakfast-fundraiser/
LOCATION:Applebee’s in Northwood
CATEGORIES:Children,Christian Education,Dayschool,Featured,Fellowship,Youth
ATTACH;FMTTYPE=image/jpeg:https://firststjohn.com/wp-content/uploads/2024/03/Dayschool-Open-House.jpg
ORGANIZER;CN="Jennifer Hess":MAILTO:office@firststjohn.com
END:VEVENT
BEGIN:VEVENT
DTSTART;VALUE=DATE:20240922
DTEND;VALUE=DATE:20240923
DTSTAMP:20260424T061503
CREATED:20240912T164935Z
LAST-MODIFIED:20240912T164935Z
UID:10008161-1726963200-1727049599@firststjohn.com
SUMMARY:IN GYM
DESCRIPTION:
URL:https://firststjohn.com/event/in-gym/
LOCATION:Gym
CATEGORIES:Dayschool,Youth
ATTACH;FMTTYPE=image/jpeg:https://firststjohn.com/wp-content/uploads/2024/04/Playground1-scaled.jpg
ORGANIZER;CN="Jennifer Hess":MAILTO:office@firststjohn.com
END:VEVENT
BEGIN:VEVENT
DTSTART;VALUE=DATE:20240922
DTEND;VALUE=DATE:20240923
DTSTAMP:20260424T061503
CREATED:20240912T164823Z
LAST-MODIFIED:20240912T164823Z
UID:10008160-1726963200-1727049599@firststjohn.com
SUMMARY:AFTER 2ND SERVICE
DESCRIPTION:
URL:https://firststjohn.com/event/after-2nd-service/
CATEGORIES:Children,Dayschool,Youth
ATTACH;FMTTYPE=image/png:https://firststjohn.com/wp-content/uploads/2024/04/img303.png
ORGANIZER;CN="Andrea Buckley":MAILTO:fsjdayschool@firststjohn.com
END:VEVENT
BEGIN:VEVENT
DTSTART;VALUE=DATE:20240922
DTEND;VALUE=DATE:20240923
DTSTAMP:20260424T061503
CREATED:20240912T164622Z
LAST-MODIFIED:20240912T170721Z
UID:10008159-1726963200-1727049599@firststjohn.com
SUMMARY:RALLY DAY PARTY
DESCRIPTION:
URL:https://firststjohn.com/event/rally-day-party/
LOCATION:Gym
CATEGORIES:Children,Christian Education,Dayschool,Featured,Youth
ATTACH;FMTTYPE=image/jpeg:https://firststjohn.com/wp-content/uploads/2024/03/Dayschool-Open-House.jpg
END:VEVENT
BEGIN:VEVENT
DTSTART;TZID=America/New_York:20240918T183000
DTEND;TZID=America/New_York:20240918T183000
DTSTAMP:20260424T061503
CREATED:20240912T163828Z
LAST-MODIFIED:20240912T163900Z
UID:10008153-1726684200-1726684200@firststjohn.com
SUMMARY:Day School Board Mtg
DESCRIPTION:
URL:https://firststjohn.com/event/day-school-board-mtg-3/
CATEGORIES:Dayschool
ATTACH;FMTTYPE=image/jpeg:https://firststjohn.com/wp-content/uploads/2024/04/Playground1-scaled.jpg
ORGANIZER;CN="Andrea Buckley":MAILTO:fsjdayschool@firststjohn.com
END:VEVENT
BEGIN:VEVENT
DTSTART;TZID=America/New_York:20240819T090000
DTEND;TZID=America/New_York:20240819T090000
DTSTAMP:20260424T061503
CREATED:20240813T145526Z
LAST-MODIFIED:20240813T145526Z
UID:10006750-1724058000-1724058000@firststjohn.com
SUMMARY:Classes Begin
DESCRIPTION:
URL:https://firststjohn.com/event/classes-begin/
CATEGORIES:Children,Dayschool
ATTACH;FMTTYPE=image/png:https://firststjohn.com/wp-content/uploads/2024/04/img303.png
ORGANIZER;CN="Jennifer Hess":MAILTO:office@firststjohn.com
END:VEVENT
BEGIN:VEVENT
DTSTART;VALUE=DATE:20240819
DTEND;VALUE=DATE:20240820
DTSTAMP:20260424T061503
CREATED:20240813T145238Z
LAST-MODIFIED:20240813T145238Z
UID:10006748-1724025600-1724111999@firststjohn.com
SUMMARY:FIRST DAY OF SCHOOL
DESCRIPTION:
URL:https://firststjohn.com/event/first-day-of-school/
CATEGORIES:Children,Dayschool
ATTACH;FMTTYPE=image/jpeg:https://firststjohn.com/wp-content/uploads/2024/04/Playground2-scaled.jpg
ORGANIZER;CN="Jennifer Hess":MAILTO:office@firststjohn.com
END:VEVENT
BEGIN:VEVENT
DTSTART;TZID=America/New_York:20240816T160000
DTEND;TZID=America/New_York:20240816T160000
DTSTAMP:20260424T061503
CREATED:20240813T144957Z
LAST-MODIFIED:20240813T144957Z
UID:10006745-1723824000-1723824000@firststjohn.com
SUMMARY:Meet the Teacher Night
DESCRIPTION:
URL:https://firststjohn.com/event/meet-the-teacher-night/
CATEGORIES:Dayschool
ATTACH;FMTTYPE=image/png:https://firststjohn.com/wp-content/uploads/2024/04/img303.png
ORGANIZER;CN="Jennifer Hess":MAILTO:office@firststjohn.com
END:VEVENT
BEGIN:VEVENT
DTSTART;TZID=America/New_York:20240815T183000
DTEND;TZID=America/New_York:20240815T183000
DTSTAMP:20260424T061503
CREATED:20240813T144659Z
LAST-MODIFIED:20240813T144821Z
UID:10006744-1723746600-1723746600@firststjohn.com
SUMMARY:DaySchool Board Mtg
DESCRIPTION:
URL:https://firststjohn.com/event/dayschool-board-mtg/
CATEGORIES:Dayschool
ATTACH;FMTTYPE=image/jpeg:https://firststjohn.com/wp-content/uploads/2024/02/img40.jpeg
ORGANIZER;CN="Jennifer Hess":MAILTO:office@firststjohn.com
END:VEVENT
BEGIN:VEVENT
DTSTART;VALUE=DATE:20240802
DTEND;VALUE=DATE:20240803
DTSTAMP:20260424T061503
CREATED:20240813T144232Z
LAST-MODIFIED:20240813T144312Z
UID:10006740-1722556800-1722643199@firststjohn.com
SUMMARY:LAST DAY OF DAYSCHOOL  SUMMER CAMP
DESCRIPTION:
URL:https://firststjohn.com/event/last-day-of-dayschool-summer-camp/
CATEGORIES:Children,Dayschool
ATTACH;FMTTYPE=image/jpeg:https://firststjohn.com/wp-content/uploads/2024/02/kids.jpg
ORGANIZER;CN="Jennifer Hess":MAILTO:office@firststjohn.com
END:VEVENT
BEGIN:VEVENT
DTSTART;TZID=America/New_York:20240605T183000
DTEND;TZID=America/New_York:20240605T183000
DTSTAMP:20260424T061503
CREATED:20240601T233452Z
LAST-MODIFIED:20240601T234905Z
UID:10006254-1717612200-1717612200@firststjohn.com
SUMMARY:Day School Board Mtg
DESCRIPTION:
URL:https://firststjohn.com/event/day-school-board-mtg-2/
CATEGORIES:Dayschool
ATTACH;FMTTYPE=image/jpeg:https://firststjohn.com/wp-content/uploads/2024/03/Bible-Study.jpg
END:VEVENT
BEGIN:VEVENT
DTSTART;VALUE=DATE:20240524
DTEND;VALUE=DATE:20240525
DTSTAMP:20260424T061503
CREATED:20240504T153022Z
LAST-MODIFIED:20240504T153022Z
UID:10005749-1716508800-1716595199@firststjohn.com
SUMMARY:LAST DAY OF SCHOOL
DESCRIPTION:
URL:https://firststjohn.com/event/last-day-of-school/
CATEGORIES:Dayschool
ATTACH;FMTTYPE=image/jpeg:https://firststjohn.com/wp-content/uploads/2024/03/Dayschool-Open-House.jpg
ORGANIZER;CN="Jennifer Hess":MAILTO:office@firststjohn.com
END:VEVENT
BEGIN:VEVENT
DTSTART;VALUE=DATE:20240517
DTEND;VALUE=DATE:20240518
DTSTAMP:20260424T061503
CREATED:20240504T152008Z
LAST-MODIFIED:20240504T152008Z
UID:10005741-1715904000-1715990399@firststjohn.com
SUMMARY:PRESCHOOL PROM EVENT DAY SCHOOL
DESCRIPTION:
URL:https://firststjohn.com/event/preschool-prom-event-day-school/
CATEGORIES:Dayschool
ATTACH;FMTTYPE=image/jpeg:https://firststjohn.com/wp-content/uploads/2024/03/Dayschool-Open-House.jpg
ORGANIZER;CN="Jennifer Hess":MAILTO:office@firststjohn.com
END:VEVENT
BEGIN:VEVENT
DTSTART;TZID=America/New_York:20240508T183000
DTEND;TZID=America/New_York:20240508T183000
DTSTAMP:20260424T061503
CREATED:20240504T150539Z
LAST-MODIFIED:20240504T150629Z
UID:10005734-1715193000-1715193000@firststjohn.com
SUMMARY:School Board Mtg
DESCRIPTION:
URL:https://firststjohn.com/event/school-board-mtg/
CATEGORIES:Dayschool
ATTACH;FMTTYPE=image/jpeg:https://firststjohn.com/wp-content/uploads/2024/03/img40.jpeg
ORGANIZER;CN="Andrea Buckley":MAILTO:fsjdayschool@firststjohn.com
END:VEVENT
BEGIN:VEVENT
DTSTART;VALUE=DATE:20240504
DTEND;VALUE=DATE:20240505
DTSTAMP:20260424T061503
CREATED:20240504T145654Z
LAST-MODIFIED:20240504T145654Z
UID:10005724-1714780800-1714867199@firststjohn.com
SUMMARY:DAY SCHOOL CARNIVAL
DESCRIPTION:
URL:https://firststjohn.com/event/day-school-carnival/
CATEGORIES:Children,Christian Education,Dayschool
ORGANIZER;CN="Jennifer Hess":MAILTO:office@firststjohn.com
END:VEVENT
BEGIN:VEVENT
DTSTART;TZID=America/New_York:20240410T183000
DTEND;TZID=America/New_York:20240410T183000
DTSTAMP:20260424T061503
CREATED:20240402T233329Z
LAST-MODIFIED:20240402T233329Z
UID:10005651-1712773800-1712773800@firststjohn.com
SUMMARY:Day School Board Mtg
DESCRIPTION:
URL:https://firststjohn.com/event/day-school-board-mtg/
CATEGORIES:Dayschool
ORGANIZER;CN="Jennifer Hess":MAILTO:office@firststjohn.com
END:VEVENT
BEGIN:VEVENT
DTSTART;TZID=America/New_York:20240401T000000
DTEND;TZID=America/New_York:20240405T000000
DTSTAMP:20260424T061503
CREATED:20240402T225752Z
LAST-MODIFIED:20240402T225752Z
UID:10005528-1711929600-1712275200@firststjohn.com
SUMMARY:SCHOOL ON SPRING BREAK
DESCRIPTION:
URL:https://firststjohn.com/event/school-on-spring-break/
CATEGORIES:Dayschool
ORGANIZER;CN="Jennifer Hess":MAILTO:office@firststjohn.com
END:VEVENT
BEGIN:VEVENT
DTSTART;VALUE=DATE:20240330
DTEND;VALUE=DATE:20240331
DTSTAMP:20260424T061503
CREATED:20240316T203606Z
LAST-MODIFIED:20240318T203514Z
UID:10003960-1711756800-1711843199@firststjohn.com
SUMMARY:DAY SCHOOL SPRING BREAK STARTS 3/29
DESCRIPTION:
URL:https://firststjohn.com/event/day-school-spring-break-starts-3-29/
CATEGORIES:Dayschool
ATTACH;FMTTYPE=image/jpeg:https://firststjohn.com/wp-content/uploads/2024/03/Spring-Break.jpeg
ORGANIZER;CN="Jennifer Hess":MAILTO:office@firststjohn.com
END:VEVENT
BEGIN:VEVENT
DTSTART;TZID=America/New_York:20240310T113000
DTEND;TZID=America/New_York:20240310T233000
DTSTAMP:20260424T061503
CREATED:20240316T191002Z
LAST-MODIFIED:20240318T232728Z
UID:10002782-1710070200-1710113400@firststjohn.com
SUMMARY:Day School Board Meeting
DESCRIPTION:
URL:https://firststjohn.com/event/day-school-board-meeting/
CATEGORIES:Dayschool
ATTACH;FMTTYPE=image/jpeg:https://firststjohn.com/wp-content/uploads/2024/02/kids.jpg
ORGANIZER;CN="Jennifer Hess":MAILTO:office@firststjohn.com
END:VEVENT
END:VCALENDAR