BEGIN:VCALENDAR
VERSION:2.0
PRODID:-//First St John - ECPv6.15.20//NONSGML v1.0//EN
CALSCALE:GREGORIAN
METHOD:PUBLISH
X-WR-CALNAME:First St John
X-ORIGINAL-URL:https://firststjohn.com
X-WR-CALDESC:Events for First St John
REFRESH-INTERVAL;VALUE=DURATION:PT1H
X-Robots-Tag:noindex
X-PUBLISHED-TTL:PT1H
BEGIN:VTIMEZONE
TZID:America/Detroit
BEGIN:DAYLIGHT
TZOFFSETFROM:-0500
TZOFFSETTO:-0400
TZNAME:EDT
DTSTART:20250309T070000
END:DAYLIGHT
BEGIN:STANDARD
TZOFFSETFROM:-0400
TZOFFSETTO:-0500
TZNAME:EST
DTSTART:20251102T060000
END:STANDARD
BEGIN:DAYLIGHT
TZOFFSETFROM:-0500
TZOFFSETTO:-0400
TZNAME:EDT
DTSTART:20260308T070000
END:DAYLIGHT
BEGIN:STANDARD
TZOFFSETFROM:-0400
TZOFFSETTO:-0500
TZNAME:EST
DTSTART:20261101T060000
END:STANDARD
BEGIN:DAYLIGHT
TZOFFSETFROM:-0500
TZOFFSETTO:-0400
TZNAME:EDT
DTSTART:20270314T070000
END:DAYLIGHT
BEGIN:STANDARD
TZOFFSETFROM:-0400
TZOFFSETTO:-0500
TZNAME:EST
DTSTART:20271107T060000
END:STANDARD
BEGIN:DAYLIGHT
TZOFFSETFROM:-0500
TZOFFSETTO:-0400
TZNAME:EDT
DTSTART:20280312T070000
END:DAYLIGHT
BEGIN:STANDARD
TZOFFSETFROM:-0400
TZOFFSETTO:-0500
TZNAME:EST
DTSTART:20281105T060000
END:STANDARD
BEGIN:DAYLIGHT
TZOFFSETFROM:-0500
TZOFFSETTO:-0400
TZNAME:EDT
DTSTART:20290311T070000
END:DAYLIGHT
BEGIN:STANDARD
TZOFFSETFROM:-0400
TZOFFSETTO:-0500
TZNAME:EST
DTSTART:20291104T060000
END:STANDARD
END:VTIMEZONE
BEGIN:VEVENT
DTSTART;TZID=America/Detroit:20260415T170000
DTEND;TZID=America/Detroit:20260415T170000
DTSTAMP:20260425T094435
CREATED:20260402T160913Z
LAST-MODIFIED:20260402T160913Z
UID:10015670-1776272400-1776272400@firststjohn.com
SUMMARY:Day School Mtg
DESCRIPTION:
URL:https://firststjohn.com/event/day-school-mtg/2026-04-15/
CATEGORIES:Dayschool
ATTACH;FMTTYPE=image/jpeg:https://firststjohn.com/wp-content/uploads/2024/02/img40.jpeg
END:VEVENT
BEGIN:VEVENT
DTSTART;TZID=America/Detroit:20260520T170000
DTEND;TZID=America/Detroit:20260520T170000
DTSTAMP:20260425T094435
CREATED:20260402T160913Z
LAST-MODIFIED:20260402T160913Z
UID:10015671-1779296400-1779296400@firststjohn.com
SUMMARY:Day School Mtg
DESCRIPTION:
URL:https://firststjohn.com/event/day-school-mtg/2026-05-20/
CATEGORIES:Dayschool
ATTACH;FMTTYPE=image/jpeg:https://firststjohn.com/wp-content/uploads/2024/02/img40.jpeg
END:VEVENT
BEGIN:VEVENT
DTSTART;TZID=America/Detroit:20260617T170000
DTEND;TZID=America/Detroit:20260617T170000
DTSTAMP:20260425T094435
CREATED:20260402T160913Z
LAST-MODIFIED:20260402T160913Z
UID:10015672-1781715600-1781715600@firststjohn.com
SUMMARY:Day School Mtg
DESCRIPTION:
URL:https://firststjohn.com/event/day-school-mtg/2026-06-17/
CATEGORIES:Dayschool
ATTACH;FMTTYPE=image/jpeg:https://firststjohn.com/wp-content/uploads/2024/02/img40.jpeg
END:VEVENT
BEGIN:VEVENT
DTSTART;TZID=America/Detroit:20260715T170000
DTEND;TZID=America/Detroit:20260715T170000
DTSTAMP:20260425T094435
CREATED:20260402T160913Z
LAST-MODIFIED:20260402T160913Z
UID:10015673-1784134800-1784134800@firststjohn.com
SUMMARY:Day School Mtg
DESCRIPTION:
URL:https://firststjohn.com/event/day-school-mtg/2026-07-15/
CATEGORIES:Dayschool
ATTACH;FMTTYPE=image/jpeg:https://firststjohn.com/wp-content/uploads/2024/02/img40.jpeg
END:VEVENT
BEGIN:VEVENT
DTSTART;TZID=America/Detroit:20260819T170000
DTEND;TZID=America/Detroit:20260819T170000
DTSTAMP:20260425T094435
CREATED:20260402T160913Z
LAST-MODIFIED:20260402T160913Z
UID:10015674-1787158800-1787158800@firststjohn.com
SUMMARY:Day School Mtg
DESCRIPTION:
URL:https://firststjohn.com/event/day-school-mtg/2026-08-19/
CATEGORIES:Dayschool
ATTACH;FMTTYPE=image/jpeg:https://firststjohn.com/wp-content/uploads/2024/02/img40.jpeg
END:VEVENT
BEGIN:VEVENT
DTSTART;VALUE=DATE:20260913
DTEND;VALUE=DATE:20260914
DTSTAMP:20260425T094435
CREATED:20260424T171123Z
LAST-MODIFIED:20260424T171123Z
UID:10016011-1789257600-1789343999@firststjohn.com
SUMMARY:Day School's 50th Anniversary
DESCRIPTION:The 2026/2027 school year will be the Day School’s 50TH anniversary! So many children have passed\nthrough our doors\, and I hope that we have successfully planted the seeds of God’s love in those little\nhearts. On Sunday\, September 13th the church and the Day School will be hosting a celebration at Oak\nShade Grove. It will include an outdoor church service\, BBQ\, family activities and competitions and a free\nconcert featuring Yancy\, a nationally known children’s Christian singer/songwriter. This event will be for\nchurch members\, alumni\, neighboring church parishioners and the community. After Easter\, the Day\nSchool will be organizing volunteers for this amazing event. Mark your calendar and get ready to praise\nGod in celebration of 50 years of this amazing ministry.
URL:https://firststjohn.com/event/day-schools-50th-anniversary/
CATEGORIES:Children,Dayschool,Featured
ATTACH;FMTTYPE=image/jpeg:https://firststjohn.com/wp-content/uploads/2024/02/kids.jpg
ORGANIZER;CN="Andrea Buckley":MAILTO:fsjdayschool@firststjohn.com
END:VEVENT
BEGIN:VEVENT
DTSTART;TZID=America/Detroit:20260916T170000
DTEND;TZID=America/Detroit:20260916T170000
DTSTAMP:20260425T094435
CREATED:20260402T160913Z
LAST-MODIFIED:20260402T160913Z
UID:10015675-1789578000-1789578000@firststjohn.com
SUMMARY:Day School Mtg
DESCRIPTION:
URL:https://firststjohn.com/event/day-school-mtg/2026-09-16/
CATEGORIES:Dayschool
ATTACH;FMTTYPE=image/jpeg:https://firststjohn.com/wp-content/uploads/2024/02/img40.jpeg
END:VEVENT
BEGIN:VEVENT
DTSTART;TZID=America/Detroit:20261021T170000
DTEND;TZID=America/Detroit:20261021T170000
DTSTAMP:20260425T094435
CREATED:20260402T160913Z
LAST-MODIFIED:20260402T160913Z
UID:10015676-1792602000-1792602000@firststjohn.com
SUMMARY:Day School Mtg
DESCRIPTION:
URL:https://firststjohn.com/event/day-school-mtg/2026-10-21/
CATEGORIES:Dayschool
ATTACH;FMTTYPE=image/jpeg:https://firststjohn.com/wp-content/uploads/2024/02/img40.jpeg
END:VEVENT
BEGIN:VEVENT
DTSTART;TZID=America/Detroit:20261118T170000
DTEND;TZID=America/Detroit:20261118T170000
DTSTAMP:20260425T094435
CREATED:20260402T160913Z
LAST-MODIFIED:20260402T160913Z
UID:10015677-1795021200-1795021200@firststjohn.com
SUMMARY:Day School Mtg
DESCRIPTION:
URL:https://firststjohn.com/event/day-school-mtg/2026-11-18/
CATEGORIES:Dayschool
ATTACH;FMTTYPE=image/jpeg:https://firststjohn.com/wp-content/uploads/2024/02/img40.jpeg
END:VEVENT
BEGIN:VEVENT
DTSTART;TZID=America/Detroit:20261216T170000
DTEND;TZID=America/Detroit:20261216T170000
DTSTAMP:20260425T094435
CREATED:20260402T160913Z
LAST-MODIFIED:20260402T160913Z
UID:10015678-1797440400-1797440400@firststjohn.com
SUMMARY:Day School Mtg
DESCRIPTION:
URL:https://firststjohn.com/event/day-school-mtg/2026-12-16/
CATEGORIES:Dayschool
ATTACH;FMTTYPE=image/jpeg:https://firststjohn.com/wp-content/uploads/2024/02/img40.jpeg
END:VEVENT
BEGIN:VEVENT
DTSTART;TZID=America/Detroit:20270120T170000
DTEND;TZID=America/Detroit:20270120T170000
DTSTAMP:20260425T094435
CREATED:20260402T160913Z
LAST-MODIFIED:20260402T160913Z
UID:10015679-1800464400-1800464400@firststjohn.com
SUMMARY:Day School Mtg
DESCRIPTION:
URL:https://firststjohn.com/event/day-school-mtg/2027-01-20/
CATEGORIES:Dayschool
ATTACH;FMTTYPE=image/jpeg:https://firststjohn.com/wp-content/uploads/2024/02/img40.jpeg
END:VEVENT
BEGIN:VEVENT
DTSTART;TZID=America/Detroit:20270217T170000
DTEND;TZID=America/Detroit:20270217T170000
DTSTAMP:20260425T094435
CREATED:20260402T160913Z
LAST-MODIFIED:20260402T160913Z
UID:10015680-1802883600-1802883600@firststjohn.com
SUMMARY:Day School Mtg
DESCRIPTION:
URL:https://firststjohn.com/event/day-school-mtg/2027-02-17/
CATEGORIES:Dayschool
ATTACH;FMTTYPE=image/jpeg:https://firststjohn.com/wp-content/uploads/2024/02/img40.jpeg
END:VEVENT
BEGIN:VEVENT
DTSTART;TZID=America/Detroit:20270317T170000
DTEND;TZID=America/Detroit:20270317T170000
DTSTAMP:20260425T094435
CREATED:20260402T160913Z
LAST-MODIFIED:20260402T160913Z
UID:10015681-1805302800-1805302800@firststjohn.com
SUMMARY:Day School Mtg
DESCRIPTION:
URL:https://firststjohn.com/event/day-school-mtg/2027-03-17/
CATEGORIES:Dayschool
ATTACH;FMTTYPE=image/jpeg:https://firststjohn.com/wp-content/uploads/2024/02/img40.jpeg
END:VEVENT
BEGIN:VEVENT
DTSTART;TZID=America/Detroit:20270421T170000
DTEND;TZID=America/Detroit:20270421T170000
DTSTAMP:20260425T094435
CREATED:20260402T160913Z
LAST-MODIFIED:20260402T160913Z
UID:10015682-1808326800-1808326800@firststjohn.com
SUMMARY:Day School Mtg
DESCRIPTION:
URL:https://firststjohn.com/event/day-school-mtg/2027-04-21/
CATEGORIES:Dayschool
ATTACH;FMTTYPE=image/jpeg:https://firststjohn.com/wp-content/uploads/2024/02/img40.jpeg
END:VEVENT
BEGIN:VEVENT
DTSTART;TZID=America/Detroit:20270519T170000
DTEND;TZID=America/Detroit:20270519T170000
DTSTAMP:20260425T094435
CREATED:20260402T160913Z
LAST-MODIFIED:20260402T160913Z
UID:10015683-1810746000-1810746000@firststjohn.com
SUMMARY:Day School Mtg
DESCRIPTION:
URL:https://firststjohn.com/event/day-school-mtg/2027-05-19/
CATEGORIES:Dayschool
ATTACH;FMTTYPE=image/jpeg:https://firststjohn.com/wp-content/uploads/2024/02/img40.jpeg
END:VEVENT
BEGIN:VEVENT
DTSTART;TZID=America/Detroit:20270616T170000
DTEND;TZID=America/Detroit:20270616T170000
DTSTAMP:20260425T094435
CREATED:20260402T160913Z
LAST-MODIFIED:20260402T160913Z
UID:10015684-1813165200-1813165200@firststjohn.com
SUMMARY:Day School Mtg
DESCRIPTION:
URL:https://firststjohn.com/event/day-school-mtg/2027-06-16/
CATEGORIES:Dayschool
ATTACH;FMTTYPE=image/jpeg:https://firststjohn.com/wp-content/uploads/2024/02/img40.jpeg
END:VEVENT
BEGIN:VEVENT
DTSTART;TZID=America/Detroit:20270721T170000
DTEND;TZID=America/Detroit:20270721T170000
DTSTAMP:20260425T094435
CREATED:20260402T160913Z
LAST-MODIFIED:20260402T160913Z
UID:10015685-1816189200-1816189200@firststjohn.com
SUMMARY:Day School Mtg
DESCRIPTION:
URL:https://firststjohn.com/event/day-school-mtg/2027-07-21/
CATEGORIES:Dayschool
ATTACH;FMTTYPE=image/jpeg:https://firststjohn.com/wp-content/uploads/2024/02/img40.jpeg
END:VEVENT
BEGIN:VEVENT
DTSTART;TZID=America/Detroit:20270818T170000
DTEND;TZID=America/Detroit:20270818T170000
DTSTAMP:20260425T094435
CREATED:20260402T160913Z
LAST-MODIFIED:20260402T160913Z
UID:10015686-1818608400-1818608400@firststjohn.com
SUMMARY:Day School Mtg
DESCRIPTION:
URL:https://firststjohn.com/event/day-school-mtg/2027-08-18/
CATEGORIES:Dayschool
ATTACH;FMTTYPE=image/jpeg:https://firststjohn.com/wp-content/uploads/2024/02/img40.jpeg
END:VEVENT
BEGIN:VEVENT
DTSTART;TZID=America/Detroit:20270915T170000
DTEND;TZID=America/Detroit:20270915T170000
DTSTAMP:20260425T094435
CREATED:20260402T160913Z
LAST-MODIFIED:20260402T160913Z
UID:10015687-1821027600-1821027600@firststjohn.com
SUMMARY:Day School Mtg
DESCRIPTION:
URL:https://firststjohn.com/event/day-school-mtg/2027-09-15/
CATEGORIES:Dayschool
ATTACH;FMTTYPE=image/jpeg:https://firststjohn.com/wp-content/uploads/2024/02/img40.jpeg
END:VEVENT
BEGIN:VEVENT
DTSTART;TZID=America/Detroit:20271020T170000
DTEND;TZID=America/Detroit:20271020T170000
DTSTAMP:20260425T094435
CREATED:20260402T160913Z
LAST-MODIFIED:20260402T160913Z
UID:10015688-1824051600-1824051600@firststjohn.com
SUMMARY:Day School Mtg
DESCRIPTION:
URL:https://firststjohn.com/event/day-school-mtg/2027-10-20/
CATEGORIES:Dayschool
ATTACH;FMTTYPE=image/jpeg:https://firststjohn.com/wp-content/uploads/2024/02/img40.jpeg
END:VEVENT
BEGIN:VEVENT
DTSTART;TZID=America/Detroit:20271117T170000
DTEND;TZID=America/Detroit:20271117T170000
DTSTAMP:20260425T094435
CREATED:20260402T160913Z
LAST-MODIFIED:20260402T160913Z
UID:10015689-1826470800-1826470800@firststjohn.com
SUMMARY:Day School Mtg
DESCRIPTION:
URL:https://firststjohn.com/event/day-school-mtg/2027-11-17/
CATEGORIES:Dayschool
ATTACH;FMTTYPE=image/jpeg:https://firststjohn.com/wp-content/uploads/2024/02/img40.jpeg
END:VEVENT
BEGIN:VEVENT
DTSTART;TZID=America/Detroit:20271215T170000
DTEND;TZID=America/Detroit:20271215T170000
DTSTAMP:20260425T094435
CREATED:20260402T160913Z
LAST-MODIFIED:20260402T160913Z
UID:10015690-1828890000-1828890000@firststjohn.com
SUMMARY:Day School Mtg
DESCRIPTION:
URL:https://firststjohn.com/event/day-school-mtg/2027-12-15/
CATEGORIES:Dayschool
ATTACH;FMTTYPE=image/jpeg:https://firststjohn.com/wp-content/uploads/2024/02/img40.jpeg
END:VEVENT
BEGIN:VEVENT
DTSTART;TZID=America/Detroit:20280119T170000
DTEND;TZID=America/Detroit:20280119T170000
DTSTAMP:20260425T094435
CREATED:20260402T160913Z
LAST-MODIFIED:20260402T160913Z
UID:10015691-1831914000-1831914000@firststjohn.com
SUMMARY:Day School Mtg
DESCRIPTION:
URL:https://firststjohn.com/event/day-school-mtg/2028-01-19/
CATEGORIES:Dayschool
ATTACH;FMTTYPE=image/jpeg:https://firststjohn.com/wp-content/uploads/2024/02/img40.jpeg
END:VEVENT
BEGIN:VEVENT
DTSTART;TZID=America/Detroit:20280216T170000
DTEND;TZID=America/Detroit:20280216T170000
DTSTAMP:20260425T094435
CREATED:20260402T160913Z
LAST-MODIFIED:20260402T160913Z
UID:10015692-1834333200-1834333200@firststjohn.com
SUMMARY:Day School Mtg
DESCRIPTION:
URL:https://firststjohn.com/event/day-school-mtg/2028-02-16/
CATEGORIES:Dayschool
ATTACH;FMTTYPE=image/jpeg:https://firststjohn.com/wp-content/uploads/2024/02/img40.jpeg
END:VEVENT
BEGIN:VEVENT
DTSTART;TZID=America/Detroit:20280315T170000
DTEND;TZID=America/Detroit:20280315T170000
DTSTAMP:20260425T094435
CREATED:20260402T160913Z
LAST-MODIFIED:20260402T160913Z
UID:10015693-1836752400-1836752400@firststjohn.com
SUMMARY:Day School Mtg
DESCRIPTION:
URL:https://firststjohn.com/event/day-school-mtg/2028-03-15/
CATEGORIES:Dayschool
ATTACH;FMTTYPE=image/jpeg:https://firststjohn.com/wp-content/uploads/2024/02/img40.jpeg
END:VEVENT
BEGIN:VEVENT
DTSTART;TZID=America/Detroit:20280419T170000
DTEND;TZID=America/Detroit:20280419T170000
DTSTAMP:20260425T094435
CREATED:20260402T160913Z
LAST-MODIFIED:20260402T160913Z
UID:10015694-1839776400-1839776400@firststjohn.com
SUMMARY:Day School Mtg
DESCRIPTION:
URL:https://firststjohn.com/event/day-school-mtg/2028-04-19/
CATEGORIES:Dayschool
ATTACH;FMTTYPE=image/jpeg:https://firststjohn.com/wp-content/uploads/2024/02/img40.jpeg
END:VEVENT
BEGIN:VEVENT
DTSTART;TZID=America/Detroit:20280517T170000
DTEND;TZID=America/Detroit:20280517T170000
DTSTAMP:20260425T094435
CREATED:20260402T160913Z
LAST-MODIFIED:20260402T160913Z
UID:10015695-1842195600-1842195600@firststjohn.com
SUMMARY:Day School Mtg
DESCRIPTION:
URL:https://firststjohn.com/event/day-school-mtg/2028-05-17/
CATEGORIES:Dayschool
ATTACH;FMTTYPE=image/jpeg:https://firststjohn.com/wp-content/uploads/2024/02/img40.jpeg
END:VEVENT
BEGIN:VEVENT
DTSTART;TZID=America/Detroit:20280621T170000
DTEND;TZID=America/Detroit:20280621T170000
DTSTAMP:20260425T094435
CREATED:20260402T160913Z
LAST-MODIFIED:20260402T160913Z
UID:10015696-1845219600-1845219600@firststjohn.com
SUMMARY:Day School Mtg
DESCRIPTION:
URL:https://firststjohn.com/event/day-school-mtg/2028-06-21/
CATEGORIES:Dayschool
ATTACH;FMTTYPE=image/jpeg:https://firststjohn.com/wp-content/uploads/2024/02/img40.jpeg
END:VEVENT
BEGIN:VEVENT
DTSTART;TZID=America/Detroit:20280719T170000
DTEND;TZID=America/Detroit:20280719T170000
DTSTAMP:20260425T094435
CREATED:20260402T160913Z
LAST-MODIFIED:20260402T160913Z
UID:10015697-1847638800-1847638800@firststjohn.com
SUMMARY:Day School Mtg
DESCRIPTION:
URL:https://firststjohn.com/event/day-school-mtg/2028-07-19/
CATEGORIES:Dayschool
ATTACH;FMTTYPE=image/jpeg:https://firststjohn.com/wp-content/uploads/2024/02/img40.jpeg
END:VEVENT
BEGIN:VEVENT
DTSTART;TZID=America/Detroit:20280816T170000
DTEND;TZID=America/Detroit:20280816T170000
DTSTAMP:20260425T094435
CREATED:20260402T160913Z
LAST-MODIFIED:20260402T160913Z
UID:10015698-1850058000-1850058000@firststjohn.com
SUMMARY:Day School Mtg
DESCRIPTION:
URL:https://firststjohn.com/event/day-school-mtg/2028-08-16/
CATEGORIES:Dayschool
ATTACH;FMTTYPE=image/jpeg:https://firststjohn.com/wp-content/uploads/2024/02/img40.jpeg
END:VEVENT
END:VCALENDAR