BEGIN:VCALENDAR
VERSION:2.0
PRODID:-//First St John - ECPv6.15.20//NONSGML v1.0//EN
CALSCALE:GREGORIAN
METHOD:PUBLISH
X-WR-CALNAME:First St John
X-ORIGINAL-URL:https://firststjohn.com
X-WR-CALDESC:Events for First St John
REFRESH-INTERVAL;VALUE=DURATION:PT1H
X-Robots-Tag:noindex
X-PUBLISHED-TTL:PT1H
BEGIN:VTIMEZONE
TZID:America/New_York
BEGIN:DAYLIGHT
TZOFFSETFROM:-0500
TZOFFSETTO:-0400
TZNAME:EDT
DTSTART:20300310T070000
END:DAYLIGHT
BEGIN:STANDARD
TZOFFSETFROM:-0400
TZOFFSETTO:-0500
TZNAME:EST
DTSTART:20301103T060000
END:STANDARD
BEGIN:DAYLIGHT
TZOFFSETFROM:-0500
TZOFFSETTO:-0400
TZNAME:EDT
DTSTART:20310309T070000
END:DAYLIGHT
BEGIN:STANDARD
TZOFFSETFROM:-0400
TZOFFSETTO:-0500
TZNAME:EST
DTSTART:20311102T060000
END:STANDARD
BEGIN:DAYLIGHT
TZOFFSETFROM:-0500
TZOFFSETTO:-0400
TZNAME:EDT
DTSTART:20320314T070000
END:DAYLIGHT
BEGIN:STANDARD
TZOFFSETFROM:-0400
TZOFFSETTO:-0500
TZNAME:EST
DTSTART:20321107T060000
END:STANDARD
END:VTIMEZONE
BEGIN:VEVENT
DTSTART;TZID=America/New_York:20310205T110000
DTEND;TZID=America/New_York:20310205T110000
DTSTAMP:20260424T083051
CREATED:20260402T151023Z
LAST-MODIFIED:20260402T151023Z
UID:10015095-1928055600-1928055600@firststjohn.com
SUMMARY:Ruth Circle
DESCRIPTION:“The Woman of Consistency” \nThe Ruth Circle meets on the first tuesday of the month at 11 am.
URL:https://firststjohn.com/event/ruth-circle-2-2-3-2-4-2-6/2031-02-05/
LOCATION:Lounge
CATEGORIES:Chapel,Church Office,Featured,Fellowship,WELCA
ATTACH;FMTTYPE=image/jpeg:https://firststjohn.com/wp-content/uploads/2024/02/334204847_715639593392527_2754186504092574106_n.jpg
END:VEVENT
BEGIN:VEVENT
DTSTART;TZID=America/New_York:20310305T110000
DTEND;TZID=America/New_York:20310305T110000
DTSTAMP:20260424T083051
CREATED:20260402T151023Z
LAST-MODIFIED:20260402T151023Z
UID:10015096-1930474800-1930474800@firststjohn.com
SUMMARY:Ruth Circle
DESCRIPTION:“The Woman of Consistency” \nThe Ruth Circle meets on the first tuesday of the month at 11 am.
URL:https://firststjohn.com/event/ruth-circle-2-2-3-2-4-2-6/2031-03-05/
LOCATION:Lounge
CATEGORIES:Chapel,Church Office,Featured,Fellowship,WELCA
ATTACH;FMTTYPE=image/jpeg:https://firststjohn.com/wp-content/uploads/2024/02/334204847_715639593392527_2754186504092574106_n.jpg
END:VEVENT
BEGIN:VEVENT
DTSTART;TZID=America/New_York:20310402T110000
DTEND;TZID=America/New_York:20310402T110000
DTSTAMP:20260424T083051
CREATED:20260402T151023Z
LAST-MODIFIED:20260402T151023Z
UID:10015097-1932894000-1932894000@firststjohn.com
SUMMARY:Ruth Circle
DESCRIPTION:“The Woman of Consistency” \nThe Ruth Circle meets on the first tuesday of the month at 11 am.
URL:https://firststjohn.com/event/ruth-circle-2-2-3-2-4-2-6/2031-04-02/
LOCATION:Lounge
CATEGORIES:Chapel,Church Office,Featured,Fellowship,WELCA
ATTACH;FMTTYPE=image/jpeg:https://firststjohn.com/wp-content/uploads/2024/02/334204847_715639593392527_2754186504092574106_n.jpg
END:VEVENT
END:VCALENDAR