BEGIN:VCALENDAR
VERSION:2.0
PRODID:-//First St John - ECPv6.15.20//NONSGML v1.0//EN
CALSCALE:GREGORIAN
METHOD:PUBLISH
X-ORIGINAL-URL:https://firststjohn.com
X-WR-CALDESC:Events for First St John
REFRESH-INTERVAL;VALUE=DURATION:PT1H
X-Robots-Tag:noindex
X-PUBLISHED-TTL:PT1H
BEGIN:VTIMEZONE
TZID:America/New_York
BEGIN:DAYLIGHT
TZOFFSETFROM:-0500
TZOFFSETTO:-0400
TZNAME:EDT
DTSTART:20240310T070000
END:DAYLIGHT
BEGIN:STANDARD
TZOFFSETFROM:-0400
TZOFFSETTO:-0500
TZNAME:EST
DTSTART:20241103T060000
END:STANDARD
BEGIN:DAYLIGHT
TZOFFSETFROM:-0500
TZOFFSETTO:-0400
TZNAME:EDT
DTSTART:20250309T070000
END:DAYLIGHT
BEGIN:STANDARD
TZOFFSETFROM:-0400
TZOFFSETTO:-0500
TZNAME:EST
DTSTART:20251102T060000
END:STANDARD
BEGIN:DAYLIGHT
TZOFFSETFROM:-0500
TZOFFSETTO:-0400
TZNAME:EDT
DTSTART:20260308T070000
END:DAYLIGHT
BEGIN:STANDARD
TZOFFSETFROM:-0400
TZOFFSETTO:-0500
TZNAME:EST
DTSTART:20261101T060000
END:STANDARD
END:VTIMEZONE
BEGIN:VTIMEZONE
TZID:America/Detroit
BEGIN:DAYLIGHT
TZOFFSETFROM:-0500
TZOFFSETTO:-0400
TZNAME:EDT
DTSTART:20240310T070000
END:DAYLIGHT
BEGIN:STANDARD
TZOFFSETFROM:-0400
TZOFFSETTO:-0500
TZNAME:EST
DTSTART:20241103T060000
END:STANDARD
BEGIN:DAYLIGHT
TZOFFSETFROM:-0500
TZOFFSETTO:-0400
TZNAME:EDT
DTSTART:20250309T070000
END:DAYLIGHT
BEGIN:STANDARD
TZOFFSETFROM:-0400
TZOFFSETTO:-0500
TZNAME:EST
DTSTART:20251102T060000
END:STANDARD
BEGIN:DAYLIGHT
TZOFFSETFROM:-0500
TZOFFSETTO:-0400
TZNAME:EDT
DTSTART:20260308T070000
END:DAYLIGHT
BEGIN:STANDARD
TZOFFSETFROM:-0400
TZOFFSETTO:-0500
TZNAME:EST
DTSTART:20261101T060000
END:STANDARD
END:VTIMEZONE
BEGIN:VEVENT
DTSTART;TZID=America/New_York:20250506T110000
DTEND;TZID=America/New_York:20250506T110000
DTSTAMP:20260424T094516
CREATED:20241110T195619Z
LAST-MODIFIED:20250104T153550Z
UID:10009949-1746529200-1746529200@firststjohn.com
SUMMARY:Ruth Circle in lounge
DESCRIPTION:“The Woman of Consistency” \nThe Ruth Circle meets on the first tuesday of the month at 11 am.
URL:https://firststjohn.com/event/ruth-circle-2-2-3-2/2025-05-06/
LOCATION:Lounge
CATEGORIES:Chapel,Church Office,Featured,Fellowship,WELCA
ATTACH;FMTTYPE=image/jpeg:https://firststjohn.com/wp-content/uploads/2024/02/334204847_715639593392527_2754186504092574106_n.jpg
END:VEVENT
BEGIN:VEVENT
DTSTART;TZID=America/New_York:20250505T190000
DTEND;TZID=America/New_York:20250505T190000
DTSTAMP:20260424T094516
CREATED:20241231T210218Z
LAST-MODIFIED:20241231T210218Z
UID:10009250-1746471600-1746471600@firststjohn.com
SUMMARY:Scouting Ministry Mtg
DESCRIPTION:SCOUTING NEWS \nFirst St. John has been in conversation with the Erie Shores Council of The Boy Scouts of America for establishing a Scouting Pack sponsored by FSJ. At the last Church council meeting approval was given to proceed with organizing the pack which would include both boys and girls according to the recent changes in Scouting by the BSA. Moving forward with this ministry outreach will require assembling a core group of volunteers from the congregation and any supporting groups including the FSJ Day School. These include the core oversight committee to the Cubmaster and Den Leaders. If you feel called to be part of the ministry\, please contact Pastor Rayl as soon as possible\, 419-691-7222.
URL:https://firststjohn.com/event/scouting-ministry-mtg-room-204-2-2-2/2025-05-05/
LOCATION:Ed Bldg Room 204
CATEGORIES:Chapel,Church Office,Featured,Scouting
ATTACH;FMTTYPE=image/png:https://firststjohn.com/wp-content/uploads/2024/11/Scout-Flag-Pack-58.png
END:VEVENT
BEGIN:VEVENT
DTSTART;TZID=America/Detroit:20250423T180000
DTEND;TZID=America/Detroit:20250423T180000
DTSTAMP:20260424T094516
CREATED:20250301T220904Z
LAST-MODIFIED:20250402T231723Z
UID:10011107-1745431200-1745431200@firststjohn.com
SUMMARY:TBD Hannah Circle
DESCRIPTION:
URL:https://firststjohn.com/event/hannah-circle-at-chilis/2025-04-23/
LOCATION:Chili’s
CATEGORIES:Chapel,Church Office,Featured,Fellowship,Hannah Circle
ATTACH;FMTTYPE=image/jpeg:https://firststjohn.com/wp-content/uploads/2024/05/HANNAH-scaled.jpg
END:VEVENT
BEGIN:VEVENT
DTSTART;TZID=America/New_York:20250407T193000
DTEND;TZID=America/New_York:20250407T193000
DTSTAMP:20260424T094516
CREATED:20250331T014556Z
LAST-MODIFIED:20250331T231303Z
UID:10009345-1744054200-1744054200@firststjohn.com
SUMMARY:Dartball (Home)
DESCRIPTION:
URL:https://firststjohn.com/event/dartball-4-10/
CATEGORIES:Chapel,Church Office,Featured,Fellowship
ATTACH;FMTTYPE=image/jpeg:https://firststjohn.com/wp-content/uploads/2024/02/img23.jpg
END:VEVENT
BEGIN:VEVENT
DTSTART;TZID=America/New_York:20250407T190000
DTEND;TZID=America/New_York:20250407T190000
DTSTAMP:20260424T094516
CREATED:20241231T210218Z
LAST-MODIFIED:20241231T210218Z
UID:10009249-1744052400-1744052400@firststjohn.com
SUMMARY:Scouting Ministry Mtg
DESCRIPTION:SCOUTING NEWS \nFirst St. John has been in conversation with the Erie Shores Council of The Boy Scouts of America for establishing a Scouting Pack sponsored by FSJ. At the last Church council meeting approval was given to proceed with organizing the pack which would include both boys and girls according to the recent changes in Scouting by the BSA. Moving forward with this ministry outreach will require assembling a core group of volunteers from the congregation and any supporting groups including the FSJ Day School. These include the core oversight committee to the Cubmaster and Den Leaders. If you feel called to be part of the ministry\, please contact Pastor Rayl as soon as possible\, 419-691-7222.
URL:https://firststjohn.com/event/scouting-ministry-mtg-room-204-2-2-2/2025-04-07/
LOCATION:Ed Bldg Room 204
CATEGORIES:Chapel,Church Office,Featured,Scouting
ATTACH;FMTTYPE=image/png:https://firststjohn.com/wp-content/uploads/2024/11/Scout-Flag-Pack-58.png
END:VEVENT
BEGIN:VEVENT
DTSTART;TZID=America/New_York:20250401T110000
DTEND;TZID=America/New_York:20250401T110000
DTSTAMP:20260424T094516
CREATED:20241110T195619Z
LAST-MODIFIED:20250104T153550Z
UID:10009948-1743505200-1743505200@firststjohn.com
SUMMARY:Ruth Circle in lounge
DESCRIPTION:“The Woman of Consistency” \nThe Ruth Circle meets on the first tuesday of the month at 11 am.
URL:https://firststjohn.com/event/ruth-circle-2-2-3-2/2025-04-01/
LOCATION:Lounge
CATEGORIES:Chapel,Church Office,Featured,Fellowship,WELCA
ATTACH;FMTTYPE=image/jpeg:https://firststjohn.com/wp-content/uploads/2024/02/334204847_715639593392527_2754186504092574106_n.jpg
END:VEVENT
BEGIN:VEVENT
DTSTART;TZID=America/New_York:20250331T193000
DTEND;TZID=America/New_York:20250331T193000
DTSTAMP:20260424T094516
CREATED:20250301T224519Z
LAST-MODIFIED:20250301T224519Z
UID:10009344-1743449400-1743449400@firststjohn.com
SUMMARY:Dartball (A)
DESCRIPTION:
URL:https://firststjohn.com/event/dartball-4-9/
CATEGORIES:Chapel,Church Office,Featured,Fellowship
ATTACH;FMTTYPE=image/jpeg:https://firststjohn.com/wp-content/uploads/2024/02/img23.jpg
END:VEVENT
BEGIN:VEVENT
DTSTART;TZID=America/Detroit:20250331T093000
DTEND;TZID=America/Detroit:20250331T093000
DTSTAMP:20260424T094516
CREATED:20250109T012328Z
LAST-MODIFIED:20250109T012329Z
UID:10010040-1743413400-1743413400@firststjohn.com
SUMMARY:Quilting
DESCRIPTION:Everyone is welcome to join us! Bring a sack lunch. Workshops on Mondays from 9:30 am – 1:00 pm in January\, February\, and March. \nIf Oregon schools are closed for weather\, NO QUILTING
URL:https://firststjohn.com/event/quilting-2/2025-03-31/
CATEGORIES:Chapel,Church Office,Featured,Fellowship,Hannah Circle,WELCA
ATTACH;FMTTYPE=image/jpeg:https://firststjohn.com/wp-content/uploads/2024/12/QUILTERS-8.jpg
END:VEVENT
BEGIN:VEVENT
DTSTART;TZID=America/Detroit:20250324T093000
DTEND;TZID=America/Detroit:20250324T093000
DTSTAMP:20260424T094516
CREATED:20250109T012328Z
LAST-MODIFIED:20250109T012329Z
UID:10010039-1742808600-1742808600@firststjohn.com
SUMMARY:Quilting
DESCRIPTION:Everyone is welcome to join us! Bring a sack lunch. Workshops on Mondays from 9:30 am – 1:00 pm in January\, February\, and March. \nIf Oregon schools are closed for weather\, NO QUILTING
URL:https://firststjohn.com/event/quilting-2/2025-03-24/
CATEGORIES:Chapel,Church Office,Featured,Fellowship,Hannah Circle,WELCA
ATTACH;FMTTYPE=image/jpeg:https://firststjohn.com/wp-content/uploads/2024/12/QUILTERS-8.jpg
END:VEVENT
BEGIN:VEVENT
DTSTART;TZID=America/Detroit:20250318T190000
DTEND;TZID=America/Detroit:20250318T190000
DTSTAMP:20260424T094516
CREATED:20250301T224115Z
LAST-MODIFIED:20250301T224115Z
UID:10010942-1742324400-1742324400@firststjohn.com
SUMMARY:Council Meeting
DESCRIPTION:
URL:https://firststjohn.com/event/council-meeting-3/
CATEGORIES:Church Council,Church Office
ORGANIZER;CN="Jennifer Hess":MAILTO:office@firststjohn.com
END:VEVENT
BEGIN:VEVENT
DTSTART;TZID=America/New_York:20250317T190000
DTEND;TZID=America/New_York:20250317T190000
DTSTAMP:20260424T094516
CREATED:20250301T223853Z
LAST-MODIFIED:20250316T203639Z
UID:10009342-1742238000-1742238000@firststjohn.com
SUMMARY:Dartball (H)
DESCRIPTION:
URL:https://firststjohn.com/event/dartball-4-8/
CATEGORIES:Chapel,Church Office,Featured,Fellowship
ATTACH;FMTTYPE=image/jpeg:https://firststjohn.com/wp-content/uploads/2024/02/img23.jpg
END:VEVENT
BEGIN:VEVENT
DTSTART;TZID=America/Detroit:20250317T093000
DTEND;TZID=America/Detroit:20250317T093000
DTSTAMP:20260424T094516
CREATED:20250109T012328Z
LAST-MODIFIED:20250109T012329Z
UID:10010038-1742203800-1742203800@firststjohn.com
SUMMARY:Quilting
DESCRIPTION:Everyone is welcome to join us! Bring a sack lunch. Workshops on Mondays from 9:30 am – 1:00 pm in January\, February\, and March. \nIf Oregon schools are closed for weather\, NO QUILTING
URL:https://firststjohn.com/event/quilting-2/2025-03-17/
CATEGORIES:Chapel,Church Office,Featured,Fellowship,Hannah Circle,WELCA
ATTACH;FMTTYPE=image/jpeg:https://firststjohn.com/wp-content/uploads/2024/12/QUILTERS-8.jpg
END:VEVENT
BEGIN:VEVENT
DTSTART;TZID=America/Detroit:20250310T093000
DTEND;TZID=America/Detroit:20250310T093000
DTSTAMP:20260424T094516
CREATED:20250109T012328Z
LAST-MODIFIED:20250109T012329Z
UID:10010037-1741599000-1741599000@firststjohn.com
SUMMARY:Quilting
DESCRIPTION:Everyone is welcome to join us! Bring a sack lunch. Workshops on Mondays from 9:30 am – 1:00 pm in January\, February\, and March. \nIf Oregon schools are closed for weather\, NO QUILTING
URL:https://firststjohn.com/event/quilting-2/2025-03-10/
CATEGORIES:Chapel,Church Office,Featured,Fellowship,Hannah Circle,WELCA
ATTACH;FMTTYPE=image/jpeg:https://firststjohn.com/wp-content/uploads/2024/12/QUILTERS-8.jpg
END:VEVENT
BEGIN:VEVENT
DTSTART;TZID=America/Detroit:20250304T180000
DTEND;TZID=America/Detroit:20250304T180000
DTSTAMP:20260424T094517
CREATED:20250301T220904Z
LAST-MODIFIED:20250402T231723Z
UID:10010905-1741111200-1741111200@firststjohn.com
SUMMARY:TBD Hannah Circle
DESCRIPTION:
URL:https://firststjohn.com/event/hannah-circle-at-chilis/2025-03-04/
LOCATION:Chili’s
CATEGORIES:Chapel,Church Office,Featured,Fellowship,Hannah Circle
ATTACH;FMTTYPE=image/jpeg:https://firststjohn.com/wp-content/uploads/2024/05/HANNAH-scaled.jpg
END:VEVENT
BEGIN:VEVENT
DTSTART;TZID=America/New_York:20250304T110000
DTEND;TZID=America/New_York:20250304T110000
DTSTAMP:20260424T094517
CREATED:20241110T195619Z
LAST-MODIFIED:20250104T153550Z
UID:10009947-1741086000-1741086000@firststjohn.com
SUMMARY:Ruth Circle in lounge
DESCRIPTION:“The Woman of Consistency” \nThe Ruth Circle meets on the first tuesday of the month at 11 am.
URL:https://firststjohn.com/event/ruth-circle-2-2-3-2/2025-03-04/
LOCATION:Lounge
CATEGORIES:Chapel,Church Office,Featured,Fellowship,WELCA
ATTACH;FMTTYPE=image/jpeg:https://firststjohn.com/wp-content/uploads/2024/02/334204847_715639593392527_2754186504092574106_n.jpg
END:VEVENT
BEGIN:VEVENT
DTSTART;TZID=America/New_York:20250303T193000
DTEND;TZID=America/New_York:20250303T193000
DTSTAMP:20260424T094517
CREATED:20241201T203914Z
LAST-MODIFIED:20241231T210328Z
UID:10010990-1741030200-1741030200@firststjohn.com
SUMMARY:Dartball
DESCRIPTION:
URL:https://firststjohn.com/event/dartball-4/2025-03-03/
CATEGORIES:Chapel,Church Office,Featured,Fellowship
ATTACH;FMTTYPE=image/jpeg:https://firststjohn.com/wp-content/uploads/2024/02/img23.jpg
END:VEVENT
BEGIN:VEVENT
DTSTART;TZID=America/New_York:20250303T190000
DTEND;TZID=America/New_York:20250303T190000
DTSTAMP:20260424T094517
CREATED:20250301T220401Z
LAST-MODIFIED:20250301T220408Z
UID:10009340-1741028400-1741028400@firststjohn.com
SUMMARY:Dartball
DESCRIPTION:
URL:https://firststjohn.com/event/dartball-4-7/
CATEGORIES:Chapel,Church Office,Featured,Fellowship
ATTACH;FMTTYPE=image/jpeg:https://firststjohn.com/wp-content/uploads/2024/02/img23.jpg
END:VEVENT
BEGIN:VEVENT
DTSTART;TZID=America/New_York:20250303T190000
DTEND;TZID=America/New_York:20250303T190000
DTSTAMP:20260424T094517
CREATED:20241231T210218Z
LAST-MODIFIED:20241231T210218Z
UID:10009248-1741028400-1741028400@firststjohn.com
SUMMARY:Scouting Ministry Mtg
DESCRIPTION:SCOUTING NEWS \nFirst St. John has been in conversation with the Erie Shores Council of The Boy Scouts of America for establishing a Scouting Pack sponsored by FSJ. At the last Church council meeting approval was given to proceed with organizing the pack which would include both boys and girls according to the recent changes in Scouting by the BSA. Moving forward with this ministry outreach will require assembling a core group of volunteers from the congregation and any supporting groups including the FSJ Day School. These include the core oversight committee to the Cubmaster and Den Leaders. If you feel called to be part of the ministry\, please contact Pastor Rayl as soon as possible\, 419-691-7222.
URL:https://firststjohn.com/event/scouting-ministry-mtg-room-204-2-2-2/2025-03-03/
LOCATION:Ed Bldg Room 204
CATEGORIES:Chapel,Church Office,Featured,Scouting
ATTACH;FMTTYPE=image/png:https://firststjohn.com/wp-content/uploads/2024/11/Scout-Flag-Pack-58.png
END:VEVENT
BEGIN:VEVENT
DTSTART;TZID=America/Detroit:20250303T093000
DTEND;TZID=America/Detroit:20250303T093000
DTSTAMP:20260424T094517
CREATED:20250109T012328Z
LAST-MODIFIED:20250109T012329Z
UID:10010036-1740994200-1740994200@firststjohn.com
SUMMARY:Quilting
DESCRIPTION:Everyone is welcome to join us! Bring a sack lunch. Workshops on Mondays from 9:30 am – 1:00 pm in January\, February\, and March. \nIf Oregon schools are closed for weather\, NO QUILTING
URL:https://firststjohn.com/event/quilting-2/2025-03-03/
CATEGORIES:Chapel,Church Office,Featured,Fellowship,Hannah Circle,WELCA
ATTACH;FMTTYPE=image/jpeg:https://firststjohn.com/wp-content/uploads/2024/12/QUILTERS-8.jpg
END:VEVENT
BEGIN:VEVENT
DTSTART;TZID=America/New_York:20250224T193000
DTEND;TZID=America/New_York:20250224T193000
DTSTAMP:20260424T094517
CREATED:20241201T203914Z
LAST-MODIFIED:20241231T210328Z
UID:10010925-1740425400-1740425400@firststjohn.com
SUMMARY:Dartball
DESCRIPTION:
URL:https://firststjohn.com/event/dartball-4/2025-02-24/
CATEGORIES:Chapel,Church Office,Featured,Fellowship
ATTACH;FMTTYPE=image/jpeg:https://firststjohn.com/wp-content/uploads/2024/02/img23.jpg
END:VEVENT
BEGIN:VEVENT
DTSTART;TZID=America/Detroit:20250224T093000
DTEND;TZID=America/Detroit:20250224T093000
DTSTAMP:20260424T094517
CREATED:20250109T012328Z
LAST-MODIFIED:20250109T012329Z
UID:10010035-1740389400-1740389400@firststjohn.com
SUMMARY:Quilting
DESCRIPTION:Everyone is welcome to join us! Bring a sack lunch. Workshops on Mondays from 9:30 am – 1:00 pm in January\, February\, and March. \nIf Oregon schools are closed for weather\, NO QUILTING
URL:https://firststjohn.com/event/quilting-2/2025-02-24/
CATEGORIES:Chapel,Church Office,Featured,Fellowship,Hannah Circle,WELCA
ATTACH;FMTTYPE=image/jpeg:https://firststjohn.com/wp-content/uploads/2024/12/QUILTERS-8.jpg
END:VEVENT
BEGIN:VEVENT
DTSTART;TZID=America/New_York:20250217T193000
DTEND;TZID=America/New_York:20250217T193000
DTSTAMP:20260424T094517
CREATED:20241201T203914Z
LAST-MODIFIED:20241231T210328Z
UID:10010924-1739820600-1739820600@firststjohn.com
SUMMARY:Dartball
DESCRIPTION:
URL:https://firststjohn.com/event/dartball-4/2025-02-17/
CATEGORIES:Chapel,Church Office,Featured,Fellowship
ATTACH;FMTTYPE=image/jpeg:https://firststjohn.com/wp-content/uploads/2024/02/img23.jpg
END:VEVENT
BEGIN:VEVENT
DTSTART;TZID=America/Detroit:20250217T093000
DTEND;TZID=America/Detroit:20250217T093000
DTSTAMP:20260424T094517
CREATED:20250109T012328Z
LAST-MODIFIED:20250109T012329Z
UID:10010034-1739784600-1739784600@firststjohn.com
SUMMARY:Quilting
DESCRIPTION:Everyone is welcome to join us! Bring a sack lunch. Workshops on Mondays from 9:30 am – 1:00 pm in January\, February\, and March. \nIf Oregon schools are closed for weather\, NO QUILTING
URL:https://firststjohn.com/event/quilting-2/2025-02-17/
CATEGORIES:Chapel,Church Office,Featured,Fellowship,Hannah Circle,WELCA
ATTACH;FMTTYPE=image/jpeg:https://firststjohn.com/wp-content/uploads/2024/12/QUILTERS-8.jpg
END:VEVENT
BEGIN:VEVENT
DTSTART;TZID=America/New_York:20250210T193000
DTEND;TZID=America/New_York:20250210T193000
DTSTAMP:20260424T094517
CREATED:20241201T203914Z
LAST-MODIFIED:20241231T210328Z
UID:10010923-1739215800-1739215800@firststjohn.com
SUMMARY:Dartball
DESCRIPTION:
URL:https://firststjohn.com/event/dartball-4/2025-02-10/
CATEGORIES:Chapel,Church Office,Featured,Fellowship
ATTACH;FMTTYPE=image/jpeg:https://firststjohn.com/wp-content/uploads/2024/02/img23.jpg
END:VEVENT
BEGIN:VEVENT
DTSTART;TZID=America/Detroit:20250210T093000
DTEND;TZID=America/Detroit:20250210T093000
DTSTAMP:20260424T094517
CREATED:20250109T012328Z
LAST-MODIFIED:20250109T012329Z
UID:10010033-1739179800-1739179800@firststjohn.com
SUMMARY:Quilting
DESCRIPTION:Everyone is welcome to join us! Bring a sack lunch. Workshops on Mondays from 9:30 am – 1:00 pm in January\, February\, and March. \nIf Oregon schools are closed for weather\, NO QUILTING
URL:https://firststjohn.com/event/quilting-2/2025-02-10/
CATEGORIES:Chapel,Church Office,Featured,Fellowship,Hannah Circle,WELCA
ATTACH;FMTTYPE=image/jpeg:https://firststjohn.com/wp-content/uploads/2024/12/QUILTERS-8.jpg
END:VEVENT
BEGIN:VEVENT
DTSTART;TZID=America/New_York:20250203T193000
DTEND;TZID=America/New_York:20250203T193000
DTSTAMP:20260424T094517
CREATED:20241201T203914Z
LAST-MODIFIED:20241231T210328Z
UID:10009336-1738611000-1738611000@firststjohn.com
SUMMARY:Dartball
DESCRIPTION:
URL:https://firststjohn.com/event/dartball-4/2025-02-03/
CATEGORIES:Chapel,Church Office,Featured,Fellowship
ATTACH;FMTTYPE=image/jpeg:https://firststjohn.com/wp-content/uploads/2024/02/img23.jpg
END:VEVENT
BEGIN:VEVENT
DTSTART;TZID=America/New_York:20250203T190000
DTEND;TZID=America/New_York:20250203T190000
DTSTAMP:20260424T094517
CREATED:20241231T210218Z
LAST-MODIFIED:20241231T210218Z
UID:10009247-1738609200-1738609200@firststjohn.com
SUMMARY:Scouting Ministry Mtg
DESCRIPTION:SCOUTING NEWS \nFirst St. John has been in conversation with the Erie Shores Council of The Boy Scouts of America for establishing a Scouting Pack sponsored by FSJ. At the last Church council meeting approval was given to proceed with organizing the pack which would include both boys and girls according to the recent changes in Scouting by the BSA. Moving forward with this ministry outreach will require assembling a core group of volunteers from the congregation and any supporting groups including the FSJ Day School. These include the core oversight committee to the Cubmaster and Den Leaders. If you feel called to be part of the ministry\, please contact Pastor Rayl as soon as possible\, 419-691-7222.
URL:https://firststjohn.com/event/scouting-ministry-mtg-room-204-2-2-2/2025-02-03/
LOCATION:Ed Bldg Room 204
CATEGORIES:Chapel,Church Office,Featured,Scouting
ATTACH;FMTTYPE=image/png:https://firststjohn.com/wp-content/uploads/2024/11/Scout-Flag-Pack-58.png
END:VEVENT
BEGIN:VEVENT
DTSTART;TZID=America/Detroit:20250203T093000
DTEND;TZID=America/Detroit:20250203T093000
DTSTAMP:20260424T094517
CREATED:20250109T012328Z
LAST-MODIFIED:20250109T012329Z
UID:10010032-1738575000-1738575000@firststjohn.com
SUMMARY:Quilting
DESCRIPTION:Everyone is welcome to join us! Bring a sack lunch. Workshops on Mondays from 9:30 am – 1:00 pm in January\, February\, and March. \nIf Oregon schools are closed for weather\, NO QUILTING
URL:https://firststjohn.com/event/quilting-2/2025-02-03/
CATEGORIES:Chapel,Church Office,Featured,Fellowship,Hannah Circle,WELCA
ATTACH;FMTTYPE=image/jpeg:https://firststjohn.com/wp-content/uploads/2024/12/QUILTERS-8.jpg
END:VEVENT
BEGIN:VEVENT
DTSTART;VALUE=DATE:20250203
DTEND;VALUE=DATE:20250208
DTSTAMP:20260424T094517
CREATED:20250203T124917Z
LAST-MODIFIED:20250203T124917Z
UID:10010560-1738540800-1738972799@firststjohn.com
SUMMARY:JENNIFER OUT OF THE OFFICE FEB 3rd-7th (Office hours 9am-noon)
DESCRIPTION:
URL:https://firststjohn.com/event/jennifer-out-of-the-office-feb-3rd-7th-office-hours-9am-noon/
CATEGORIES:Church Office
ORGANIZER;CN="Jennifer Hess":MAILTO:office@firststjohn.com
END:VEVENT
BEGIN:VEVENT
DTSTART;TZID=America/New_York:20250127T193000
DTEND;TZID=America/New_York:20250127T193000
DTSTAMP:20260424T094517
CREATED:20250104T163729Z
LAST-MODIFIED:20250203T125630Z
UID:10009335-1738006200-1738006200@firststjohn.com
SUMMARY:Dartball (Away)
DESCRIPTION:
URL:https://firststjohn.com/event/dartball-4-5/
CATEGORIES:Chapel,Church Office,Featured,Fellowship
ATTACH;FMTTYPE=image/jpeg:https://firststjohn.com/wp-content/uploads/2024/02/img23.jpg
END:VEVENT
END:VCALENDAR