BEGIN:VCALENDAR
VERSION:2.0
PRODID:-//First St John - ECPv6.15.20//NONSGML v1.0//EN
CALSCALE:GREGORIAN
METHOD:PUBLISH
X-WR-CALNAME:First St John
X-ORIGINAL-URL:https://firststjohn.com
X-WR-CALDESC:Events for First St John
REFRESH-INTERVAL;VALUE=DURATION:PT1H
X-Robots-Tag:noindex
X-PUBLISHED-TTL:PT1H
BEGIN:VTIMEZONE
TZID:America/New_York
BEGIN:DAYLIGHT
TZOFFSETFROM:-0500
TZOFFSETTO:-0400
TZNAME:EDT
DTSTART:20270314T070000
END:DAYLIGHT
BEGIN:STANDARD
TZOFFSETFROM:-0400
TZOFFSETTO:-0500
TZNAME:EST
DTSTART:20271107T060000
END:STANDARD
BEGIN:DAYLIGHT
TZOFFSETFROM:-0500
TZOFFSETTO:-0400
TZNAME:EDT
DTSTART:20280312T070000
END:DAYLIGHT
BEGIN:STANDARD
TZOFFSETFROM:-0400
TZOFFSETTO:-0500
TZNAME:EST
DTSTART:20281105T060000
END:STANDARD
BEGIN:DAYLIGHT
TZOFFSETFROM:-0500
TZOFFSETTO:-0400
TZNAME:EDT
DTSTART:20290311T070000
END:DAYLIGHT
BEGIN:STANDARD
TZOFFSETFROM:-0400
TZOFFSETTO:-0500
TZNAME:EST
DTSTART:20291104T060000
END:STANDARD
BEGIN:DAYLIGHT
TZOFFSETFROM:-0500
TZOFFSETTO:-0400
TZNAME:EDT
DTSTART:20300310T070000
END:DAYLIGHT
BEGIN:STANDARD
TZOFFSETFROM:-0400
TZOFFSETTO:-0500
TZNAME:EST
DTSTART:20301103T060000
END:STANDARD
BEGIN:DAYLIGHT
TZOFFSETFROM:-0500
TZOFFSETTO:-0400
TZNAME:EDT
DTSTART:20310309T070000
END:DAYLIGHT
BEGIN:STANDARD
TZOFFSETFROM:-0400
TZOFFSETTO:-0500
TZNAME:EST
DTSTART:20311102T060000
END:STANDARD
END:VTIMEZONE
BEGIN:VEVENT
DTSTART;TZID=America/New_York:20280503T110000
DTEND;TZID=America/New_York:20280503T110000
DTSTAMP:20260423T200938
CREATED:20260402T151023Z
LAST-MODIFIED:20260402T151023Z
UID:10015062-1840964400-1840964400@firststjohn.com
SUMMARY:Ruth Circle
DESCRIPTION:“The Woman of Consistency” \nThe Ruth Circle meets on the first tuesday of the month at 11 am.
URL:https://firststjohn.com/event/ruth-circle-2-2-3-2-4-2-6/2028-05-03/
LOCATION:Lounge
CATEGORIES:Chapel,Church Office,Featured,Fellowship,WELCA
ATTACH;FMTTYPE=image/jpeg:https://firststjohn.com/wp-content/uploads/2024/02/334204847_715639593392527_2754186504092574106_n.jpg
END:VEVENT
BEGIN:VEVENT
DTSTART;TZID=America/New_York:20280607T110000
DTEND;TZID=America/New_York:20280607T110000
DTSTAMP:20260423T200938
CREATED:20260402T151023Z
LAST-MODIFIED:20260402T151023Z
UID:10015063-1843988400-1843988400@firststjohn.com
SUMMARY:Ruth Circle
DESCRIPTION:“The Woman of Consistency” \nThe Ruth Circle meets on the first tuesday of the month at 11 am.
URL:https://firststjohn.com/event/ruth-circle-2-2-3-2-4-2-6/2028-06-07/
LOCATION:Lounge
CATEGORIES:Chapel,Church Office,Featured,Fellowship,WELCA
ATTACH;FMTTYPE=image/jpeg:https://firststjohn.com/wp-content/uploads/2024/02/334204847_715639593392527_2754186504092574106_n.jpg
END:VEVENT
BEGIN:VEVENT
DTSTART;TZID=America/New_York:20280705T110000
DTEND;TZID=America/New_York:20280705T110000
DTSTAMP:20260423T200938
CREATED:20260402T151023Z
LAST-MODIFIED:20260402T151023Z
UID:10015064-1846407600-1846407600@firststjohn.com
SUMMARY:Ruth Circle
DESCRIPTION:“The Woman of Consistency” \nThe Ruth Circle meets on the first tuesday of the month at 11 am.
URL:https://firststjohn.com/event/ruth-circle-2-2-3-2-4-2-6/2028-07-05/
LOCATION:Lounge
CATEGORIES:Chapel,Church Office,Featured,Fellowship,WELCA
ATTACH;FMTTYPE=image/jpeg:https://firststjohn.com/wp-content/uploads/2024/02/334204847_715639593392527_2754186504092574106_n.jpg
END:VEVENT
BEGIN:VEVENT
DTSTART;TZID=America/New_York:20280802T110000
DTEND;TZID=America/New_York:20280802T110000
DTSTAMP:20260423T200938
CREATED:20260402T151023Z
LAST-MODIFIED:20260402T151023Z
UID:10015065-1848826800-1848826800@firststjohn.com
SUMMARY:Ruth Circle
DESCRIPTION:“The Woman of Consistency” \nThe Ruth Circle meets on the first tuesday of the month at 11 am.
URL:https://firststjohn.com/event/ruth-circle-2-2-3-2-4-2-6/2028-08-02/
LOCATION:Lounge
CATEGORIES:Chapel,Church Office,Featured,Fellowship,WELCA
ATTACH;FMTTYPE=image/jpeg:https://firststjohn.com/wp-content/uploads/2024/02/334204847_715639593392527_2754186504092574106_n.jpg
END:VEVENT
BEGIN:VEVENT
DTSTART;TZID=America/New_York:20280906T110000
DTEND;TZID=America/New_York:20280906T110000
DTSTAMP:20260423T200938
CREATED:20260402T151023Z
LAST-MODIFIED:20260402T151023Z
UID:10015066-1851850800-1851850800@firststjohn.com
SUMMARY:Ruth Circle
DESCRIPTION:“The Woman of Consistency” \nThe Ruth Circle meets on the first tuesday of the month at 11 am.
URL:https://firststjohn.com/event/ruth-circle-2-2-3-2-4-2-6/2028-09-06/
LOCATION:Lounge
CATEGORIES:Chapel,Church Office,Featured,Fellowship,WELCA
ATTACH;FMTTYPE=image/jpeg:https://firststjohn.com/wp-content/uploads/2024/02/334204847_715639593392527_2754186504092574106_n.jpg
END:VEVENT
BEGIN:VEVENT
DTSTART;TZID=America/New_York:20281004T110000
DTEND;TZID=America/New_York:20281004T110000
DTSTAMP:20260423T200938
CREATED:20260402T151023Z
LAST-MODIFIED:20260402T151023Z
UID:10015067-1854270000-1854270000@firststjohn.com
SUMMARY:Ruth Circle
DESCRIPTION:“The Woman of Consistency” \nThe Ruth Circle meets on the first tuesday of the month at 11 am.
URL:https://firststjohn.com/event/ruth-circle-2-2-3-2-4-2-6/2028-10-04/
LOCATION:Lounge
CATEGORIES:Chapel,Church Office,Featured,Fellowship,WELCA
ATTACH;FMTTYPE=image/jpeg:https://firststjohn.com/wp-content/uploads/2024/02/334204847_715639593392527_2754186504092574106_n.jpg
END:VEVENT
BEGIN:VEVENT
DTSTART;TZID=America/New_York:20281101T110000
DTEND;TZID=America/New_York:20281101T110000
DTSTAMP:20260423T200938
CREATED:20260402T151023Z
LAST-MODIFIED:20260402T151023Z
UID:10015068-1856689200-1856689200@firststjohn.com
SUMMARY:Ruth Circle
DESCRIPTION:“The Woman of Consistency” \nThe Ruth Circle meets on the first tuesday of the month at 11 am.
URL:https://firststjohn.com/event/ruth-circle-2-2-3-2-4-2-6/2028-11-01/
LOCATION:Lounge
CATEGORIES:Chapel,Church Office,Featured,Fellowship,WELCA
ATTACH;FMTTYPE=image/jpeg:https://firststjohn.com/wp-content/uploads/2024/02/334204847_715639593392527_2754186504092574106_n.jpg
END:VEVENT
BEGIN:VEVENT
DTSTART;TZID=America/New_York:20281206T110000
DTEND;TZID=America/New_York:20281206T110000
DTSTAMP:20260423T200938
CREATED:20260402T151023Z
LAST-MODIFIED:20260402T151023Z
UID:10015069-1859713200-1859713200@firststjohn.com
SUMMARY:Ruth Circle
DESCRIPTION:“The Woman of Consistency” \nThe Ruth Circle meets on the first tuesday of the month at 11 am.
URL:https://firststjohn.com/event/ruth-circle-2-2-3-2-4-2-6/2028-12-06/
LOCATION:Lounge
CATEGORIES:Chapel,Church Office,Featured,Fellowship,WELCA
ATTACH;FMTTYPE=image/jpeg:https://firststjohn.com/wp-content/uploads/2024/02/334204847_715639593392527_2754186504092574106_n.jpg
END:VEVENT
BEGIN:VEVENT
DTSTART;TZID=America/New_York:20290103T110000
DTEND;TZID=America/New_York:20290103T110000
DTSTAMP:20260423T200938
CREATED:20260402T151023Z
LAST-MODIFIED:20260402T151023Z
UID:10015070-1862132400-1862132400@firststjohn.com
SUMMARY:Ruth Circle
DESCRIPTION:“The Woman of Consistency” \nThe Ruth Circle meets on the first tuesday of the month at 11 am.
URL:https://firststjohn.com/event/ruth-circle-2-2-3-2-4-2-6/2029-01-03/
LOCATION:Lounge
CATEGORIES:Chapel,Church Office,Featured,Fellowship,WELCA
ATTACH;FMTTYPE=image/jpeg:https://firststjohn.com/wp-content/uploads/2024/02/334204847_715639593392527_2754186504092574106_n.jpg
END:VEVENT
BEGIN:VEVENT
DTSTART;TZID=America/New_York:20290207T110000
DTEND;TZID=America/New_York:20290207T110000
DTSTAMP:20260423T200938
CREATED:20260402T151023Z
LAST-MODIFIED:20260402T151023Z
UID:10015071-1865156400-1865156400@firststjohn.com
SUMMARY:Ruth Circle
DESCRIPTION:“The Woman of Consistency” \nThe Ruth Circle meets on the first tuesday of the month at 11 am.
URL:https://firststjohn.com/event/ruth-circle-2-2-3-2-4-2-6/2029-02-07/
LOCATION:Lounge
CATEGORIES:Chapel,Church Office,Featured,Fellowship,WELCA
ATTACH;FMTTYPE=image/jpeg:https://firststjohn.com/wp-content/uploads/2024/02/334204847_715639593392527_2754186504092574106_n.jpg
END:VEVENT
BEGIN:VEVENT
DTSTART;TZID=America/New_York:20290307T110000
DTEND;TZID=America/New_York:20290307T110000
DTSTAMP:20260423T200938
CREATED:20260402T151023Z
LAST-MODIFIED:20260402T151023Z
UID:10015072-1867575600-1867575600@firststjohn.com
SUMMARY:Ruth Circle
DESCRIPTION:“The Woman of Consistency” \nThe Ruth Circle meets on the first tuesday of the month at 11 am.
URL:https://firststjohn.com/event/ruth-circle-2-2-3-2-4-2-6/2029-03-07/
LOCATION:Lounge
CATEGORIES:Chapel,Church Office,Featured,Fellowship,WELCA
ATTACH;FMTTYPE=image/jpeg:https://firststjohn.com/wp-content/uploads/2024/02/334204847_715639593392527_2754186504092574106_n.jpg
END:VEVENT
BEGIN:VEVENT
DTSTART;TZID=America/New_York:20290404T110000
DTEND;TZID=America/New_York:20290404T110000
DTSTAMP:20260423T200938
CREATED:20260402T151023Z
LAST-MODIFIED:20260402T151023Z
UID:10015073-1869994800-1869994800@firststjohn.com
SUMMARY:Ruth Circle
DESCRIPTION:“The Woman of Consistency” \nThe Ruth Circle meets on the first tuesday of the month at 11 am.
URL:https://firststjohn.com/event/ruth-circle-2-2-3-2-4-2-6/2029-04-04/
LOCATION:Lounge
CATEGORIES:Chapel,Church Office,Featured,Fellowship,WELCA
ATTACH;FMTTYPE=image/jpeg:https://firststjohn.com/wp-content/uploads/2024/02/334204847_715639593392527_2754186504092574106_n.jpg
END:VEVENT
BEGIN:VEVENT
DTSTART;TZID=America/New_York:20290502T110000
DTEND;TZID=America/New_York:20290502T110000
DTSTAMP:20260423T200938
CREATED:20260402T151023Z
LAST-MODIFIED:20260402T151023Z
UID:10015074-1872414000-1872414000@firststjohn.com
SUMMARY:Ruth Circle
DESCRIPTION:“The Woman of Consistency” \nThe Ruth Circle meets on the first tuesday of the month at 11 am.
URL:https://firststjohn.com/event/ruth-circle-2-2-3-2-4-2-6/2029-05-02/
LOCATION:Lounge
CATEGORIES:Chapel,Church Office,Featured,Fellowship,WELCA
ATTACH;FMTTYPE=image/jpeg:https://firststjohn.com/wp-content/uploads/2024/02/334204847_715639593392527_2754186504092574106_n.jpg
END:VEVENT
BEGIN:VEVENT
DTSTART;TZID=America/New_York:20290606T110000
DTEND;TZID=America/New_York:20290606T110000
DTSTAMP:20260423T200938
CREATED:20260402T151023Z
LAST-MODIFIED:20260402T151023Z
UID:10015075-1875438000-1875438000@firststjohn.com
SUMMARY:Ruth Circle
DESCRIPTION:“The Woman of Consistency” \nThe Ruth Circle meets on the first tuesday of the month at 11 am.
URL:https://firststjohn.com/event/ruth-circle-2-2-3-2-4-2-6/2029-06-06/
LOCATION:Lounge
CATEGORIES:Chapel,Church Office,Featured,Fellowship,WELCA
ATTACH;FMTTYPE=image/jpeg:https://firststjohn.com/wp-content/uploads/2024/02/334204847_715639593392527_2754186504092574106_n.jpg
END:VEVENT
BEGIN:VEVENT
DTSTART;TZID=America/New_York:20290704T110000
DTEND;TZID=America/New_York:20290704T110000
DTSTAMP:20260423T200938
CREATED:20260402T151023Z
LAST-MODIFIED:20260402T151023Z
UID:10015076-1877857200-1877857200@firststjohn.com
SUMMARY:Ruth Circle
DESCRIPTION:“The Woman of Consistency” \nThe Ruth Circle meets on the first tuesday of the month at 11 am.
URL:https://firststjohn.com/event/ruth-circle-2-2-3-2-4-2-6/2029-07-04/
LOCATION:Lounge
CATEGORIES:Chapel,Church Office,Featured,Fellowship,WELCA
ATTACH;FMTTYPE=image/jpeg:https://firststjohn.com/wp-content/uploads/2024/02/334204847_715639593392527_2754186504092574106_n.jpg
END:VEVENT
BEGIN:VEVENT
DTSTART;TZID=America/New_York:20290801T110000
DTEND;TZID=America/New_York:20290801T110000
DTSTAMP:20260423T200938
CREATED:20260402T151023Z
LAST-MODIFIED:20260402T151023Z
UID:10015077-1880276400-1880276400@firststjohn.com
SUMMARY:Ruth Circle
DESCRIPTION:“The Woman of Consistency” \nThe Ruth Circle meets on the first tuesday of the month at 11 am.
URL:https://firststjohn.com/event/ruth-circle-2-2-3-2-4-2-6/2029-08-01/
LOCATION:Lounge
CATEGORIES:Chapel,Church Office,Featured,Fellowship,WELCA
ATTACH;FMTTYPE=image/jpeg:https://firststjohn.com/wp-content/uploads/2024/02/334204847_715639593392527_2754186504092574106_n.jpg
END:VEVENT
BEGIN:VEVENT
DTSTART;TZID=America/New_York:20290905T110000
DTEND;TZID=America/New_York:20290905T110000
DTSTAMP:20260423T200938
CREATED:20260402T151023Z
LAST-MODIFIED:20260402T151023Z
UID:10015078-1883300400-1883300400@firststjohn.com
SUMMARY:Ruth Circle
DESCRIPTION:“The Woman of Consistency” \nThe Ruth Circle meets on the first tuesday of the month at 11 am.
URL:https://firststjohn.com/event/ruth-circle-2-2-3-2-4-2-6/2029-09-05/
LOCATION:Lounge
CATEGORIES:Chapel,Church Office,Featured,Fellowship,WELCA
ATTACH;FMTTYPE=image/jpeg:https://firststjohn.com/wp-content/uploads/2024/02/334204847_715639593392527_2754186504092574106_n.jpg
END:VEVENT
BEGIN:VEVENT
DTSTART;TZID=America/New_York:20291003T110000
DTEND;TZID=America/New_York:20291003T110000
DTSTAMP:20260423T200938
CREATED:20260402T151023Z
LAST-MODIFIED:20260402T151023Z
UID:10015079-1885719600-1885719600@firststjohn.com
SUMMARY:Ruth Circle
DESCRIPTION:“The Woman of Consistency” \nThe Ruth Circle meets on the first tuesday of the month at 11 am.
URL:https://firststjohn.com/event/ruth-circle-2-2-3-2-4-2-6/2029-10-03/
LOCATION:Lounge
CATEGORIES:Chapel,Church Office,Featured,Fellowship,WELCA
ATTACH;FMTTYPE=image/jpeg:https://firststjohn.com/wp-content/uploads/2024/02/334204847_715639593392527_2754186504092574106_n.jpg
END:VEVENT
BEGIN:VEVENT
DTSTART;TZID=America/New_York:20291107T110000
DTEND;TZID=America/New_York:20291107T110000
DTSTAMP:20260423T200938
CREATED:20260402T151023Z
LAST-MODIFIED:20260402T151023Z
UID:10015080-1888743600-1888743600@firststjohn.com
SUMMARY:Ruth Circle
DESCRIPTION:“The Woman of Consistency” \nThe Ruth Circle meets on the first tuesday of the month at 11 am.
URL:https://firststjohn.com/event/ruth-circle-2-2-3-2-4-2-6/2029-11-07/
LOCATION:Lounge
CATEGORIES:Chapel,Church Office,Featured,Fellowship,WELCA
ATTACH;FMTTYPE=image/jpeg:https://firststjohn.com/wp-content/uploads/2024/02/334204847_715639593392527_2754186504092574106_n.jpg
END:VEVENT
BEGIN:VEVENT
DTSTART;TZID=America/New_York:20291205T110000
DTEND;TZID=America/New_York:20291205T110000
DTSTAMP:20260423T200938
CREATED:20260402T151023Z
LAST-MODIFIED:20260402T151023Z
UID:10015081-1891162800-1891162800@firststjohn.com
SUMMARY:Ruth Circle
DESCRIPTION:“The Woman of Consistency” \nThe Ruth Circle meets on the first tuesday of the month at 11 am.
URL:https://firststjohn.com/event/ruth-circle-2-2-3-2-4-2-6/2029-12-05/
LOCATION:Lounge
CATEGORIES:Chapel,Church Office,Featured,Fellowship,WELCA
ATTACH;FMTTYPE=image/jpeg:https://firststjohn.com/wp-content/uploads/2024/02/334204847_715639593392527_2754186504092574106_n.jpg
END:VEVENT
BEGIN:VEVENT
DTSTART;TZID=America/New_York:20300102T110000
DTEND;TZID=America/New_York:20300102T110000
DTSTAMP:20260423T200938
CREATED:20260402T151023Z
LAST-MODIFIED:20260402T151023Z
UID:10015082-1893582000-1893582000@firststjohn.com
SUMMARY:Ruth Circle
DESCRIPTION:“The Woman of Consistency” \nThe Ruth Circle meets on the first tuesday of the month at 11 am.
URL:https://firststjohn.com/event/ruth-circle-2-2-3-2-4-2-6/2030-01-02/
LOCATION:Lounge
CATEGORIES:Chapel,Church Office,Featured,Fellowship,WELCA
ATTACH;FMTTYPE=image/jpeg:https://firststjohn.com/wp-content/uploads/2024/02/334204847_715639593392527_2754186504092574106_n.jpg
END:VEVENT
BEGIN:VEVENT
DTSTART;TZID=America/New_York:20300206T110000
DTEND;TZID=America/New_York:20300206T110000
DTSTAMP:20260423T200938
CREATED:20260402T151023Z
LAST-MODIFIED:20260402T151023Z
UID:10015083-1896606000-1896606000@firststjohn.com
SUMMARY:Ruth Circle
DESCRIPTION:“The Woman of Consistency” \nThe Ruth Circle meets on the first tuesday of the month at 11 am.
URL:https://firststjohn.com/event/ruth-circle-2-2-3-2-4-2-6/2030-02-06/
LOCATION:Lounge
CATEGORIES:Chapel,Church Office,Featured,Fellowship,WELCA
ATTACH;FMTTYPE=image/jpeg:https://firststjohn.com/wp-content/uploads/2024/02/334204847_715639593392527_2754186504092574106_n.jpg
END:VEVENT
BEGIN:VEVENT
DTSTART;TZID=America/New_York:20300306T110000
DTEND;TZID=America/New_York:20300306T110000
DTSTAMP:20260423T200938
CREATED:20260402T151023Z
LAST-MODIFIED:20260402T151023Z
UID:10015084-1899025200-1899025200@firststjohn.com
SUMMARY:Ruth Circle
DESCRIPTION:“The Woman of Consistency” \nThe Ruth Circle meets on the first tuesday of the month at 11 am.
URL:https://firststjohn.com/event/ruth-circle-2-2-3-2-4-2-6/2030-03-06/
LOCATION:Lounge
CATEGORIES:Chapel,Church Office,Featured,Fellowship,WELCA
ATTACH;FMTTYPE=image/jpeg:https://firststjohn.com/wp-content/uploads/2024/02/334204847_715639593392527_2754186504092574106_n.jpg
END:VEVENT
BEGIN:VEVENT
DTSTART;TZID=America/New_York:20300403T110000
DTEND;TZID=America/New_York:20300403T110000
DTSTAMP:20260423T200938
CREATED:20260402T151023Z
LAST-MODIFIED:20260402T151023Z
UID:10015085-1901444400-1901444400@firststjohn.com
SUMMARY:Ruth Circle
DESCRIPTION:“The Woman of Consistency” \nThe Ruth Circle meets on the first tuesday of the month at 11 am.
URL:https://firststjohn.com/event/ruth-circle-2-2-3-2-4-2-6/2030-04-03/
LOCATION:Lounge
CATEGORIES:Chapel,Church Office,Featured,Fellowship,WELCA
ATTACH;FMTTYPE=image/jpeg:https://firststjohn.com/wp-content/uploads/2024/02/334204847_715639593392527_2754186504092574106_n.jpg
END:VEVENT
BEGIN:VEVENT
DTSTART;TZID=America/New_York:20300501T110000
DTEND;TZID=America/New_York:20300501T110000
DTSTAMP:20260423T200938
CREATED:20260402T151023Z
LAST-MODIFIED:20260402T151023Z
UID:10015086-1903863600-1903863600@firststjohn.com
SUMMARY:Ruth Circle
DESCRIPTION:“The Woman of Consistency” \nThe Ruth Circle meets on the first tuesday of the month at 11 am.
URL:https://firststjohn.com/event/ruth-circle-2-2-3-2-4-2-6/2030-05-01/
LOCATION:Lounge
CATEGORIES:Chapel,Church Office,Featured,Fellowship,WELCA
ATTACH;FMTTYPE=image/jpeg:https://firststjohn.com/wp-content/uploads/2024/02/334204847_715639593392527_2754186504092574106_n.jpg
END:VEVENT
BEGIN:VEVENT
DTSTART;TZID=America/New_York:20300605T110000
DTEND;TZID=America/New_York:20300605T110000
DTSTAMP:20260423T200938
CREATED:20260402T151023Z
LAST-MODIFIED:20260402T151023Z
UID:10015087-1906887600-1906887600@firststjohn.com
SUMMARY:Ruth Circle
DESCRIPTION:“The Woman of Consistency” \nThe Ruth Circle meets on the first tuesday of the month at 11 am.
URL:https://firststjohn.com/event/ruth-circle-2-2-3-2-4-2-6/2030-06-05/
LOCATION:Lounge
CATEGORIES:Chapel,Church Office,Featured,Fellowship,WELCA
ATTACH;FMTTYPE=image/jpeg:https://firststjohn.com/wp-content/uploads/2024/02/334204847_715639593392527_2754186504092574106_n.jpg
END:VEVENT
BEGIN:VEVENT
DTSTART;TZID=America/New_York:20300703T110000
DTEND;TZID=America/New_York:20300703T110000
DTSTAMP:20260423T200938
CREATED:20260402T151023Z
LAST-MODIFIED:20260402T151023Z
UID:10015088-1909306800-1909306800@firststjohn.com
SUMMARY:Ruth Circle
DESCRIPTION:“The Woman of Consistency” \nThe Ruth Circle meets on the first tuesday of the month at 11 am.
URL:https://firststjohn.com/event/ruth-circle-2-2-3-2-4-2-6/2030-07-03/
LOCATION:Lounge
CATEGORIES:Chapel,Church Office,Featured,Fellowship,WELCA
ATTACH;FMTTYPE=image/jpeg:https://firststjohn.com/wp-content/uploads/2024/02/334204847_715639593392527_2754186504092574106_n.jpg
END:VEVENT
BEGIN:VEVENT
DTSTART;TZID=America/New_York:20300807T110000
DTEND;TZID=America/New_York:20300807T110000
DTSTAMP:20260423T200938
CREATED:20260402T151023Z
LAST-MODIFIED:20260402T151023Z
UID:10015089-1912330800-1912330800@firststjohn.com
SUMMARY:Ruth Circle
DESCRIPTION:“The Woman of Consistency” \nThe Ruth Circle meets on the first tuesday of the month at 11 am.
URL:https://firststjohn.com/event/ruth-circle-2-2-3-2-4-2-6/2030-08-07/
LOCATION:Lounge
CATEGORIES:Chapel,Church Office,Featured,Fellowship,WELCA
ATTACH;FMTTYPE=image/jpeg:https://firststjohn.com/wp-content/uploads/2024/02/334204847_715639593392527_2754186504092574106_n.jpg
END:VEVENT
BEGIN:VEVENT
DTSTART;TZID=America/New_York:20300904T110000
DTEND;TZID=America/New_York:20300904T110000
DTSTAMP:20260423T200938
CREATED:20260402T151023Z
LAST-MODIFIED:20260402T151023Z
UID:10015090-1914750000-1914750000@firststjohn.com
SUMMARY:Ruth Circle
DESCRIPTION:“The Woman of Consistency” \nThe Ruth Circle meets on the first tuesday of the month at 11 am.
URL:https://firststjohn.com/event/ruth-circle-2-2-3-2-4-2-6/2030-09-04/
LOCATION:Lounge
CATEGORIES:Chapel,Church Office,Featured,Fellowship,WELCA
ATTACH;FMTTYPE=image/jpeg:https://firststjohn.com/wp-content/uploads/2024/02/334204847_715639593392527_2754186504092574106_n.jpg
END:VEVENT
BEGIN:VEVENT
DTSTART;TZID=America/New_York:20301002T110000
DTEND;TZID=America/New_York:20301002T110000
DTSTAMP:20260423T200938
CREATED:20260402T151023Z
LAST-MODIFIED:20260402T151023Z
UID:10015091-1917169200-1917169200@firststjohn.com
SUMMARY:Ruth Circle
DESCRIPTION:“The Woman of Consistency” \nThe Ruth Circle meets on the first tuesday of the month at 11 am.
URL:https://firststjohn.com/event/ruth-circle-2-2-3-2-4-2-6/2030-10-02/
LOCATION:Lounge
CATEGORIES:Chapel,Church Office,Featured,Fellowship,WELCA
ATTACH;FMTTYPE=image/jpeg:https://firststjohn.com/wp-content/uploads/2024/02/334204847_715639593392527_2754186504092574106_n.jpg
END:VEVENT
END:VCALENDAR