BEGIN:VCALENDAR
VERSION:2.0
PRODID:-//First St John - ECPv6.15.20//NONSGML v1.0//EN
CALSCALE:GREGORIAN
METHOD:PUBLISH
X-WR-CALNAME:First St John
X-ORIGINAL-URL:https://firststjohn.com
X-WR-CALDESC:Events for First St John
REFRESH-INTERVAL;VALUE=DURATION:PT1H
X-Robots-Tag:noindex
X-PUBLISHED-TTL:PT1H
BEGIN:VTIMEZONE
TZID:America/Detroit
BEGIN:DAYLIGHT
TZOFFSETFROM:-0500
TZOFFSETTO:-0400
TZNAME:EDT
DTSTART:20230312T070000
END:DAYLIGHT
BEGIN:STANDARD
TZOFFSETFROM:-0400
TZOFFSETTO:-0500
TZNAME:EST
DTSTART:20231105T060000
END:STANDARD
BEGIN:DAYLIGHT
TZOFFSETFROM:-0500
TZOFFSETTO:-0400
TZNAME:EDT
DTSTART:20240310T070000
END:DAYLIGHT
BEGIN:STANDARD
TZOFFSETFROM:-0400
TZOFFSETTO:-0500
TZNAME:EST
DTSTART:20241103T060000
END:STANDARD
BEGIN:DAYLIGHT
TZOFFSETFROM:-0500
TZOFFSETTO:-0400
TZNAME:EDT
DTSTART:20250309T070000
END:DAYLIGHT
BEGIN:STANDARD
TZOFFSETFROM:-0400
TZOFFSETTO:-0500
TZNAME:EST
DTSTART:20251102T060000
END:STANDARD
BEGIN:DAYLIGHT
TZOFFSETFROM:-0500
TZOFFSETTO:-0400
TZNAME:EDT
DTSTART:20260308T070000
END:DAYLIGHT
BEGIN:STANDARD
TZOFFSETFROM:-0400
TZOFFSETTO:-0500
TZNAME:EST
DTSTART:20261101T060000
END:STANDARD
END:VTIMEZONE
BEGIN:VTIMEZONE
TZID:America/New_York
BEGIN:DAYLIGHT
TZOFFSETFROM:-0500
TZOFFSETTO:-0400
TZNAME:EDT
DTSTART:20230312T070000
END:DAYLIGHT
BEGIN:STANDARD
TZOFFSETFROM:-0400
TZOFFSETTO:-0500
TZNAME:EST
DTSTART:20231105T060000
END:STANDARD
BEGIN:DAYLIGHT
TZOFFSETFROM:-0500
TZOFFSETTO:-0400
TZNAME:EDT
DTSTART:20240310T070000
END:DAYLIGHT
BEGIN:STANDARD
TZOFFSETFROM:-0400
TZOFFSETTO:-0500
TZNAME:EST
DTSTART:20241103T060000
END:STANDARD
BEGIN:DAYLIGHT
TZOFFSETFROM:-0500
TZOFFSETTO:-0400
TZNAME:EDT
DTSTART:20250309T070000
END:DAYLIGHT
BEGIN:STANDARD
TZOFFSETFROM:-0400
TZOFFSETTO:-0500
TZNAME:EST
DTSTART:20251102T060000
END:STANDARD
END:VTIMEZONE
BEGIN:VEVENT
DTSTART;TZID=America/Detroit:20250916T183000
DTEND;TZID=America/Detroit:20250916T183000
DTSTAMP:20260424T025430
CREATED:20250908T171609Z
LAST-MODIFIED:20250908T171654Z
UID:10013644-1758047400-1758047400@firststjohn.com
SUMMARY:Council Committee Mtg
DESCRIPTION:
URL:https://firststjohn.com/event/council-mtg-2-2-2/
CATEGORIES:Church Council
ATTACH;FMTTYPE=image/jpeg:https://firststjohn.com/wp-content/uploads/upf-docs/usr8_1729966090_1000000522.jpg
END:VEVENT
BEGIN:VEVENT
DTSTART;TZID=America/Detroit:20250617T190000
DTEND;TZID=America/Detroit:20250617T190000
DTSTAMP:20260424T025430
CREATED:20250607T161504Z
LAST-MODIFIED:20250607T161655Z
UID:10011525-1750186800-1750186800@firststjohn.com
SUMMARY:Council Mtg
DESCRIPTION:
URL:https://firststjohn.com/event/council-mtg-2/
LOCATION:Lounge
CATEGORIES:Church Council
ATTACH;FMTTYPE=image/jpeg:https://firststjohn.com/wp-content/uploads/upf-docs/usr8_1729966090_1000000522.jpg
END:VEVENT
BEGIN:VEVENT
DTSTART;TZID=America/Detroit:20250520T190000
DTEND;TZID=America/Detroit:20250520T190000
DTSTAMP:20260424T025430
CREATED:20250503T220805Z
LAST-MODIFIED:20250503T221105Z
UID:10011151-1747767600-1747767600@firststjohn.com
SUMMARY:Council Meeting
DESCRIPTION:
URL:https://firststjohn.com/event/council-meeting-4/
CATEGORIES:Church Council,Church Office
END:VEVENT
BEGIN:VEVENT
DTSTART;TZID=America/Detroit:20250415T190000
DTEND;TZID=America/Detroit:20250415T190000
DTSTAMP:20260424T025430
CREATED:20250401T000559Z
LAST-MODIFIED:20250401T000559Z
UID:10011069-1744743600-1744743600@firststjohn.com
SUMMARY:Council Mtg.  (Boards at 6:30 pm)
DESCRIPTION:
URL:https://firststjohn.com/event/council-mtg-boards-at-630-pm/
LOCATION:Lounge
CATEGORIES:Church Council
END:VEVENT
BEGIN:VEVENT
DTSTART;TZID=America/Detroit:20250318T190000
DTEND;TZID=America/Detroit:20250318T190000
DTSTAMP:20260424T025430
CREATED:20250301T224115Z
LAST-MODIFIED:20250301T224115Z
UID:10010942-1742324400-1742324400@firststjohn.com
SUMMARY:Council Meeting
DESCRIPTION:
URL:https://firststjohn.com/event/council-meeting-3/
CATEGORIES:Church Council,Church Office
ORGANIZER;CN="Jennifer Hess":MAILTO:office@firststjohn.com
END:VEVENT
BEGIN:VEVENT
DTSTART;TZID=America/Detroit:20250218T190000
DTEND;TZID=America/Detroit:20250218T190000
DTSTAMP:20260424T025430
CREATED:20250203T140643Z
LAST-MODIFIED:20250203T140643Z
UID:10010635-1739905200-1739905200@firststjohn.com
SUMMARY:Church Council / Boards
DESCRIPTION:
URL:https://firststjohn.com/event/church-council-boards/
CATEGORIES:Church Council
ATTACH;FMTTYPE=image/jpeg:https://firststjohn.com/wp-content/uploads/2024/03/1998-COUNCIL-.jpg
END:VEVENT
BEGIN:VEVENT
DTSTART;TZID=America/Detroit:20250122T180000
DTEND;TZID=America/Detroit:20250122T180000
DTSTAMP:20260424T025430
CREATED:20250104T164442Z
LAST-MODIFIED:20250104T164442Z
UID:10010292-1737568800-1737568800@firststjohn.com
SUMMARY:Council Dinner @ Black Forest Cafe
DESCRIPTION:CHURCH COUNCIL  \nOur upcoming Council meeting will include our annual dinner for new incoming members as well as the outgoing members. Please note the DATE CHANGE. It will be held on Wednesday\, January 22nd at 6:00 pm at Black Forest Café. The invitation also includes your spouse/significant other. You will need to RSVP to Dave (email.dow@gmail.com / 419-205-7855) or Jennifer (reply by email) to make an accurate reservation at the restaurant. Please RSVP by January 19th.
URL:https://firststjohn.com/event/council-dinner-black-forest-cafe/
LOCATION:Black Forest Cafe\, 3624 Seaman Rd\, Oregon\, OH\, 43616\, United States
CATEGORIES:Church Council
ATTACH;FMTTYPE=image/png:https://firststjohn.com/wp-content/uploads/2024/02/cropped-ELCA_4c_globe.png
ORGANIZER;CN="Jennifer Hess":MAILTO:office@firststjohn.com
END:VEVENT
BEGIN:VEVENT
DTSTART;VALUE=DATE:20250119
DTEND;VALUE=DATE:20250120
DTSTAMP:20260424T025430
CREATED:20250104T152327Z
LAST-MODIFIED:20250104T152327Z
UID:10009937-1737244800-1737331199@firststjohn.com
SUMMARY:Family Blessing Sunday
DESCRIPTION:FAMILY BLESSING SUNDAY \nDuring worship on Sunday\, January 19th you can come to the altar as a family (and yes\, one person is a family in God’s eyes) and receive a blessing. You can come with different people in your family (you and your spouse\, you and your extended family\, etc.) or even those you consider as family—as many times as you want. What a wonderful way to begin 2025!
URL:https://firststjohn.com/event/family-blessing-sunday/
CATEGORIES:Church Council,Deacons,Elders,Trustees,Worship
ATTACH;FMTTYPE=image/jpeg:https://firststjohn.com/wp-content/uploads/2024/06/434414085_832543545584001_8426267412295778298_n.jpg
END:VEVENT
BEGIN:VEVENT
DTSTART;VALUE=DATE:20250112
DTEND;VALUE=DATE:20250113
DTSTAMP:20260424T025430
CREATED:20250104T150903Z
LAST-MODIFIED:20250104T152847Z
UID:10009936-1736640000-1736726399@firststjohn.com
SUMMARY:Congregational Meeting
DESCRIPTION:INSTALLATION OF CHURCH OFFICERS  \nAll newly elected and incumbent members of Church Council\, Day School Board\, WELCA\, and Altar Guild should plan to attend church on Sunday\, January 12th. Officers will be installed during both church services as they begin their 2025 duties.
URL:https://firststjohn.com/event/congregational-meeting/
CATEGORIES:Church Council,Deacons,Elders,Trustees
ATTACH;FMTTYPE=image/jpeg:https://firststjohn.com/wp-content/uploads/2024/06/434414085_832543545584001_8426267412295778298_n.jpg
END:VEVENT
BEGIN:VEVENT
DTSTART;VALUE=DATE:20250112
DTEND;VALUE=DATE:20250113
DTSTAMP:20260424T025430
CREATED:20250104T150421Z
LAST-MODIFIED:20250104T152505Z
UID:10009935-1736640000-1736726399@firststjohn.com
SUMMARY:Installation of Officers &
DESCRIPTION:INSTALLATION OF CHURCH OFFICERS  \nAll newly elected and incumbent members of Church Council\, Day School Board\, WELCA\, and Altar Guild should plan to attend church on Sunday\, January 12th. Officers will be installed during both church services as they begin their 2025 duties.
URL:https://firststjohn.com/event/installation-of-officers/
CATEGORIES:Church Council,Deacons,Elders,Trustees
ATTACH;FMTTYPE=image/jpeg:https://firststjohn.com/wp-content/uploads/2024/06/434414085_832543545584001_8426267412295778298_n.jpg
ORGANIZER;CN="Jennifer Hess":MAILTO:office@firststjohn.com
END:VEVENT
BEGIN:VEVENT
DTSTART;TZID=America/Detroit:20241119T190000
DTEND;TZID=America/Detroit:20241119T190000
DTSTAMP:20260424T025430
CREATED:20251101T132943Z
LAST-MODIFIED:20251108T181245Z
UID:10009671-1732042800-1732042800@firststjohn.com
SUMMARY:Church Council
DESCRIPTION:
URL:https://firststjohn.com/event/church-council/
LOCATION:Lounge
CATEGORIES:Church Council
ATTACH;FMTTYPE=image/jpeg:https://firststjohn.com/wp-content/uploads/2024/03/1998-COUNCIL-.jpg
ORGANIZER;CN="Jennifer Hess":MAILTO:office@firststjohn.com
END:VEVENT
BEGIN:VEVENT
DTSTART;TZID=America/New_York:20241022T190000
DTEND;TZID=America/New_York:20241022T190000
DTSTAMP:20260424T025430
CREATED:20241021T124517Z
LAST-MODIFIED:20241021T124633Z
UID:10009305-1729623600-1729623600@firststjohn.com
SUMMARY:Church Council Mtg (lounge)
DESCRIPTION:
URL:https://firststjohn.com/event/church-council-mtg-lounge-2/
CATEGORIES:Church Council
ATTACH;FMTTYPE=image/jpeg:https://firststjohn.com/wp-content/uploads/2024/03/1998-COUNCIL-.jpg
END:VEVENT
BEGIN:VEVENT
DTSTART;TZID=America/New_York:20241015T190000
DTEND;TZID=America/New_York:20241015T190000
DTSTAMP:20260424T025430
CREATED:20241001T141447Z
LAST-MODIFIED:20241001T141552Z
UID:10009233-1729018800-1729018800@firststjohn.com
SUMMARY:Church Council Mtg (lounge)
DESCRIPTION:
URL:https://firststjohn.com/event/church-council-mtg-lounge/
CATEGORIES:Church Council
ATTACH;FMTTYPE=image/jpeg:https://firststjohn.com/wp-content/uploads/2024/03/1998-COUNCIL-.jpg
ORGANIZER;CN="Jennifer Hess":MAILTO:office@firststjohn.com
END:VEVENT
BEGIN:VEVENT
DTSTART;TZID=America/New_York:20240917T190000
DTEND;TZID=America/New_York:20240917T190000
DTSTAMP:20260424T025430
CREATED:20240912T163623Z
LAST-MODIFIED:20240912T163623Z
UID:10008152-1726599600-1726599600@firststjohn.com
SUMMARY:Council Meeting in the lounge
DESCRIPTION:
URL:https://firststjohn.com/event/council-meeting-in-the-lounge/
LOCATION:Lounge
CATEGORIES:Church Council
ATTACH;FMTTYPE=image/png:https://firststjohn.com/wp-content/uploads/2024/05/FSJ-Logo-04.png
ORGANIZER;CN="Jennifer Hess":MAILTO:office@firststjohn.com
END:VEVENT
BEGIN:VEVENT
DTSTART;TZID=America/New_York:20240917T183000
DTEND;TZID=America/New_York:20240917T183000
DTSTAMP:20260424T025430
CREATED:20240912T163406Z
LAST-MODIFIED:20240912T163406Z
UID:10008151-1726597800-1726597800@firststjohn.com
SUMMARY:Council Committee Mtg
DESCRIPTION:
URL:https://firststjohn.com/event/council-committee-mtg/
CATEGORIES:Church Council
ATTACH;FMTTYPE=image/jpeg:https://firststjohn.com/wp-content/uploads/2024/03/CHURCH-1998-008.jpg
END:VEVENT
END:VCALENDAR