BEGIN:VCALENDAR
VERSION:2.0
PRODID:-//First St John - ECPv6.15.20//NONSGML v1.0//EN
CALSCALE:GREGORIAN
METHOD:PUBLISH
X-WR-CALNAME:First St John
X-ORIGINAL-URL:https://firststjohn.com
X-WR-CALDESC:Events for First St John
REFRESH-INTERVAL;VALUE=DURATION:PT1H
X-Robots-Tag:noindex
X-PUBLISHED-TTL:PT1H
BEGIN:VTIMEZONE
TZID:America/Detroit
BEGIN:DAYLIGHT
TZOFFSETFROM:-0500
TZOFFSETTO:-0400
TZNAME:EDT
DTSTART:20260308T070000
END:DAYLIGHT
BEGIN:STANDARD
TZOFFSETFROM:-0400
TZOFFSETTO:-0500
TZNAME:EST
DTSTART:20261101T060000
END:STANDARD
BEGIN:DAYLIGHT
TZOFFSETFROM:-0500
TZOFFSETTO:-0400
TZNAME:EDT
DTSTART:20270314T070000
END:DAYLIGHT
BEGIN:STANDARD
TZOFFSETFROM:-0400
TZOFFSETTO:-0500
TZNAME:EST
DTSTART:20271107T060000
END:STANDARD
BEGIN:DAYLIGHT
TZOFFSETFROM:-0500
TZOFFSETTO:-0400
TZNAME:EDT
DTSTART:20280312T070000
END:DAYLIGHT
BEGIN:STANDARD
TZOFFSETFROM:-0400
TZOFFSETTO:-0500
TZNAME:EST
DTSTART:20281105T060000
END:STANDARD
END:VTIMEZONE
BEGIN:VEVENT
DTSTART;TZID=America/Detroit:20270808T091500
DTEND;TZID=America/Detroit:20270808T091500
DTSTAMP:20260425T094341
CREATED:20260402T155549Z
LAST-MODIFIED:20260402T155549Z
UID:10015217-1817716500-1817716500@firststjohn.com
SUMMARY:Adult SS/JAM SS
DESCRIPTION:
URL:https://firststjohn.com/event/adult-ss-jam-ss/2027-08-08/
CATEGORIES:Children,Christian Education,Youth
ATTACH;FMTTYPE=image/jpeg:https://firststjohn.com/wp-content/uploads/2024/02/kids.jpg
END:VEVENT
BEGIN:VEVENT
DTSTART;TZID=America/Detroit:20270812T110000
DTEND;TZID=America/Detroit:20270812T110000
DTSTAMP:20260425T094341
CREATED:20251003T154421Z
LAST-MODIFIED:20251003T154421Z
UID:10013745-1818068400-1818068400@firststjohn.com
SUMMARY:Adult Bible Study
DESCRIPTION:ADULT BIBLE STUDY\nAdult Bible Study\, led by Pastor Rayl\, will resume on Thursday\, September 18th in the lounge. They will meet every Thursday at 11am. The subject of the study will be determined by the class the first meeting. If you would like more information\, please contact Pastor Rayl (pastor1@firststjohn.com) or by calling the church office: 419-691-7222.
URL:https://firststjohn.com/event/bible-study-5-2/2027-08-12/
CATEGORIES:Christian Education,Featured,Fellowship
ATTACH;FMTTYPE=image/jpeg:https://firststjohn.com/wp-content/uploads/2021/07/img62.jpg
END:VEVENT
BEGIN:VEVENT
DTSTART;TZID=America/Detroit:20270815T091500
DTEND;TZID=America/Detroit:20270815T091500
DTSTAMP:20260425T094341
CREATED:20260402T155549Z
LAST-MODIFIED:20260402T155549Z
UID:10015218-1818321300-1818321300@firststjohn.com
SUMMARY:Adult SS/JAM SS
DESCRIPTION:
URL:https://firststjohn.com/event/adult-ss-jam-ss/2027-08-15/
CATEGORIES:Children,Christian Education,Youth
ATTACH;FMTTYPE=image/jpeg:https://firststjohn.com/wp-content/uploads/2024/02/kids.jpg
END:VEVENT
BEGIN:VEVENT
DTSTART;TZID=America/Detroit:20270819T110000
DTEND;TZID=America/Detroit:20270819T110000
DTSTAMP:20260425T094341
CREATED:20251003T154421Z
LAST-MODIFIED:20251003T154421Z
UID:10013746-1818673200-1818673200@firststjohn.com
SUMMARY:Adult Bible Study
DESCRIPTION:ADULT BIBLE STUDY\nAdult Bible Study\, led by Pastor Rayl\, will resume on Thursday\, September 18th in the lounge. They will meet every Thursday at 11am. The subject of the study will be determined by the class the first meeting. If you would like more information\, please contact Pastor Rayl (pastor1@firststjohn.com) or by calling the church office: 419-691-7222.
URL:https://firststjohn.com/event/bible-study-5-2/2027-08-19/
CATEGORIES:Christian Education,Featured,Fellowship
ATTACH;FMTTYPE=image/jpeg:https://firststjohn.com/wp-content/uploads/2021/07/img62.jpg
END:VEVENT
BEGIN:VEVENT
DTSTART;TZID=America/Detroit:20270822T091500
DTEND;TZID=America/Detroit:20270822T091500
DTSTAMP:20260425T094341
CREATED:20260402T155549Z
LAST-MODIFIED:20260402T155549Z
UID:10015219-1818926100-1818926100@firststjohn.com
SUMMARY:Adult SS/JAM SS
DESCRIPTION:
URL:https://firststjohn.com/event/adult-ss-jam-ss/2027-08-22/
CATEGORIES:Children,Christian Education,Youth
ATTACH;FMTTYPE=image/jpeg:https://firststjohn.com/wp-content/uploads/2024/02/kids.jpg
END:VEVENT
BEGIN:VEVENT
DTSTART;TZID=America/Detroit:20270826T110000
DTEND;TZID=America/Detroit:20270826T110000
DTSTAMP:20260425T094341
CREATED:20251003T154421Z
LAST-MODIFIED:20251003T154421Z
UID:10013747-1819278000-1819278000@firststjohn.com
SUMMARY:Adult Bible Study
DESCRIPTION:ADULT BIBLE STUDY\nAdult Bible Study\, led by Pastor Rayl\, will resume on Thursday\, September 18th in the lounge. They will meet every Thursday at 11am. The subject of the study will be determined by the class the first meeting. If you would like more information\, please contact Pastor Rayl (pastor1@firststjohn.com) or by calling the church office: 419-691-7222.
URL:https://firststjohn.com/event/bible-study-5-2/2027-08-26/
CATEGORIES:Christian Education,Featured,Fellowship
ATTACH;FMTTYPE=image/jpeg:https://firststjohn.com/wp-content/uploads/2021/07/img62.jpg
END:VEVENT
BEGIN:VEVENT
DTSTART;TZID=America/Detroit:20270829T091500
DTEND;TZID=America/Detroit:20270829T091500
DTSTAMP:20260425T094341
CREATED:20260402T155549Z
LAST-MODIFIED:20260402T155549Z
UID:10015220-1819530900-1819530900@firststjohn.com
SUMMARY:Adult SS/JAM SS
DESCRIPTION:
URL:https://firststjohn.com/event/adult-ss-jam-ss/2027-08-29/
CATEGORIES:Children,Christian Education,Youth
ATTACH;FMTTYPE=image/jpeg:https://firststjohn.com/wp-content/uploads/2024/02/kids.jpg
END:VEVENT
BEGIN:VEVENT
DTSTART;TZID=America/Detroit:20270902T110000
DTEND;TZID=America/Detroit:20270902T110000
DTSTAMP:20260425T094341
CREATED:20251003T154421Z
LAST-MODIFIED:20251003T154421Z
UID:10013748-1819882800-1819882800@firststjohn.com
SUMMARY:Adult Bible Study
DESCRIPTION:ADULT BIBLE STUDY\nAdult Bible Study\, led by Pastor Rayl\, will resume on Thursday\, September 18th in the lounge. They will meet every Thursday at 11am. The subject of the study will be determined by the class the first meeting. If you would like more information\, please contact Pastor Rayl (pastor1@firststjohn.com) or by calling the church office: 419-691-7222.
URL:https://firststjohn.com/event/bible-study-5-2/2027-09-02/
CATEGORIES:Christian Education,Featured,Fellowship
ATTACH;FMTTYPE=image/jpeg:https://firststjohn.com/wp-content/uploads/2021/07/img62.jpg
END:VEVENT
BEGIN:VEVENT
DTSTART;TZID=America/Detroit:20270905T091500
DTEND;TZID=America/Detroit:20270905T091500
DTSTAMP:20260425T094341
CREATED:20260402T155549Z
LAST-MODIFIED:20260402T155549Z
UID:10015221-1820135700-1820135700@firststjohn.com
SUMMARY:Adult SS/JAM SS
DESCRIPTION:
URL:https://firststjohn.com/event/adult-ss-jam-ss/2027-09-05/
CATEGORIES:Children,Christian Education,Youth
ATTACH;FMTTYPE=image/jpeg:https://firststjohn.com/wp-content/uploads/2024/02/kids.jpg
END:VEVENT
BEGIN:VEVENT
DTSTART;TZID=America/Detroit:20270909T110000
DTEND;TZID=America/Detroit:20270909T110000
DTSTAMP:20260425T094341
CREATED:20251003T154421Z
LAST-MODIFIED:20251003T154421Z
UID:10013749-1820487600-1820487600@firststjohn.com
SUMMARY:Adult Bible Study
DESCRIPTION:ADULT BIBLE STUDY\nAdult Bible Study\, led by Pastor Rayl\, will resume on Thursday\, September 18th in the lounge. They will meet every Thursday at 11am. The subject of the study will be determined by the class the first meeting. If you would like more information\, please contact Pastor Rayl (pastor1@firststjohn.com) or by calling the church office: 419-691-7222.
URL:https://firststjohn.com/event/bible-study-5-2/2027-09-09/
CATEGORIES:Christian Education,Featured,Fellowship
ATTACH;FMTTYPE=image/jpeg:https://firststjohn.com/wp-content/uploads/2021/07/img62.jpg
END:VEVENT
BEGIN:VEVENT
DTSTART;TZID=America/Detroit:20270912T091500
DTEND;TZID=America/Detroit:20270912T091500
DTSTAMP:20260425T094341
CREATED:20260402T155549Z
LAST-MODIFIED:20260402T155549Z
UID:10015222-1820740500-1820740500@firststjohn.com
SUMMARY:Adult SS/JAM SS
DESCRIPTION:
URL:https://firststjohn.com/event/adult-ss-jam-ss/2027-09-12/
CATEGORIES:Children,Christian Education,Youth
ATTACH;FMTTYPE=image/jpeg:https://firststjohn.com/wp-content/uploads/2024/02/kids.jpg
END:VEVENT
BEGIN:VEVENT
DTSTART;TZID=America/Detroit:20270916T110000
DTEND;TZID=America/Detroit:20270916T110000
DTSTAMP:20260425T094341
CREATED:20251003T154421Z
LAST-MODIFIED:20251003T154421Z
UID:10013750-1821092400-1821092400@firststjohn.com
SUMMARY:Adult Bible Study
DESCRIPTION:ADULT BIBLE STUDY\nAdult Bible Study\, led by Pastor Rayl\, will resume on Thursday\, September 18th in the lounge. They will meet every Thursday at 11am. The subject of the study will be determined by the class the first meeting. If you would like more information\, please contact Pastor Rayl (pastor1@firststjohn.com) or by calling the church office: 419-691-7222.
URL:https://firststjohn.com/event/bible-study-5-2/2027-09-16/
CATEGORIES:Christian Education,Featured,Fellowship
ATTACH;FMTTYPE=image/jpeg:https://firststjohn.com/wp-content/uploads/2021/07/img62.jpg
END:VEVENT
BEGIN:VEVENT
DTSTART;TZID=America/Detroit:20270919T091500
DTEND;TZID=America/Detroit:20270919T091500
DTSTAMP:20260425T094341
CREATED:20260402T155549Z
LAST-MODIFIED:20260402T155549Z
UID:10015223-1821345300-1821345300@firststjohn.com
SUMMARY:Adult SS/JAM SS
DESCRIPTION:
URL:https://firststjohn.com/event/adult-ss-jam-ss/2027-09-19/
CATEGORIES:Children,Christian Education,Youth
ATTACH;FMTTYPE=image/jpeg:https://firststjohn.com/wp-content/uploads/2024/02/kids.jpg
END:VEVENT
BEGIN:VEVENT
DTSTART;TZID=America/Detroit:20270923T110000
DTEND;TZID=America/Detroit:20270923T110000
DTSTAMP:20260425T094341
CREATED:20251003T154421Z
LAST-MODIFIED:20251003T154421Z
UID:10013751-1821697200-1821697200@firststjohn.com
SUMMARY:Adult Bible Study
DESCRIPTION:ADULT BIBLE STUDY\nAdult Bible Study\, led by Pastor Rayl\, will resume on Thursday\, September 18th in the lounge. They will meet every Thursday at 11am. The subject of the study will be determined by the class the first meeting. If you would like more information\, please contact Pastor Rayl (pastor1@firststjohn.com) or by calling the church office: 419-691-7222.
URL:https://firststjohn.com/event/bible-study-5-2/2027-09-23/
CATEGORIES:Christian Education,Featured,Fellowship
ATTACH;FMTTYPE=image/jpeg:https://firststjohn.com/wp-content/uploads/2021/07/img62.jpg
END:VEVENT
BEGIN:VEVENT
DTSTART;TZID=America/Detroit:20270926T091500
DTEND;TZID=America/Detroit:20270926T091500
DTSTAMP:20260425T094341
CREATED:20260402T155549Z
LAST-MODIFIED:20260402T155549Z
UID:10015224-1821950100-1821950100@firststjohn.com
SUMMARY:Adult SS/JAM SS
DESCRIPTION:
URL:https://firststjohn.com/event/adult-ss-jam-ss/2027-09-26/
CATEGORIES:Children,Christian Education,Youth
ATTACH;FMTTYPE=image/jpeg:https://firststjohn.com/wp-content/uploads/2024/02/kids.jpg
END:VEVENT
BEGIN:VEVENT
DTSTART;TZID=America/Detroit:20270930T110000
DTEND;TZID=America/Detroit:20270930T110000
DTSTAMP:20260425T094341
CREATED:20251003T154421Z
LAST-MODIFIED:20251003T154421Z
UID:10013752-1822302000-1822302000@firststjohn.com
SUMMARY:Adult Bible Study
DESCRIPTION:ADULT BIBLE STUDY\nAdult Bible Study\, led by Pastor Rayl\, will resume on Thursday\, September 18th in the lounge. They will meet every Thursday at 11am. The subject of the study will be determined by the class the first meeting. If you would like more information\, please contact Pastor Rayl (pastor1@firststjohn.com) or by calling the church office: 419-691-7222.
URL:https://firststjohn.com/event/bible-study-5-2/2027-09-30/
CATEGORIES:Christian Education,Featured,Fellowship
ATTACH;FMTTYPE=image/jpeg:https://firststjohn.com/wp-content/uploads/2021/07/img62.jpg
END:VEVENT
BEGIN:VEVENT
DTSTART;TZID=America/Detroit:20271003T091500
DTEND;TZID=America/Detroit:20271003T091500
DTSTAMP:20260425T094341
CREATED:20260402T155549Z
LAST-MODIFIED:20260402T155549Z
UID:10015225-1822554900-1822554900@firststjohn.com
SUMMARY:Adult SS/JAM SS
DESCRIPTION:
URL:https://firststjohn.com/event/adult-ss-jam-ss/2027-10-03/
CATEGORIES:Children,Christian Education,Youth
ATTACH;FMTTYPE=image/jpeg:https://firststjohn.com/wp-content/uploads/2024/02/kids.jpg
END:VEVENT
BEGIN:VEVENT
DTSTART;TZID=America/Detroit:20271007T110000
DTEND;TZID=America/Detroit:20271007T110000
DTSTAMP:20260425T094341
CREATED:20251003T154421Z
LAST-MODIFIED:20251003T154421Z
UID:10013753-1822906800-1822906800@firststjohn.com
SUMMARY:Adult Bible Study
DESCRIPTION:ADULT BIBLE STUDY\nAdult Bible Study\, led by Pastor Rayl\, will resume on Thursday\, September 18th in the lounge. They will meet every Thursday at 11am. The subject of the study will be determined by the class the first meeting. If you would like more information\, please contact Pastor Rayl (pastor1@firststjohn.com) or by calling the church office: 419-691-7222.
URL:https://firststjohn.com/event/bible-study-5-2/2027-10-07/
CATEGORIES:Christian Education,Featured,Fellowship
ATTACH;FMTTYPE=image/jpeg:https://firststjohn.com/wp-content/uploads/2021/07/img62.jpg
END:VEVENT
BEGIN:VEVENT
DTSTART;TZID=America/Detroit:20271010T091500
DTEND;TZID=America/Detroit:20271010T091500
DTSTAMP:20260425T094341
CREATED:20260402T155549Z
LAST-MODIFIED:20260402T155549Z
UID:10015226-1823159700-1823159700@firststjohn.com
SUMMARY:Adult SS/JAM SS
DESCRIPTION:
URL:https://firststjohn.com/event/adult-ss-jam-ss/2027-10-10/
CATEGORIES:Children,Christian Education,Youth
ATTACH;FMTTYPE=image/jpeg:https://firststjohn.com/wp-content/uploads/2024/02/kids.jpg
END:VEVENT
BEGIN:VEVENT
DTSTART;TZID=America/Detroit:20271014T110000
DTEND;TZID=America/Detroit:20271014T110000
DTSTAMP:20260425T094341
CREATED:20251003T154421Z
LAST-MODIFIED:20251003T154421Z
UID:10013754-1823511600-1823511600@firststjohn.com
SUMMARY:Adult Bible Study
DESCRIPTION:ADULT BIBLE STUDY\nAdult Bible Study\, led by Pastor Rayl\, will resume on Thursday\, September 18th in the lounge. They will meet every Thursday at 11am. The subject of the study will be determined by the class the first meeting. If you would like more information\, please contact Pastor Rayl (pastor1@firststjohn.com) or by calling the church office: 419-691-7222.
URL:https://firststjohn.com/event/bible-study-5-2/2027-10-14/
CATEGORIES:Christian Education,Featured,Fellowship
ATTACH;FMTTYPE=image/jpeg:https://firststjohn.com/wp-content/uploads/2021/07/img62.jpg
END:VEVENT
BEGIN:VEVENT
DTSTART;TZID=America/Detroit:20271017T091500
DTEND;TZID=America/Detroit:20271017T091500
DTSTAMP:20260425T094341
CREATED:20260402T155549Z
LAST-MODIFIED:20260402T155549Z
UID:10015227-1823764500-1823764500@firststjohn.com
SUMMARY:Adult SS/JAM SS
DESCRIPTION:
URL:https://firststjohn.com/event/adult-ss-jam-ss/2027-10-17/
CATEGORIES:Children,Christian Education,Youth
ATTACH;FMTTYPE=image/jpeg:https://firststjohn.com/wp-content/uploads/2024/02/kids.jpg
END:VEVENT
BEGIN:VEVENT
DTSTART;TZID=America/Detroit:20271021T110000
DTEND;TZID=America/Detroit:20271021T110000
DTSTAMP:20260425T094341
CREATED:20251003T154421Z
LAST-MODIFIED:20251003T154421Z
UID:10013755-1824116400-1824116400@firststjohn.com
SUMMARY:Adult Bible Study
DESCRIPTION:ADULT BIBLE STUDY\nAdult Bible Study\, led by Pastor Rayl\, will resume on Thursday\, September 18th in the lounge. They will meet every Thursday at 11am. The subject of the study will be determined by the class the first meeting. If you would like more information\, please contact Pastor Rayl (pastor1@firststjohn.com) or by calling the church office: 419-691-7222.
URL:https://firststjohn.com/event/bible-study-5-2/2027-10-21/
CATEGORIES:Christian Education,Featured,Fellowship
ATTACH;FMTTYPE=image/jpeg:https://firststjohn.com/wp-content/uploads/2021/07/img62.jpg
END:VEVENT
BEGIN:VEVENT
DTSTART;TZID=America/Detroit:20271024T091500
DTEND;TZID=America/Detroit:20271024T091500
DTSTAMP:20260425T094341
CREATED:20260402T155549Z
LAST-MODIFIED:20260402T155549Z
UID:10015228-1824369300-1824369300@firststjohn.com
SUMMARY:Adult SS/JAM SS
DESCRIPTION:
URL:https://firststjohn.com/event/adult-ss-jam-ss/2027-10-24/
CATEGORIES:Children,Christian Education,Youth
ATTACH;FMTTYPE=image/jpeg:https://firststjohn.com/wp-content/uploads/2024/02/kids.jpg
END:VEVENT
BEGIN:VEVENT
DTSTART;TZID=America/Detroit:20271028T110000
DTEND;TZID=America/Detroit:20271028T110000
DTSTAMP:20260425T094341
CREATED:20251003T154421Z
LAST-MODIFIED:20251003T154421Z
UID:10013756-1824721200-1824721200@firststjohn.com
SUMMARY:Adult Bible Study
DESCRIPTION:ADULT BIBLE STUDY\nAdult Bible Study\, led by Pastor Rayl\, will resume on Thursday\, September 18th in the lounge. They will meet every Thursday at 11am. The subject of the study will be determined by the class the first meeting. If you would like more information\, please contact Pastor Rayl (pastor1@firststjohn.com) or by calling the church office: 419-691-7222.
URL:https://firststjohn.com/event/bible-study-5-2/2027-10-28/
CATEGORIES:Christian Education,Featured,Fellowship
ATTACH;FMTTYPE=image/jpeg:https://firststjohn.com/wp-content/uploads/2021/07/img62.jpg
END:VEVENT
BEGIN:VEVENT
DTSTART;TZID=America/Detroit:20271031T091500
DTEND;TZID=America/Detroit:20271031T091500
DTSTAMP:20260425T094341
CREATED:20260402T155549Z
LAST-MODIFIED:20260402T155549Z
UID:10015229-1824974100-1824974100@firststjohn.com
SUMMARY:Adult SS/JAM SS
DESCRIPTION:
URL:https://firststjohn.com/event/adult-ss-jam-ss/2027-10-31/
CATEGORIES:Children,Christian Education,Youth
ATTACH;FMTTYPE=image/jpeg:https://firststjohn.com/wp-content/uploads/2024/02/kids.jpg
END:VEVENT
BEGIN:VEVENT
DTSTART;TZID=America/Detroit:20271104T110000
DTEND;TZID=America/Detroit:20271104T110000
DTSTAMP:20260425T094341
CREATED:20251003T154421Z
LAST-MODIFIED:20251003T154421Z
UID:10013757-1825326000-1825326000@firststjohn.com
SUMMARY:Adult Bible Study
DESCRIPTION:ADULT BIBLE STUDY\nAdult Bible Study\, led by Pastor Rayl\, will resume on Thursday\, September 18th in the lounge. They will meet every Thursday at 11am. The subject of the study will be determined by the class the first meeting. If you would like more information\, please contact Pastor Rayl (pastor1@firststjohn.com) or by calling the church office: 419-691-7222.
URL:https://firststjohn.com/event/bible-study-5-2/2027-11-04/
CATEGORIES:Christian Education,Featured,Fellowship
ATTACH;FMTTYPE=image/jpeg:https://firststjohn.com/wp-content/uploads/2021/07/img62.jpg
END:VEVENT
BEGIN:VEVENT
DTSTART;TZID=America/Detroit:20271107T091500
DTEND;TZID=America/Detroit:20271107T091500
DTSTAMP:20260425T094341
CREATED:20260402T155549Z
LAST-MODIFIED:20260402T155549Z
UID:10015230-1825578900-1825578900@firststjohn.com
SUMMARY:Adult SS/JAM SS
DESCRIPTION:
URL:https://firststjohn.com/event/adult-ss-jam-ss/2027-11-07/
CATEGORIES:Children,Christian Education,Youth
ATTACH;FMTTYPE=image/jpeg:https://firststjohn.com/wp-content/uploads/2024/02/kids.jpg
END:VEVENT
BEGIN:VEVENT
DTSTART;TZID=America/Detroit:20271111T110000
DTEND;TZID=America/Detroit:20271111T110000
DTSTAMP:20260425T094341
CREATED:20251003T154421Z
LAST-MODIFIED:20251003T154421Z
UID:10013758-1825930800-1825930800@firststjohn.com
SUMMARY:Adult Bible Study
DESCRIPTION:ADULT BIBLE STUDY\nAdult Bible Study\, led by Pastor Rayl\, will resume on Thursday\, September 18th in the lounge. They will meet every Thursday at 11am. The subject of the study will be determined by the class the first meeting. If you would like more information\, please contact Pastor Rayl (pastor1@firststjohn.com) or by calling the church office: 419-691-7222.
URL:https://firststjohn.com/event/bible-study-5-2/2027-11-11/
CATEGORIES:Christian Education,Featured,Fellowship
ATTACH;FMTTYPE=image/jpeg:https://firststjohn.com/wp-content/uploads/2021/07/img62.jpg
END:VEVENT
BEGIN:VEVENT
DTSTART;TZID=America/Detroit:20271114T091500
DTEND;TZID=America/Detroit:20271114T091500
DTSTAMP:20260425T094341
CREATED:20260402T155549Z
LAST-MODIFIED:20260402T155549Z
UID:10015231-1826183700-1826183700@firststjohn.com
SUMMARY:Adult SS/JAM SS
DESCRIPTION:
URL:https://firststjohn.com/event/adult-ss-jam-ss/2027-11-14/
CATEGORIES:Children,Christian Education,Youth
ATTACH;FMTTYPE=image/jpeg:https://firststjohn.com/wp-content/uploads/2024/02/kids.jpg
END:VEVENT
BEGIN:VEVENT
DTSTART;TZID=America/Detroit:20271118T110000
DTEND;TZID=America/Detroit:20271118T110000
DTSTAMP:20260425T094341
CREATED:20251003T154421Z
LAST-MODIFIED:20251003T154421Z
UID:10013759-1826535600-1826535600@firststjohn.com
SUMMARY:Adult Bible Study
DESCRIPTION:ADULT BIBLE STUDY\nAdult Bible Study\, led by Pastor Rayl\, will resume on Thursday\, September 18th in the lounge. They will meet every Thursday at 11am. The subject of the study will be determined by the class the first meeting. If you would like more information\, please contact Pastor Rayl (pastor1@firststjohn.com) or by calling the church office: 419-691-7222.
URL:https://firststjohn.com/event/bible-study-5-2/2027-11-18/
CATEGORIES:Christian Education,Featured,Fellowship
ATTACH;FMTTYPE=image/jpeg:https://firststjohn.com/wp-content/uploads/2021/07/img62.jpg
END:VEVENT
END:VCALENDAR