BEGIN:VCALENDAR
VERSION:2.0
PRODID:-//First St John - ECPv6.15.20//NONSGML v1.0//EN
CALSCALE:GREGORIAN
METHOD:PUBLISH
X-WR-CALNAME:First St John
X-ORIGINAL-URL:https://firststjohn.com
X-WR-CALDESC:Events for First St John
REFRESH-INTERVAL;VALUE=DURATION:PT1H
X-Robots-Tag:noindex
X-PUBLISHED-TTL:PT1H
BEGIN:VTIMEZONE
TZID:America/Detroit
BEGIN:DAYLIGHT
TZOFFSETFROM:-0500
TZOFFSETTO:-0400
TZNAME:EDT
DTSTART:20250309T070000
END:DAYLIGHT
BEGIN:STANDARD
TZOFFSETFROM:-0400
TZOFFSETTO:-0500
TZNAME:EST
DTSTART:20251102T060000
END:STANDARD
BEGIN:DAYLIGHT
TZOFFSETFROM:-0500
TZOFFSETTO:-0400
TZNAME:EDT
DTSTART:20260308T070000
END:DAYLIGHT
BEGIN:STANDARD
TZOFFSETFROM:-0400
TZOFFSETTO:-0500
TZNAME:EST
DTSTART:20261101T060000
END:STANDARD
BEGIN:DAYLIGHT
TZOFFSETFROM:-0500
TZOFFSETTO:-0400
TZNAME:EDT
DTSTART:20270314T070000
END:DAYLIGHT
BEGIN:STANDARD
TZOFFSETFROM:-0400
TZOFFSETTO:-0500
TZNAME:EST
DTSTART:20271107T060000
END:STANDARD
BEGIN:DAYLIGHT
TZOFFSETFROM:-0500
TZOFFSETTO:-0400
TZNAME:EDT
DTSTART:20280312T070000
END:DAYLIGHT
BEGIN:STANDARD
TZOFFSETFROM:-0400
TZOFFSETTO:-0500
TZNAME:EST
DTSTART:20281105T060000
END:STANDARD
END:VTIMEZONE
BEGIN:VEVENT
DTSTART;TZID=America/Detroit:20261119T110000
DTEND;TZID=America/Detroit:20261119T110000
DTSTAMP:20260424T051639
CREATED:20251003T154421Z
LAST-MODIFIED:20251003T154421Z
UID:10013707-1795086000-1795086000@firststjohn.com
SUMMARY:Adult Bible Study
DESCRIPTION:ADULT BIBLE STUDY\nAdult Bible Study\, led by Pastor Rayl\, will resume on Thursday\, September 18th in the lounge. They will meet every Thursday at 11am. The subject of the study will be determined by the class the first meeting. If you would like more information\, please contact Pastor Rayl (pastor1@firststjohn.com) or by calling the church office: 419-691-7222.
URL:https://firststjohn.com/event/bible-study-5-2/2026-11-19/
CATEGORIES:Christian Education,Featured,Fellowship
ATTACH;FMTTYPE=image/jpeg:https://firststjohn.com/wp-content/uploads/2021/07/img62.jpg
END:VEVENT
BEGIN:VEVENT
DTSTART;TZID=America/Detroit:20261122T091500
DTEND;TZID=America/Detroit:20261122T091500
DTSTAMP:20260424T051639
CREATED:20260402T155549Z
LAST-MODIFIED:20260402T155549Z
UID:10015180-1795338900-1795338900@firststjohn.com
SUMMARY:Adult SS/JAM SS
DESCRIPTION:
URL:https://firststjohn.com/event/adult-ss-jam-ss/2026-11-22/
CATEGORIES:Children,Christian Education,Youth
ATTACH;FMTTYPE=image/jpeg:https://firststjohn.com/wp-content/uploads/2024/02/kids.jpg
END:VEVENT
BEGIN:VEVENT
DTSTART;TZID=America/Detroit:20261126T110000
DTEND;TZID=America/Detroit:20261126T110000
DTSTAMP:20260424T051639
CREATED:20251003T154421Z
LAST-MODIFIED:20251003T154421Z
UID:10013708-1795690800-1795690800@firststjohn.com
SUMMARY:Adult Bible Study
DESCRIPTION:ADULT BIBLE STUDY\nAdult Bible Study\, led by Pastor Rayl\, will resume on Thursday\, September 18th in the lounge. They will meet every Thursday at 11am. The subject of the study will be determined by the class the first meeting. If you would like more information\, please contact Pastor Rayl (pastor1@firststjohn.com) or by calling the church office: 419-691-7222.
URL:https://firststjohn.com/event/bible-study-5-2/2026-11-26/
CATEGORIES:Christian Education,Featured,Fellowship
ATTACH;FMTTYPE=image/jpeg:https://firststjohn.com/wp-content/uploads/2021/07/img62.jpg
END:VEVENT
BEGIN:VEVENT
DTSTART;TZID=America/Detroit:20261129T091500
DTEND;TZID=America/Detroit:20261129T091500
DTSTAMP:20260424T051639
CREATED:20260402T155549Z
LAST-MODIFIED:20260402T155549Z
UID:10015181-1795943700-1795943700@firststjohn.com
SUMMARY:Adult SS/JAM SS
DESCRIPTION:
URL:https://firststjohn.com/event/adult-ss-jam-ss/2026-11-29/
CATEGORIES:Children,Christian Education,Youth
ATTACH;FMTTYPE=image/jpeg:https://firststjohn.com/wp-content/uploads/2024/02/kids.jpg
END:VEVENT
BEGIN:VEVENT
DTSTART;TZID=America/Detroit:20261203T110000
DTEND;TZID=America/Detroit:20261203T110000
DTSTAMP:20260424T051639
CREATED:20251003T154421Z
LAST-MODIFIED:20251003T154421Z
UID:10013709-1796295600-1796295600@firststjohn.com
SUMMARY:Adult Bible Study
DESCRIPTION:ADULT BIBLE STUDY\nAdult Bible Study\, led by Pastor Rayl\, will resume on Thursday\, September 18th in the lounge. They will meet every Thursday at 11am. The subject of the study will be determined by the class the first meeting. If you would like more information\, please contact Pastor Rayl (pastor1@firststjohn.com) or by calling the church office: 419-691-7222.
URL:https://firststjohn.com/event/bible-study-5-2/2026-12-03/
CATEGORIES:Christian Education,Featured,Fellowship
ATTACH;FMTTYPE=image/jpeg:https://firststjohn.com/wp-content/uploads/2021/07/img62.jpg
END:VEVENT
BEGIN:VEVENT
DTSTART;TZID=America/Detroit:20261206T091500
DTEND;TZID=America/Detroit:20261206T091500
DTSTAMP:20260424T051639
CREATED:20260402T155549Z
LAST-MODIFIED:20260402T155549Z
UID:10015182-1796548500-1796548500@firststjohn.com
SUMMARY:Adult SS/JAM SS
DESCRIPTION:
URL:https://firststjohn.com/event/adult-ss-jam-ss/2026-12-06/
CATEGORIES:Children,Christian Education,Youth
ATTACH;FMTTYPE=image/jpeg:https://firststjohn.com/wp-content/uploads/2024/02/kids.jpg
END:VEVENT
BEGIN:VEVENT
DTSTART;TZID=America/Detroit:20261210T110000
DTEND;TZID=America/Detroit:20261210T110000
DTSTAMP:20260424T051639
CREATED:20251003T154421Z
LAST-MODIFIED:20251003T154421Z
UID:10013710-1796900400-1796900400@firststjohn.com
SUMMARY:Adult Bible Study
DESCRIPTION:ADULT BIBLE STUDY\nAdult Bible Study\, led by Pastor Rayl\, will resume on Thursday\, September 18th in the lounge. They will meet every Thursday at 11am. The subject of the study will be determined by the class the first meeting. If you would like more information\, please contact Pastor Rayl (pastor1@firststjohn.com) or by calling the church office: 419-691-7222.
URL:https://firststjohn.com/event/bible-study-5-2/2026-12-10/
CATEGORIES:Christian Education,Featured,Fellowship
ATTACH;FMTTYPE=image/jpeg:https://firststjohn.com/wp-content/uploads/2021/07/img62.jpg
END:VEVENT
BEGIN:VEVENT
DTSTART;TZID=America/Detroit:20261213T091500
DTEND;TZID=America/Detroit:20261213T091500
DTSTAMP:20260424T051639
CREATED:20260402T155549Z
LAST-MODIFIED:20260402T155549Z
UID:10015183-1797153300-1797153300@firststjohn.com
SUMMARY:Adult SS/JAM SS
DESCRIPTION:
URL:https://firststjohn.com/event/adult-ss-jam-ss/2026-12-13/
CATEGORIES:Children,Christian Education,Youth
ATTACH;FMTTYPE=image/jpeg:https://firststjohn.com/wp-content/uploads/2024/02/kids.jpg
END:VEVENT
BEGIN:VEVENT
DTSTART;TZID=America/Detroit:20261217T110000
DTEND;TZID=America/Detroit:20261217T110000
DTSTAMP:20260424T051639
CREATED:20251003T154421Z
LAST-MODIFIED:20251003T154421Z
UID:10013711-1797505200-1797505200@firststjohn.com
SUMMARY:Adult Bible Study
DESCRIPTION:ADULT BIBLE STUDY\nAdult Bible Study\, led by Pastor Rayl\, will resume on Thursday\, September 18th in the lounge. They will meet every Thursday at 11am. The subject of the study will be determined by the class the first meeting. If you would like more information\, please contact Pastor Rayl (pastor1@firststjohn.com) or by calling the church office: 419-691-7222.
URL:https://firststjohn.com/event/bible-study-5-2/2026-12-17/
CATEGORIES:Christian Education,Featured,Fellowship
ATTACH;FMTTYPE=image/jpeg:https://firststjohn.com/wp-content/uploads/2021/07/img62.jpg
END:VEVENT
BEGIN:VEVENT
DTSTART;TZID=America/Detroit:20261220T091500
DTEND;TZID=America/Detroit:20261220T091500
DTSTAMP:20260424T051639
CREATED:20260402T155549Z
LAST-MODIFIED:20260402T155549Z
UID:10015184-1797758100-1797758100@firststjohn.com
SUMMARY:Adult SS/JAM SS
DESCRIPTION:
URL:https://firststjohn.com/event/adult-ss-jam-ss/2026-12-20/
CATEGORIES:Children,Christian Education,Youth
ATTACH;FMTTYPE=image/jpeg:https://firststjohn.com/wp-content/uploads/2024/02/kids.jpg
END:VEVENT
BEGIN:VEVENT
DTSTART;TZID=America/Detroit:20261224T110000
DTEND;TZID=America/Detroit:20261224T110000
DTSTAMP:20260424T051639
CREATED:20251003T154421Z
LAST-MODIFIED:20251003T154421Z
UID:10013712-1798110000-1798110000@firststjohn.com
SUMMARY:Adult Bible Study
DESCRIPTION:ADULT BIBLE STUDY\nAdult Bible Study\, led by Pastor Rayl\, will resume on Thursday\, September 18th in the lounge. They will meet every Thursday at 11am. The subject of the study will be determined by the class the first meeting. If you would like more information\, please contact Pastor Rayl (pastor1@firststjohn.com) or by calling the church office: 419-691-7222.
URL:https://firststjohn.com/event/bible-study-5-2/2026-12-24/
CATEGORIES:Christian Education,Featured,Fellowship
ATTACH;FMTTYPE=image/jpeg:https://firststjohn.com/wp-content/uploads/2021/07/img62.jpg
END:VEVENT
BEGIN:VEVENT
DTSTART;TZID=America/Detroit:20261227T091500
DTEND;TZID=America/Detroit:20261227T091500
DTSTAMP:20260424T051639
CREATED:20260402T155549Z
LAST-MODIFIED:20260402T155549Z
UID:10015185-1798362900-1798362900@firststjohn.com
SUMMARY:Adult SS/JAM SS
DESCRIPTION:
URL:https://firststjohn.com/event/adult-ss-jam-ss/2026-12-27/
CATEGORIES:Children,Christian Education,Youth
ATTACH;FMTTYPE=image/jpeg:https://firststjohn.com/wp-content/uploads/2024/02/kids.jpg
END:VEVENT
BEGIN:VEVENT
DTSTART;TZID=America/Detroit:20261231T110000
DTEND;TZID=America/Detroit:20261231T110000
DTSTAMP:20260424T051639
CREATED:20251003T154421Z
LAST-MODIFIED:20251003T154421Z
UID:10013713-1798714800-1798714800@firststjohn.com
SUMMARY:Adult Bible Study
DESCRIPTION:ADULT BIBLE STUDY\nAdult Bible Study\, led by Pastor Rayl\, will resume on Thursday\, September 18th in the lounge. They will meet every Thursday at 11am. The subject of the study will be determined by the class the first meeting. If you would like more information\, please contact Pastor Rayl (pastor1@firststjohn.com) or by calling the church office: 419-691-7222.
URL:https://firststjohn.com/event/bible-study-5-2/2026-12-31/
CATEGORIES:Christian Education,Featured,Fellowship
ATTACH;FMTTYPE=image/jpeg:https://firststjohn.com/wp-content/uploads/2021/07/img62.jpg
END:VEVENT
BEGIN:VEVENT
DTSTART;TZID=America/Detroit:20270103T091500
DTEND;TZID=America/Detroit:20270103T091500
DTSTAMP:20260424T051639
CREATED:20260402T155549Z
LAST-MODIFIED:20260402T155549Z
UID:10015186-1798967700-1798967700@firststjohn.com
SUMMARY:Adult SS/JAM SS
DESCRIPTION:
URL:https://firststjohn.com/event/adult-ss-jam-ss/2027-01-03/
CATEGORIES:Children,Christian Education,Youth
ATTACH;FMTTYPE=image/jpeg:https://firststjohn.com/wp-content/uploads/2024/02/kids.jpg
END:VEVENT
BEGIN:VEVENT
DTSTART;TZID=America/Detroit:20270107T110000
DTEND;TZID=America/Detroit:20270107T110000
DTSTAMP:20260424T051639
CREATED:20251003T154421Z
LAST-MODIFIED:20251003T154421Z
UID:10013714-1799319600-1799319600@firststjohn.com
SUMMARY:Adult Bible Study
DESCRIPTION:ADULT BIBLE STUDY\nAdult Bible Study\, led by Pastor Rayl\, will resume on Thursday\, September 18th in the lounge. They will meet every Thursday at 11am. The subject of the study will be determined by the class the first meeting. If you would like more information\, please contact Pastor Rayl (pastor1@firststjohn.com) or by calling the church office: 419-691-7222.
URL:https://firststjohn.com/event/bible-study-5-2/2027-01-07/
CATEGORIES:Christian Education,Featured,Fellowship
ATTACH;FMTTYPE=image/jpeg:https://firststjohn.com/wp-content/uploads/2021/07/img62.jpg
END:VEVENT
BEGIN:VEVENT
DTSTART;TZID=America/Detroit:20270110T091500
DTEND;TZID=America/Detroit:20270110T091500
DTSTAMP:20260424T051639
CREATED:20260402T155549Z
LAST-MODIFIED:20260402T155549Z
UID:10015187-1799572500-1799572500@firststjohn.com
SUMMARY:Adult SS/JAM SS
DESCRIPTION:
URL:https://firststjohn.com/event/adult-ss-jam-ss/2027-01-10/
CATEGORIES:Children,Christian Education,Youth
ATTACH;FMTTYPE=image/jpeg:https://firststjohn.com/wp-content/uploads/2024/02/kids.jpg
END:VEVENT
BEGIN:VEVENT
DTSTART;TZID=America/Detroit:20270114T110000
DTEND;TZID=America/Detroit:20270114T110000
DTSTAMP:20260424T051639
CREATED:20251003T154421Z
LAST-MODIFIED:20251003T154421Z
UID:10013715-1799924400-1799924400@firststjohn.com
SUMMARY:Adult Bible Study
DESCRIPTION:ADULT BIBLE STUDY\nAdult Bible Study\, led by Pastor Rayl\, will resume on Thursday\, September 18th in the lounge. They will meet every Thursday at 11am. The subject of the study will be determined by the class the first meeting. If you would like more information\, please contact Pastor Rayl (pastor1@firststjohn.com) or by calling the church office: 419-691-7222.
URL:https://firststjohn.com/event/bible-study-5-2/2027-01-14/
CATEGORIES:Christian Education,Featured,Fellowship
ATTACH;FMTTYPE=image/jpeg:https://firststjohn.com/wp-content/uploads/2021/07/img62.jpg
END:VEVENT
BEGIN:VEVENT
DTSTART;TZID=America/Detroit:20270117T091500
DTEND;TZID=America/Detroit:20270117T091500
DTSTAMP:20260424T051639
CREATED:20260402T155549Z
LAST-MODIFIED:20260402T155549Z
UID:10015188-1800177300-1800177300@firststjohn.com
SUMMARY:Adult SS/JAM SS
DESCRIPTION:
URL:https://firststjohn.com/event/adult-ss-jam-ss/2027-01-17/
CATEGORIES:Children,Christian Education,Youth
ATTACH;FMTTYPE=image/jpeg:https://firststjohn.com/wp-content/uploads/2024/02/kids.jpg
END:VEVENT
BEGIN:VEVENT
DTSTART;TZID=America/Detroit:20270121T110000
DTEND;TZID=America/Detroit:20270121T110000
DTSTAMP:20260424T051639
CREATED:20251003T154421Z
LAST-MODIFIED:20251003T154421Z
UID:10013716-1800529200-1800529200@firststjohn.com
SUMMARY:Adult Bible Study
DESCRIPTION:ADULT BIBLE STUDY\nAdult Bible Study\, led by Pastor Rayl\, will resume on Thursday\, September 18th in the lounge. They will meet every Thursday at 11am. The subject of the study will be determined by the class the first meeting. If you would like more information\, please contact Pastor Rayl (pastor1@firststjohn.com) or by calling the church office: 419-691-7222.
URL:https://firststjohn.com/event/bible-study-5-2/2027-01-21/
CATEGORIES:Christian Education,Featured,Fellowship
ATTACH;FMTTYPE=image/jpeg:https://firststjohn.com/wp-content/uploads/2021/07/img62.jpg
END:VEVENT
BEGIN:VEVENT
DTSTART;TZID=America/Detroit:20270124T091500
DTEND;TZID=America/Detroit:20270124T091500
DTSTAMP:20260424T051639
CREATED:20260402T155549Z
LAST-MODIFIED:20260402T155549Z
UID:10015189-1800782100-1800782100@firststjohn.com
SUMMARY:Adult SS/JAM SS
DESCRIPTION:
URL:https://firststjohn.com/event/adult-ss-jam-ss/2027-01-24/
CATEGORIES:Children,Christian Education,Youth
ATTACH;FMTTYPE=image/jpeg:https://firststjohn.com/wp-content/uploads/2024/02/kids.jpg
END:VEVENT
BEGIN:VEVENT
DTSTART;TZID=America/Detroit:20270128T110000
DTEND;TZID=America/Detroit:20270128T110000
DTSTAMP:20260424T051639
CREATED:20251003T154421Z
LAST-MODIFIED:20251003T154421Z
UID:10013717-1801134000-1801134000@firststjohn.com
SUMMARY:Adult Bible Study
DESCRIPTION:ADULT BIBLE STUDY\nAdult Bible Study\, led by Pastor Rayl\, will resume on Thursday\, September 18th in the lounge. They will meet every Thursday at 11am. The subject of the study will be determined by the class the first meeting. If you would like more information\, please contact Pastor Rayl (pastor1@firststjohn.com) or by calling the church office: 419-691-7222.
URL:https://firststjohn.com/event/bible-study-5-2/2027-01-28/
CATEGORIES:Christian Education,Featured,Fellowship
ATTACH;FMTTYPE=image/jpeg:https://firststjohn.com/wp-content/uploads/2021/07/img62.jpg
END:VEVENT
BEGIN:VEVENT
DTSTART;TZID=America/Detroit:20270131T091500
DTEND;TZID=America/Detroit:20270131T091500
DTSTAMP:20260424T051639
CREATED:20260402T155549Z
LAST-MODIFIED:20260402T155549Z
UID:10015190-1801386900-1801386900@firststjohn.com
SUMMARY:Adult SS/JAM SS
DESCRIPTION:
URL:https://firststjohn.com/event/adult-ss-jam-ss/2027-01-31/
CATEGORIES:Children,Christian Education,Youth
ATTACH;FMTTYPE=image/jpeg:https://firststjohn.com/wp-content/uploads/2024/02/kids.jpg
END:VEVENT
BEGIN:VEVENT
DTSTART;TZID=America/Detroit:20270204T110000
DTEND;TZID=America/Detroit:20270204T110000
DTSTAMP:20260424T051639
CREATED:20251003T154421Z
LAST-MODIFIED:20251003T154421Z
UID:10013718-1801738800-1801738800@firststjohn.com
SUMMARY:Adult Bible Study
DESCRIPTION:ADULT BIBLE STUDY\nAdult Bible Study\, led by Pastor Rayl\, will resume on Thursday\, September 18th in the lounge. They will meet every Thursday at 11am. The subject of the study will be determined by the class the first meeting. If you would like more information\, please contact Pastor Rayl (pastor1@firststjohn.com) or by calling the church office: 419-691-7222.
URL:https://firststjohn.com/event/bible-study-5-2/2027-02-04/
CATEGORIES:Christian Education,Featured,Fellowship
ATTACH;FMTTYPE=image/jpeg:https://firststjohn.com/wp-content/uploads/2021/07/img62.jpg
END:VEVENT
BEGIN:VEVENT
DTSTART;TZID=America/Detroit:20270207T091500
DTEND;TZID=America/Detroit:20270207T091500
DTSTAMP:20260424T051639
CREATED:20260402T155549Z
LAST-MODIFIED:20260402T155549Z
UID:10015191-1801991700-1801991700@firststjohn.com
SUMMARY:Adult SS/JAM SS
DESCRIPTION:
URL:https://firststjohn.com/event/adult-ss-jam-ss/2027-02-07/
CATEGORIES:Children,Christian Education,Youth
ATTACH;FMTTYPE=image/jpeg:https://firststjohn.com/wp-content/uploads/2024/02/kids.jpg
END:VEVENT
BEGIN:VEVENT
DTSTART;TZID=America/Detroit:20270211T110000
DTEND;TZID=America/Detroit:20270211T110000
DTSTAMP:20260424T051639
CREATED:20251003T154421Z
LAST-MODIFIED:20251003T154421Z
UID:10013719-1802343600-1802343600@firststjohn.com
SUMMARY:Adult Bible Study
DESCRIPTION:ADULT BIBLE STUDY\nAdult Bible Study\, led by Pastor Rayl\, will resume on Thursday\, September 18th in the lounge. They will meet every Thursday at 11am. The subject of the study will be determined by the class the first meeting. If you would like more information\, please contact Pastor Rayl (pastor1@firststjohn.com) or by calling the church office: 419-691-7222.
URL:https://firststjohn.com/event/bible-study-5-2/2027-02-11/
CATEGORIES:Christian Education,Featured,Fellowship
ATTACH;FMTTYPE=image/jpeg:https://firststjohn.com/wp-content/uploads/2021/07/img62.jpg
END:VEVENT
BEGIN:VEVENT
DTSTART;TZID=America/Detroit:20270214T091500
DTEND;TZID=America/Detroit:20270214T091500
DTSTAMP:20260424T051639
CREATED:20260402T155549Z
LAST-MODIFIED:20260402T155549Z
UID:10015192-1802596500-1802596500@firststjohn.com
SUMMARY:Adult SS/JAM SS
DESCRIPTION:
URL:https://firststjohn.com/event/adult-ss-jam-ss/2027-02-14/
CATEGORIES:Children,Christian Education,Youth
ATTACH;FMTTYPE=image/jpeg:https://firststjohn.com/wp-content/uploads/2024/02/kids.jpg
END:VEVENT
BEGIN:VEVENT
DTSTART;TZID=America/Detroit:20270218T110000
DTEND;TZID=America/Detroit:20270218T110000
DTSTAMP:20260424T051639
CREATED:20251003T154421Z
LAST-MODIFIED:20251003T154421Z
UID:10013720-1802948400-1802948400@firststjohn.com
SUMMARY:Adult Bible Study
DESCRIPTION:ADULT BIBLE STUDY\nAdult Bible Study\, led by Pastor Rayl\, will resume on Thursday\, September 18th in the lounge. They will meet every Thursday at 11am. The subject of the study will be determined by the class the first meeting. If you would like more information\, please contact Pastor Rayl (pastor1@firststjohn.com) or by calling the church office: 419-691-7222.
URL:https://firststjohn.com/event/bible-study-5-2/2027-02-18/
CATEGORIES:Christian Education,Featured,Fellowship
ATTACH;FMTTYPE=image/jpeg:https://firststjohn.com/wp-content/uploads/2021/07/img62.jpg
END:VEVENT
BEGIN:VEVENT
DTSTART;TZID=America/Detroit:20270221T091500
DTEND;TZID=America/Detroit:20270221T091500
DTSTAMP:20260424T051639
CREATED:20260402T155549Z
LAST-MODIFIED:20260402T155549Z
UID:10015193-1803201300-1803201300@firststjohn.com
SUMMARY:Adult SS/JAM SS
DESCRIPTION:
URL:https://firststjohn.com/event/adult-ss-jam-ss/2027-02-21/
CATEGORIES:Children,Christian Education,Youth
ATTACH;FMTTYPE=image/jpeg:https://firststjohn.com/wp-content/uploads/2024/02/kids.jpg
END:VEVENT
BEGIN:VEVENT
DTSTART;TZID=America/Detroit:20270225T110000
DTEND;TZID=America/Detroit:20270225T110000
DTSTAMP:20260424T051639
CREATED:20251003T154421Z
LAST-MODIFIED:20251003T154421Z
UID:10013721-1803553200-1803553200@firststjohn.com
SUMMARY:Adult Bible Study
DESCRIPTION:ADULT BIBLE STUDY\nAdult Bible Study\, led by Pastor Rayl\, will resume on Thursday\, September 18th in the lounge. They will meet every Thursday at 11am. The subject of the study will be determined by the class the first meeting. If you would like more information\, please contact Pastor Rayl (pastor1@firststjohn.com) or by calling the church office: 419-691-7222.
URL:https://firststjohn.com/event/bible-study-5-2/2027-02-25/
CATEGORIES:Christian Education,Featured,Fellowship
ATTACH;FMTTYPE=image/jpeg:https://firststjohn.com/wp-content/uploads/2021/07/img62.jpg
END:VEVENT
BEGIN:VEVENT
DTSTART;TZID=America/Detroit:20270228T091500
DTEND;TZID=America/Detroit:20270228T091500
DTSTAMP:20260424T051639
CREATED:20260402T155549Z
LAST-MODIFIED:20260402T155549Z
UID:10015194-1803806100-1803806100@firststjohn.com
SUMMARY:Adult SS/JAM SS
DESCRIPTION:
URL:https://firststjohn.com/event/adult-ss-jam-ss/2027-02-28/
CATEGORIES:Children,Christian Education,Youth
ATTACH;FMTTYPE=image/jpeg:https://firststjohn.com/wp-content/uploads/2024/02/kids.jpg
END:VEVENT
END:VCALENDAR