BEGIN:VCALENDAR
VERSION:2.0
PRODID:-//First St John - ECPv6.15.20//NONSGML v1.0//EN
CALSCALE:GREGORIAN
METHOD:PUBLISH
X-ORIGINAL-URL:https://firststjohn.com
X-WR-CALDESC:Events for First St John
REFRESH-INTERVAL;VALUE=DURATION:PT1H
X-Robots-Tag:noindex
X-PUBLISHED-TTL:PT1H
BEGIN:VTIMEZONE
TZID:America/Detroit
BEGIN:DAYLIGHT
TZOFFSETFROM:-0500
TZOFFSETTO:-0400
TZNAME:EDT
DTSTART:20250309T070000
END:DAYLIGHT
BEGIN:STANDARD
TZOFFSETFROM:-0400
TZOFFSETTO:-0500
TZNAME:EST
DTSTART:20251102T060000
END:STANDARD
BEGIN:DAYLIGHT
TZOFFSETFROM:-0500
TZOFFSETTO:-0400
TZNAME:EDT
DTSTART:20260308T070000
END:DAYLIGHT
BEGIN:STANDARD
TZOFFSETFROM:-0400
TZOFFSETTO:-0500
TZNAME:EST
DTSTART:20261101T060000
END:STANDARD
BEGIN:DAYLIGHT
TZOFFSETFROM:-0500
TZOFFSETTO:-0400
TZNAME:EDT
DTSTART:20270314T070000
END:DAYLIGHT
BEGIN:STANDARD
TZOFFSETFROM:-0400
TZOFFSETTO:-0500
TZNAME:EST
DTSTART:20271107T060000
END:STANDARD
END:VTIMEZONE
BEGIN:VEVENT
DTSTART;TZID=America/Detroit:20260319T110000
DTEND;TZID=America/Detroit:20260319T110000
DTSTAMP:20260424T064533
CREATED:20251003T154421Z
LAST-MODIFIED:20251003T154421Z
UID:10013672-1773918000-1773918000@firststjohn.com
SUMMARY:Adult Bible Study
DESCRIPTION:ADULT BIBLE STUDY\nAdult Bible Study\, led by Pastor Rayl\, will resume on Thursday\, September 18th in the lounge. They will meet every Thursday at 11am. The subject of the study will be determined by the class the first meeting. If you would like more information\, please contact Pastor Rayl (pastor1@firststjohn.com) or by calling the church office: 419-691-7222.
URL:https://firststjohn.com/event/bible-study-5-2/2026-03-19/
CATEGORIES:Christian Education,Featured,Fellowship
ATTACH;FMTTYPE=image/jpeg:https://firststjohn.com/wp-content/uploads/2021/07/img62.jpg
END:VEVENT
BEGIN:VEVENT
DTSTART;TZID=America/Detroit:20260326T110000
DTEND;TZID=America/Detroit:20260326T110000
DTSTAMP:20260424T064533
CREATED:20251003T154421Z
LAST-MODIFIED:20251003T154421Z
UID:10013673-1774522800-1774522800@firststjohn.com
SUMMARY:Adult Bible Study
DESCRIPTION:ADULT BIBLE STUDY\nAdult Bible Study\, led by Pastor Rayl\, will resume on Thursday\, September 18th in the lounge. They will meet every Thursday at 11am. The subject of the study will be determined by the class the first meeting. If you would like more information\, please contact Pastor Rayl (pastor1@firststjohn.com) or by calling the church office: 419-691-7222.
URL:https://firststjohn.com/event/bible-study-5-2/2026-03-26/
CATEGORIES:Christian Education,Featured,Fellowship
ATTACH;FMTTYPE=image/jpeg:https://firststjohn.com/wp-content/uploads/2021/07/img62.jpg
END:VEVENT
BEGIN:VEVENT
DTSTART;TZID=America/Detroit:20260409T110000
DTEND;TZID=America/Detroit:20260409T110000
DTSTAMP:20260424T064533
CREATED:20251003T154421Z
LAST-MODIFIED:20251003T154421Z
UID:10013675-1775732400-1775732400@firststjohn.com
SUMMARY:Adult Bible Study
DESCRIPTION:ADULT BIBLE STUDY\nAdult Bible Study\, led by Pastor Rayl\, will resume on Thursday\, September 18th in the lounge. They will meet every Thursday at 11am. The subject of the study will be determined by the class the first meeting. If you would like more information\, please contact Pastor Rayl (pastor1@firststjohn.com) or by calling the church office: 419-691-7222.
URL:https://firststjohn.com/event/bible-study-5-2/2026-04-09/
CATEGORIES:Christian Education,Featured,Fellowship
ATTACH;FMTTYPE=image/jpeg:https://firststjohn.com/wp-content/uploads/2021/07/img62.jpg
END:VEVENT
BEGIN:VEVENT
DTSTART;TZID=America/Detroit:20260412T091500
DTEND;TZID=America/Detroit:20260412T091500
DTSTAMP:20260424T064533
CREATED:20260402T155549Z
LAST-MODIFIED:20260402T155549Z
UID:10015148-1775985300-1775985300@firststjohn.com
SUMMARY:Adult SS/JAM SS
DESCRIPTION:
URL:https://firststjohn.com/event/adult-ss-jam-ss/2026-04-12/
CATEGORIES:Children,Christian Education,Youth
ATTACH;FMTTYPE=image/jpeg:https://firststjohn.com/wp-content/uploads/2024/02/kids.jpg
END:VEVENT
BEGIN:VEVENT
DTSTART;TZID=America/Detroit:20260416T110000
DTEND;TZID=America/Detroit:20260416T110000
DTSTAMP:20260424T064533
CREATED:20251003T154421Z
LAST-MODIFIED:20251003T154421Z
UID:10013676-1776337200-1776337200@firststjohn.com
SUMMARY:Adult Bible Study
DESCRIPTION:ADULT BIBLE STUDY\nAdult Bible Study\, led by Pastor Rayl\, will resume on Thursday\, September 18th in the lounge. They will meet every Thursday at 11am. The subject of the study will be determined by the class the first meeting. If you would like more information\, please contact Pastor Rayl (pastor1@firststjohn.com) or by calling the church office: 419-691-7222.
URL:https://firststjohn.com/event/bible-study-5-2/2026-04-16/
CATEGORIES:Christian Education,Featured,Fellowship
ATTACH;FMTTYPE=image/jpeg:https://firststjohn.com/wp-content/uploads/2021/07/img62.jpg
END:VEVENT
BEGIN:VEVENT
DTSTART;TZID=America/Detroit:20260419T091500
DTEND;TZID=America/Detroit:20260419T091500
DTSTAMP:20260424T064533
CREATED:20260402T155549Z
LAST-MODIFIED:20260402T155549Z
UID:10015149-1776590100-1776590100@firststjohn.com
SUMMARY:Adult SS/JAM SS
DESCRIPTION:
URL:https://firststjohn.com/event/adult-ss-jam-ss/2026-04-19/
CATEGORIES:Children,Christian Education,Youth
ATTACH;FMTTYPE=image/jpeg:https://firststjohn.com/wp-content/uploads/2024/02/kids.jpg
END:VEVENT
BEGIN:VEVENT
DTSTART;TZID=America/Detroit:20260419T114500
DTEND;TZID=America/Detroit:20260419T114500
DTSTAMP:20260424T064533
CREATED:20260402T161349Z
LAST-MODIFIED:20260402T161349Z
UID:10015732-1776599100-1776599100@firststjohn.com
SUMMARY:Catechism
DESCRIPTION:FIRST & SECOND YEAR CATECHISM\nIt is time to organize a new Catechism Class. Pastor Rayl is inviting parents of kids in fifth through seventh grades to meet with him in the catechism classroom. Please send your questions to Pastor Rayl at email\,  Pastor1@firststjohn.com or text\, 567-395-0143. Hope to see you there.
URL:https://firststjohn.com/event/catechism-2-2/
CATEGORIES:Christian Education,Youth
ATTACH;FMTTYPE=image/png:https://firststjohn.com/wp-content/uploads/2025/03/BulCover-03-30-25.png
END:VEVENT
BEGIN:VEVENT
DTSTART;TZID=America/Detroit:20260423T110000
DTEND;TZID=America/Detroit:20260423T110000
DTSTAMP:20260424T064533
CREATED:20251003T154421Z
LAST-MODIFIED:20251003T154421Z
UID:10013677-1776942000-1776942000@firststjohn.com
SUMMARY:Adult Bible Study
DESCRIPTION:ADULT BIBLE STUDY\nAdult Bible Study\, led by Pastor Rayl\, will resume on Thursday\, September 18th in the lounge. They will meet every Thursday at 11am. The subject of the study will be determined by the class the first meeting. If you would like more information\, please contact Pastor Rayl (pastor1@firststjohn.com) or by calling the church office: 419-691-7222.
URL:https://firststjohn.com/event/bible-study-5-2/2026-04-23/
CATEGORIES:Christian Education,Featured,Fellowship
ATTACH;FMTTYPE=image/jpeg:https://firststjohn.com/wp-content/uploads/2021/07/img62.jpg
END:VEVENT
BEGIN:VEVENT
DTSTART;TZID=America/Detroit:20260426T091500
DTEND;TZID=America/Detroit:20260426T091500
DTSTAMP:20260424T064533
CREATED:20260402T155549Z
LAST-MODIFIED:20260402T155549Z
UID:10015150-1777194900-1777194900@firststjohn.com
SUMMARY:Adult SS/JAM SS
DESCRIPTION:
URL:https://firststjohn.com/event/adult-ss-jam-ss/2026-04-26/
CATEGORIES:Children,Christian Education,Youth
ATTACH;FMTTYPE=image/jpeg:https://firststjohn.com/wp-content/uploads/2024/02/kids.jpg
END:VEVENT
BEGIN:VEVENT
DTSTART;TZID=America/Detroit:20260430T110000
DTEND;TZID=America/Detroit:20260430T110000
DTSTAMP:20260424T064533
CREATED:20251003T154421Z
LAST-MODIFIED:20251003T154421Z
UID:10013678-1777546800-1777546800@firststjohn.com
SUMMARY:Adult Bible Study
DESCRIPTION:ADULT BIBLE STUDY\nAdult Bible Study\, led by Pastor Rayl\, will resume on Thursday\, September 18th in the lounge. They will meet every Thursday at 11am. The subject of the study will be determined by the class the first meeting. If you would like more information\, please contact Pastor Rayl (pastor1@firststjohn.com) or by calling the church office: 419-691-7222.
URL:https://firststjohn.com/event/bible-study-5-2/2026-04-30/
CATEGORIES:Christian Education,Featured,Fellowship
ATTACH;FMTTYPE=image/jpeg:https://firststjohn.com/wp-content/uploads/2021/07/img62.jpg
END:VEVENT
BEGIN:VEVENT
DTSTART;TZID=America/Detroit:20260503T091500
DTEND;TZID=America/Detroit:20260503T091500
DTSTAMP:20260424T064533
CREATED:20260402T155549Z
LAST-MODIFIED:20260402T155549Z
UID:10015151-1777799700-1777799700@firststjohn.com
SUMMARY:Adult SS/JAM SS
DESCRIPTION:
URL:https://firststjohn.com/event/adult-ss-jam-ss/2026-05-03/
CATEGORIES:Children,Christian Education,Youth
ATTACH;FMTTYPE=image/jpeg:https://firststjohn.com/wp-content/uploads/2024/02/kids.jpg
END:VEVENT
BEGIN:VEVENT
DTSTART;TZID=America/Detroit:20260507T110000
DTEND;TZID=America/Detroit:20260507T110000
DTSTAMP:20260424T064533
CREATED:20251003T154421Z
LAST-MODIFIED:20251003T154421Z
UID:10013679-1778151600-1778151600@firststjohn.com
SUMMARY:Adult Bible Study
DESCRIPTION:ADULT BIBLE STUDY\nAdult Bible Study\, led by Pastor Rayl\, will resume on Thursday\, September 18th in the lounge. They will meet every Thursday at 11am. The subject of the study will be determined by the class the first meeting. If you would like more information\, please contact Pastor Rayl (pastor1@firststjohn.com) or by calling the church office: 419-691-7222.
URL:https://firststjohn.com/event/bible-study-5-2/2026-05-07/
CATEGORIES:Christian Education,Featured,Fellowship
ATTACH;FMTTYPE=image/jpeg:https://firststjohn.com/wp-content/uploads/2021/07/img62.jpg
END:VEVENT
BEGIN:VEVENT
DTSTART;TZID=America/Detroit:20260510T091500
DTEND;TZID=America/Detroit:20260510T091500
DTSTAMP:20260424T064533
CREATED:20260402T155549Z
LAST-MODIFIED:20260402T155549Z
UID:10015152-1778404500-1778404500@firststjohn.com
SUMMARY:Adult SS/JAM SS
DESCRIPTION:
URL:https://firststjohn.com/event/adult-ss-jam-ss/2026-05-10/
CATEGORIES:Children,Christian Education,Youth
ATTACH;FMTTYPE=image/jpeg:https://firststjohn.com/wp-content/uploads/2024/02/kids.jpg
END:VEVENT
BEGIN:VEVENT
DTSTART;TZID=America/Detroit:20260514T110000
DTEND;TZID=America/Detroit:20260514T110000
DTSTAMP:20260424T064533
CREATED:20251003T154421Z
LAST-MODIFIED:20251003T154421Z
UID:10013680-1778756400-1778756400@firststjohn.com
SUMMARY:Adult Bible Study
DESCRIPTION:ADULT BIBLE STUDY\nAdult Bible Study\, led by Pastor Rayl\, will resume on Thursday\, September 18th in the lounge. They will meet every Thursday at 11am. The subject of the study will be determined by the class the first meeting. If you would like more information\, please contact Pastor Rayl (pastor1@firststjohn.com) or by calling the church office: 419-691-7222.
URL:https://firststjohn.com/event/bible-study-5-2/2026-05-14/
CATEGORIES:Christian Education,Featured,Fellowship
ATTACH;FMTTYPE=image/jpeg:https://firststjohn.com/wp-content/uploads/2021/07/img62.jpg
END:VEVENT
BEGIN:VEVENT
DTSTART;TZID=America/Detroit:20260517T091500
DTEND;TZID=America/Detroit:20260517T091500
DTSTAMP:20260424T064533
CREATED:20260402T155549Z
LAST-MODIFIED:20260402T155549Z
UID:10015153-1779009300-1779009300@firststjohn.com
SUMMARY:Adult SS/JAM SS
DESCRIPTION:
URL:https://firststjohn.com/event/adult-ss-jam-ss/2026-05-17/
CATEGORIES:Children,Christian Education,Youth
ATTACH;FMTTYPE=image/jpeg:https://firststjohn.com/wp-content/uploads/2024/02/kids.jpg
END:VEVENT
BEGIN:VEVENT
DTSTART;TZID=America/Detroit:20260521T110000
DTEND;TZID=America/Detroit:20260521T110000
DTSTAMP:20260424T064533
CREATED:20251003T154421Z
LAST-MODIFIED:20251003T154421Z
UID:10013681-1779361200-1779361200@firststjohn.com
SUMMARY:Adult Bible Study
DESCRIPTION:ADULT BIBLE STUDY\nAdult Bible Study\, led by Pastor Rayl\, will resume on Thursday\, September 18th in the lounge. They will meet every Thursday at 11am. The subject of the study will be determined by the class the first meeting. If you would like more information\, please contact Pastor Rayl (pastor1@firststjohn.com) or by calling the church office: 419-691-7222.
URL:https://firststjohn.com/event/bible-study-5-2/2026-05-21/
CATEGORIES:Christian Education,Featured,Fellowship
ATTACH;FMTTYPE=image/jpeg:https://firststjohn.com/wp-content/uploads/2021/07/img62.jpg
END:VEVENT
BEGIN:VEVENT
DTSTART;TZID=America/Detroit:20260524T091500
DTEND;TZID=America/Detroit:20260524T091500
DTSTAMP:20260424T064533
CREATED:20260402T155549Z
LAST-MODIFIED:20260402T155549Z
UID:10015154-1779614100-1779614100@firststjohn.com
SUMMARY:Adult SS/JAM SS
DESCRIPTION:
URL:https://firststjohn.com/event/adult-ss-jam-ss/2026-05-24/
CATEGORIES:Children,Christian Education,Youth
ATTACH;FMTTYPE=image/jpeg:https://firststjohn.com/wp-content/uploads/2024/02/kids.jpg
END:VEVENT
BEGIN:VEVENT
DTSTART;TZID=America/Detroit:20260528T110000
DTEND;TZID=America/Detroit:20260528T110000
DTSTAMP:20260424T064533
CREATED:20251003T154421Z
LAST-MODIFIED:20251003T154421Z
UID:10013682-1779966000-1779966000@firststjohn.com
SUMMARY:Adult Bible Study
DESCRIPTION:ADULT BIBLE STUDY\nAdult Bible Study\, led by Pastor Rayl\, will resume on Thursday\, September 18th in the lounge. They will meet every Thursday at 11am. The subject of the study will be determined by the class the first meeting. If you would like more information\, please contact Pastor Rayl (pastor1@firststjohn.com) or by calling the church office: 419-691-7222.
URL:https://firststjohn.com/event/bible-study-5-2/2026-05-28/
CATEGORIES:Christian Education,Featured,Fellowship
ATTACH;FMTTYPE=image/jpeg:https://firststjohn.com/wp-content/uploads/2021/07/img62.jpg
END:VEVENT
BEGIN:VEVENT
DTSTART;TZID=America/Detroit:20260531T091500
DTEND;TZID=America/Detroit:20260531T091500
DTSTAMP:20260424T064533
CREATED:20260402T155549Z
LAST-MODIFIED:20260402T155549Z
UID:10015155-1780218900-1780218900@firststjohn.com
SUMMARY:Adult SS/JAM SS
DESCRIPTION:
URL:https://firststjohn.com/event/adult-ss-jam-ss/2026-05-31/
CATEGORIES:Children,Christian Education,Youth
ATTACH;FMTTYPE=image/jpeg:https://firststjohn.com/wp-content/uploads/2024/02/kids.jpg
END:VEVENT
BEGIN:VEVENT
DTSTART;TZID=America/Detroit:20260604T110000
DTEND;TZID=America/Detroit:20260604T110000
DTSTAMP:20260424T064533
CREATED:20251003T154421Z
LAST-MODIFIED:20251003T154421Z
UID:10013683-1780570800-1780570800@firststjohn.com
SUMMARY:Adult Bible Study
DESCRIPTION:ADULT BIBLE STUDY\nAdult Bible Study\, led by Pastor Rayl\, will resume on Thursday\, September 18th in the lounge. They will meet every Thursday at 11am. The subject of the study will be determined by the class the first meeting. If you would like more information\, please contact Pastor Rayl (pastor1@firststjohn.com) or by calling the church office: 419-691-7222.
URL:https://firststjohn.com/event/bible-study-5-2/2026-06-04/
CATEGORIES:Christian Education,Featured,Fellowship
ATTACH;FMTTYPE=image/jpeg:https://firststjohn.com/wp-content/uploads/2021/07/img62.jpg
END:VEVENT
BEGIN:VEVENT
DTSTART;TZID=America/Detroit:20260607T091500
DTEND;TZID=America/Detroit:20260607T091500
DTSTAMP:20260424T064533
CREATED:20260402T155549Z
LAST-MODIFIED:20260402T155549Z
UID:10015156-1780823700-1780823700@firststjohn.com
SUMMARY:Adult SS/JAM SS
DESCRIPTION:
URL:https://firststjohn.com/event/adult-ss-jam-ss/2026-06-07/
CATEGORIES:Children,Christian Education,Youth
ATTACH;FMTTYPE=image/jpeg:https://firststjohn.com/wp-content/uploads/2024/02/kids.jpg
END:VEVENT
BEGIN:VEVENT
DTSTART;TZID=America/Detroit:20260611T110000
DTEND;TZID=America/Detroit:20260611T110000
DTSTAMP:20260424T064533
CREATED:20251003T154421Z
LAST-MODIFIED:20251003T154421Z
UID:10013684-1781175600-1781175600@firststjohn.com
SUMMARY:Adult Bible Study
DESCRIPTION:ADULT BIBLE STUDY\nAdult Bible Study\, led by Pastor Rayl\, will resume on Thursday\, September 18th in the lounge. They will meet every Thursday at 11am. The subject of the study will be determined by the class the first meeting. If you would like more information\, please contact Pastor Rayl (pastor1@firststjohn.com) or by calling the church office: 419-691-7222.
URL:https://firststjohn.com/event/bible-study-5-2/2026-06-11/
CATEGORIES:Christian Education,Featured,Fellowship
ATTACH;FMTTYPE=image/jpeg:https://firststjohn.com/wp-content/uploads/2021/07/img62.jpg
END:VEVENT
BEGIN:VEVENT
DTSTART;TZID=America/Detroit:20260614T091500
DTEND;TZID=America/Detroit:20260614T091500
DTSTAMP:20260424T064533
CREATED:20260402T155549Z
LAST-MODIFIED:20260402T155549Z
UID:10015157-1781428500-1781428500@firststjohn.com
SUMMARY:Adult SS/JAM SS
DESCRIPTION:
URL:https://firststjohn.com/event/adult-ss-jam-ss/2026-06-14/
CATEGORIES:Children,Christian Education,Youth
ATTACH;FMTTYPE=image/jpeg:https://firststjohn.com/wp-content/uploads/2024/02/kids.jpg
END:VEVENT
BEGIN:VEVENT
DTSTART;TZID=America/Detroit:20260618T110000
DTEND;TZID=America/Detroit:20260618T110000
DTSTAMP:20260424T064533
CREATED:20251003T154421Z
LAST-MODIFIED:20251003T154421Z
UID:10013685-1781780400-1781780400@firststjohn.com
SUMMARY:Adult Bible Study
DESCRIPTION:ADULT BIBLE STUDY\nAdult Bible Study\, led by Pastor Rayl\, will resume on Thursday\, September 18th in the lounge. They will meet every Thursday at 11am. The subject of the study will be determined by the class the first meeting. If you would like more information\, please contact Pastor Rayl (pastor1@firststjohn.com) or by calling the church office: 419-691-7222.
URL:https://firststjohn.com/event/bible-study-5-2/2026-06-18/
CATEGORIES:Christian Education,Featured,Fellowship
ATTACH;FMTTYPE=image/jpeg:https://firststjohn.com/wp-content/uploads/2021/07/img62.jpg
END:VEVENT
BEGIN:VEVENT
DTSTART;TZID=America/Detroit:20260621T091500
DTEND;TZID=America/Detroit:20260621T091500
DTSTAMP:20260424T064533
CREATED:20260402T155549Z
LAST-MODIFIED:20260402T155549Z
UID:10015158-1782033300-1782033300@firststjohn.com
SUMMARY:Adult SS/JAM SS
DESCRIPTION:
URL:https://firststjohn.com/event/adult-ss-jam-ss/2026-06-21/
CATEGORIES:Children,Christian Education,Youth
ATTACH;FMTTYPE=image/jpeg:https://firststjohn.com/wp-content/uploads/2024/02/kids.jpg
END:VEVENT
BEGIN:VEVENT
DTSTART;TZID=America/Detroit:20260625T110000
DTEND;TZID=America/Detroit:20260625T110000
DTSTAMP:20260424T064533
CREATED:20251003T154421Z
LAST-MODIFIED:20251003T154421Z
UID:10013686-1782385200-1782385200@firststjohn.com
SUMMARY:Adult Bible Study
DESCRIPTION:ADULT BIBLE STUDY\nAdult Bible Study\, led by Pastor Rayl\, will resume on Thursday\, September 18th in the lounge. They will meet every Thursday at 11am. The subject of the study will be determined by the class the first meeting. If you would like more information\, please contact Pastor Rayl (pastor1@firststjohn.com) or by calling the church office: 419-691-7222.
URL:https://firststjohn.com/event/bible-study-5-2/2026-06-25/
CATEGORIES:Christian Education,Featured,Fellowship
ATTACH;FMTTYPE=image/jpeg:https://firststjohn.com/wp-content/uploads/2021/07/img62.jpg
END:VEVENT
BEGIN:VEVENT
DTSTART;TZID=America/Detroit:20260628T091500
DTEND;TZID=America/Detroit:20260628T091500
DTSTAMP:20260424T064533
CREATED:20260402T155549Z
LAST-MODIFIED:20260402T155549Z
UID:10015159-1782638100-1782638100@firststjohn.com
SUMMARY:Adult SS/JAM SS
DESCRIPTION:
URL:https://firststjohn.com/event/adult-ss-jam-ss/2026-06-28/
CATEGORIES:Children,Christian Education,Youth
ATTACH;FMTTYPE=image/jpeg:https://firststjohn.com/wp-content/uploads/2024/02/kids.jpg
END:VEVENT
BEGIN:VEVENT
DTSTART;TZID=America/Detroit:20260702T110000
DTEND;TZID=America/Detroit:20260702T110000
DTSTAMP:20260424T064533
CREATED:20251003T154421Z
LAST-MODIFIED:20251003T154421Z
UID:10013687-1782990000-1782990000@firststjohn.com
SUMMARY:Adult Bible Study
DESCRIPTION:ADULT BIBLE STUDY\nAdult Bible Study\, led by Pastor Rayl\, will resume on Thursday\, September 18th in the lounge. They will meet every Thursday at 11am. The subject of the study will be determined by the class the first meeting. If you would like more information\, please contact Pastor Rayl (pastor1@firststjohn.com) or by calling the church office: 419-691-7222.
URL:https://firststjohn.com/event/bible-study-5-2/2026-07-02/
CATEGORIES:Christian Education,Featured,Fellowship
ATTACH;FMTTYPE=image/jpeg:https://firststjohn.com/wp-content/uploads/2021/07/img62.jpg
END:VEVENT
BEGIN:VEVENT
DTSTART;TZID=America/Detroit:20260705T091500
DTEND;TZID=America/Detroit:20260705T091500
DTSTAMP:20260424T064533
CREATED:20260402T155549Z
LAST-MODIFIED:20260402T155549Z
UID:10015160-1783242900-1783242900@firststjohn.com
SUMMARY:Adult SS/JAM SS
DESCRIPTION:
URL:https://firststjohn.com/event/adult-ss-jam-ss/2026-07-05/
CATEGORIES:Children,Christian Education,Youth
ATTACH;FMTTYPE=image/jpeg:https://firststjohn.com/wp-content/uploads/2024/02/kids.jpg
END:VEVENT
BEGIN:VEVENT
DTSTART;TZID=America/Detroit:20260709T110000
DTEND;TZID=America/Detroit:20260709T110000
DTSTAMP:20260424T064533
CREATED:20251003T154421Z
LAST-MODIFIED:20251003T154421Z
UID:10013688-1783594800-1783594800@firststjohn.com
SUMMARY:Adult Bible Study
DESCRIPTION:ADULT BIBLE STUDY\nAdult Bible Study\, led by Pastor Rayl\, will resume on Thursday\, September 18th in the lounge. They will meet every Thursday at 11am. The subject of the study will be determined by the class the first meeting. If you would like more information\, please contact Pastor Rayl (pastor1@firststjohn.com) or by calling the church office: 419-691-7222.
URL:https://firststjohn.com/event/bible-study-5-2/2026-07-09/
CATEGORIES:Christian Education,Featured,Fellowship
ATTACH;FMTTYPE=image/jpeg:https://firststjohn.com/wp-content/uploads/2021/07/img62.jpg
END:VEVENT
END:VCALENDAR