BEGIN:VCALENDAR
VERSION:2.0
PRODID:-//First St John - ECPv6.15.20//NONSGML v1.0//EN
CALSCALE:GREGORIAN
METHOD:PUBLISH
X-WR-CALNAME:First St John
X-ORIGINAL-URL:https://firststjohn.com
X-WR-CALDESC:Events for First St John
REFRESH-INTERVAL;VALUE=DURATION:PT1H
X-Robots-Tag:noindex
X-PUBLISHED-TTL:PT1H
BEGIN:VTIMEZONE
TZID:America/Detroit
BEGIN:DAYLIGHT
TZOFFSETFROM:-0500
TZOFFSETTO:-0400
TZNAME:EDT
DTSTART:20280312T070000
END:DAYLIGHT
BEGIN:STANDARD
TZOFFSETFROM:-0400
TZOFFSETTO:-0500
TZNAME:EST
DTSTART:20281105T060000
END:STANDARD
BEGIN:DAYLIGHT
TZOFFSETFROM:-0500
TZOFFSETTO:-0400
TZNAME:EDT
DTSTART:20290311T070000
END:DAYLIGHT
BEGIN:STANDARD
TZOFFSETFROM:-0400
TZOFFSETTO:-0500
TZNAME:EST
DTSTART:20291104T060000
END:STANDARD
BEGIN:DAYLIGHT
TZOFFSETFROM:-0500
TZOFFSETTO:-0400
TZNAME:EDT
DTSTART:20300310T070000
END:DAYLIGHT
BEGIN:STANDARD
TZOFFSETFROM:-0400
TZOFFSETTO:-0500
TZNAME:EST
DTSTART:20301103T060000
END:STANDARD
END:VTIMEZONE
BEGIN:VEVENT
DTSTART;TZID=America/Detroit:20290624T091500
DTEND;TZID=America/Detroit:20290624T091500
DTSTAMP:20260425T203436
CREATED:20260402T155549Z
LAST-MODIFIED:20260402T155549Z
UID:10015315-1876986900-1876986900@firststjohn.com
SUMMARY:Adult SS/JAM SS
DESCRIPTION:
URL:https://firststjohn.com/event/adult-ss-jam-ss/2029-06-24/
CATEGORIES:Children,Christian Education,Youth
ATTACH;FMTTYPE=image/jpeg:https://firststjohn.com/wp-content/uploads/2024/02/kids.jpg
END:VEVENT
BEGIN:VEVENT
DTSTART;TZID=America/Detroit:20290628T110000
DTEND;TZID=America/Detroit:20290628T110000
DTSTAMP:20260425T203436
CREATED:20251003T154421Z
LAST-MODIFIED:20251003T154421Z
UID:10013843-1877338800-1877338800@firststjohn.com
SUMMARY:Adult Bible Study
DESCRIPTION:ADULT BIBLE STUDY\nAdult Bible Study\, led by Pastor Rayl\, will resume on Thursday\, September 18th in the lounge. They will meet every Thursday at 11am. The subject of the study will be determined by the class the first meeting. If you would like more information\, please contact Pastor Rayl (pastor1@firststjohn.com) or by calling the church office: 419-691-7222.
URL:https://firststjohn.com/event/bible-study-5-2/2029-06-28/
CATEGORIES:Christian Education,Featured,Fellowship
ATTACH;FMTTYPE=image/jpeg:https://firststjohn.com/wp-content/uploads/2021/07/img62.jpg
END:VEVENT
BEGIN:VEVENT
DTSTART;TZID=America/Detroit:20290701T091500
DTEND;TZID=America/Detroit:20290701T091500
DTSTAMP:20260425T203436
CREATED:20260402T155549Z
LAST-MODIFIED:20260402T155549Z
UID:10015316-1877591700-1877591700@firststjohn.com
SUMMARY:Adult SS/JAM SS
DESCRIPTION:
URL:https://firststjohn.com/event/adult-ss-jam-ss/2029-07-01/
CATEGORIES:Children,Christian Education,Youth
ATTACH;FMTTYPE=image/jpeg:https://firststjohn.com/wp-content/uploads/2024/02/kids.jpg
END:VEVENT
BEGIN:VEVENT
DTSTART;TZID=America/Detroit:20290705T110000
DTEND;TZID=America/Detroit:20290705T110000
DTSTAMP:20260425T203436
CREATED:20251003T154421Z
LAST-MODIFIED:20251003T154421Z
UID:10013844-1877943600-1877943600@firststjohn.com
SUMMARY:Adult Bible Study
DESCRIPTION:ADULT BIBLE STUDY\nAdult Bible Study\, led by Pastor Rayl\, will resume on Thursday\, September 18th in the lounge. They will meet every Thursday at 11am. The subject of the study will be determined by the class the first meeting. If you would like more information\, please contact Pastor Rayl (pastor1@firststjohn.com) or by calling the church office: 419-691-7222.
URL:https://firststjohn.com/event/bible-study-5-2/2029-07-05/
CATEGORIES:Christian Education,Featured,Fellowship
ATTACH;FMTTYPE=image/jpeg:https://firststjohn.com/wp-content/uploads/2021/07/img62.jpg
END:VEVENT
BEGIN:VEVENT
DTSTART;TZID=America/Detroit:20290708T091500
DTEND;TZID=America/Detroit:20290708T091500
DTSTAMP:20260425T203436
CREATED:20260402T155549Z
LAST-MODIFIED:20260402T155549Z
UID:10015317-1878196500-1878196500@firststjohn.com
SUMMARY:Adult SS/JAM SS
DESCRIPTION:
URL:https://firststjohn.com/event/adult-ss-jam-ss/2029-07-08/
CATEGORIES:Children,Christian Education,Youth
ATTACH;FMTTYPE=image/jpeg:https://firststjohn.com/wp-content/uploads/2024/02/kids.jpg
END:VEVENT
BEGIN:VEVENT
DTSTART;TZID=America/Detroit:20290712T110000
DTEND;TZID=America/Detroit:20290712T110000
DTSTAMP:20260425T203436
CREATED:20251003T154421Z
LAST-MODIFIED:20251003T154421Z
UID:10013845-1878548400-1878548400@firststjohn.com
SUMMARY:Adult Bible Study
DESCRIPTION:ADULT BIBLE STUDY\nAdult Bible Study\, led by Pastor Rayl\, will resume on Thursday\, September 18th in the lounge. They will meet every Thursday at 11am. The subject of the study will be determined by the class the first meeting. If you would like more information\, please contact Pastor Rayl (pastor1@firststjohn.com) or by calling the church office: 419-691-7222.
URL:https://firststjohn.com/event/bible-study-5-2/2029-07-12/
CATEGORIES:Christian Education,Featured,Fellowship
ATTACH;FMTTYPE=image/jpeg:https://firststjohn.com/wp-content/uploads/2021/07/img62.jpg
END:VEVENT
BEGIN:VEVENT
DTSTART;TZID=America/Detroit:20290715T091500
DTEND;TZID=America/Detroit:20290715T091500
DTSTAMP:20260425T203436
CREATED:20260402T155549Z
LAST-MODIFIED:20260402T155549Z
UID:10015318-1878801300-1878801300@firststjohn.com
SUMMARY:Adult SS/JAM SS
DESCRIPTION:
URL:https://firststjohn.com/event/adult-ss-jam-ss/2029-07-15/
CATEGORIES:Children,Christian Education,Youth
ATTACH;FMTTYPE=image/jpeg:https://firststjohn.com/wp-content/uploads/2024/02/kids.jpg
END:VEVENT
BEGIN:VEVENT
DTSTART;TZID=America/Detroit:20290719T110000
DTEND;TZID=America/Detroit:20290719T110000
DTSTAMP:20260425T203436
CREATED:20251003T154421Z
LAST-MODIFIED:20251003T154421Z
UID:10013846-1879153200-1879153200@firststjohn.com
SUMMARY:Adult Bible Study
DESCRIPTION:ADULT BIBLE STUDY\nAdult Bible Study\, led by Pastor Rayl\, will resume on Thursday\, September 18th in the lounge. They will meet every Thursday at 11am. The subject of the study will be determined by the class the first meeting. If you would like more information\, please contact Pastor Rayl (pastor1@firststjohn.com) or by calling the church office: 419-691-7222.
URL:https://firststjohn.com/event/bible-study-5-2/2029-07-19/
CATEGORIES:Christian Education,Featured,Fellowship
ATTACH;FMTTYPE=image/jpeg:https://firststjohn.com/wp-content/uploads/2021/07/img62.jpg
END:VEVENT
BEGIN:VEVENT
DTSTART;TZID=America/Detroit:20290722T091500
DTEND;TZID=America/Detroit:20290722T091500
DTSTAMP:20260425T203436
CREATED:20260402T155549Z
LAST-MODIFIED:20260402T155549Z
UID:10015319-1879406100-1879406100@firststjohn.com
SUMMARY:Adult SS/JAM SS
DESCRIPTION:
URL:https://firststjohn.com/event/adult-ss-jam-ss/2029-07-22/
CATEGORIES:Children,Christian Education,Youth
ATTACH;FMTTYPE=image/jpeg:https://firststjohn.com/wp-content/uploads/2024/02/kids.jpg
END:VEVENT
BEGIN:VEVENT
DTSTART;TZID=America/Detroit:20290726T110000
DTEND;TZID=America/Detroit:20290726T110000
DTSTAMP:20260425T203436
CREATED:20251003T154421Z
LAST-MODIFIED:20251003T154421Z
UID:10013847-1879758000-1879758000@firststjohn.com
SUMMARY:Adult Bible Study
DESCRIPTION:ADULT BIBLE STUDY\nAdult Bible Study\, led by Pastor Rayl\, will resume on Thursday\, September 18th in the lounge. They will meet every Thursday at 11am. The subject of the study will be determined by the class the first meeting. If you would like more information\, please contact Pastor Rayl (pastor1@firststjohn.com) or by calling the church office: 419-691-7222.
URL:https://firststjohn.com/event/bible-study-5-2/2029-07-26/
CATEGORIES:Christian Education,Featured,Fellowship
ATTACH;FMTTYPE=image/jpeg:https://firststjohn.com/wp-content/uploads/2021/07/img62.jpg
END:VEVENT
BEGIN:VEVENT
DTSTART;TZID=America/Detroit:20290729T091500
DTEND;TZID=America/Detroit:20290729T091500
DTSTAMP:20260425T203436
CREATED:20260402T155549Z
LAST-MODIFIED:20260402T155549Z
UID:10015320-1880010900-1880010900@firststjohn.com
SUMMARY:Adult SS/JAM SS
DESCRIPTION:
URL:https://firststjohn.com/event/adult-ss-jam-ss/2029-07-29/
CATEGORIES:Children,Christian Education,Youth
ATTACH;FMTTYPE=image/jpeg:https://firststjohn.com/wp-content/uploads/2024/02/kids.jpg
END:VEVENT
BEGIN:VEVENT
DTSTART;TZID=America/Detroit:20290802T110000
DTEND;TZID=America/Detroit:20290802T110000
DTSTAMP:20260425T203436
CREATED:20251003T154421Z
LAST-MODIFIED:20251003T154421Z
UID:10013848-1880362800-1880362800@firststjohn.com
SUMMARY:Adult Bible Study
DESCRIPTION:ADULT BIBLE STUDY\nAdult Bible Study\, led by Pastor Rayl\, will resume on Thursday\, September 18th in the lounge. They will meet every Thursday at 11am. The subject of the study will be determined by the class the first meeting. If you would like more information\, please contact Pastor Rayl (pastor1@firststjohn.com) or by calling the church office: 419-691-7222.
URL:https://firststjohn.com/event/bible-study-5-2/2029-08-02/
CATEGORIES:Christian Education,Featured,Fellowship
ATTACH;FMTTYPE=image/jpeg:https://firststjohn.com/wp-content/uploads/2021/07/img62.jpg
END:VEVENT
BEGIN:VEVENT
DTSTART;TZID=America/Detroit:20290805T091500
DTEND;TZID=America/Detroit:20290805T091500
DTSTAMP:20260425T203436
CREATED:20260402T155549Z
LAST-MODIFIED:20260402T155549Z
UID:10015321-1880615700-1880615700@firststjohn.com
SUMMARY:Adult SS/JAM SS
DESCRIPTION:
URL:https://firststjohn.com/event/adult-ss-jam-ss/2029-08-05/
CATEGORIES:Children,Christian Education,Youth
ATTACH;FMTTYPE=image/jpeg:https://firststjohn.com/wp-content/uploads/2024/02/kids.jpg
END:VEVENT
BEGIN:VEVENT
DTSTART;TZID=America/Detroit:20290809T110000
DTEND;TZID=America/Detroit:20290809T110000
DTSTAMP:20260425T203436
CREATED:20251003T154421Z
LAST-MODIFIED:20251003T154421Z
UID:10013849-1880967600-1880967600@firststjohn.com
SUMMARY:Adult Bible Study
DESCRIPTION:ADULT BIBLE STUDY\nAdult Bible Study\, led by Pastor Rayl\, will resume on Thursday\, September 18th in the lounge. They will meet every Thursday at 11am. The subject of the study will be determined by the class the first meeting. If you would like more information\, please contact Pastor Rayl (pastor1@firststjohn.com) or by calling the church office: 419-691-7222.
URL:https://firststjohn.com/event/bible-study-5-2/2029-08-09/
CATEGORIES:Christian Education,Featured,Fellowship
ATTACH;FMTTYPE=image/jpeg:https://firststjohn.com/wp-content/uploads/2021/07/img62.jpg
END:VEVENT
BEGIN:VEVENT
DTSTART;TZID=America/Detroit:20290812T091500
DTEND;TZID=America/Detroit:20290812T091500
DTSTAMP:20260425T203436
CREATED:20260402T155549Z
LAST-MODIFIED:20260402T155549Z
UID:10015322-1881220500-1881220500@firststjohn.com
SUMMARY:Adult SS/JAM SS
DESCRIPTION:
URL:https://firststjohn.com/event/adult-ss-jam-ss/2029-08-12/
CATEGORIES:Children,Christian Education,Youth
ATTACH;FMTTYPE=image/jpeg:https://firststjohn.com/wp-content/uploads/2024/02/kids.jpg
END:VEVENT
BEGIN:VEVENT
DTSTART;TZID=America/Detroit:20290816T110000
DTEND;TZID=America/Detroit:20290816T110000
DTSTAMP:20260425T203436
CREATED:20251003T154421Z
LAST-MODIFIED:20251003T154421Z
UID:10013850-1881572400-1881572400@firststjohn.com
SUMMARY:Adult Bible Study
DESCRIPTION:ADULT BIBLE STUDY\nAdult Bible Study\, led by Pastor Rayl\, will resume on Thursday\, September 18th in the lounge. They will meet every Thursday at 11am. The subject of the study will be determined by the class the first meeting. If you would like more information\, please contact Pastor Rayl (pastor1@firststjohn.com) or by calling the church office: 419-691-7222.
URL:https://firststjohn.com/event/bible-study-5-2/2029-08-16/
CATEGORIES:Christian Education,Featured,Fellowship
ATTACH;FMTTYPE=image/jpeg:https://firststjohn.com/wp-content/uploads/2021/07/img62.jpg
END:VEVENT
BEGIN:VEVENT
DTSTART;TZID=America/Detroit:20290819T091500
DTEND;TZID=America/Detroit:20290819T091500
DTSTAMP:20260425T203436
CREATED:20260402T155549Z
LAST-MODIFIED:20260402T155549Z
UID:10015323-1881825300-1881825300@firststjohn.com
SUMMARY:Adult SS/JAM SS
DESCRIPTION:
URL:https://firststjohn.com/event/adult-ss-jam-ss/2029-08-19/
CATEGORIES:Children,Christian Education,Youth
ATTACH;FMTTYPE=image/jpeg:https://firststjohn.com/wp-content/uploads/2024/02/kids.jpg
END:VEVENT
BEGIN:VEVENT
DTSTART;TZID=America/Detroit:20290823T110000
DTEND;TZID=America/Detroit:20290823T110000
DTSTAMP:20260425T203436
CREATED:20251003T154421Z
LAST-MODIFIED:20251003T154421Z
UID:10013851-1882177200-1882177200@firststjohn.com
SUMMARY:Adult Bible Study
DESCRIPTION:ADULT BIBLE STUDY\nAdult Bible Study\, led by Pastor Rayl\, will resume on Thursday\, September 18th in the lounge. They will meet every Thursday at 11am. The subject of the study will be determined by the class the first meeting. If you would like more information\, please contact Pastor Rayl (pastor1@firststjohn.com) or by calling the church office: 419-691-7222.
URL:https://firststjohn.com/event/bible-study-5-2/2029-08-23/
CATEGORIES:Christian Education,Featured,Fellowship
ATTACH;FMTTYPE=image/jpeg:https://firststjohn.com/wp-content/uploads/2021/07/img62.jpg
END:VEVENT
BEGIN:VEVENT
DTSTART;TZID=America/Detroit:20290826T091500
DTEND;TZID=America/Detroit:20290826T091500
DTSTAMP:20260425T203436
CREATED:20260402T155549Z
LAST-MODIFIED:20260402T155549Z
UID:10015324-1882430100-1882430100@firststjohn.com
SUMMARY:Adult SS/JAM SS
DESCRIPTION:
URL:https://firststjohn.com/event/adult-ss-jam-ss/2029-08-26/
CATEGORIES:Children,Christian Education,Youth
ATTACH;FMTTYPE=image/jpeg:https://firststjohn.com/wp-content/uploads/2024/02/kids.jpg
END:VEVENT
BEGIN:VEVENT
DTSTART;TZID=America/Detroit:20290830T110000
DTEND;TZID=America/Detroit:20290830T110000
DTSTAMP:20260425T203436
CREATED:20251003T154421Z
LAST-MODIFIED:20251003T154421Z
UID:10013852-1882782000-1882782000@firststjohn.com
SUMMARY:Adult Bible Study
DESCRIPTION:ADULT BIBLE STUDY\nAdult Bible Study\, led by Pastor Rayl\, will resume on Thursday\, September 18th in the lounge. They will meet every Thursday at 11am. The subject of the study will be determined by the class the first meeting. If you would like more information\, please contact Pastor Rayl (pastor1@firststjohn.com) or by calling the church office: 419-691-7222.
URL:https://firststjohn.com/event/bible-study-5-2/2029-08-30/
CATEGORIES:Christian Education,Featured,Fellowship
ATTACH;FMTTYPE=image/jpeg:https://firststjohn.com/wp-content/uploads/2021/07/img62.jpg
END:VEVENT
BEGIN:VEVENT
DTSTART;TZID=America/Detroit:20290902T091500
DTEND;TZID=America/Detroit:20290902T091500
DTSTAMP:20260425T203436
CREATED:20260402T155549Z
LAST-MODIFIED:20260402T155549Z
UID:10015325-1883034900-1883034900@firststjohn.com
SUMMARY:Adult SS/JAM SS
DESCRIPTION:
URL:https://firststjohn.com/event/adult-ss-jam-ss/2029-09-02/
CATEGORIES:Children,Christian Education,Youth
ATTACH;FMTTYPE=image/jpeg:https://firststjohn.com/wp-content/uploads/2024/02/kids.jpg
END:VEVENT
BEGIN:VEVENT
DTSTART;TZID=America/Detroit:20290906T110000
DTEND;TZID=America/Detroit:20290906T110000
DTSTAMP:20260425T203436
CREATED:20251003T154421Z
LAST-MODIFIED:20251003T154421Z
UID:10013853-1883386800-1883386800@firststjohn.com
SUMMARY:Adult Bible Study
DESCRIPTION:ADULT BIBLE STUDY\nAdult Bible Study\, led by Pastor Rayl\, will resume on Thursday\, September 18th in the lounge. They will meet every Thursday at 11am. The subject of the study will be determined by the class the first meeting. If you would like more information\, please contact Pastor Rayl (pastor1@firststjohn.com) or by calling the church office: 419-691-7222.
URL:https://firststjohn.com/event/bible-study-5-2/2029-09-06/
CATEGORIES:Christian Education,Featured,Fellowship
ATTACH;FMTTYPE=image/jpeg:https://firststjohn.com/wp-content/uploads/2021/07/img62.jpg
END:VEVENT
BEGIN:VEVENT
DTSTART;TZID=America/Detroit:20290909T091500
DTEND;TZID=America/Detroit:20290909T091500
DTSTAMP:20260425T203436
CREATED:20260402T155549Z
LAST-MODIFIED:20260402T155549Z
UID:10015326-1883639700-1883639700@firststjohn.com
SUMMARY:Adult SS/JAM SS
DESCRIPTION:
URL:https://firststjohn.com/event/adult-ss-jam-ss/2029-09-09/
CATEGORIES:Children,Christian Education,Youth
ATTACH;FMTTYPE=image/jpeg:https://firststjohn.com/wp-content/uploads/2024/02/kids.jpg
END:VEVENT
BEGIN:VEVENT
DTSTART;TZID=America/Detroit:20290913T110000
DTEND;TZID=America/Detroit:20290913T110000
DTSTAMP:20260425T203436
CREATED:20251003T154421Z
LAST-MODIFIED:20251003T154421Z
UID:10013854-1883991600-1883991600@firststjohn.com
SUMMARY:Adult Bible Study
DESCRIPTION:ADULT BIBLE STUDY\nAdult Bible Study\, led by Pastor Rayl\, will resume on Thursday\, September 18th in the lounge. They will meet every Thursday at 11am. The subject of the study will be determined by the class the first meeting. If you would like more information\, please contact Pastor Rayl (pastor1@firststjohn.com) or by calling the church office: 419-691-7222.
URL:https://firststjohn.com/event/bible-study-5-2/2029-09-13/
CATEGORIES:Christian Education,Featured,Fellowship
ATTACH;FMTTYPE=image/jpeg:https://firststjohn.com/wp-content/uploads/2021/07/img62.jpg
END:VEVENT
BEGIN:VEVENT
DTSTART;TZID=America/Detroit:20290916T091500
DTEND;TZID=America/Detroit:20290916T091500
DTSTAMP:20260425T203436
CREATED:20260402T155549Z
LAST-MODIFIED:20260402T155549Z
UID:10015327-1884244500-1884244500@firststjohn.com
SUMMARY:Adult SS/JAM SS
DESCRIPTION:
URL:https://firststjohn.com/event/adult-ss-jam-ss/2029-09-16/
CATEGORIES:Children,Christian Education,Youth
ATTACH;FMTTYPE=image/jpeg:https://firststjohn.com/wp-content/uploads/2024/02/kids.jpg
END:VEVENT
BEGIN:VEVENT
DTSTART;TZID=America/Detroit:20290920T110000
DTEND;TZID=America/Detroit:20290920T110000
DTSTAMP:20260425T203436
CREATED:20251003T154421Z
LAST-MODIFIED:20251003T154421Z
UID:10013855-1884596400-1884596400@firststjohn.com
SUMMARY:Adult Bible Study
DESCRIPTION:ADULT BIBLE STUDY\nAdult Bible Study\, led by Pastor Rayl\, will resume on Thursday\, September 18th in the lounge. They will meet every Thursday at 11am. The subject of the study will be determined by the class the first meeting. If you would like more information\, please contact Pastor Rayl (pastor1@firststjohn.com) or by calling the church office: 419-691-7222.
URL:https://firststjohn.com/event/bible-study-5-2/2029-09-20/
CATEGORIES:Christian Education,Featured,Fellowship
ATTACH;FMTTYPE=image/jpeg:https://firststjohn.com/wp-content/uploads/2021/07/img62.jpg
END:VEVENT
BEGIN:VEVENT
DTSTART;TZID=America/Detroit:20290923T091500
DTEND;TZID=America/Detroit:20290923T091500
DTSTAMP:20260425T203436
CREATED:20260402T155549Z
LAST-MODIFIED:20260402T155549Z
UID:10015328-1884849300-1884849300@firststjohn.com
SUMMARY:Adult SS/JAM SS
DESCRIPTION:
URL:https://firststjohn.com/event/adult-ss-jam-ss/2029-09-23/
CATEGORIES:Children,Christian Education,Youth
ATTACH;FMTTYPE=image/jpeg:https://firststjohn.com/wp-content/uploads/2024/02/kids.jpg
END:VEVENT
BEGIN:VEVENT
DTSTART;TZID=America/Detroit:20290927T110000
DTEND;TZID=America/Detroit:20290927T110000
DTSTAMP:20260425T203436
CREATED:20251003T154421Z
LAST-MODIFIED:20251003T154421Z
UID:10013856-1885201200-1885201200@firststjohn.com
SUMMARY:Adult Bible Study
DESCRIPTION:ADULT BIBLE STUDY\nAdult Bible Study\, led by Pastor Rayl\, will resume on Thursday\, September 18th in the lounge. They will meet every Thursday at 11am. The subject of the study will be determined by the class the first meeting. If you would like more information\, please contact Pastor Rayl (pastor1@firststjohn.com) or by calling the church office: 419-691-7222.
URL:https://firststjohn.com/event/bible-study-5-2/2029-09-27/
CATEGORIES:Christian Education,Featured,Fellowship
ATTACH;FMTTYPE=image/jpeg:https://firststjohn.com/wp-content/uploads/2021/07/img62.jpg
END:VEVENT
BEGIN:VEVENT
DTSTART;TZID=America/Detroit:20290930T091500
DTEND;TZID=America/Detroit:20290930T091500
DTSTAMP:20260425T203436
CREATED:20260402T155549Z
LAST-MODIFIED:20260402T155549Z
UID:10015329-1885454100-1885454100@firststjohn.com
SUMMARY:Adult SS/JAM SS
DESCRIPTION:
URL:https://firststjohn.com/event/adult-ss-jam-ss/2029-09-30/
CATEGORIES:Children,Christian Education,Youth
ATTACH;FMTTYPE=image/jpeg:https://firststjohn.com/wp-content/uploads/2024/02/kids.jpg
END:VEVENT
BEGIN:VEVENT
DTSTART;TZID=America/Detroit:20291004T110000
DTEND;TZID=America/Detroit:20291004T110000
DTSTAMP:20260425T203436
CREATED:20251003T154421Z
LAST-MODIFIED:20251003T154421Z
UID:10013857-1885806000-1885806000@firststjohn.com
SUMMARY:Adult Bible Study
DESCRIPTION:ADULT BIBLE STUDY\nAdult Bible Study\, led by Pastor Rayl\, will resume on Thursday\, September 18th in the lounge. They will meet every Thursday at 11am. The subject of the study will be determined by the class the first meeting. If you would like more information\, please contact Pastor Rayl (pastor1@firststjohn.com) or by calling the church office: 419-691-7222.
URL:https://firststjohn.com/event/bible-study-5-2/2029-10-04/
CATEGORIES:Christian Education,Featured,Fellowship
ATTACH;FMTTYPE=image/jpeg:https://firststjohn.com/wp-content/uploads/2021/07/img62.jpg
END:VEVENT
END:VCALENDAR