BEGIN:VCALENDAR
VERSION:2.0
PRODID:-//First St John - ECPv6.15.20//NONSGML v1.0//EN
CALSCALE:GREGORIAN
METHOD:PUBLISH
X-ORIGINAL-URL:https://firststjohn.com
X-WR-CALDESC:Events for First St John
REFRESH-INTERVAL;VALUE=DURATION:PT1H
X-Robots-Tag:noindex
X-PUBLISHED-TTL:PT1H
BEGIN:VTIMEZONE
TZID:America/Detroit
BEGIN:DAYLIGHT
TZOFFSETFROM:-0500
TZOFFSETTO:-0400
TZNAME:EDT
DTSTART:20240310T070000
END:DAYLIGHT
BEGIN:STANDARD
TZOFFSETFROM:-0400
TZOFFSETTO:-0500
TZNAME:EST
DTSTART:20241103T060000
END:STANDARD
BEGIN:DAYLIGHT
TZOFFSETFROM:-0500
TZOFFSETTO:-0400
TZNAME:EDT
DTSTART:20250309T070000
END:DAYLIGHT
BEGIN:STANDARD
TZOFFSETFROM:-0400
TZOFFSETTO:-0500
TZNAME:EST
DTSTART:20251102T060000
END:STANDARD
BEGIN:DAYLIGHT
TZOFFSETFROM:-0500
TZOFFSETTO:-0400
TZNAME:EDT
DTSTART:20260308T070000
END:DAYLIGHT
BEGIN:STANDARD
TZOFFSETFROM:-0400
TZOFFSETTO:-0500
TZNAME:EST
DTSTART:20261101T060000
END:STANDARD
BEGIN:DAYLIGHT
TZOFFSETFROM:-0500
TZOFFSETTO:-0400
TZNAME:EDT
DTSTART:20270314T070000
END:DAYLIGHT
BEGIN:STANDARD
TZOFFSETFROM:-0400
TZOFFSETTO:-0500
TZNAME:EST
DTSTART:20271107T060000
END:STANDARD
END:VTIMEZONE
BEGIN:VEVENT
DTSTART;TZID=America/Detroit:20250925T110000
DTEND;TZID=America/Detroit:20250925T110000
DTSTAMP:20260425T084721
CREATED:20250908T172209Z
LAST-MODIFIED:20250908T172209Z
UID:10013647-1758798000-1758798000@firststjohn.com
SUMMARY:Bible Study
DESCRIPTION:ADULT BIBLE STUDY\nAdult Bible Study\, led by Pastor Rayl\, will resume on Thursday\, September 18th in the lounge. They will meet every Thursday at 11am. The subject of the study will be determined by the class the first meeting. If you would like more information\, please contact Pastor Rayl (pastor1@firststjohn.com) or by calling the church office: 419-691-7222.
URL:https://firststjohn.com/event/bible-study-5/2025-09-25/
CATEGORIES:Christian Education,Featured,Fellowship
ATTACH;FMTTYPE=image/jpeg:https://firststjohn.com/wp-content/uploads/2021/07/img62.jpg
END:VEVENT
BEGIN:VEVENT
DTSTART;TZID=America/Detroit:20250928T091500
DTEND;TZID=America/Detroit:20250928T091500
DTSTAMP:20260425T084721
CREATED:20250908T174442Z
LAST-MODIFIED:20250908T174442Z
UID:10013970-1759050900-1759050900@firststjohn.com
SUMMARY:Adult Bible Study starts
DESCRIPTION:
URL:https://firststjohn.com/event/adult-bible-study-starts/2025-09-28/
CATEGORIES:Christian Education,Featured,Fellowship
ATTACH;FMTTYPE=image/jpeg:https://firststjohn.com/wp-content/uploads/2021/07/img62.jpg
END:VEVENT
BEGIN:VEVENT
DTSTART;TZID=America/Detroit:20251002T110000
DTEND;TZID=America/Detroit:20251002T110000
DTSTAMP:20260425T084721
CREATED:20251003T154421Z
LAST-MODIFIED:20251003T154421Z
UID:10013648-1759402800-1759402800@firststjohn.com
SUMMARY:Adult Bible Study
DESCRIPTION:ADULT BIBLE STUDY\nAdult Bible Study\, led by Pastor Rayl\, will resume on Thursday\, September 18th in the lounge. They will meet every Thursday at 11am. The subject of the study will be determined by the class the first meeting. If you would like more information\, please contact Pastor Rayl (pastor1@firststjohn.com) or by calling the church office: 419-691-7222.
URL:https://firststjohn.com/event/bible-study-5-2/2025-10-02/
CATEGORIES:Christian Education,Featured,Fellowship
ATTACH;FMTTYPE=image/jpeg:https://firststjohn.com/wp-content/uploads/2021/07/img62.jpg
END:VEVENT
BEGIN:VEVENT
DTSTART;TZID=America/Detroit:20251005T091500
DTEND;TZID=America/Detroit:20251005T091500
DTSTAMP:20260425T084721
CREATED:20250908T174442Z
LAST-MODIFIED:20250908T174442Z
UID:10013971-1759655700-1759655700@firststjohn.com
SUMMARY:Adult Bible Study starts
DESCRIPTION:
URL:https://firststjohn.com/event/adult-bible-study-starts/2025-10-05/
CATEGORIES:Christian Education,Featured,Fellowship
ATTACH;FMTTYPE=image/jpeg:https://firststjohn.com/wp-content/uploads/2021/07/img62.jpg
END:VEVENT
BEGIN:VEVENT
DTSTART;TZID=America/Detroit:20251009T110000
DTEND;TZID=America/Detroit:20251009T110000
DTSTAMP:20260425T084721
CREATED:20251003T154421Z
LAST-MODIFIED:20251003T154421Z
UID:10013649-1760007600-1760007600@firststjohn.com
SUMMARY:Adult Bible Study
DESCRIPTION:ADULT BIBLE STUDY\nAdult Bible Study\, led by Pastor Rayl\, will resume on Thursday\, September 18th in the lounge. They will meet every Thursday at 11am. The subject of the study will be determined by the class the first meeting. If you would like more information\, please contact Pastor Rayl (pastor1@firststjohn.com) or by calling the church office: 419-691-7222.
URL:https://firststjohn.com/event/bible-study-5-2/2025-10-09/
CATEGORIES:Christian Education,Featured,Fellowship
ATTACH;FMTTYPE=image/jpeg:https://firststjohn.com/wp-content/uploads/2021/07/img62.jpg
END:VEVENT
BEGIN:VEVENT
DTSTART;TZID=America/Detroit:20251012T091500
DTEND;TZID=America/Detroit:20251012T091500
DTSTAMP:20260425T084721
CREATED:20250908T174442Z
LAST-MODIFIED:20250908T174442Z
UID:10013972-1760260500-1760260500@firststjohn.com
SUMMARY:Adult Bible Study starts
DESCRIPTION:
URL:https://firststjohn.com/event/adult-bible-study-starts/2025-10-12/
CATEGORIES:Christian Education,Featured,Fellowship
ATTACH;FMTTYPE=image/jpeg:https://firststjohn.com/wp-content/uploads/2021/07/img62.jpg
END:VEVENT
BEGIN:VEVENT
DTSTART;TZID=America/Detroit:20251016T110000
DTEND;TZID=America/Detroit:20251016T110000
DTSTAMP:20260425T084721
CREATED:20251003T154421Z
LAST-MODIFIED:20251003T154421Z
UID:10013650-1760612400-1760612400@firststjohn.com
SUMMARY:Adult Bible Study
DESCRIPTION:ADULT BIBLE STUDY\nAdult Bible Study\, led by Pastor Rayl\, will resume on Thursday\, September 18th in the lounge. They will meet every Thursday at 11am. The subject of the study will be determined by the class the first meeting. If you would like more information\, please contact Pastor Rayl (pastor1@firststjohn.com) or by calling the church office: 419-691-7222.
URL:https://firststjohn.com/event/bible-study-5-2/2025-10-16/
CATEGORIES:Christian Education,Featured,Fellowship
ATTACH;FMTTYPE=image/jpeg:https://firststjohn.com/wp-content/uploads/2021/07/img62.jpg
END:VEVENT
BEGIN:VEVENT
DTSTART;TZID=America/Detroit:20251019T091500
DTEND;TZID=America/Detroit:20251019T091500
DTSTAMP:20260425T084721
CREATED:20251003T160724Z
LAST-MODIFIED:20251003T160724Z
UID:10013973-1760865300-1760865300@firststjohn.com
SUMMARY:JAM & Adult SS
DESCRIPTION:
URL:https://firststjohn.com/event/adult-bible-study-starts-2/
CATEGORIES:Christian Education,Featured,Fellowship
ATTACH;FMTTYPE=image/jpeg:https://firststjohn.com/wp-content/uploads/2021/07/img62.jpg
END:VEVENT
BEGIN:VEVENT
DTSTART;TZID=America/Detroit:20251019T091500
DTEND;TZID=America/Detroit:20251019T091500
DTSTAMP:20260425T084721
CREATED:20251003T160820Z
LAST-MODIFIED:20251003T160820Z
UID:10013124-1760865300-1760865300@firststjohn.com
SUMMARY:Ephesians Study
DESCRIPTION:
URL:https://firststjohn.com/event/jam-sunday-school-starts-3-2-2/
CATEGORIES:Children,Christian Education,Youth
ATTACH;FMTTYPE=image/jpeg:https://firststjohn.com/wp-content/uploads/2024/02/kids.jpg
END:VEVENT
BEGIN:VEVENT
DTSTART;TZID=America/Detroit:20251023T110000
DTEND;TZID=America/Detroit:20251023T110000
DTSTAMP:20260425T084721
CREATED:20251003T154421Z
LAST-MODIFIED:20251003T154421Z
UID:10013651-1761217200-1761217200@firststjohn.com
SUMMARY:Adult Bible Study
DESCRIPTION:ADULT BIBLE STUDY\nAdult Bible Study\, led by Pastor Rayl\, will resume on Thursday\, September 18th in the lounge. They will meet every Thursday at 11am. The subject of the study will be determined by the class the first meeting. If you would like more information\, please contact Pastor Rayl (pastor1@firststjohn.com) or by calling the church office: 419-691-7222.
URL:https://firststjohn.com/event/bible-study-5-2/2025-10-23/
CATEGORIES:Christian Education,Featured,Fellowship
ATTACH;FMTTYPE=image/jpeg:https://firststjohn.com/wp-content/uploads/2021/07/img62.jpg
END:VEVENT
BEGIN:VEVENT
DTSTART;TZID=America/Detroit:20251026T091500
DTEND;TZID=America/Detroit:20251026T091500
DTSTAMP:20260425T084721
CREATED:20251003T162416Z
LAST-MODIFIED:20251003T162416Z
UID:10013125-1761470100-1761470100@firststjohn.com
SUMMARY:JAM & Adult SS
DESCRIPTION:
URL:https://firststjohn.com/event/jam-sunday-school-starts-3-2-3/
CATEGORIES:Children,Christian Education,Youth
ATTACH;FMTTYPE=image/jpeg:https://firststjohn.com/wp-content/uploads/2024/02/kids.jpg
END:VEVENT
BEGIN:VEVENT
DTSTART;TZID=America/Detroit:20251026T091500
DTEND;TZID=America/Detroit:20251026T091500
DTSTAMP:20260425T084721
CREATED:20251003T162504Z
LAST-MODIFIED:20251003T162504Z
UID:10013974-1761470100-1761470100@firststjohn.com
SUMMARY:Ephesians Study
DESCRIPTION:
URL:https://firststjohn.com/event/adult-bible-study-starts-3/
CATEGORIES:Christian Education,Featured,Fellowship
ATTACH;FMTTYPE=image/jpeg:https://firststjohn.com/wp-content/uploads/2021/07/img62.jpg
END:VEVENT
BEGIN:VEVENT
DTSTART;TZID=America/Detroit:20251030T110000
DTEND;TZID=America/Detroit:20251030T110000
DTSTAMP:20260425T084721
CREATED:20251003T154421Z
LAST-MODIFIED:20251003T154421Z
UID:10013652-1761822000-1761822000@firststjohn.com
SUMMARY:Adult Bible Study
DESCRIPTION:ADULT BIBLE STUDY\nAdult Bible Study\, led by Pastor Rayl\, will resume on Thursday\, September 18th in the lounge. They will meet every Thursday at 11am. The subject of the study will be determined by the class the first meeting. If you would like more information\, please contact Pastor Rayl (pastor1@firststjohn.com) or by calling the church office: 419-691-7222.
URL:https://firststjohn.com/event/bible-study-5-2/2025-10-30/
CATEGORIES:Christian Education,Featured,Fellowship
ATTACH;FMTTYPE=image/jpeg:https://firststjohn.com/wp-content/uploads/2021/07/img62.jpg
END:VEVENT
BEGIN:VEVENT
DTSTART;TZID=America/Detroit:20251102T091500
DTEND;TZID=America/Detroit:20251102T091500
DTSTAMP:20260425T084721
CREATED:20250908T174442Z
LAST-MODIFIED:20250908T174442Z
UID:10013975-1762074900-1762074900@firststjohn.com
SUMMARY:Adult Bible Study starts
DESCRIPTION:
URL:https://firststjohn.com/event/adult-bible-study-starts/2025-11-02/
CATEGORIES:Christian Education,Featured,Fellowship
ATTACH;FMTTYPE=image/jpeg:https://firststjohn.com/wp-content/uploads/2021/07/img62.jpg
END:VEVENT
BEGIN:VEVENT
DTSTART;TZID=America/Detroit:20251106T110000
DTEND;TZID=America/Detroit:20251106T110000
DTSTAMP:20260425T084721
CREATED:20251003T154421Z
LAST-MODIFIED:20251003T154421Z
UID:10013653-1762426800-1762426800@firststjohn.com
SUMMARY:Adult Bible Study
DESCRIPTION:ADULT BIBLE STUDY\nAdult Bible Study\, led by Pastor Rayl\, will resume on Thursday\, September 18th in the lounge. They will meet every Thursday at 11am. The subject of the study will be determined by the class the first meeting. If you would like more information\, please contact Pastor Rayl (pastor1@firststjohn.com) or by calling the church office: 419-691-7222.
URL:https://firststjohn.com/event/bible-study-5-2/2025-11-06/
CATEGORIES:Christian Education,Featured,Fellowship
ATTACH;FMTTYPE=image/jpeg:https://firststjohn.com/wp-content/uploads/2021/07/img62.jpg
END:VEVENT
BEGIN:VEVENT
DTSTART;TZID=America/Detroit:20251109T091500
DTEND;TZID=America/Detroit:20251109T091500
DTSTAMP:20260425T084721
CREATED:20251108T174857Z
LAST-MODIFIED:20251108T174857Z
UID:10013976-1762679700-1762679700@firststjohn.com
SUMMARY:Ephesians Study
DESCRIPTION:
URL:https://firststjohn.com/event/adult-bible-study-starts-4/2025-11-09/
CATEGORIES:Christian Education,Featured,Fellowship
ATTACH;FMTTYPE=image/jpeg:https://firststjohn.com/wp-content/uploads/2021/07/img62.jpg
END:VEVENT
BEGIN:VEVENT
DTSTART;TZID=America/Detroit:20251112T180000
DTEND;TZID=America/Detroit:20251112T180000
DTSTAMP:20260425T084721
CREATED:20251101T155246Z
LAST-MODIFIED:20251108T175639Z
UID:10011520-1762970400-1762970400@firststjohn.com
SUMMARY:Day School Board Meeting
DESCRIPTION:
URL:https://firststjohn.com/event/day-school-board-meeting-5/
CATEGORIES:Children,Christian Education,Dayschool,Youth
ATTACH;FMTTYPE=image/jpeg:https://firststjohn.com/wp-content/uploads/2024/04/Playground1-scaled.jpg
ORGANIZER;CN="Jennifer Hess":MAILTO:office@firststjohn.com
END:VEVENT
BEGIN:VEVENT
DTSTART;TZID=America/Detroit:20251113T110000
DTEND;TZID=America/Detroit:20251113T110000
DTSTAMP:20260425T084721
CREATED:20251003T154421Z
LAST-MODIFIED:20251003T154421Z
UID:10013654-1763031600-1763031600@firststjohn.com
SUMMARY:Adult Bible Study
DESCRIPTION:ADULT BIBLE STUDY\nAdult Bible Study\, led by Pastor Rayl\, will resume on Thursday\, September 18th in the lounge. They will meet every Thursday at 11am. The subject of the study will be determined by the class the first meeting. If you would like more information\, please contact Pastor Rayl (pastor1@firststjohn.com) or by calling the church office: 419-691-7222.
URL:https://firststjohn.com/event/bible-study-5-2/2025-11-13/
CATEGORIES:Christian Education,Featured,Fellowship
ATTACH;FMTTYPE=image/jpeg:https://firststjohn.com/wp-content/uploads/2021/07/img62.jpg
END:VEVENT
BEGIN:VEVENT
DTSTART;TZID=America/Detroit:20251116T091500
DTEND;TZID=America/Detroit:20251116T091500
DTSTAMP:20260425T084721
CREATED:20251108T174857Z
LAST-MODIFIED:20251108T174857Z
UID:10013977-1763284500-1763284500@firststjohn.com
SUMMARY:Ephesians Study
DESCRIPTION:
URL:https://firststjohn.com/event/adult-bible-study-starts-4/2025-11-16/
CATEGORIES:Christian Education,Featured,Fellowship
ATTACH;FMTTYPE=image/jpeg:https://firststjohn.com/wp-content/uploads/2021/07/img62.jpg
END:VEVENT
BEGIN:VEVENT
DTSTART;TZID=America/Detroit:20251123T091500
DTEND;TZID=America/Detroit:20251123T091500
DTSTAMP:20260425T084721
CREATED:20251108T174857Z
LAST-MODIFIED:20251108T174857Z
UID:10013978-1763889300-1763889300@firststjohn.com
SUMMARY:Ephesians Study
DESCRIPTION:
URL:https://firststjohn.com/event/adult-bible-study-starts-4/2025-11-23/
CATEGORIES:Christian Education,Featured,Fellowship
ATTACH;FMTTYPE=image/jpeg:https://firststjohn.com/wp-content/uploads/2021/07/img62.jpg
END:VEVENT
BEGIN:VEVENT
DTSTART;TZID=America/Detroit:20251130T091500
DTEND;TZID=America/Detroit:20251130T091500
DTSTAMP:20260425T084721
CREATED:20251108T174857Z
LAST-MODIFIED:20251108T174857Z
UID:10013979-1764494100-1764494100@firststjohn.com
SUMMARY:Ephesians Study
DESCRIPTION:
URL:https://firststjohn.com/event/adult-bible-study-starts-4/2025-11-30/
CATEGORIES:Christian Education,Featured,Fellowship
ATTACH;FMTTYPE=image/jpeg:https://firststjohn.com/wp-content/uploads/2021/07/img62.jpg
END:VEVENT
BEGIN:VEVENT
DTSTART;TZID=America/Detroit:20251204T110000
DTEND;TZID=America/Detroit:20251204T110000
DTSTAMP:20260425T084721
CREATED:20251003T154421Z
LAST-MODIFIED:20251003T154421Z
UID:10013657-1764846000-1764846000@firststjohn.com
SUMMARY:Adult Bible Study
DESCRIPTION:ADULT BIBLE STUDY\nAdult Bible Study\, led by Pastor Rayl\, will resume on Thursday\, September 18th in the lounge. They will meet every Thursday at 11am. The subject of the study will be determined by the class the first meeting. If you would like more information\, please contact Pastor Rayl (pastor1@firststjohn.com) or by calling the church office: 419-691-7222.
URL:https://firststjohn.com/event/bible-study-5-2/2025-12-04/
CATEGORIES:Christian Education,Featured,Fellowship
ATTACH;FMTTYPE=image/jpeg:https://firststjohn.com/wp-content/uploads/2021/07/img62.jpg
END:VEVENT
BEGIN:VEVENT
DTSTART;TZID=America/Detroit:20251207T091500
DTEND;TZID=America/Detroit:20251207T091500
DTSTAMP:20260425T084721
CREATED:20251108T174857Z
LAST-MODIFIED:20251108T174857Z
UID:10013980-1765098900-1765098900@firststjohn.com
SUMMARY:Ephesians Study
DESCRIPTION:
URL:https://firststjohn.com/event/adult-bible-study-starts-4/2025-12-07/
CATEGORIES:Christian Education,Featured,Fellowship
ATTACH;FMTTYPE=image/jpeg:https://firststjohn.com/wp-content/uploads/2021/07/img62.jpg
END:VEVENT
BEGIN:VEVENT
DTSTART;TZID=America/Detroit:20251207T114500
DTEND;TZID=America/Detroit:20251207T114500
DTSTAMP:20260425T084721
CREATED:20250908T171325Z
LAST-MODIFIED:20251209T234233Z
UID:10013643-1765107900-1765107900@firststjohn.com
SUMMARY:Catechism
DESCRIPTION:FIRST & SECOND YEAR CATECHISM\nIt is time to organize a new Catechism Class. Pastor Rayl is inviting parents of kids in fifth through seventh grades to meet with him in the catechism classroom. Please send your questions to Pastor Rayl at email\,  Pastor1@firststjohn.com or text\, 567-395-0143. Hope to see you there.
URL:https://firststjohn.com/event/catechism-mtg-2-2/
CATEGORIES:Christian Education,Youth
ATTACH;FMTTYPE=image/png:https://firststjohn.com/wp-content/uploads/2025/03/BulCover-03-30-25.png
END:VEVENT
BEGIN:VEVENT
DTSTART;TZID=America/Detroit:20251211T110000
DTEND;TZID=America/Detroit:20251211T110000
DTSTAMP:20260425T084721
CREATED:20251003T154421Z
LAST-MODIFIED:20251003T154421Z
UID:10013658-1765450800-1765450800@firststjohn.com
SUMMARY:Adult Bible Study
DESCRIPTION:ADULT BIBLE STUDY\nAdult Bible Study\, led by Pastor Rayl\, will resume on Thursday\, September 18th in the lounge. They will meet every Thursday at 11am. The subject of the study will be determined by the class the first meeting. If you would like more information\, please contact Pastor Rayl (pastor1@firststjohn.com) or by calling the church office: 419-691-7222.
URL:https://firststjohn.com/event/bible-study-5-2/2025-12-11/
CATEGORIES:Christian Education,Featured,Fellowship
ATTACH;FMTTYPE=image/jpeg:https://firststjohn.com/wp-content/uploads/2021/07/img62.jpg
END:VEVENT
BEGIN:VEVENT
DTSTART;TZID=America/Detroit:20251214T091500
DTEND;TZID=America/Detroit:20251214T091500
DTSTAMP:20260425T084721
CREATED:20251108T174857Z
LAST-MODIFIED:20251108T174857Z
UID:10013981-1765703700-1765703700@firststjohn.com
SUMMARY:Ephesians Study
DESCRIPTION:
URL:https://firststjohn.com/event/adult-bible-study-starts-4/2025-12-14/
CATEGORIES:Christian Education,Featured,Fellowship
ATTACH;FMTTYPE=image/jpeg:https://firststjohn.com/wp-content/uploads/2021/07/img62.jpg
END:VEVENT
BEGIN:VEVENT
DTSTART;TZID=America/Detroit:20251218T110000
DTEND;TZID=America/Detroit:20251218T110000
DTSTAMP:20260425T084721
CREATED:20251003T154421Z
LAST-MODIFIED:20251003T154421Z
UID:10013659-1766055600-1766055600@firststjohn.com
SUMMARY:Adult Bible Study
DESCRIPTION:ADULT BIBLE STUDY\nAdult Bible Study\, led by Pastor Rayl\, will resume on Thursday\, September 18th in the lounge. They will meet every Thursday at 11am. The subject of the study will be determined by the class the first meeting. If you would like more information\, please contact Pastor Rayl (pastor1@firststjohn.com) or by calling the church office: 419-691-7222.
URL:https://firststjohn.com/event/bible-study-5-2/2025-12-18/
CATEGORIES:Christian Education,Featured,Fellowship
ATTACH;FMTTYPE=image/jpeg:https://firststjohn.com/wp-content/uploads/2021/07/img62.jpg
END:VEVENT
BEGIN:VEVENT
DTSTART;TZID=America/Detroit:20251221T091500
DTEND;TZID=America/Detroit:20251221T091500
DTSTAMP:20260425T084721
CREATED:20251108T174857Z
LAST-MODIFIED:20251108T174857Z
UID:10013982-1766308500-1766308500@firststjohn.com
SUMMARY:Ephesians Study
DESCRIPTION:
URL:https://firststjohn.com/event/adult-bible-study-starts-4/2025-12-21/
CATEGORIES:Christian Education,Featured,Fellowship
ATTACH;FMTTYPE=image/jpeg:https://firststjohn.com/wp-content/uploads/2021/07/img62.jpg
END:VEVENT
BEGIN:VEVENT
DTSTART;TZID=America/Detroit:20260104T091500
DTEND;TZID=America/Detroit:20260104T091500
DTSTAMP:20260425T084721
CREATED:20251108T174857Z
LAST-MODIFIED:20251108T174857Z
UID:10013984-1767518100-1767518100@firststjohn.com
SUMMARY:Ephesians Study
DESCRIPTION:
URL:https://firststjohn.com/event/adult-bible-study-starts-4/2026-01-04/
CATEGORIES:Christian Education,Featured,Fellowship
ATTACH;FMTTYPE=image/jpeg:https://firststjohn.com/wp-content/uploads/2021/07/img62.jpg
END:VEVENT
BEGIN:VEVENT
DTSTART;TZID=America/Detroit:20260104T114500
DTEND;TZID=America/Detroit:20260104T114500
DTSTAMP:20260425T084721
CREATED:20260104T174717Z
LAST-MODIFIED:20260106T181231Z
UID:10014699-1767527100-1767527100@firststjohn.com
SUMMARY:Catechism
DESCRIPTION:FIRST & SECOND YEAR CATECHISM\nIt is time to organize a new Catechism Class. Pastor Rayl is inviting parents of kids in fifth through seventh grades to meet with him in the catechism classroom. Please send your questions to Pastor Rayl at email\,  Pastor1@firststjohn.com or text\, 567-395-0143. Hope to see you there.
URL:https://firststjohn.com/event/catechism/2026-01-04/
CATEGORIES:Christian Education,Youth
ATTACH;FMTTYPE=image/png:https://firststjohn.com/wp-content/uploads/2025/03/BulCover-03-30-25.png
END:VEVENT
END:VCALENDAR