BEGIN:VCALENDAR
VERSION:2.0
PRODID:-//First St John - ECPv6.15.20//NONSGML v1.0//EN
CALSCALE:GREGORIAN
METHOD:PUBLISH
X-ORIGINAL-URL:https://firststjohn.com
X-WR-CALDESC:Events for First St John
REFRESH-INTERVAL;VALUE=DURATION:PT1H
X-Robots-Tag:noindex
X-PUBLISHED-TTL:PT1H
BEGIN:VTIMEZONE
TZID:America/Detroit
BEGIN:DAYLIGHT
TZOFFSETFROM:-0500
TZOFFSETTO:-0400
TZNAME:EDT
DTSTART:20260308T070000
END:DAYLIGHT
BEGIN:STANDARD
TZOFFSETFROM:-0400
TZOFFSETTO:-0500
TZNAME:EST
DTSTART:20261101T060000
END:STANDARD
BEGIN:DAYLIGHT
TZOFFSETFROM:-0500
TZOFFSETTO:-0400
TZNAME:EDT
DTSTART:20270314T070000
END:DAYLIGHT
BEGIN:STANDARD
TZOFFSETFROM:-0400
TZOFFSETTO:-0500
TZNAME:EST
DTSTART:20271107T060000
END:STANDARD
BEGIN:DAYLIGHT
TZOFFSETFROM:-0500
TZOFFSETTO:-0400
TZNAME:EDT
DTSTART:20280312T070000
END:DAYLIGHT
BEGIN:STANDARD
TZOFFSETFROM:-0400
TZOFFSETTO:-0500
TZNAME:EST
DTSTART:20281105T060000
END:STANDARD
BEGIN:DAYLIGHT
TZOFFSETFROM:-0500
TZOFFSETTO:-0400
TZNAME:EDT
DTSTART:20290311T070000
END:DAYLIGHT
BEGIN:STANDARD
TZOFFSETFROM:-0400
TZOFFSETTO:-0500
TZNAME:EST
DTSTART:20291104T060000
END:STANDARD
END:VTIMEZONE
BEGIN:VEVENT
DTSTART;TZID=America/Detroit:20271212T091500
DTEND;TZID=America/Detroit:20271212T091500
DTSTAMP:20260425T121726
CREATED:20260402T155549Z
LAST-MODIFIED:20260402T155549Z
UID:10015235-1828602900-1828602900@firststjohn.com
SUMMARY:Adult SS/JAM SS
DESCRIPTION:
URL:https://firststjohn.com/event/adult-ss-jam-ss/2027-12-12/
CATEGORIES:Children,Christian Education,Youth
ATTACH;FMTTYPE=image/jpeg:https://firststjohn.com/wp-content/uploads/2024/02/kids.jpg
END:VEVENT
BEGIN:VEVENT
DTSTART;TZID=America/Detroit:20271216T110000
DTEND;TZID=America/Detroit:20271216T110000
DTSTAMP:20260425T121726
CREATED:20251003T154421Z
LAST-MODIFIED:20251003T154421Z
UID:10013763-1828954800-1828954800@firststjohn.com
SUMMARY:Adult Bible Study
DESCRIPTION:ADULT BIBLE STUDY\nAdult Bible Study\, led by Pastor Rayl\, will resume on Thursday\, September 18th in the lounge. They will meet every Thursday at 11am. The subject of the study will be determined by the class the first meeting. If you would like more information\, please contact Pastor Rayl (pastor1@firststjohn.com) or by calling the church office: 419-691-7222.
URL:https://firststjohn.com/event/bible-study-5-2/2027-12-16/
CATEGORIES:Christian Education,Featured,Fellowship
ATTACH;FMTTYPE=image/jpeg:https://firststjohn.com/wp-content/uploads/2021/07/img62.jpg
END:VEVENT
BEGIN:VEVENT
DTSTART;TZID=America/Detroit:20271219T091500
DTEND;TZID=America/Detroit:20271219T091500
DTSTAMP:20260425T121726
CREATED:20260402T155549Z
LAST-MODIFIED:20260402T155549Z
UID:10015236-1829207700-1829207700@firststjohn.com
SUMMARY:Adult SS/JAM SS
DESCRIPTION:
URL:https://firststjohn.com/event/adult-ss-jam-ss/2027-12-19/
CATEGORIES:Children,Christian Education,Youth
ATTACH;FMTTYPE=image/jpeg:https://firststjohn.com/wp-content/uploads/2024/02/kids.jpg
END:VEVENT
BEGIN:VEVENT
DTSTART;TZID=America/Detroit:20271223T110000
DTEND;TZID=America/Detroit:20271223T110000
DTSTAMP:20260425T121726
CREATED:20251003T154421Z
LAST-MODIFIED:20251003T154421Z
UID:10013764-1829559600-1829559600@firststjohn.com
SUMMARY:Adult Bible Study
DESCRIPTION:ADULT BIBLE STUDY\nAdult Bible Study\, led by Pastor Rayl\, will resume on Thursday\, September 18th in the lounge. They will meet every Thursday at 11am. The subject of the study will be determined by the class the first meeting. If you would like more information\, please contact Pastor Rayl (pastor1@firststjohn.com) or by calling the church office: 419-691-7222.
URL:https://firststjohn.com/event/bible-study-5-2/2027-12-23/
CATEGORIES:Christian Education,Featured,Fellowship
ATTACH;FMTTYPE=image/jpeg:https://firststjohn.com/wp-content/uploads/2021/07/img62.jpg
END:VEVENT
BEGIN:VEVENT
DTSTART;TZID=America/Detroit:20271226T091500
DTEND;TZID=America/Detroit:20271226T091500
DTSTAMP:20260425T121726
CREATED:20260402T155549Z
LAST-MODIFIED:20260402T155549Z
UID:10015237-1829812500-1829812500@firststjohn.com
SUMMARY:Adult SS/JAM SS
DESCRIPTION:
URL:https://firststjohn.com/event/adult-ss-jam-ss/2027-12-26/
CATEGORIES:Children,Christian Education,Youth
ATTACH;FMTTYPE=image/jpeg:https://firststjohn.com/wp-content/uploads/2024/02/kids.jpg
END:VEVENT
BEGIN:VEVENT
DTSTART;TZID=America/Detroit:20271230T110000
DTEND;TZID=America/Detroit:20271230T110000
DTSTAMP:20260425T121726
CREATED:20251003T154421Z
LAST-MODIFIED:20251003T154421Z
UID:10013765-1830164400-1830164400@firststjohn.com
SUMMARY:Adult Bible Study
DESCRIPTION:ADULT BIBLE STUDY\nAdult Bible Study\, led by Pastor Rayl\, will resume on Thursday\, September 18th in the lounge. They will meet every Thursday at 11am. The subject of the study will be determined by the class the first meeting. If you would like more information\, please contact Pastor Rayl (pastor1@firststjohn.com) or by calling the church office: 419-691-7222.
URL:https://firststjohn.com/event/bible-study-5-2/2027-12-30/
CATEGORIES:Christian Education,Featured,Fellowship
ATTACH;FMTTYPE=image/jpeg:https://firststjohn.com/wp-content/uploads/2021/07/img62.jpg
END:VEVENT
BEGIN:VEVENT
DTSTART;TZID=America/Detroit:20280102T091500
DTEND;TZID=America/Detroit:20280102T091500
DTSTAMP:20260425T121726
CREATED:20260402T155549Z
LAST-MODIFIED:20260402T155549Z
UID:10015238-1830417300-1830417300@firststjohn.com
SUMMARY:Adult SS/JAM SS
DESCRIPTION:
URL:https://firststjohn.com/event/adult-ss-jam-ss/2028-01-02/
CATEGORIES:Children,Christian Education,Youth
ATTACH;FMTTYPE=image/jpeg:https://firststjohn.com/wp-content/uploads/2024/02/kids.jpg
END:VEVENT
BEGIN:VEVENT
DTSTART;TZID=America/Detroit:20280106T110000
DTEND;TZID=America/Detroit:20280106T110000
DTSTAMP:20260425T121726
CREATED:20251003T154421Z
LAST-MODIFIED:20251003T154421Z
UID:10013766-1830769200-1830769200@firststjohn.com
SUMMARY:Adult Bible Study
DESCRIPTION:ADULT BIBLE STUDY\nAdult Bible Study\, led by Pastor Rayl\, will resume on Thursday\, September 18th in the lounge. They will meet every Thursday at 11am. The subject of the study will be determined by the class the first meeting. If you would like more information\, please contact Pastor Rayl (pastor1@firststjohn.com) or by calling the church office: 419-691-7222.
URL:https://firststjohn.com/event/bible-study-5-2/2028-01-06/
CATEGORIES:Christian Education,Featured,Fellowship
ATTACH;FMTTYPE=image/jpeg:https://firststjohn.com/wp-content/uploads/2021/07/img62.jpg
END:VEVENT
BEGIN:VEVENT
DTSTART;TZID=America/Detroit:20280109T091500
DTEND;TZID=America/Detroit:20280109T091500
DTSTAMP:20260425T121727
CREATED:20260402T155549Z
LAST-MODIFIED:20260402T155549Z
UID:10015239-1831022100-1831022100@firststjohn.com
SUMMARY:Adult SS/JAM SS
DESCRIPTION:
URL:https://firststjohn.com/event/adult-ss-jam-ss/2028-01-09/
CATEGORIES:Children,Christian Education,Youth
ATTACH;FMTTYPE=image/jpeg:https://firststjohn.com/wp-content/uploads/2024/02/kids.jpg
END:VEVENT
BEGIN:VEVENT
DTSTART;TZID=America/Detroit:20280113T110000
DTEND;TZID=America/Detroit:20280113T110000
DTSTAMP:20260425T121727
CREATED:20251003T154421Z
LAST-MODIFIED:20251003T154421Z
UID:10013767-1831374000-1831374000@firststjohn.com
SUMMARY:Adult Bible Study
DESCRIPTION:ADULT BIBLE STUDY\nAdult Bible Study\, led by Pastor Rayl\, will resume on Thursday\, September 18th in the lounge. They will meet every Thursday at 11am. The subject of the study will be determined by the class the first meeting. If you would like more information\, please contact Pastor Rayl (pastor1@firststjohn.com) or by calling the church office: 419-691-7222.
URL:https://firststjohn.com/event/bible-study-5-2/2028-01-13/
CATEGORIES:Christian Education,Featured,Fellowship
ATTACH;FMTTYPE=image/jpeg:https://firststjohn.com/wp-content/uploads/2021/07/img62.jpg
END:VEVENT
BEGIN:VEVENT
DTSTART;TZID=America/Detroit:20280116T091500
DTEND;TZID=America/Detroit:20280116T091500
DTSTAMP:20260425T121727
CREATED:20260402T155549Z
LAST-MODIFIED:20260402T155549Z
UID:10015240-1831626900-1831626900@firststjohn.com
SUMMARY:Adult SS/JAM SS
DESCRIPTION:
URL:https://firststjohn.com/event/adult-ss-jam-ss/2028-01-16/
CATEGORIES:Children,Christian Education,Youth
ATTACH;FMTTYPE=image/jpeg:https://firststjohn.com/wp-content/uploads/2024/02/kids.jpg
END:VEVENT
BEGIN:VEVENT
DTSTART;TZID=America/Detroit:20280120T110000
DTEND;TZID=America/Detroit:20280120T110000
DTSTAMP:20260425T121727
CREATED:20251003T154421Z
LAST-MODIFIED:20251003T154421Z
UID:10013768-1831978800-1831978800@firststjohn.com
SUMMARY:Adult Bible Study
DESCRIPTION:ADULT BIBLE STUDY\nAdult Bible Study\, led by Pastor Rayl\, will resume on Thursday\, September 18th in the lounge. They will meet every Thursday at 11am. The subject of the study will be determined by the class the first meeting. If you would like more information\, please contact Pastor Rayl (pastor1@firststjohn.com) or by calling the church office: 419-691-7222.
URL:https://firststjohn.com/event/bible-study-5-2/2028-01-20/
CATEGORIES:Christian Education,Featured,Fellowship
ATTACH;FMTTYPE=image/jpeg:https://firststjohn.com/wp-content/uploads/2021/07/img62.jpg
END:VEVENT
BEGIN:VEVENT
DTSTART;TZID=America/Detroit:20280123T091500
DTEND;TZID=America/Detroit:20280123T091500
DTSTAMP:20260425T121727
CREATED:20260402T155549Z
LAST-MODIFIED:20260402T155549Z
UID:10015241-1832231700-1832231700@firststjohn.com
SUMMARY:Adult SS/JAM SS
DESCRIPTION:
URL:https://firststjohn.com/event/adult-ss-jam-ss/2028-01-23/
CATEGORIES:Children,Christian Education,Youth
ATTACH;FMTTYPE=image/jpeg:https://firststjohn.com/wp-content/uploads/2024/02/kids.jpg
END:VEVENT
BEGIN:VEVENT
DTSTART;TZID=America/Detroit:20280127T110000
DTEND;TZID=America/Detroit:20280127T110000
DTSTAMP:20260425T121727
CREATED:20251003T154421Z
LAST-MODIFIED:20251003T154421Z
UID:10013769-1832583600-1832583600@firststjohn.com
SUMMARY:Adult Bible Study
DESCRIPTION:ADULT BIBLE STUDY\nAdult Bible Study\, led by Pastor Rayl\, will resume on Thursday\, September 18th in the lounge. They will meet every Thursday at 11am. The subject of the study will be determined by the class the first meeting. If you would like more information\, please contact Pastor Rayl (pastor1@firststjohn.com) or by calling the church office: 419-691-7222.
URL:https://firststjohn.com/event/bible-study-5-2/2028-01-27/
CATEGORIES:Christian Education,Featured,Fellowship
ATTACH;FMTTYPE=image/jpeg:https://firststjohn.com/wp-content/uploads/2021/07/img62.jpg
END:VEVENT
BEGIN:VEVENT
DTSTART;TZID=America/Detroit:20280130T091500
DTEND;TZID=America/Detroit:20280130T091500
DTSTAMP:20260425T121727
CREATED:20260402T155549Z
LAST-MODIFIED:20260402T155549Z
UID:10015242-1832836500-1832836500@firststjohn.com
SUMMARY:Adult SS/JAM SS
DESCRIPTION:
URL:https://firststjohn.com/event/adult-ss-jam-ss/2028-01-30/
CATEGORIES:Children,Christian Education,Youth
ATTACH;FMTTYPE=image/jpeg:https://firststjohn.com/wp-content/uploads/2024/02/kids.jpg
END:VEVENT
BEGIN:VEVENT
DTSTART;TZID=America/Detroit:20280203T110000
DTEND;TZID=America/Detroit:20280203T110000
DTSTAMP:20260425T121727
CREATED:20251003T154421Z
LAST-MODIFIED:20251003T154421Z
UID:10013770-1833188400-1833188400@firststjohn.com
SUMMARY:Adult Bible Study
DESCRIPTION:ADULT BIBLE STUDY\nAdult Bible Study\, led by Pastor Rayl\, will resume on Thursday\, September 18th in the lounge. They will meet every Thursday at 11am. The subject of the study will be determined by the class the first meeting. If you would like more information\, please contact Pastor Rayl (pastor1@firststjohn.com) or by calling the church office: 419-691-7222.
URL:https://firststjohn.com/event/bible-study-5-2/2028-02-03/
CATEGORIES:Christian Education,Featured,Fellowship
ATTACH;FMTTYPE=image/jpeg:https://firststjohn.com/wp-content/uploads/2021/07/img62.jpg
END:VEVENT
BEGIN:VEVENT
DTSTART;TZID=America/Detroit:20280206T091500
DTEND;TZID=America/Detroit:20280206T091500
DTSTAMP:20260425T121727
CREATED:20260402T155549Z
LAST-MODIFIED:20260402T155549Z
UID:10015243-1833441300-1833441300@firststjohn.com
SUMMARY:Adult SS/JAM SS
DESCRIPTION:
URL:https://firststjohn.com/event/adult-ss-jam-ss/2028-02-06/
CATEGORIES:Children,Christian Education,Youth
ATTACH;FMTTYPE=image/jpeg:https://firststjohn.com/wp-content/uploads/2024/02/kids.jpg
END:VEVENT
BEGIN:VEVENT
DTSTART;TZID=America/Detroit:20280210T110000
DTEND;TZID=America/Detroit:20280210T110000
DTSTAMP:20260425T121727
CREATED:20251003T154421Z
LAST-MODIFIED:20251003T154421Z
UID:10013771-1833793200-1833793200@firststjohn.com
SUMMARY:Adult Bible Study
DESCRIPTION:ADULT BIBLE STUDY\nAdult Bible Study\, led by Pastor Rayl\, will resume on Thursday\, September 18th in the lounge. They will meet every Thursday at 11am. The subject of the study will be determined by the class the first meeting. If you would like more information\, please contact Pastor Rayl (pastor1@firststjohn.com) or by calling the church office: 419-691-7222.
URL:https://firststjohn.com/event/bible-study-5-2/2028-02-10/
CATEGORIES:Christian Education,Featured,Fellowship
ATTACH;FMTTYPE=image/jpeg:https://firststjohn.com/wp-content/uploads/2021/07/img62.jpg
END:VEVENT
BEGIN:VEVENT
DTSTART;TZID=America/Detroit:20280213T091500
DTEND;TZID=America/Detroit:20280213T091500
DTSTAMP:20260425T121727
CREATED:20260402T155549Z
LAST-MODIFIED:20260402T155549Z
UID:10015244-1834046100-1834046100@firststjohn.com
SUMMARY:Adult SS/JAM SS
DESCRIPTION:
URL:https://firststjohn.com/event/adult-ss-jam-ss/2028-02-13/
CATEGORIES:Children,Christian Education,Youth
ATTACH;FMTTYPE=image/jpeg:https://firststjohn.com/wp-content/uploads/2024/02/kids.jpg
END:VEVENT
BEGIN:VEVENT
DTSTART;TZID=America/Detroit:20280217T110000
DTEND;TZID=America/Detroit:20280217T110000
DTSTAMP:20260425T121727
CREATED:20251003T154421Z
LAST-MODIFIED:20251003T154421Z
UID:10013772-1834398000-1834398000@firststjohn.com
SUMMARY:Adult Bible Study
DESCRIPTION:ADULT BIBLE STUDY\nAdult Bible Study\, led by Pastor Rayl\, will resume on Thursday\, September 18th in the lounge. They will meet every Thursday at 11am. The subject of the study will be determined by the class the first meeting. If you would like more information\, please contact Pastor Rayl (pastor1@firststjohn.com) or by calling the church office: 419-691-7222.
URL:https://firststjohn.com/event/bible-study-5-2/2028-02-17/
CATEGORIES:Christian Education,Featured,Fellowship
ATTACH;FMTTYPE=image/jpeg:https://firststjohn.com/wp-content/uploads/2021/07/img62.jpg
END:VEVENT
BEGIN:VEVENT
DTSTART;TZID=America/Detroit:20280220T091500
DTEND;TZID=America/Detroit:20280220T091500
DTSTAMP:20260425T121727
CREATED:20260402T155549Z
LAST-MODIFIED:20260402T155549Z
UID:10015245-1834650900-1834650900@firststjohn.com
SUMMARY:Adult SS/JAM SS
DESCRIPTION:
URL:https://firststjohn.com/event/adult-ss-jam-ss/2028-02-20/
CATEGORIES:Children,Christian Education,Youth
ATTACH;FMTTYPE=image/jpeg:https://firststjohn.com/wp-content/uploads/2024/02/kids.jpg
END:VEVENT
BEGIN:VEVENT
DTSTART;TZID=America/Detroit:20280224T110000
DTEND;TZID=America/Detroit:20280224T110000
DTSTAMP:20260425T121727
CREATED:20251003T154421Z
LAST-MODIFIED:20251003T154421Z
UID:10013773-1835002800-1835002800@firststjohn.com
SUMMARY:Adult Bible Study
DESCRIPTION:ADULT BIBLE STUDY\nAdult Bible Study\, led by Pastor Rayl\, will resume on Thursday\, September 18th in the lounge. They will meet every Thursday at 11am. The subject of the study will be determined by the class the first meeting. If you would like more information\, please contact Pastor Rayl (pastor1@firststjohn.com) or by calling the church office: 419-691-7222.
URL:https://firststjohn.com/event/bible-study-5-2/2028-02-24/
CATEGORIES:Christian Education,Featured,Fellowship
ATTACH;FMTTYPE=image/jpeg:https://firststjohn.com/wp-content/uploads/2021/07/img62.jpg
END:VEVENT
BEGIN:VEVENT
DTSTART;TZID=America/Detroit:20280227T091500
DTEND;TZID=America/Detroit:20280227T091500
DTSTAMP:20260425T121727
CREATED:20260402T155549Z
LAST-MODIFIED:20260402T155549Z
UID:10015246-1835255700-1835255700@firststjohn.com
SUMMARY:Adult SS/JAM SS
DESCRIPTION:
URL:https://firststjohn.com/event/adult-ss-jam-ss/2028-02-27/
CATEGORIES:Children,Christian Education,Youth
ATTACH;FMTTYPE=image/jpeg:https://firststjohn.com/wp-content/uploads/2024/02/kids.jpg
END:VEVENT
BEGIN:VEVENT
DTSTART;TZID=America/Detroit:20280302T110000
DTEND;TZID=America/Detroit:20280302T110000
DTSTAMP:20260425T121727
CREATED:20251003T154421Z
LAST-MODIFIED:20251003T154421Z
UID:10013774-1835607600-1835607600@firststjohn.com
SUMMARY:Adult Bible Study
DESCRIPTION:ADULT BIBLE STUDY\nAdult Bible Study\, led by Pastor Rayl\, will resume on Thursday\, September 18th in the lounge. They will meet every Thursday at 11am. The subject of the study will be determined by the class the first meeting. If you would like more information\, please contact Pastor Rayl (pastor1@firststjohn.com) or by calling the church office: 419-691-7222.
URL:https://firststjohn.com/event/bible-study-5-2/2028-03-02/
CATEGORIES:Christian Education,Featured,Fellowship
ATTACH;FMTTYPE=image/jpeg:https://firststjohn.com/wp-content/uploads/2021/07/img62.jpg
END:VEVENT
BEGIN:VEVENT
DTSTART;TZID=America/Detroit:20280305T091500
DTEND;TZID=America/Detroit:20280305T091500
DTSTAMP:20260425T121727
CREATED:20260402T155549Z
LAST-MODIFIED:20260402T155549Z
UID:10015247-1835860500-1835860500@firststjohn.com
SUMMARY:Adult SS/JAM SS
DESCRIPTION:
URL:https://firststjohn.com/event/adult-ss-jam-ss/2028-03-05/
CATEGORIES:Children,Christian Education,Youth
ATTACH;FMTTYPE=image/jpeg:https://firststjohn.com/wp-content/uploads/2024/02/kids.jpg
END:VEVENT
BEGIN:VEVENT
DTSTART;TZID=America/Detroit:20280309T110000
DTEND;TZID=America/Detroit:20280309T110000
DTSTAMP:20260425T121727
CREATED:20251003T154421Z
LAST-MODIFIED:20251003T154421Z
UID:10013775-1836212400-1836212400@firststjohn.com
SUMMARY:Adult Bible Study
DESCRIPTION:ADULT BIBLE STUDY\nAdult Bible Study\, led by Pastor Rayl\, will resume on Thursday\, September 18th in the lounge. They will meet every Thursday at 11am. The subject of the study will be determined by the class the first meeting. If you would like more information\, please contact Pastor Rayl (pastor1@firststjohn.com) or by calling the church office: 419-691-7222.
URL:https://firststjohn.com/event/bible-study-5-2/2028-03-09/
CATEGORIES:Christian Education,Featured,Fellowship
ATTACH;FMTTYPE=image/jpeg:https://firststjohn.com/wp-content/uploads/2021/07/img62.jpg
END:VEVENT
BEGIN:VEVENT
DTSTART;TZID=America/Detroit:20280312T091500
DTEND;TZID=America/Detroit:20280312T091500
DTSTAMP:20260425T121727
CREATED:20260402T155549Z
LAST-MODIFIED:20260402T155549Z
UID:10015248-1836465300-1836465300@firststjohn.com
SUMMARY:Adult SS/JAM SS
DESCRIPTION:
URL:https://firststjohn.com/event/adult-ss-jam-ss/2028-03-12/
CATEGORIES:Children,Christian Education,Youth
ATTACH;FMTTYPE=image/jpeg:https://firststjohn.com/wp-content/uploads/2024/02/kids.jpg
END:VEVENT
BEGIN:VEVENT
DTSTART;TZID=America/Detroit:20280316T110000
DTEND;TZID=America/Detroit:20280316T110000
DTSTAMP:20260425T121727
CREATED:20251003T154421Z
LAST-MODIFIED:20251003T154421Z
UID:10013776-1836817200-1836817200@firststjohn.com
SUMMARY:Adult Bible Study
DESCRIPTION:ADULT BIBLE STUDY\nAdult Bible Study\, led by Pastor Rayl\, will resume on Thursday\, September 18th in the lounge. They will meet every Thursday at 11am. The subject of the study will be determined by the class the first meeting. If you would like more information\, please contact Pastor Rayl (pastor1@firststjohn.com) or by calling the church office: 419-691-7222.
URL:https://firststjohn.com/event/bible-study-5-2/2028-03-16/
CATEGORIES:Christian Education,Featured,Fellowship
ATTACH;FMTTYPE=image/jpeg:https://firststjohn.com/wp-content/uploads/2021/07/img62.jpg
END:VEVENT
BEGIN:VEVENT
DTSTART;TZID=America/Detroit:20280319T091500
DTEND;TZID=America/Detroit:20280319T091500
DTSTAMP:20260425T121727
CREATED:20260402T155549Z
LAST-MODIFIED:20260402T155549Z
UID:10015249-1837070100-1837070100@firststjohn.com
SUMMARY:Adult SS/JAM SS
DESCRIPTION:
URL:https://firststjohn.com/event/adult-ss-jam-ss/2028-03-19/
CATEGORIES:Children,Christian Education,Youth
ATTACH;FMTTYPE=image/jpeg:https://firststjohn.com/wp-content/uploads/2024/02/kids.jpg
END:VEVENT
BEGIN:VEVENT
DTSTART;TZID=America/Detroit:20280323T110000
DTEND;TZID=America/Detroit:20280323T110000
DTSTAMP:20260425T121727
CREATED:20251003T154421Z
LAST-MODIFIED:20251003T154421Z
UID:10013777-1837422000-1837422000@firststjohn.com
SUMMARY:Adult Bible Study
DESCRIPTION:ADULT BIBLE STUDY\nAdult Bible Study\, led by Pastor Rayl\, will resume on Thursday\, September 18th in the lounge. They will meet every Thursday at 11am. The subject of the study will be determined by the class the first meeting. If you would like more information\, please contact Pastor Rayl (pastor1@firststjohn.com) or by calling the church office: 419-691-7222.
URL:https://firststjohn.com/event/bible-study-5-2/2028-03-23/
CATEGORIES:Christian Education,Featured,Fellowship
ATTACH;FMTTYPE=image/jpeg:https://firststjohn.com/wp-content/uploads/2021/07/img62.jpg
END:VEVENT
END:VCALENDAR