BEGIN:VCALENDAR
VERSION:2.0
PRODID:-//First St John - ECPv6.15.20//NONSGML v1.0//EN
CALSCALE:GREGORIAN
METHOD:PUBLISH
X-ORIGINAL-URL:https://firststjohn.com
X-WR-CALDESC:Events for First St John
REFRESH-INTERVAL;VALUE=DURATION:PT1H
X-Robots-Tag:noindex
X-PUBLISHED-TTL:PT1H
BEGIN:VTIMEZONE
TZID:America/New_York
BEGIN:DAYLIGHT
TZOFFSETFROM:-0500
TZOFFSETTO:-0400
TZNAME:EDT
DTSTART:20230312T070000
END:DAYLIGHT
BEGIN:STANDARD
TZOFFSETFROM:-0400
TZOFFSETTO:-0500
TZNAME:EST
DTSTART:20231105T060000
END:STANDARD
BEGIN:DAYLIGHT
TZOFFSETFROM:-0500
TZOFFSETTO:-0400
TZNAME:EDT
DTSTART:20240310T070000
END:DAYLIGHT
BEGIN:STANDARD
TZOFFSETFROM:-0400
TZOFFSETTO:-0500
TZNAME:EST
DTSTART:20241103T060000
END:STANDARD
BEGIN:DAYLIGHT
TZOFFSETFROM:-0500
TZOFFSETTO:-0400
TZNAME:EDT
DTSTART:20250309T070000
END:DAYLIGHT
BEGIN:STANDARD
TZOFFSETFROM:-0400
TZOFFSETTO:-0500
TZNAME:EST
DTSTART:20251102T060000
END:STANDARD
BEGIN:DAYLIGHT
TZOFFSETFROM:-0500
TZOFFSETTO:-0400
TZNAME:EDT
DTSTART:20260308T070000
END:DAYLIGHT
BEGIN:STANDARD
TZOFFSETFROM:-0400
TZOFFSETTO:-0500
TZNAME:EST
DTSTART:20261101T060000
END:STANDARD
END:VTIMEZONE
BEGIN:VEVENT
DTSTART;TZID=America/New_York:20250410T183000
DTEND;TZID=America/New_York:20250410T183000
DTSTAMP:20260423T214315
CREATED:20241201T221240Z
LAST-MODIFIED:20250401T000847Z
UID:10008437-1744309800-1744309800@firststjohn.com
SUMMARY:Choir Rehearsal
DESCRIPTION:JOIN US FOR CHOIR REHEARSAL! Dr Tony has graciously agreed to help in as our choir prepare for the Easter season. Choir practice will take place at 6:30pm. If you have ever considered being part of our choir\, please plan to join us!
URL:https://firststjohn.com/event/choir-practice-2-2-2-2/
LOCATION:Choir Practice
CATEGORIES:Choir,Fellowship
ATTACH;FMTTYPE=image/png:https://firststjohn.com/wp-content/uploads/2024/02/img10.png
END:VEVENT
BEGIN:VEVENT
DTSTART;TZID=America/New_York:20241212T180000
DTEND;TZID=America/New_York:20241212T180000
DTSTAMP:20260423T214315
CREATED:20241201T204231Z
LAST-MODIFIED:20241201T204231Z
UID:10008435-1734026400-1734026400@firststjohn.com
SUMMARY:Choir Rehearsal
DESCRIPTION:JOIN US FOR CHOIR REHEARSAL! Craig Whitaker\, of Craig’s Pianos and Keyboards has graciously agreed to temporarily helping fill in as our choir director as we begin to search for a permanent replacement. Choir practice will take place each Thursday at 6pm unless otherwise noted. If you have ever considered being part of our choir\, please plan to join us!
URL:https://firststjohn.com/event/choir-practice-2-2-2/
LOCATION:Choir Practice
CATEGORIES:Choir,Fellowship
ATTACH;FMTTYPE=image/png:https://firststjohn.com/wp-content/uploads/2024/02/img10.png
END:VEVENT
BEGIN:VEVENT
DTSTART;TZID=America/New_York:20241121T180000
DTEND;TZID=America/New_York:20241121T180000
DTSTAMP:20260423T214315
CREATED:20241001T135751Z
LAST-MODIFIED:20241007T182123Z
UID:10008433-1732212000-1732212000@firststjohn.com
SUMMARY:Choir Rehearsal
DESCRIPTION:JOIN US FOR CHOIR REHEARSAL! Craig Whitaker\, of Craig’s Pianos and Keyboards has graciously agreed to temporarily helping fill in as our choir director as we begin to search for a permanent replacement. Choir practice will take place each Thursday at 6pm unless otherwise noted. If you have ever considered being part of our choir\, please plan to join us!
URL:https://firststjohn.com/event/choir-practice-2-2/2024-11-21/
LOCATION:Choir Practice
CATEGORIES:Choir,Fellowship
ATTACH;FMTTYPE=image/png:https://firststjohn.com/wp-content/uploads/2024/02/img10.png
END:VEVENT
BEGIN:VEVENT
DTSTART;TZID=America/New_York:20241114T180000
DTEND;TZID=America/New_York:20241114T180000
DTSTAMP:20260423T214315
CREATED:20241001T135751Z
LAST-MODIFIED:20241007T182123Z
UID:10008432-1731607200-1731607200@firststjohn.com
SUMMARY:Choir Rehearsal
DESCRIPTION:JOIN US FOR CHOIR REHEARSAL! Craig Whitaker\, of Craig’s Pianos and Keyboards has graciously agreed to temporarily helping fill in as our choir director as we begin to search for a permanent replacement. Choir practice will take place each Thursday at 6pm unless otherwise noted. If you have ever considered being part of our choir\, please plan to join us!
URL:https://firststjohn.com/event/choir-practice-2-2/2024-11-14/
LOCATION:Choir Practice
CATEGORIES:Choir,Fellowship
ATTACH;FMTTYPE=image/png:https://firststjohn.com/wp-content/uploads/2024/02/img10.png
END:VEVENT
BEGIN:VEVENT
DTSTART;TZID=America/New_York:20241107T180000
DTEND;TZID=America/New_York:20241107T180000
DTSTAMP:20260423T214315
CREATED:20241001T135751Z
LAST-MODIFIED:20241007T182123Z
UID:10008431-1731002400-1731002400@firststjohn.com
SUMMARY:Choir Rehearsal
DESCRIPTION:JOIN US FOR CHOIR REHEARSAL! Craig Whitaker\, of Craig’s Pianos and Keyboards has graciously agreed to temporarily helping fill in as our choir director as we begin to search for a permanent replacement. Choir practice will take place each Thursday at 6pm unless otherwise noted. If you have ever considered being part of our choir\, please plan to join us!
URL:https://firststjohn.com/event/choir-practice-2-2/2024-11-07/
LOCATION:Choir Practice
CATEGORIES:Choir,Fellowship
ATTACH;FMTTYPE=image/png:https://firststjohn.com/wp-content/uploads/2024/02/img10.png
END:VEVENT
BEGIN:VEVENT
DTSTART;TZID=America/New_York:20241024T180000
DTEND;TZID=America/New_York:20241024T180000
DTSTAMP:20260423T214315
CREATED:20241001T135751Z
LAST-MODIFIED:20241007T182123Z
UID:10008429-1729792800-1729792800@firststjohn.com
SUMMARY:Choir Rehearsal
DESCRIPTION:JOIN US FOR CHOIR REHEARSAL! Craig Whitaker\, of Craig’s Pianos and Keyboards has graciously agreed to temporarily helping fill in as our choir director as we begin to search for a permanent replacement. Choir practice will take place each Thursday at 6pm unless otherwise noted. If you have ever considered being part of our choir\, please plan to join us!
URL:https://firststjohn.com/event/choir-practice-2-2/2024-10-24/
LOCATION:Choir Practice
CATEGORIES:Choir,Fellowship
ATTACH;FMTTYPE=image/png:https://firststjohn.com/wp-content/uploads/2024/02/img10.png
END:VEVENT
BEGIN:VEVENT
DTSTART;TZID=America/New_York:20241017T180000
DTEND;TZID=America/New_York:20241017T180000
DTSTAMP:20260423T214315
CREATED:20241001T135751Z
LAST-MODIFIED:20241007T182123Z
UID:10008428-1729188000-1729188000@firststjohn.com
SUMMARY:Choir Rehearsal
DESCRIPTION:JOIN US FOR CHOIR REHEARSAL! Craig Whitaker\, of Craig’s Pianos and Keyboards has graciously agreed to temporarily helping fill in as our choir director as we begin to search for a permanent replacement. Choir practice will take place each Thursday at 6pm unless otherwise noted. If you have ever considered being part of our choir\, please plan to join us!
URL:https://firststjohn.com/event/choir-practice-2-2/2024-10-17/
LOCATION:Choir Practice
CATEGORIES:Choir,Fellowship
ATTACH;FMTTYPE=image/png:https://firststjohn.com/wp-content/uploads/2024/02/img10.png
END:VEVENT
BEGIN:VEVENT
DTSTART;TZID=America/New_York:20241010T180000
DTEND;TZID=America/New_York:20241010T180000
DTSTAMP:20260423T214315
CREATED:20241001T135751Z
LAST-MODIFIED:20241007T182123Z
UID:10008427-1728583200-1728583200@firststjohn.com
SUMMARY:Choir Rehearsal
DESCRIPTION:JOIN US FOR CHOIR REHEARSAL! Craig Whitaker\, of Craig’s Pianos and Keyboards has graciously agreed to temporarily helping fill in as our choir director as we begin to search for a permanent replacement. Choir practice will take place each Thursday at 6pm unless otherwise noted. If you have ever considered being part of our choir\, please plan to join us!
URL:https://firststjohn.com/event/choir-practice-2-2/2024-10-10/
LOCATION:Choir Practice
CATEGORIES:Choir,Fellowship
ATTACH;FMTTYPE=image/png:https://firststjohn.com/wp-content/uploads/2024/02/img10.png
END:VEVENT
BEGIN:VEVENT
DTSTART;TZID=America/New_York:20241003T180000
DTEND;TZID=America/New_York:20241003T180000
DTSTAMP:20260423T214315
CREATED:20240923T155548Z
LAST-MODIFIED:20240923T155548Z
UID:10008426-1727978400-1727978400@firststjohn.com
SUMMARY:Choir Practice
DESCRIPTION:
URL:https://firststjohn.com/event/choir-practice-2/
LOCATION:Choir Practice
CATEGORIES:Choir,Fellowship
ATTACH;FMTTYPE=image/png:https://firststjohn.com/wp-content/uploads/2024/02/img10.png
END:VEVENT
BEGIN:VEVENT
DTSTART;TZID=America/New_York:20240926T180000
DTEND;TZID=America/New_York:20240926T180000
DTSTAMP:20260423T214315
CREATED:20240923T155413Z
LAST-MODIFIED:20240923T155413Z
UID:10008425-1727373600-1727373600@firststjohn.com
SUMMARY:Choir Practice
DESCRIPTION:
URL:https://firststjohn.com/event/choir-practice/
LOCATION:Choir Practice
CATEGORIES:Choir,Featured,Fellowship
ATTACH;FMTTYPE=image/png:https://firststjohn.com/wp-content/uploads/2024/02/img10.png
END:VEVENT
BEGIN:VEVENT
DTSTART;TZID=America/New_York:20240530T183000
DTEND;TZID=America/New_York:20240530T183000
DTSTAMP:20260423T214315
CREATED:20240316T202938Z
LAST-MODIFIED:20240318T202739Z
UID:10003447-1717093800-1717093800@firststjohn.com
SUMMARY:Choir Rehearsal
DESCRIPTION:
URL:https://firststjohn.com/event/choir-rehearsal/2024-05-30/
CATEGORIES:Choir
ATTACH;FMTTYPE=image/jpeg:https://firststjohn.com/wp-content/uploads/2024/03/img1.jpg
ORGANIZER;CN="Jennifer Hess":MAILTO:office@firststjohn.com
END:VEVENT
BEGIN:VEVENT
DTSTART;TZID=America/New_York:20240523T183000
DTEND;TZID=America/New_York:20240523T183000
DTSTAMP:20260423T214315
CREATED:20240316T202938Z
LAST-MODIFIED:20240318T202739Z
UID:10003446-1716489000-1716489000@firststjohn.com
SUMMARY:Choir Rehearsal
DESCRIPTION:
URL:https://firststjohn.com/event/choir-rehearsal/2024-05-23/
CATEGORIES:Choir
ATTACH;FMTTYPE=image/jpeg:https://firststjohn.com/wp-content/uploads/2024/03/img1.jpg
ORGANIZER;CN="Jennifer Hess":MAILTO:office@firststjohn.com
END:VEVENT
BEGIN:VEVENT
DTSTART;TZID=America/New_York:20240516T183000
DTEND;TZID=America/New_York:20240516T183000
DTSTAMP:20260423T214315
CREATED:20240316T202938Z
LAST-MODIFIED:20240318T202739Z
UID:10003445-1715884200-1715884200@firststjohn.com
SUMMARY:Choir Rehearsal
DESCRIPTION:
URL:https://firststjohn.com/event/choir-rehearsal/2024-05-16/
CATEGORIES:Choir
ATTACH;FMTTYPE=image/jpeg:https://firststjohn.com/wp-content/uploads/2024/03/img1.jpg
ORGANIZER;CN="Jennifer Hess":MAILTO:office@firststjohn.com
END:VEVENT
BEGIN:VEVENT
DTSTART;TZID=America/New_York:20240509T183000
DTEND;TZID=America/New_York:20240509T183000
DTSTAMP:20260423T214315
CREATED:20240316T202938Z
LAST-MODIFIED:20240318T202739Z
UID:10003444-1715279400-1715279400@firststjohn.com
SUMMARY:Choir Rehearsal
DESCRIPTION:
URL:https://firststjohn.com/event/choir-rehearsal/2024-05-09/
CATEGORIES:Choir
ATTACH;FMTTYPE=image/jpeg:https://firststjohn.com/wp-content/uploads/2024/03/img1.jpg
ORGANIZER;CN="Jennifer Hess":MAILTO:office@firststjohn.com
END:VEVENT
BEGIN:VEVENT
DTSTART;TZID=America/New_York:20240502T183000
DTEND;TZID=America/New_York:20240502T183000
DTSTAMP:20260423T214315
CREATED:20240316T202938Z
LAST-MODIFIED:20240318T202739Z
UID:10003443-1714674600-1714674600@firststjohn.com
SUMMARY:Choir Rehearsal
DESCRIPTION:
URL:https://firststjohn.com/event/choir-rehearsal/2024-05-02/
CATEGORIES:Choir
ATTACH;FMTTYPE=image/jpeg:https://firststjohn.com/wp-content/uploads/2024/03/img1.jpg
ORGANIZER;CN="Jennifer Hess":MAILTO:office@firststjohn.com
END:VEVENT
BEGIN:VEVENT
DTSTART;TZID=America/New_York:20240425T183000
DTEND;TZID=America/New_York:20240425T183000
DTSTAMP:20260423T214315
CREATED:20240316T202938Z
LAST-MODIFIED:20240318T202739Z
UID:10003442-1714069800-1714069800@firststjohn.com
SUMMARY:Choir Rehearsal
DESCRIPTION:
URL:https://firststjohn.com/event/choir-rehearsal/2024-04-25/
CATEGORIES:Choir
ATTACH;FMTTYPE=image/jpeg:https://firststjohn.com/wp-content/uploads/2024/03/img1.jpg
ORGANIZER;CN="Jennifer Hess":MAILTO:office@firststjohn.com
END:VEVENT
BEGIN:VEVENT
DTSTART;TZID=America/New_York:20240418T183000
DTEND;TZID=America/New_York:20240418T183000
DTSTAMP:20260423T214315
CREATED:20240316T202938Z
LAST-MODIFIED:20240318T202739Z
UID:10003441-1713465000-1713465000@firststjohn.com
SUMMARY:Choir Rehearsal
DESCRIPTION:
URL:https://firststjohn.com/event/choir-rehearsal/2024-04-18/
CATEGORIES:Choir
ATTACH;FMTTYPE=image/jpeg:https://firststjohn.com/wp-content/uploads/2024/03/img1.jpg
ORGANIZER;CN="Jennifer Hess":MAILTO:office@firststjohn.com
END:VEVENT
BEGIN:VEVENT
DTSTART;TZID=America/New_York:20240411T183000
DTEND;TZID=America/New_York:20240411T183000
DTSTAMP:20260423T214315
CREATED:20240316T202938Z
LAST-MODIFIED:20240318T202739Z
UID:10003440-1712860200-1712860200@firststjohn.com
SUMMARY:Choir Rehearsal
DESCRIPTION:
URL:https://firststjohn.com/event/choir-rehearsal/2024-04-11/
CATEGORIES:Choir
ATTACH;FMTTYPE=image/jpeg:https://firststjohn.com/wp-content/uploads/2024/03/img1.jpg
ORGANIZER;CN="Jennifer Hess":MAILTO:office@firststjohn.com
END:VEVENT
BEGIN:VEVENT
DTSTART;TZID=America/New_York:20240404T183000
DTEND;TZID=America/New_York:20240404T183000
DTSTAMP:20260423T214315
CREATED:20240316T202938Z
LAST-MODIFIED:20240318T202739Z
UID:10003439-1712255400-1712255400@firststjohn.com
SUMMARY:Choir Rehearsal
DESCRIPTION:
URL:https://firststjohn.com/event/choir-rehearsal/2024-04-04/
CATEGORIES:Choir
ATTACH;FMTTYPE=image/jpeg:https://firststjohn.com/wp-content/uploads/2024/03/img1.jpg
ORGANIZER;CN="Jennifer Hess":MAILTO:office@firststjohn.com
END:VEVENT
BEGIN:VEVENT
DTSTART;TZID=America/New_York:20240325T173000
DTEND;TZID=America/New_York:20240325T173000
DTSTAMP:20260423T214315
CREATED:20240316T191741Z
LAST-MODIFIED:20240318T204834Z
UID:10003176-1711387800-1711387800@firststjohn.com
SUMMARY:Bell Choir
DESCRIPTION:
URL:https://firststjohn.com/event/bell-choir/2024-03-25/
CATEGORIES:Choir
ATTACH;FMTTYPE=image/jpeg:https://firststjohn.com/wp-content/uploads/2024/02/img13.jpg
END:VEVENT
BEGIN:VEVENT
DTSTART;TZID=America/New_York:20240321T183000
DTEND;TZID=America/New_York:20240321T183000
DTSTAMP:20260423T214315
CREATED:20240316T190154Z
LAST-MODIFIED:20240318T232855Z
UID:10002520-1711045800-1711045800@firststjohn.com
SUMMARY:Choir Rehearsal
DESCRIPTION:
URL:https://firststjohn.com/event/choir-rehersal/2024-03-21/
LOCATION:Choir Practice
CATEGORIES:Choir,Fellowship
ATTACH;FMTTYPE=image/jpeg:https://firststjohn.com/wp-content/uploads/2024/03/img1.jpg
END:VEVENT
BEGIN:VEVENT
DTSTART;TZID=America/New_York:20240318T173000
DTEND;TZID=America/New_York:20240318T173000
DTSTAMP:20260423T214315
CREATED:20240316T191741Z
LAST-MODIFIED:20240318T204834Z
UID:10002786-1710783000-1710783000@firststjohn.com
SUMMARY:Bell Choir
DESCRIPTION:
URL:https://firststjohn.com/event/bell-choir/2024-03-18/
CATEGORIES:Choir
ATTACH;FMTTYPE=image/jpeg:https://firststjohn.com/wp-content/uploads/2024/02/img13.jpg
END:VEVENT
BEGIN:VEVENT
DTSTART;TZID=America/New_York:20240314T183000
DTEND;TZID=America/New_York:20240314T183000
DTSTAMP:20260423T214315
CREATED:20240316T190154Z
LAST-MODIFIED:20240318T232855Z
UID:10002519-1710441000-1710441000@firststjohn.com
SUMMARY:Choir Rehearsal
DESCRIPTION:
URL:https://firststjohn.com/event/choir-rehersal/2024-03-14/
LOCATION:Choir Practice
CATEGORIES:Choir,Fellowship
ATTACH;FMTTYPE=image/jpeg:https://firststjohn.com/wp-content/uploads/2024/03/img1.jpg
END:VEVENT
BEGIN:VEVENT
DTSTART;TZID=America/New_York:20240307T183000
DTEND;TZID=America/New_York:20240307T183000
DTSTAMP:20260423T214315
CREATED:20240316T190154Z
LAST-MODIFIED:20240318T232855Z
UID:10002518-1709836200-1709836200@firststjohn.com
SUMMARY:Choir Rehearsal
DESCRIPTION:
URL:https://firststjohn.com/event/choir-rehersal/2024-03-07/
LOCATION:Choir Practice
CATEGORIES:Choir,Fellowship
ATTACH;FMTTYPE=image/jpeg:https://firststjohn.com/wp-content/uploads/2024/03/img1.jpg
END:VEVENT
END:VCALENDAR