BEGIN:VCALENDAR
VERSION:2.0
PRODID:-//First St John - ECPv6.15.20//NONSGML v1.0//EN
CALSCALE:GREGORIAN
METHOD:PUBLISH
X-ORIGINAL-URL:https://firststjohn.com
X-WR-CALDESC:Events for First St John
REFRESH-INTERVAL;VALUE=DURATION:PT1H
X-Robots-Tag:noindex
X-PUBLISHED-TTL:PT1H
BEGIN:VTIMEZONE
TZID:America/New_York
BEGIN:DAYLIGHT
TZOFFSETFROM:-0500
TZOFFSETTO:-0400
TZNAME:EDT
DTSTART:20230312T070000
END:DAYLIGHT
BEGIN:STANDARD
TZOFFSETFROM:-0400
TZOFFSETTO:-0500
TZNAME:EST
DTSTART:20231105T060000
END:STANDARD
BEGIN:DAYLIGHT
TZOFFSETFROM:-0500
TZOFFSETTO:-0400
TZNAME:EDT
DTSTART:20240310T070000
END:DAYLIGHT
BEGIN:STANDARD
TZOFFSETFROM:-0400
TZOFFSETTO:-0500
TZNAME:EST
DTSTART:20241103T060000
END:STANDARD
BEGIN:DAYLIGHT
TZOFFSETFROM:-0500
TZOFFSETTO:-0400
TZNAME:EDT
DTSTART:20250309T070000
END:DAYLIGHT
BEGIN:STANDARD
TZOFFSETFROM:-0400
TZOFFSETTO:-0500
TZNAME:EST
DTSTART:20251102T060000
END:STANDARD
END:VTIMEZONE
BEGIN:VEVENT
DTSTART;TZID=America/New_York:20240722T171500
DTEND;TZID=America/New_York:20240722T200000
DTSTAMP:20260425T144754
CREATED:20240722T153050Z
LAST-MODIFIED:20240722T153229Z
UID:10006358-1721668500-1721678400@firststjohn.com
SUMMARY:Vacation Bible School -
DESCRIPTION:Join us for VBS here at church starting Monday\, July 22nd and running through Thursday\, July 25th from 6:00 to 8:30 pm. Our theme this year is ‘SCUBA: diving into friendship with God’.” NOTE: We will serve a light supper beginning at 5:15 pm each night in our gym (optional)\, so come for dinner and stay for VBS! \nYou can register online through the church’s Facebook page. This link was emailed to members at the end of May: You also can call the church office at 419-691-7222 to speak to Jennifer about registration. Vacation Bible School is for children ages 3 through going into 5th grade. Youth ages 6th grade and over are welcome to help! \nOur leaders this year are Jeff and Jennifer Hess! Everyone is needed! Please pray about how you might help prepare or volunteer during VBS. To volunteer\, call the church office or contact Jennifer (office@firststjohn.com).
URL:https://firststjohn.com/event/vacation-bible-school/2024-07-22/
CATEGORIES:Children,Christian Education,Youth
ATTACH;FMTTYPE=image/png:https://firststjohn.com/wp-content/uploads/2024/06/VBS4.png
ORGANIZER;CN="Jennifer Hess":MAILTO:office@firststjohn.com
END:VEVENT
BEGIN:VEVENT
DTSTART;TZID=America/New_York:20240721T090000
DTEND;TZID=America/New_York:20240721T090000
DTSTAMP:20260425T144754
CREATED:20240601T230838Z
LAST-MODIFIED:20240601T233852Z
UID:10005981-1721552400-1721552400@firststjohn.com
SUMMARY:Worship/Comm
DESCRIPTION:WE ARE ON OUR SUMMER WORSHIP SCHEDULE. NOW UNTIL LABOR DAY THERE WILL BE ONLY ONE WORSHIP SERVICE AT 9:00 AM\, WITH HOLY COMMUNION CELEBRATED EACH WEEK.
URL:https://firststjohn.com/event/early-worship-service-3-2/2024-07-21/
LOCATION:Sanctuary\, 2471 Seaman St\, Toledo\, OH\, 43605\, United States
CATEGORIES:Children,Elders,Worship,Youth
ATTACH;FMTTYPE=image/jpeg:https://firststjohn.com/wp-content/uploads/2024/02/wine-and-bread.jpg
END:VEVENT
BEGIN:VEVENT
DTSTART;TZID=America/New_York:20240714T090000
DTEND;TZID=America/New_York:20240714T090000
DTSTAMP:20260425T144754
CREATED:20240601T230838Z
LAST-MODIFIED:20240601T233852Z
UID:10005980-1720947600-1720947600@firststjohn.com
SUMMARY:Worship/Comm
DESCRIPTION:WE ARE ON OUR SUMMER WORSHIP SCHEDULE. NOW UNTIL LABOR DAY THERE WILL BE ONLY ONE WORSHIP SERVICE AT 9:00 AM\, WITH HOLY COMMUNION CELEBRATED EACH WEEK.
URL:https://firststjohn.com/event/early-worship-service-3-2/2024-07-14/
LOCATION:Sanctuary\, 2471 Seaman St\, Toledo\, OH\, 43605\, United States
CATEGORIES:Children,Elders,Worship,Youth
ATTACH;FMTTYPE=image/jpeg:https://firststjohn.com/wp-content/uploads/2024/02/wine-and-bread.jpg
END:VEVENT
BEGIN:VEVENT
DTSTART;TZID=America/New_York:20240707T090000
DTEND;TZID=America/New_York:20240707T090000
DTSTAMP:20260425T144754
CREATED:20240601T230838Z
LAST-MODIFIED:20240601T233852Z
UID:10005979-1720342800-1720342800@firststjohn.com
SUMMARY:Worship/Comm
DESCRIPTION:WE ARE ON OUR SUMMER WORSHIP SCHEDULE. NOW UNTIL LABOR DAY THERE WILL BE ONLY ONE WORSHIP SERVICE AT 9:00 AM\, WITH HOLY COMMUNION CELEBRATED EACH WEEK.
URL:https://firststjohn.com/event/early-worship-service-3-2/2024-07-07/
LOCATION:Sanctuary\, 2471 Seaman St\, Toledo\, OH\, 43605\, United States
CATEGORIES:Children,Elders,Worship,Youth
ATTACH;FMTTYPE=image/jpeg:https://firststjohn.com/wp-content/uploads/2024/02/wine-and-bread.jpg
END:VEVENT
BEGIN:VEVENT
DTSTART;TZID=America/New_York:20240630T090000
DTEND;TZID=America/New_York:20240630T090000
DTSTAMP:20260425T144754
CREATED:20240601T230838Z
LAST-MODIFIED:20240601T233852Z
UID:10005978-1719738000-1719738000@firststjohn.com
SUMMARY:Worship/Comm
DESCRIPTION:WE ARE ON OUR SUMMER WORSHIP SCHEDULE. NOW UNTIL LABOR DAY THERE WILL BE ONLY ONE WORSHIP SERVICE AT 9:00 AM\, WITH HOLY COMMUNION CELEBRATED EACH WEEK.
URL:https://firststjohn.com/event/early-worship-service-3-2/2024-06-30/
LOCATION:Sanctuary\, 2471 Seaman St\, Toledo\, OH\, 43605\, United States
CATEGORIES:Children,Elders,Worship,Youth
ATTACH;FMTTYPE=image/jpeg:https://firststjohn.com/wp-content/uploads/2024/02/wine-and-bread.jpg
END:VEVENT
BEGIN:VEVENT
DTSTART;TZID=America/New_York:20240623T090000
DTEND;TZID=America/New_York:20240623T090000
DTSTAMP:20260425T144754
CREATED:20240601T230838Z
LAST-MODIFIED:20240601T233852Z
UID:10005977-1719133200-1719133200@firststjohn.com
SUMMARY:Worship/Comm
DESCRIPTION:WE ARE ON OUR SUMMER WORSHIP SCHEDULE. NOW UNTIL LABOR DAY THERE WILL BE ONLY ONE WORSHIP SERVICE AT 9:00 AM\, WITH HOLY COMMUNION CELEBRATED EACH WEEK.
URL:https://firststjohn.com/event/early-worship-service-3-2/2024-06-23/
LOCATION:Sanctuary\, 2471 Seaman St\, Toledo\, OH\, 43605\, United States
CATEGORIES:Children,Elders,Worship,Youth
ATTACH;FMTTYPE=image/jpeg:https://firststjohn.com/wp-content/uploads/2024/02/wine-and-bread.jpg
END:VEVENT
BEGIN:VEVENT
DTSTART;TZID=America/New_York:20240616T090000
DTEND;TZID=America/New_York:20240616T090000
DTSTAMP:20260425T144754
CREATED:20240601T230838Z
LAST-MODIFIED:20240601T233852Z
UID:10005976-1718528400-1718528400@firststjohn.com
SUMMARY:Worship/Comm
DESCRIPTION:WE ARE ON OUR SUMMER WORSHIP SCHEDULE. NOW UNTIL LABOR DAY THERE WILL BE ONLY ONE WORSHIP SERVICE AT 9:00 AM\, WITH HOLY COMMUNION CELEBRATED EACH WEEK.
URL:https://firststjohn.com/event/early-worship-service-3-2/2024-06-16/
LOCATION:Sanctuary\, 2471 Seaman St\, Toledo\, OH\, 43605\, United States
CATEGORIES:Children,Elders,Worship,Youth
ATTACH;FMTTYPE=image/jpeg:https://firststjohn.com/wp-content/uploads/2024/02/wine-and-bread.jpg
END:VEVENT
BEGIN:VEVENT
DTSTART;TZID=America/New_York:20240609T090000
DTEND;TZID=America/New_York:20240609T090000
DTSTAMP:20260425T144754
CREATED:20240601T230838Z
LAST-MODIFIED:20240601T233852Z
UID:10005975-1717923600-1717923600@firststjohn.com
SUMMARY:Worship/Comm
DESCRIPTION:WE ARE ON OUR SUMMER WORSHIP SCHEDULE. NOW UNTIL LABOR DAY THERE WILL BE ONLY ONE WORSHIP SERVICE AT 9:00 AM\, WITH HOLY COMMUNION CELEBRATED EACH WEEK.
URL:https://firststjohn.com/event/early-worship-service-3-2/2024-06-09/
LOCATION:Sanctuary\, 2471 Seaman St\, Toledo\, OH\, 43605\, United States
CATEGORIES:Children,Elders,Worship,Youth
ATTACH;FMTTYPE=image/jpeg:https://firststjohn.com/wp-content/uploads/2024/02/wine-and-bread.jpg
END:VEVENT
BEGIN:VEVENT
DTSTART;TZID=America/New_York:20240602T090000
DTEND;TZID=America/New_York:20240602T090000
DTSTAMP:20260425T144754
CREATED:20240601T230838Z
LAST-MODIFIED:20240601T233852Z
UID:10003981-1717318800-1717318800@firststjohn.com
SUMMARY:Worship/Comm
DESCRIPTION:WE ARE ON OUR SUMMER WORSHIP SCHEDULE. NOW UNTIL LABOR DAY THERE WILL BE ONLY ONE WORSHIP SERVICE AT 9:00 AM\, WITH HOLY COMMUNION CELEBRATED EACH WEEK.
URL:https://firststjohn.com/event/early-worship-service-3-2/2024-06-02/
LOCATION:Sanctuary\, 2471 Seaman St\, Toledo\, OH\, 43605\, United States
CATEGORIES:Children,Elders,Worship,Youth
ATTACH;FMTTYPE=image/jpeg:https://firststjohn.com/wp-content/uploads/2024/02/wine-and-bread.jpg
END:VEVENT
BEGIN:VEVENT
DTSTART;VALUE=DATE:20240528
DTEND;VALUE=DATE:20240529
DTSTAMP:20260425T144754
CREATED:20240504T153838Z
LAST-MODIFIED:20240504T153838Z
UID:10005909-1716854400-1716940799@firststjohn.com
SUMMARY:Day School Summer Program Begins
DESCRIPTION:
URL:https://firststjohn.com/event/day-school-summer-program-begins/
CATEGORIES:Children,Christian Education,Youth
ATTACH;FMTTYPE=image/jpeg:https://firststjohn.com/wp-content/uploads/2024/03/Dayschool-Open-House.jpg
ORGANIZER;CN="Jennifer Hess":MAILTO:office@firststjohn.com
END:VEVENT
BEGIN:VEVENT
DTSTART;TZID=America/New_York:20240519T103000
DTEND;TZID=America/New_York:20240519T103000
DTSTAMP:20260425T144754
CREATED:20240504T152330Z
LAST-MODIFIED:20240504T152330Z
UID:10004109-1716114600-1716114600@firststjohn.com
SUMMARY:Worship/Comm/Confirmation
DESCRIPTION:
URL:https://firststjohn.com/event/worship-service-2-2/
CATEGORIES:Children,Christian Education,Elders,Worship,Youth
ATTACH;FMTTYPE=image/jpeg:https://firststjohn.com/wp-content/uploads/2024/02/wine-and-bread.jpg
END:VEVENT
BEGIN:VEVENT
DTSTART;TZID=America/New_York:20240519T091500
DTEND;TZID=America/New_York:20240519T091500
DTSTAMP:20260425T144754
CREATED:20240316T215356Z
LAST-MODIFIED:20240402T232324Z
UID:10005275-1716110100-1716110100@firststjohn.com
SUMMARY:J.A.M. Sunday School
DESCRIPTION:From the Sunday after Labor Day until Memorial Day we Have Two Worship Service Times each Sunday\,  8:00 AM and 10:30 AM with J.A.M. (Sunday School) at 9:15
URL:https://firststjohn.com/event/j-a-m-sunday-school-2/2024-05-19/
CATEGORIES:Children,Christian Education
ATTACH;FMTTYPE=image/jpeg:https://firststjohn.com/wp-content/uploads/2024/02/kids-on-bridge.jpg
END:VEVENT
BEGIN:VEVENT
DTSTART;TZID=America/New_York:20240519T080000
DTEND;TZID=America/New_York:20240519T080000
DTSTAMP:20260425T144754
CREATED:20240316T213922Z
LAST-MODIFIED:20240316T213922Z
UID:10003980-1716105600-1716105600@firststjohn.com
SUMMARY:Worship/Comm
DESCRIPTION:From the Sunday after Labor Day until Memorial Day we Have Two Worship Service Times each Sunday\,  8:00 AM and 10:30 AM with J.A.M. (Sunday School) at 9:15
URL:https://firststjohn.com/event/early-worship-service-3/2024-05-19/
LOCATION:Sanctuary\, 2471 Seaman St\, Toledo\, OH\, 43605\, United States
CATEGORIES:Children,Elders,Worship,Youth
ATTACH;FMTTYPE=image/jpeg:https://firststjohn.com/wp-content/uploads/2024/02/wine-and-bread.jpg
END:VEVENT
BEGIN:VEVENT
DTSTART;TZID=America/New_York:20240512T103000
DTEND;TZID=America/New_York:20240512T103000
DTSTAMP:20260425T144754
CREATED:20240316T214537Z
LAST-MODIFIED:20240316T214537Z
UID:10004366-1715509800-1715509800@firststjohn.com
SUMMARY:Worship/Comm
DESCRIPTION:From the Sunday after Labor Day until Memorial Day we Have Two Worship Service Times each Sunday\,  8:00 AM and 10:30 AM with J.A.M. (Sunday School) at 9:15
URL:https://firststjohn.com/event/late-worship-service-3/2024-05-12/
CATEGORIES:Children,Elders,Worship,Youth
ATTACH;FMTTYPE=image/jpeg:https://firststjohn.com/wp-content/uploads/2024/02/wine-and-bread.jpg
END:VEVENT
BEGIN:VEVENT
DTSTART;TZID=America/New_York:20240512T091500
DTEND;TZID=America/New_York:20240512T091500
DTSTAMP:20260425T144754
CREATED:20240316T215356Z
LAST-MODIFIED:20240402T232324Z
UID:10005274-1715505300-1715505300@firststjohn.com
SUMMARY:J.A.M. Sunday School
DESCRIPTION:From the Sunday after Labor Day until Memorial Day we Have Two Worship Service Times each Sunday\,  8:00 AM and 10:30 AM with J.A.M. (Sunday School) at 9:15
URL:https://firststjohn.com/event/j-a-m-sunday-school-2/2024-05-12/
CATEGORIES:Children,Christian Education
ATTACH;FMTTYPE=image/jpeg:https://firststjohn.com/wp-content/uploads/2024/02/kids-on-bridge.jpg
END:VEVENT
BEGIN:VEVENT
DTSTART;VALUE=DATE:20240512
DTEND;VALUE=DATE:20240513
DTSTAMP:20260425T144754
CREATED:20240504T151057Z
LAST-MODIFIED:20240504T151057Z
UID:10005736-1715472000-1715558399@firststjohn.com
SUMMARY:JAM Singers
DESCRIPTION:
URL:https://firststjohn.com/event/jam-singers/
CATEGORIES:Children,Christian Education,Worship
ATTACH;FMTTYPE=image/jpeg:https://firststjohn.com/wp-content/uploads/2024/03/PIANO.jpg
ORGANIZER;CN="Jennifer Hess":MAILTO:office@firststjohn.com
END:VEVENT
BEGIN:VEVENT
DTSTART;TZID=America/New_York:20240505T091500
DTEND;TZID=America/New_York:20240505T091500
DTSTAMP:20260425T144754
CREATED:20240316T215356Z
LAST-MODIFIED:20240402T232324Z
UID:10005273-1714900500-1714900500@firststjohn.com
SUMMARY:J.A.M. Sunday School
DESCRIPTION:From the Sunday after Labor Day until Memorial Day we Have Two Worship Service Times each Sunday\,  8:00 AM and 10:30 AM with J.A.M. (Sunday School) at 9:15
URL:https://firststjohn.com/event/j-a-m-sunday-school-2/2024-05-05/
CATEGORIES:Children,Christian Education
ATTACH;FMTTYPE=image/jpeg:https://firststjohn.com/wp-content/uploads/2024/02/kids-on-bridge.jpg
END:VEVENT
BEGIN:VEVENT
DTSTART;TZID=America/New_York:20240505T080000
DTEND;TZID=America/New_York:20240505T080000
DTSTAMP:20260425T144754
CREATED:20240316T213922Z
LAST-MODIFIED:20240316T213922Z
UID:10003979-1714896000-1714896000@firststjohn.com
SUMMARY:Worship/Comm
DESCRIPTION:From the Sunday after Labor Day until Memorial Day we Have Two Worship Service Times each Sunday\,  8:00 AM and 10:30 AM with J.A.M. (Sunday School) at 9:15
URL:https://firststjohn.com/event/early-worship-service-3/2024-05-05/
LOCATION:Sanctuary\, 2471 Seaman St\, Toledo\, OH\, 43605\, United States
CATEGORIES:Children,Elders,Worship,Youth
ATTACH;FMTTYPE=image/jpeg:https://firststjohn.com/wp-content/uploads/2024/02/wine-and-bread.jpg
END:VEVENT
BEGIN:VEVENT
DTSTART;VALUE=DATE:20240504
DTEND;VALUE=DATE:20240505
DTSTAMP:20260425T144754
CREATED:20240504T145654Z
LAST-MODIFIED:20240504T145654Z
UID:10005724-1714780800-1714867199@firststjohn.com
SUMMARY:DAY SCHOOL CARNIVAL
DESCRIPTION:
URL:https://firststjohn.com/event/day-school-carnival/
CATEGORIES:Children,Christian Education,Dayschool
ORGANIZER;CN="Jennifer Hess":MAILTO:office@firststjohn.com
END:VEVENT
BEGIN:VEVENT
DTSTART;TZID=America/New_York:20240428T103000
DTEND;TZID=America/New_York:20240428T103000
DTSTAMP:20260425T144754
CREATED:20240402T234918Z
LAST-MODIFIED:20240504T150031Z
UID:10004365-1714300200-1714300200@firststjohn.com
SUMMARY:Worship/Comm/Baptism
DESCRIPTION:From the Sunday after Labor Day until Memorial Day we Have Two Worship Service Times each Sunday\,  8:00 AM and 10:30 AM with J.A.M. (Sunday School) at 9:15
URL:https://firststjohn.com/event/late-worship-service-3-2/
CATEGORIES:Children,Elders,Worship,Youth
ATTACH;FMTTYPE=image/jpeg:https://firststjohn.com/wp-content/uploads/2024/02/wine-and-bread.jpg
END:VEVENT
BEGIN:VEVENT
DTSTART;TZID=America/New_York:20240428T091500
DTEND;TZID=America/New_York:20240428T091500
DTSTAMP:20260425T144754
CREATED:20240316T215356Z
LAST-MODIFIED:20240402T232324Z
UID:10005272-1714295700-1714295700@firststjohn.com
SUMMARY:J.A.M. Sunday School
DESCRIPTION:From the Sunday after Labor Day until Memorial Day we Have Two Worship Service Times each Sunday\,  8:00 AM and 10:30 AM with J.A.M. (Sunday School) at 9:15
URL:https://firststjohn.com/event/j-a-m-sunday-school-2/2024-04-28/
CATEGORIES:Children,Christian Education
ATTACH;FMTTYPE=image/jpeg:https://firststjohn.com/wp-content/uploads/2024/02/kids-on-bridge.jpg
END:VEVENT
BEGIN:VEVENT
DTSTART;TZID=America/New_York:20240421T091500
DTEND;TZID=America/New_York:20240421T091500
DTSTAMP:20260425T144754
CREATED:20240316T215356Z
LAST-MODIFIED:20240402T232324Z
UID:10005271-1713690900-1713690900@firststjohn.com
SUMMARY:J.A.M. Sunday School
DESCRIPTION:From the Sunday after Labor Day until Memorial Day we Have Two Worship Service Times each Sunday\,  8:00 AM and 10:30 AM with J.A.M. (Sunday School) at 9:15
URL:https://firststjohn.com/event/j-a-m-sunday-school-2/2024-04-21/
CATEGORIES:Children,Christian Education
ATTACH;FMTTYPE=image/jpeg:https://firststjohn.com/wp-content/uploads/2024/02/kids-on-bridge.jpg
END:VEVENT
BEGIN:VEVENT
DTSTART;TZID=America/New_York:20240421T080000
DTEND;TZID=America/New_York:20240421T080000
DTSTAMP:20260425T144754
CREATED:20240316T213922Z
LAST-MODIFIED:20240316T213922Z
UID:10003978-1713686400-1713686400@firststjohn.com
SUMMARY:Worship/Comm
DESCRIPTION:From the Sunday after Labor Day until Memorial Day we Have Two Worship Service Times each Sunday\,  8:00 AM and 10:30 AM with J.A.M. (Sunday School) at 9:15
URL:https://firststjohn.com/event/early-worship-service-3/2024-04-21/
LOCATION:Sanctuary\, 2471 Seaman St\, Toledo\, OH\, 43605\, United States
CATEGORIES:Children,Elders,Worship,Youth
ATTACH;FMTTYPE=image/jpeg:https://firststjohn.com/wp-content/uploads/2024/02/wine-and-bread.jpg
END:VEVENT
BEGIN:VEVENT
DTSTART;TZID=America/New_York:20240414T103000
DTEND;TZID=America/New_York:20240414T103000
DTSTAMP:20260425T144754
CREATED:20240316T214537Z
LAST-MODIFIED:20240316T214537Z
UID:10004364-1713090600-1713090600@firststjohn.com
SUMMARY:Worship/Comm
DESCRIPTION:From the Sunday after Labor Day until Memorial Day we Have Two Worship Service Times each Sunday\,  8:00 AM and 10:30 AM with J.A.M. (Sunday School) at 9:15
URL:https://firststjohn.com/event/late-worship-service-3/2024-04-14/
CATEGORIES:Children,Elders,Worship,Youth
ATTACH;FMTTYPE=image/jpeg:https://firststjohn.com/wp-content/uploads/2024/02/wine-and-bread.jpg
END:VEVENT
BEGIN:VEVENT
DTSTART;TZID=America/New_York:20240414T091500
DTEND;TZID=America/New_York:20240414T091500
DTSTAMP:20260425T144754
CREATED:20240316T215356Z
LAST-MODIFIED:20240402T232324Z
UID:10005270-1713086100-1713086100@firststjohn.com
SUMMARY:J.A.M. Sunday School
DESCRIPTION:From the Sunday after Labor Day until Memorial Day we Have Two Worship Service Times each Sunday\,  8:00 AM and 10:30 AM with J.A.M. (Sunday School) at 9:15
URL:https://firststjohn.com/event/j-a-m-sunday-school-2/2024-04-14/
CATEGORIES:Children,Christian Education
ATTACH;FMTTYPE=image/jpeg:https://firststjohn.com/wp-content/uploads/2024/02/kids-on-bridge.jpg
END:VEVENT
BEGIN:VEVENT
DTSTART;TZID=America/New_York:20240407T114500
DTEND;TZID=America/New_York:20240407T124500
DTSTAMP:20260425T144754
CREATED:20240402T232809Z
LAST-MODIFIED:20240402T232809Z
UID:10005650-1712490300-1712493900@firststjohn.com
SUMMARY:2nd Yr. Cat.
DESCRIPTION:
URL:https://firststjohn.com/event/2nd-yr-cat/
CATEGORIES:Children,Christian Education,Youth
ORGANIZER;CN="Jennifer Hess":MAILTO:office@firststjohn.com
END:VEVENT
BEGIN:VEVENT
DTSTART;TZID=America/New_York:20240407T091500
DTEND;TZID=America/New_York:20240407T091500
DTSTAMP:20260425T144754
CREATED:20240316T215356Z
LAST-MODIFIED:20240402T232324Z
UID:10005269-1712481300-1712481300@firststjohn.com
SUMMARY:J.A.M. Sunday School
DESCRIPTION:From the Sunday after Labor Day until Memorial Day we Have Two Worship Service Times each Sunday\,  8:00 AM and 10:30 AM with J.A.M. (Sunday School) at 9:15
URL:https://firststjohn.com/event/j-a-m-sunday-school-2/2024-04-07/
CATEGORIES:Children,Christian Education
ATTACH;FMTTYPE=image/jpeg:https://firststjohn.com/wp-content/uploads/2024/02/kids-on-bridge.jpg
END:VEVENT
BEGIN:VEVENT
DTSTART;TZID=America/New_York:20240407T080000
DTEND;TZID=America/New_York:20240407T080000
DTSTAMP:20260425T144754
CREATED:20240316T213922Z
LAST-MODIFIED:20240316T213922Z
UID:10003977-1712476800-1712476800@firststjohn.com
SUMMARY:Worship/Comm
DESCRIPTION:From the Sunday after Labor Day until Memorial Day we Have Two Worship Service Times each Sunday\,  8:00 AM and 10:30 AM with J.A.M. (Sunday School) at 9:15
URL:https://firststjohn.com/event/early-worship-service-3/2024-04-07/
LOCATION:Sanctuary\, 2471 Seaman St\, Toledo\, OH\, 43605\, United States
CATEGORIES:Children,Elders,Worship,Youth
ATTACH;FMTTYPE=image/jpeg:https://firststjohn.com/wp-content/uploads/2024/02/wine-and-bread.jpg
END:VEVENT
BEGIN:VEVENT
DTSTART;TZID=America/New_York:20240324T103000
DTEND;TZID=America/New_York:20240324T103000
DTSTAMP:20260425T144754
CREATED:20240223T102710Z
LAST-MODIFIED:20240316T213418Z
UID:10000528-1711276200-1711276200@firststjohn.com
SUMMARY:Worship/Comm
DESCRIPTION:From the Sunday after Labor Day until Memorial Day we Have Two Worship Service Times each Sunday\,  8:00 AM and 10:30 AM with J.A.M. (Sunday School) at 9:15
URL:https://firststjohn.com/event/late-worship-service/2024-03-24/
LOCATION:Sanctuary\, 2471 Seaman St\, Toledo\, OH\, 43605\, United States
CATEGORIES:Children,Elders,Worship,Youth
ATTACH;FMTTYPE=image/jpeg:https://firststjohn.com/wp-content/uploads/2024/02/wine-and-bread.jpg
END:VEVENT
BEGIN:VEVENT
DTSTART;TZID=America/New_York:20240324T091500
DTEND;TZID=America/New_York:20240324T091500
DTSTAMP:20260425T144754
CREATED:20240223T103849Z
LAST-MODIFIED:20240316T205156Z
UID:10000792-1711271700-1711271700@firststjohn.com
SUMMARY:J.A.M. Sunday School
DESCRIPTION:From the Sunday after Labor Day until Memorial Day we Have Two Worship Service Times each Sunday\,  8:00 AM and 10:30 AM with J.A.M. (Sunday School) at 9:15
URL:https://firststjohn.com/event/j-a-m-sunday-school/2024-03-24/
LOCATION:Children’s SS classroom
CATEGORIES:Children,Christian Education
ATTACH;FMTTYPE=image/jpeg:https://firststjohn.com/wp-content/uploads/2024/02/kids-on-bridge.jpg
END:VEVENT
END:VCALENDAR