BEGIN:VCALENDAR
VERSION:2.0
PRODID:-//First St John - ECPv6.15.20//NONSGML v1.0//EN
CALSCALE:GREGORIAN
METHOD:PUBLISH
X-WR-CALNAME:First St John
X-ORIGINAL-URL:https://firststjohn.com
X-WR-CALDESC:Events for First St John
REFRESH-INTERVAL;VALUE=DURATION:PT1H
X-Robots-Tag:noindex
X-PUBLISHED-TTL:PT1H
BEGIN:VTIMEZONE
TZID:America/Detroit
BEGIN:DAYLIGHT
TZOFFSETFROM:-0500
TZOFFSETTO:-0400
TZNAME:EDT
DTSTART:20270314T070000
END:DAYLIGHT
BEGIN:STANDARD
TZOFFSETFROM:-0400
TZOFFSETTO:-0500
TZNAME:EST
DTSTART:20271107T060000
END:STANDARD
BEGIN:DAYLIGHT
TZOFFSETFROM:-0500
TZOFFSETTO:-0400
TZNAME:EDT
DTSTART:20280312T070000
END:DAYLIGHT
BEGIN:STANDARD
TZOFFSETFROM:-0400
TZOFFSETTO:-0500
TZNAME:EST
DTSTART:20281105T060000
END:STANDARD
BEGIN:DAYLIGHT
TZOFFSETFROM:-0500
TZOFFSETTO:-0400
TZNAME:EDT
DTSTART:20290311T070000
END:DAYLIGHT
BEGIN:STANDARD
TZOFFSETFROM:-0400
TZOFFSETTO:-0500
TZNAME:EST
DTSTART:20291104T060000
END:STANDARD
BEGIN:DAYLIGHT
TZOFFSETFROM:-0500
TZOFFSETTO:-0400
TZNAME:EDT
DTSTART:20300310T070000
END:DAYLIGHT
BEGIN:STANDARD
TZOFFSETFROM:-0400
TZOFFSETTO:-0500
TZNAME:EST
DTSTART:20301103T060000
END:STANDARD
END:VTIMEZONE
BEGIN:VEVENT
DTSTART;TZID=America/Detroit:20280703T173000
DTEND;TZID=America/Detroit:20280703T173000
DTSTAMP:20260425T120933
CREATED:20250908T170450Z
LAST-MODIFIED:20250908T170450Z
UID:10013527-1846258200-1846258200@firststjohn.com
SUMMARY:Bell Choir
DESCRIPTION:FIRST ST. JOHN BELL CHOIR\nOur fabulous Bell Choir is looking for people to join us starting Sept. 15h in the church at 5:30 pm. We will give you instructions on how to hold and ring the bell. Come and give it a try! Contact Cheri  Sergent for any questions at (419) 410-3572.
URL:https://firststjohn.com/event/bell-choir-4/2028-07-03/
CATEGORIES:Bell Choir,Featured
ATTACH;FMTTYPE=image/jpeg:https://firststjohn.com/wp-content/uploads/2024/03/IMG_1561-scaled.jpeg
END:VEVENT
BEGIN:VEVENT
DTSTART;TZID=America/Detroit:20280710T173000
DTEND;TZID=America/Detroit:20280710T173000
DTSTAMP:20260425T120933
CREATED:20250908T170450Z
LAST-MODIFIED:20250908T170450Z
UID:10013528-1846863000-1846863000@firststjohn.com
SUMMARY:Bell Choir
DESCRIPTION:FIRST ST. JOHN BELL CHOIR\nOur fabulous Bell Choir is looking for people to join us starting Sept. 15h in the church at 5:30 pm. We will give you instructions on how to hold and ring the bell. Come and give it a try! Contact Cheri  Sergent for any questions at (419) 410-3572.
URL:https://firststjohn.com/event/bell-choir-4/2028-07-10/
CATEGORIES:Bell Choir,Featured
ATTACH;FMTTYPE=image/jpeg:https://firststjohn.com/wp-content/uploads/2024/03/IMG_1561-scaled.jpeg
END:VEVENT
BEGIN:VEVENT
DTSTART;TZID=America/Detroit:20280717T173000
DTEND;TZID=America/Detroit:20280717T173000
DTSTAMP:20260425T120933
CREATED:20250908T170450Z
LAST-MODIFIED:20250908T170450Z
UID:10013529-1847467800-1847467800@firststjohn.com
SUMMARY:Bell Choir
DESCRIPTION:FIRST ST. JOHN BELL CHOIR\nOur fabulous Bell Choir is looking for people to join us starting Sept. 15h in the church at 5:30 pm. We will give you instructions on how to hold and ring the bell. Come and give it a try! Contact Cheri  Sergent for any questions at (419) 410-3572.
URL:https://firststjohn.com/event/bell-choir-4/2028-07-17/
CATEGORIES:Bell Choir,Featured
ATTACH;FMTTYPE=image/jpeg:https://firststjohn.com/wp-content/uploads/2024/03/IMG_1561-scaled.jpeg
END:VEVENT
BEGIN:VEVENT
DTSTART;TZID=America/Detroit:20280724T173000
DTEND;TZID=America/Detroit:20280724T173000
DTSTAMP:20260425T120933
CREATED:20250908T170450Z
LAST-MODIFIED:20250908T170450Z
UID:10013530-1848072600-1848072600@firststjohn.com
SUMMARY:Bell Choir
DESCRIPTION:FIRST ST. JOHN BELL CHOIR\nOur fabulous Bell Choir is looking for people to join us starting Sept. 15h in the church at 5:30 pm. We will give you instructions on how to hold and ring the bell. Come and give it a try! Contact Cheri  Sergent for any questions at (419) 410-3572.
URL:https://firststjohn.com/event/bell-choir-4/2028-07-24/
CATEGORIES:Bell Choir,Featured
ATTACH;FMTTYPE=image/jpeg:https://firststjohn.com/wp-content/uploads/2024/03/IMG_1561-scaled.jpeg
END:VEVENT
BEGIN:VEVENT
DTSTART;TZID=America/Detroit:20280731T173000
DTEND;TZID=America/Detroit:20280731T173000
DTSTAMP:20260425T120933
CREATED:20250908T170450Z
LAST-MODIFIED:20250908T170450Z
UID:10013531-1848677400-1848677400@firststjohn.com
SUMMARY:Bell Choir
DESCRIPTION:FIRST ST. JOHN BELL CHOIR\nOur fabulous Bell Choir is looking for people to join us starting Sept. 15h in the church at 5:30 pm. We will give you instructions on how to hold and ring the bell. Come and give it a try! Contact Cheri  Sergent for any questions at (419) 410-3572.
URL:https://firststjohn.com/event/bell-choir-4/2028-07-31/
CATEGORIES:Bell Choir,Featured
ATTACH;FMTTYPE=image/jpeg:https://firststjohn.com/wp-content/uploads/2024/03/IMG_1561-scaled.jpeg
END:VEVENT
BEGIN:VEVENT
DTSTART;TZID=America/Detroit:20280807T173000
DTEND;TZID=America/Detroit:20280807T173000
DTSTAMP:20260425T120933
CREATED:20250908T170450Z
LAST-MODIFIED:20250908T170450Z
UID:10013532-1849282200-1849282200@firststjohn.com
SUMMARY:Bell Choir
DESCRIPTION:FIRST ST. JOHN BELL CHOIR\nOur fabulous Bell Choir is looking for people to join us starting Sept. 15h in the church at 5:30 pm. We will give you instructions on how to hold and ring the bell. Come and give it a try! Contact Cheri  Sergent for any questions at (419) 410-3572.
URL:https://firststjohn.com/event/bell-choir-4/2028-08-07/
CATEGORIES:Bell Choir,Featured
ATTACH;FMTTYPE=image/jpeg:https://firststjohn.com/wp-content/uploads/2024/03/IMG_1561-scaled.jpeg
END:VEVENT
BEGIN:VEVENT
DTSTART;TZID=America/Detroit:20280814T173000
DTEND;TZID=America/Detroit:20280814T173000
DTSTAMP:20260425T120933
CREATED:20250908T170450Z
LAST-MODIFIED:20250908T170450Z
UID:10013533-1849887000-1849887000@firststjohn.com
SUMMARY:Bell Choir
DESCRIPTION:FIRST ST. JOHN BELL CHOIR\nOur fabulous Bell Choir is looking for people to join us starting Sept. 15h in the church at 5:30 pm. We will give you instructions on how to hold and ring the bell. Come and give it a try! Contact Cheri  Sergent for any questions at (419) 410-3572.
URL:https://firststjohn.com/event/bell-choir-4/2028-08-14/
CATEGORIES:Bell Choir,Featured
ATTACH;FMTTYPE=image/jpeg:https://firststjohn.com/wp-content/uploads/2024/03/IMG_1561-scaled.jpeg
END:VEVENT
BEGIN:VEVENT
DTSTART;TZID=America/Detroit:20280821T173000
DTEND;TZID=America/Detroit:20280821T173000
DTSTAMP:20260425T120933
CREATED:20250908T170450Z
LAST-MODIFIED:20250908T170450Z
UID:10013534-1850491800-1850491800@firststjohn.com
SUMMARY:Bell Choir
DESCRIPTION:FIRST ST. JOHN BELL CHOIR\nOur fabulous Bell Choir is looking for people to join us starting Sept. 15h in the church at 5:30 pm. We will give you instructions on how to hold and ring the bell. Come and give it a try! Contact Cheri  Sergent for any questions at (419) 410-3572.
URL:https://firststjohn.com/event/bell-choir-4/2028-08-21/
CATEGORIES:Bell Choir,Featured
ATTACH;FMTTYPE=image/jpeg:https://firststjohn.com/wp-content/uploads/2024/03/IMG_1561-scaled.jpeg
END:VEVENT
BEGIN:VEVENT
DTSTART;TZID=America/Detroit:20280828T173000
DTEND;TZID=America/Detroit:20280828T173000
DTSTAMP:20260425T120933
CREATED:20250908T170450Z
LAST-MODIFIED:20250908T170450Z
UID:10013535-1851096600-1851096600@firststjohn.com
SUMMARY:Bell Choir
DESCRIPTION:FIRST ST. JOHN BELL CHOIR\nOur fabulous Bell Choir is looking for people to join us starting Sept. 15h in the church at 5:30 pm. We will give you instructions on how to hold and ring the bell. Come and give it a try! Contact Cheri  Sergent for any questions at (419) 410-3572.
URL:https://firststjohn.com/event/bell-choir-4/2028-08-28/
CATEGORIES:Bell Choir,Featured
ATTACH;FMTTYPE=image/jpeg:https://firststjohn.com/wp-content/uploads/2024/03/IMG_1561-scaled.jpeg
END:VEVENT
BEGIN:VEVENT
DTSTART;TZID=America/Detroit:20280904T173000
DTEND;TZID=America/Detroit:20280904T173000
DTSTAMP:20260425T120933
CREATED:20250908T170450Z
LAST-MODIFIED:20250908T170450Z
UID:10013536-1851701400-1851701400@firststjohn.com
SUMMARY:Bell Choir
DESCRIPTION:FIRST ST. JOHN BELL CHOIR\nOur fabulous Bell Choir is looking for people to join us starting Sept. 15h in the church at 5:30 pm. We will give you instructions on how to hold and ring the bell. Come and give it a try! Contact Cheri  Sergent for any questions at (419) 410-3572.
URL:https://firststjohn.com/event/bell-choir-4/2028-09-04/
CATEGORIES:Bell Choir,Featured
ATTACH;FMTTYPE=image/jpeg:https://firststjohn.com/wp-content/uploads/2024/03/IMG_1561-scaled.jpeg
END:VEVENT
BEGIN:VEVENT
DTSTART;TZID=America/Detroit:20280911T173000
DTEND;TZID=America/Detroit:20280911T173000
DTSTAMP:20260425T120934
CREATED:20250908T170450Z
LAST-MODIFIED:20250908T170450Z
UID:10013537-1852306200-1852306200@firststjohn.com
SUMMARY:Bell Choir
DESCRIPTION:FIRST ST. JOHN BELL CHOIR\nOur fabulous Bell Choir is looking for people to join us starting Sept. 15h in the church at 5:30 pm. We will give you instructions on how to hold and ring the bell. Come and give it a try! Contact Cheri  Sergent for any questions at (419) 410-3572.
URL:https://firststjohn.com/event/bell-choir-4/2028-09-11/
CATEGORIES:Bell Choir,Featured
ATTACH;FMTTYPE=image/jpeg:https://firststjohn.com/wp-content/uploads/2024/03/IMG_1561-scaled.jpeg
END:VEVENT
BEGIN:VEVENT
DTSTART;TZID=America/Detroit:20280918T173000
DTEND;TZID=America/Detroit:20280918T173000
DTSTAMP:20260425T120934
CREATED:20250908T170450Z
LAST-MODIFIED:20250908T170450Z
UID:10013538-1852911000-1852911000@firststjohn.com
SUMMARY:Bell Choir
DESCRIPTION:FIRST ST. JOHN BELL CHOIR\nOur fabulous Bell Choir is looking for people to join us starting Sept. 15h in the church at 5:30 pm. We will give you instructions on how to hold and ring the bell. Come and give it a try! Contact Cheri  Sergent for any questions at (419) 410-3572.
URL:https://firststjohn.com/event/bell-choir-4/2028-09-18/
CATEGORIES:Bell Choir,Featured
ATTACH;FMTTYPE=image/jpeg:https://firststjohn.com/wp-content/uploads/2024/03/IMG_1561-scaled.jpeg
END:VEVENT
BEGIN:VEVENT
DTSTART;TZID=America/Detroit:20280925T173000
DTEND;TZID=America/Detroit:20280925T173000
DTSTAMP:20260425T120934
CREATED:20250908T170450Z
LAST-MODIFIED:20250908T170450Z
UID:10013539-1853515800-1853515800@firststjohn.com
SUMMARY:Bell Choir
DESCRIPTION:FIRST ST. JOHN BELL CHOIR\nOur fabulous Bell Choir is looking for people to join us starting Sept. 15h in the church at 5:30 pm. We will give you instructions on how to hold and ring the bell. Come and give it a try! Contact Cheri  Sergent for any questions at (419) 410-3572.
URL:https://firststjohn.com/event/bell-choir-4/2028-09-25/
CATEGORIES:Bell Choir,Featured
ATTACH;FMTTYPE=image/jpeg:https://firststjohn.com/wp-content/uploads/2024/03/IMG_1561-scaled.jpeg
END:VEVENT
BEGIN:VEVENT
DTSTART;TZID=America/Detroit:20281002T173000
DTEND;TZID=America/Detroit:20281002T173000
DTSTAMP:20260425T120934
CREATED:20250908T170450Z
LAST-MODIFIED:20250908T170450Z
UID:10013540-1854120600-1854120600@firststjohn.com
SUMMARY:Bell Choir
DESCRIPTION:FIRST ST. JOHN BELL CHOIR\nOur fabulous Bell Choir is looking for people to join us starting Sept. 15h in the church at 5:30 pm. We will give you instructions on how to hold and ring the bell. Come and give it a try! Contact Cheri  Sergent for any questions at (419) 410-3572.
URL:https://firststjohn.com/event/bell-choir-4/2028-10-02/
CATEGORIES:Bell Choir,Featured
ATTACH;FMTTYPE=image/jpeg:https://firststjohn.com/wp-content/uploads/2024/03/IMG_1561-scaled.jpeg
END:VEVENT
BEGIN:VEVENT
DTSTART;TZID=America/Detroit:20281009T173000
DTEND;TZID=America/Detroit:20281009T173000
DTSTAMP:20260425T120934
CREATED:20250908T170450Z
LAST-MODIFIED:20250908T170450Z
UID:10013541-1854725400-1854725400@firststjohn.com
SUMMARY:Bell Choir
DESCRIPTION:FIRST ST. JOHN BELL CHOIR\nOur fabulous Bell Choir is looking for people to join us starting Sept. 15h in the church at 5:30 pm. We will give you instructions on how to hold and ring the bell. Come and give it a try! Contact Cheri  Sergent for any questions at (419) 410-3572.
URL:https://firststjohn.com/event/bell-choir-4/2028-10-09/
CATEGORIES:Bell Choir,Featured
ATTACH;FMTTYPE=image/jpeg:https://firststjohn.com/wp-content/uploads/2024/03/IMG_1561-scaled.jpeg
END:VEVENT
BEGIN:VEVENT
DTSTART;TZID=America/Detroit:20281016T173000
DTEND;TZID=America/Detroit:20281016T173000
DTSTAMP:20260425T120934
CREATED:20250908T170450Z
LAST-MODIFIED:20250908T170450Z
UID:10013542-1855330200-1855330200@firststjohn.com
SUMMARY:Bell Choir
DESCRIPTION:FIRST ST. JOHN BELL CHOIR\nOur fabulous Bell Choir is looking for people to join us starting Sept. 15h in the church at 5:30 pm. We will give you instructions on how to hold and ring the bell. Come and give it a try! Contact Cheri  Sergent for any questions at (419) 410-3572.
URL:https://firststjohn.com/event/bell-choir-4/2028-10-16/
CATEGORIES:Bell Choir,Featured
ATTACH;FMTTYPE=image/jpeg:https://firststjohn.com/wp-content/uploads/2024/03/IMG_1561-scaled.jpeg
END:VEVENT
BEGIN:VEVENT
DTSTART;TZID=America/Detroit:20281023T173000
DTEND;TZID=America/Detroit:20281023T173000
DTSTAMP:20260425T120934
CREATED:20250908T170450Z
LAST-MODIFIED:20250908T170450Z
UID:10013543-1855935000-1855935000@firststjohn.com
SUMMARY:Bell Choir
DESCRIPTION:FIRST ST. JOHN BELL CHOIR\nOur fabulous Bell Choir is looking for people to join us starting Sept. 15h in the church at 5:30 pm. We will give you instructions on how to hold and ring the bell. Come and give it a try! Contact Cheri  Sergent for any questions at (419) 410-3572.
URL:https://firststjohn.com/event/bell-choir-4/2028-10-23/
CATEGORIES:Bell Choir,Featured
ATTACH;FMTTYPE=image/jpeg:https://firststjohn.com/wp-content/uploads/2024/03/IMG_1561-scaled.jpeg
END:VEVENT
BEGIN:VEVENT
DTSTART;TZID=America/Detroit:20281030T173000
DTEND;TZID=America/Detroit:20281030T173000
DTSTAMP:20260425T120934
CREATED:20250908T170450Z
LAST-MODIFIED:20250908T170450Z
UID:10013544-1856539800-1856539800@firststjohn.com
SUMMARY:Bell Choir
DESCRIPTION:FIRST ST. JOHN BELL CHOIR\nOur fabulous Bell Choir is looking for people to join us starting Sept. 15h in the church at 5:30 pm. We will give you instructions on how to hold and ring the bell. Come and give it a try! Contact Cheri  Sergent for any questions at (419) 410-3572.
URL:https://firststjohn.com/event/bell-choir-4/2028-10-30/
CATEGORIES:Bell Choir,Featured
ATTACH;FMTTYPE=image/jpeg:https://firststjohn.com/wp-content/uploads/2024/03/IMG_1561-scaled.jpeg
END:VEVENT
BEGIN:VEVENT
DTSTART;TZID=America/Detroit:20281106T173000
DTEND;TZID=America/Detroit:20281106T173000
DTSTAMP:20260425T120934
CREATED:20250908T170450Z
LAST-MODIFIED:20250908T170450Z
UID:10013545-1857144600-1857144600@firststjohn.com
SUMMARY:Bell Choir
DESCRIPTION:FIRST ST. JOHN BELL CHOIR\nOur fabulous Bell Choir is looking for people to join us starting Sept. 15h in the church at 5:30 pm. We will give you instructions on how to hold and ring the bell. Come and give it a try! Contact Cheri  Sergent for any questions at (419) 410-3572.
URL:https://firststjohn.com/event/bell-choir-4/2028-11-06/
CATEGORIES:Bell Choir,Featured
ATTACH;FMTTYPE=image/jpeg:https://firststjohn.com/wp-content/uploads/2024/03/IMG_1561-scaled.jpeg
END:VEVENT
BEGIN:VEVENT
DTSTART;TZID=America/Detroit:20281113T173000
DTEND;TZID=America/Detroit:20281113T173000
DTSTAMP:20260425T120934
CREATED:20250908T170450Z
LAST-MODIFIED:20250908T170450Z
UID:10013546-1857749400-1857749400@firststjohn.com
SUMMARY:Bell Choir
DESCRIPTION:FIRST ST. JOHN BELL CHOIR\nOur fabulous Bell Choir is looking for people to join us starting Sept. 15h in the church at 5:30 pm. We will give you instructions on how to hold and ring the bell. Come and give it a try! Contact Cheri  Sergent for any questions at (419) 410-3572.
URL:https://firststjohn.com/event/bell-choir-4/2028-11-13/
CATEGORIES:Bell Choir,Featured
ATTACH;FMTTYPE=image/jpeg:https://firststjohn.com/wp-content/uploads/2024/03/IMG_1561-scaled.jpeg
END:VEVENT
BEGIN:VEVENT
DTSTART;TZID=America/Detroit:20281120T173000
DTEND;TZID=America/Detroit:20281120T173000
DTSTAMP:20260425T120934
CREATED:20250908T170450Z
LAST-MODIFIED:20250908T170450Z
UID:10013547-1858354200-1858354200@firststjohn.com
SUMMARY:Bell Choir
DESCRIPTION:FIRST ST. JOHN BELL CHOIR\nOur fabulous Bell Choir is looking for people to join us starting Sept. 15h in the church at 5:30 pm. We will give you instructions on how to hold and ring the bell. Come and give it a try! Contact Cheri  Sergent for any questions at (419) 410-3572.
URL:https://firststjohn.com/event/bell-choir-4/2028-11-20/
CATEGORIES:Bell Choir,Featured
ATTACH;FMTTYPE=image/jpeg:https://firststjohn.com/wp-content/uploads/2024/03/IMG_1561-scaled.jpeg
END:VEVENT
BEGIN:VEVENT
DTSTART;TZID=America/Detroit:20281127T173000
DTEND;TZID=America/Detroit:20281127T173000
DTSTAMP:20260425T120934
CREATED:20250908T170450Z
LAST-MODIFIED:20250908T170450Z
UID:10013548-1858959000-1858959000@firststjohn.com
SUMMARY:Bell Choir
DESCRIPTION:FIRST ST. JOHN BELL CHOIR\nOur fabulous Bell Choir is looking for people to join us starting Sept. 15h in the church at 5:30 pm. We will give you instructions on how to hold and ring the bell. Come and give it a try! Contact Cheri  Sergent for any questions at (419) 410-3572.
URL:https://firststjohn.com/event/bell-choir-4/2028-11-27/
CATEGORIES:Bell Choir,Featured
ATTACH;FMTTYPE=image/jpeg:https://firststjohn.com/wp-content/uploads/2024/03/IMG_1561-scaled.jpeg
END:VEVENT
BEGIN:VEVENT
DTSTART;TZID=America/Detroit:20281204T173000
DTEND;TZID=America/Detroit:20281204T173000
DTSTAMP:20260425T120934
CREATED:20250908T170450Z
LAST-MODIFIED:20250908T170450Z
UID:10013549-1859563800-1859563800@firststjohn.com
SUMMARY:Bell Choir
DESCRIPTION:FIRST ST. JOHN BELL CHOIR\nOur fabulous Bell Choir is looking for people to join us starting Sept. 15h in the church at 5:30 pm. We will give you instructions on how to hold and ring the bell. Come and give it a try! Contact Cheri  Sergent for any questions at (419) 410-3572.
URL:https://firststjohn.com/event/bell-choir-4/2028-12-04/
CATEGORIES:Bell Choir,Featured
ATTACH;FMTTYPE=image/jpeg:https://firststjohn.com/wp-content/uploads/2024/03/IMG_1561-scaled.jpeg
END:VEVENT
BEGIN:VEVENT
DTSTART;TZID=America/Detroit:20281211T173000
DTEND;TZID=America/Detroit:20281211T173000
DTSTAMP:20260425T120934
CREATED:20250908T170450Z
LAST-MODIFIED:20250908T170450Z
UID:10013550-1860168600-1860168600@firststjohn.com
SUMMARY:Bell Choir
DESCRIPTION:FIRST ST. JOHN BELL CHOIR\nOur fabulous Bell Choir is looking for people to join us starting Sept. 15h in the church at 5:30 pm. We will give you instructions on how to hold and ring the bell. Come and give it a try! Contact Cheri  Sergent for any questions at (419) 410-3572.
URL:https://firststjohn.com/event/bell-choir-4/2028-12-11/
CATEGORIES:Bell Choir,Featured
ATTACH;FMTTYPE=image/jpeg:https://firststjohn.com/wp-content/uploads/2024/03/IMG_1561-scaled.jpeg
END:VEVENT
BEGIN:VEVENT
DTSTART;TZID=America/Detroit:20281218T173000
DTEND;TZID=America/Detroit:20281218T173000
DTSTAMP:20260425T120934
CREATED:20250908T170450Z
LAST-MODIFIED:20250908T170450Z
UID:10013551-1860773400-1860773400@firststjohn.com
SUMMARY:Bell Choir
DESCRIPTION:FIRST ST. JOHN BELL CHOIR\nOur fabulous Bell Choir is looking for people to join us starting Sept. 15h in the church at 5:30 pm. We will give you instructions on how to hold and ring the bell. Come and give it a try! Contact Cheri  Sergent for any questions at (419) 410-3572.
URL:https://firststjohn.com/event/bell-choir-4/2028-12-18/
CATEGORIES:Bell Choir,Featured
ATTACH;FMTTYPE=image/jpeg:https://firststjohn.com/wp-content/uploads/2024/03/IMG_1561-scaled.jpeg
END:VEVENT
BEGIN:VEVENT
DTSTART;TZID=America/Detroit:20281225T173000
DTEND;TZID=America/Detroit:20281225T173000
DTSTAMP:20260425T120934
CREATED:20250908T170450Z
LAST-MODIFIED:20250908T170450Z
UID:10013552-1861378200-1861378200@firststjohn.com
SUMMARY:Bell Choir
DESCRIPTION:FIRST ST. JOHN BELL CHOIR\nOur fabulous Bell Choir is looking for people to join us starting Sept. 15h in the church at 5:30 pm. We will give you instructions on how to hold and ring the bell. Come and give it a try! Contact Cheri  Sergent for any questions at (419) 410-3572.
URL:https://firststjohn.com/event/bell-choir-4/2028-12-25/
CATEGORIES:Bell Choir,Featured
ATTACH;FMTTYPE=image/jpeg:https://firststjohn.com/wp-content/uploads/2024/03/IMG_1561-scaled.jpeg
END:VEVENT
BEGIN:VEVENT
DTSTART;TZID=America/Detroit:20290101T173000
DTEND;TZID=America/Detroit:20290101T173000
DTSTAMP:20260425T120934
CREATED:20250908T170450Z
LAST-MODIFIED:20250908T170450Z
UID:10013553-1861983000-1861983000@firststjohn.com
SUMMARY:Bell Choir
DESCRIPTION:FIRST ST. JOHN BELL CHOIR\nOur fabulous Bell Choir is looking for people to join us starting Sept. 15h in the church at 5:30 pm. We will give you instructions on how to hold and ring the bell. Come and give it a try! Contact Cheri  Sergent for any questions at (419) 410-3572.
URL:https://firststjohn.com/event/bell-choir-4/2029-01-01/
CATEGORIES:Bell Choir,Featured
ATTACH;FMTTYPE=image/jpeg:https://firststjohn.com/wp-content/uploads/2024/03/IMG_1561-scaled.jpeg
END:VEVENT
BEGIN:VEVENT
DTSTART;TZID=America/Detroit:20290108T173000
DTEND;TZID=America/Detroit:20290108T173000
DTSTAMP:20260425T120934
CREATED:20250908T170450Z
LAST-MODIFIED:20250908T170450Z
UID:10013554-1862587800-1862587800@firststjohn.com
SUMMARY:Bell Choir
DESCRIPTION:FIRST ST. JOHN BELL CHOIR\nOur fabulous Bell Choir is looking for people to join us starting Sept. 15h in the church at 5:30 pm. We will give you instructions on how to hold and ring the bell. Come and give it a try! Contact Cheri  Sergent for any questions at (419) 410-3572.
URL:https://firststjohn.com/event/bell-choir-4/2029-01-08/
CATEGORIES:Bell Choir,Featured
ATTACH;FMTTYPE=image/jpeg:https://firststjohn.com/wp-content/uploads/2024/03/IMG_1561-scaled.jpeg
END:VEVENT
BEGIN:VEVENT
DTSTART;TZID=America/Detroit:20290115T173000
DTEND;TZID=America/Detroit:20290115T173000
DTSTAMP:20260425T120934
CREATED:20250908T170450Z
LAST-MODIFIED:20250908T170450Z
UID:10013555-1863192600-1863192600@firststjohn.com
SUMMARY:Bell Choir
DESCRIPTION:FIRST ST. JOHN BELL CHOIR\nOur fabulous Bell Choir is looking for people to join us starting Sept. 15h in the church at 5:30 pm. We will give you instructions on how to hold and ring the bell. Come and give it a try! Contact Cheri  Sergent for any questions at (419) 410-3572.
URL:https://firststjohn.com/event/bell-choir-4/2029-01-15/
CATEGORIES:Bell Choir,Featured
ATTACH;FMTTYPE=image/jpeg:https://firststjohn.com/wp-content/uploads/2024/03/IMG_1561-scaled.jpeg
END:VEVENT
BEGIN:VEVENT
DTSTART;TZID=America/Detroit:20290122T173000
DTEND;TZID=America/Detroit:20290122T173000
DTSTAMP:20260425T120934
CREATED:20250908T170450Z
LAST-MODIFIED:20250908T170450Z
UID:10013556-1863797400-1863797400@firststjohn.com
SUMMARY:Bell Choir
DESCRIPTION:FIRST ST. JOHN BELL CHOIR\nOur fabulous Bell Choir is looking for people to join us starting Sept. 15h in the church at 5:30 pm. We will give you instructions on how to hold and ring the bell. Come and give it a try! Contact Cheri  Sergent for any questions at (419) 410-3572.
URL:https://firststjohn.com/event/bell-choir-4/2029-01-22/
CATEGORIES:Bell Choir,Featured
ATTACH;FMTTYPE=image/jpeg:https://firststjohn.com/wp-content/uploads/2024/03/IMG_1561-scaled.jpeg
END:VEVENT
END:VCALENDAR