BEGIN:VCALENDAR
VERSION:2.0
PRODID:-//First St John - ECPv6.15.20//NONSGML v1.0//EN
CALSCALE:GREGORIAN
METHOD:PUBLISH
X-WR-CALNAME:First St John
X-ORIGINAL-URL:https://firststjohn.com
X-WR-CALDESC:Events for First St John
REFRESH-INTERVAL;VALUE=DURATION:PT1H
X-Robots-Tag:noindex
X-PUBLISHED-TTL:PT1H
BEGIN:VTIMEZONE
TZID:America/Detroit
BEGIN:DAYLIGHT
TZOFFSETFROM:-0500
TZOFFSETTO:-0400
TZNAME:EDT
DTSTART:20240310T070000
END:DAYLIGHT
BEGIN:STANDARD
TZOFFSETFROM:-0400
TZOFFSETTO:-0500
TZNAME:EST
DTSTART:20241103T060000
END:STANDARD
BEGIN:DAYLIGHT
TZOFFSETFROM:-0500
TZOFFSETTO:-0400
TZNAME:EDT
DTSTART:20250309T070000
END:DAYLIGHT
BEGIN:STANDARD
TZOFFSETFROM:-0400
TZOFFSETTO:-0500
TZNAME:EST
DTSTART:20251102T060000
END:STANDARD
BEGIN:DAYLIGHT
TZOFFSETFROM:-0500
TZOFFSETTO:-0400
TZNAME:EDT
DTSTART:20260308T070000
END:DAYLIGHT
BEGIN:STANDARD
TZOFFSETFROM:-0400
TZOFFSETTO:-0500
TZNAME:EST
DTSTART:20261101T060000
END:STANDARD
END:VTIMEZONE
BEGIN:VTIMEZONE
TZID:America/New_York
BEGIN:DAYLIGHT
TZOFFSETFROM:-0500
TZOFFSETTO:-0400
TZNAME:EDT
DTSTART:20230312T070000
END:DAYLIGHT
BEGIN:STANDARD
TZOFFSETFROM:-0400
TZOFFSETTO:-0500
TZNAME:EST
DTSTART:20231105T060000
END:STANDARD
BEGIN:DAYLIGHT
TZOFFSETFROM:-0500
TZOFFSETTO:-0400
TZNAME:EDT
DTSTART:20240310T070000
END:DAYLIGHT
BEGIN:STANDARD
TZOFFSETFROM:-0400
TZOFFSETTO:-0500
TZNAME:EST
DTSTART:20241103T060000
END:STANDARD
BEGIN:DAYLIGHT
TZOFFSETFROM:-0500
TZOFFSETTO:-0400
TZNAME:EDT
DTSTART:20250309T070000
END:DAYLIGHT
BEGIN:STANDARD
TZOFFSETFROM:-0400
TZOFFSETTO:-0500
TZNAME:EST
DTSTART:20251102T060000
END:STANDARD
BEGIN:DAYLIGHT
TZOFFSETFROM:-0500
TZOFFSETTO:-0400
TZNAME:EDT
DTSTART:20260308T070000
END:DAYLIGHT
BEGIN:STANDARD
TZOFFSETFROM:-0400
TZOFFSETTO:-0500
TZNAME:EST
DTSTART:20261101T060000
END:STANDARD
END:VTIMEZONE
BEGIN:VEVENT
DTSTART;TZID=America/Detroit:20250331T173000
DTEND;TZID=America/Detroit:20250331T173000
DTSTAMP:20260423T220427
CREATED:20250203T141228Z
LAST-MODIFIED:20250306T171612Z
UID:10010648-1743442200-1743442200@firststjohn.com
SUMMARY:Bell Choir
DESCRIPTION:Our fabulous Bell Choir is looking for people to join us! They meet each Monday at 5:30 pm. We will give you instructions on how to hold and ring the bell. Come and give it a try! Contact Cheri Sergent for any questions at (419) 410-3572.
URL:https://firststjohn.com/event/bell-choir-3/2025-03-31/
CATEGORIES:Bell Choir,Featured
ATTACH;FMTTYPE=image/jpeg:https://firststjohn.com/wp-content/uploads/2024/03/IMG_1561-scaled.jpeg
END:VEVENT
BEGIN:VEVENT
DTSTART;TZID=America/Detroit:20250324T173000
DTEND;TZID=America/Detroit:20250324T173000
DTSTAMP:20260423T220427
CREATED:20250203T141228Z
LAST-MODIFIED:20250306T171612Z
UID:10010647-1742837400-1742837400@firststjohn.com
SUMMARY:Bell Choir
DESCRIPTION:Our fabulous Bell Choir is looking for people to join us! They meet each Monday at 5:30 pm. We will give you instructions on how to hold and ring the bell. Come and give it a try! Contact Cheri Sergent for any questions at (419) 410-3572.
URL:https://firststjohn.com/event/bell-choir-3/2025-03-24/
CATEGORIES:Bell Choir,Featured
ATTACH;FMTTYPE=image/jpeg:https://firststjohn.com/wp-content/uploads/2024/03/IMG_1561-scaled.jpeg
END:VEVENT
BEGIN:VEVENT
DTSTART;TZID=America/Detroit:20250317T173000
DTEND;TZID=America/Detroit:20250317T173000
DTSTAMP:20260423T220427
CREATED:20250203T141228Z
LAST-MODIFIED:20250306T171612Z
UID:10010646-1742232600-1742232600@firststjohn.com
SUMMARY:Bell Choir
DESCRIPTION:Our fabulous Bell Choir is looking for people to join us! They meet each Monday at 5:30 pm. We will give you instructions on how to hold and ring the bell. Come and give it a try! Contact Cheri Sergent for any questions at (419) 410-3572.
URL:https://firststjohn.com/event/bell-choir-3/2025-03-17/
CATEGORIES:Bell Choir,Featured
ATTACH;FMTTYPE=image/jpeg:https://firststjohn.com/wp-content/uploads/2024/03/IMG_1561-scaled.jpeg
END:VEVENT
BEGIN:VEVENT
DTSTART;TZID=America/Detroit:20250310T173000
DTEND;TZID=America/Detroit:20250310T173000
DTSTAMP:20260423T220427
CREATED:20250203T141228Z
LAST-MODIFIED:20250306T171612Z
UID:10010645-1741627800-1741627800@firststjohn.com
SUMMARY:Bell Choir
DESCRIPTION:Our fabulous Bell Choir is looking for people to join us! They meet each Monday at 5:30 pm. We will give you instructions on how to hold and ring the bell. Come and give it a try! Contact Cheri Sergent for any questions at (419) 410-3572.
URL:https://firststjohn.com/event/bell-choir-3/2025-03-10/
CATEGORIES:Bell Choir,Featured
ATTACH;FMTTYPE=image/jpeg:https://firststjohn.com/wp-content/uploads/2024/03/IMG_1561-scaled.jpeg
END:VEVENT
BEGIN:VEVENT
DTSTART;TZID=America/Detroit:20250303T173000
DTEND;TZID=America/Detroit:20250303T173000
DTSTAMP:20260423T220427
CREATED:20250203T141228Z
LAST-MODIFIED:20250306T171612Z
UID:10010644-1741023000-1741023000@firststjohn.com
SUMMARY:Bell Choir
DESCRIPTION:Our fabulous Bell Choir is looking for people to join us! They meet each Monday at 5:30 pm. We will give you instructions on how to hold and ring the bell. Come and give it a try! Contact Cheri Sergent for any questions at (419) 410-3572.
URL:https://firststjohn.com/event/bell-choir-3/2025-03-03/
CATEGORIES:Bell Choir,Featured
ATTACH;FMTTYPE=image/jpeg:https://firststjohn.com/wp-content/uploads/2024/03/IMG_1561-scaled.jpeg
END:VEVENT
BEGIN:VEVENT
DTSTART;TZID=America/Detroit:20250224T173000
DTEND;TZID=America/Detroit:20250224T173000
DTSTAMP:20260423T220427
CREATED:20250203T141228Z
LAST-MODIFIED:20250306T171612Z
UID:10010636-1740418200-1740418200@firststjohn.com
SUMMARY:Bell Choir
DESCRIPTION:Our fabulous Bell Choir is looking for people to join us! They meet each Monday at 5:30 pm. We will give you instructions on how to hold and ring the bell. Come and give it a try! Contact Cheri Sergent for any questions at (419) 410-3572.
URL:https://firststjohn.com/event/bell-choir-3/2025-02-24/
CATEGORIES:Bell Choir,Featured
ATTACH;FMTTYPE=image/jpeg:https://firststjohn.com/wp-content/uploads/2024/03/IMG_1561-scaled.jpeg
END:VEVENT
BEGIN:VEVENT
DTSTART;TZID=America/New_York:20250113T173000
DTEND;TZID=America/New_York:20250113T173000
DTSTAMP:20260423T220427
CREATED:20241007T182004Z
LAST-MODIFIED:20241007T182004Z
UID:10007906-1736789400-1736789400@firststjohn.com
SUMMARY:Bell Choir
DESCRIPTION:Our fabulous Bell Choir is looking for people to join us! They meet each Monday at 5:30 pm. We will give you instructions on how to hold and ring the bell. Come and give it a try! Contact Cheri Sergent for any questions at (419) 410-3572.
URL:https://firststjohn.com/event/bell-choir-2-2/2025-01-13/
CATEGORIES:Bell Choir
ATTACH;FMTTYPE=image/jpeg:https://firststjohn.com/wp-content/uploads/2024/03/IMG_1561-scaled.jpeg
END:VEVENT
BEGIN:VEVENT
DTSTART;TZID=America/New_York:20241223T173000
DTEND;TZID=America/New_York:20241223T173000
DTSTAMP:20260423T220427
CREATED:20241007T182004Z
LAST-MODIFIED:20241007T182004Z
UID:10007903-1734975000-1734975000@firststjohn.com
SUMMARY:Bell Choir
DESCRIPTION:Our fabulous Bell Choir is looking for people to join us! They meet each Monday at 5:30 pm. We will give you instructions on how to hold and ring the bell. Come and give it a try! Contact Cheri Sergent for any questions at (419) 410-3572.
URL:https://firststjohn.com/event/bell-choir-2-2/2024-12-23/
CATEGORIES:Bell Choir
ATTACH;FMTTYPE=image/jpeg:https://firststjohn.com/wp-content/uploads/2024/03/IMG_1561-scaled.jpeg
END:VEVENT
BEGIN:VEVENT
DTSTART;TZID=America/New_York:20241209T173000
DTEND;TZID=America/New_York:20241209T173000
DTSTAMP:20260423T220427
CREATED:20241007T182004Z
LAST-MODIFIED:20241007T182004Z
UID:10007901-1733765400-1733765400@firststjohn.com
SUMMARY:Bell Choir
DESCRIPTION:Our fabulous Bell Choir is looking for people to join us! They meet each Monday at 5:30 pm. We will give you instructions on how to hold and ring the bell. Come and give it a try! Contact Cheri Sergent for any questions at (419) 410-3572.
URL:https://firststjohn.com/event/bell-choir-2-2/2024-12-09/
CATEGORIES:Bell Choir
ATTACH;FMTTYPE=image/jpeg:https://firststjohn.com/wp-content/uploads/2024/03/IMG_1561-scaled.jpeg
END:VEVENT
BEGIN:VEVENT
DTSTART;TZID=America/New_York:20241125T173000
DTEND;TZID=America/New_York:20241125T173000
DTSTAMP:20260423T220427
CREATED:20241007T182004Z
LAST-MODIFIED:20241007T182004Z
UID:10007899-1732555800-1732555800@firststjohn.com
SUMMARY:Bell Choir
DESCRIPTION:Our fabulous Bell Choir is looking for people to join us! They meet each Monday at 5:30 pm. We will give you instructions on how to hold and ring the bell. Come and give it a try! Contact Cheri Sergent for any questions at (419) 410-3572.
URL:https://firststjohn.com/event/bell-choir-2-2/2024-11-25/
CATEGORIES:Bell Choir
ATTACH;FMTTYPE=image/jpeg:https://firststjohn.com/wp-content/uploads/2024/03/IMG_1561-scaled.jpeg
END:VEVENT
BEGIN:VEVENT
DTSTART;TZID=America/New_York:20241111T173000
DTEND;TZID=America/New_York:20241111T173000
DTSTAMP:20260423T220427
CREATED:20241007T182004Z
LAST-MODIFIED:20241007T182004Z
UID:10007897-1731346200-1731346200@firststjohn.com
SUMMARY:Bell Choir
DESCRIPTION:Our fabulous Bell Choir is looking for people to join us! They meet each Monday at 5:30 pm. We will give you instructions on how to hold and ring the bell. Come and give it a try! Contact Cheri Sergent for any questions at (419) 410-3572.
URL:https://firststjohn.com/event/bell-choir-2-2/2024-11-11/
CATEGORIES:Bell Choir
ATTACH;FMTTYPE=image/jpeg:https://firststjohn.com/wp-content/uploads/2024/03/IMG_1561-scaled.jpeg
END:VEVENT
BEGIN:VEVENT
DTSTART;TZID=America/New_York:20241104T173000
DTEND;TZID=America/New_York:20241104T173000
DTSTAMP:20260423T220427
CREATED:20241007T182004Z
LAST-MODIFIED:20241007T182004Z
UID:10007896-1730741400-1730741400@firststjohn.com
SUMMARY:Bell Choir
DESCRIPTION:Our fabulous Bell Choir is looking for people to join us! They meet each Monday at 5:30 pm. We will give you instructions on how to hold and ring the bell. Come and give it a try! Contact Cheri Sergent for any questions at (419) 410-3572.
URL:https://firststjohn.com/event/bell-choir-2-2/2024-11-04/
CATEGORIES:Bell Choir
ATTACH;FMTTYPE=image/jpeg:https://firststjohn.com/wp-content/uploads/2024/03/IMG_1561-scaled.jpeg
END:VEVENT
BEGIN:VEVENT
DTSTART;TZID=America/New_York:20241028T173000
DTEND;TZID=America/New_York:20241028T173000
DTSTAMP:20260423T220427
CREATED:20241007T182004Z
LAST-MODIFIED:20241007T182004Z
UID:10007895-1730136600-1730136600@firststjohn.com
SUMMARY:Bell Choir
DESCRIPTION:Our fabulous Bell Choir is looking for people to join us! They meet each Monday at 5:30 pm. We will give you instructions on how to hold and ring the bell. Come and give it a try! Contact Cheri Sergent for any questions at (419) 410-3572.
URL:https://firststjohn.com/event/bell-choir-2-2/2024-10-28/
CATEGORIES:Bell Choir
ATTACH;FMTTYPE=image/jpeg:https://firststjohn.com/wp-content/uploads/2024/03/IMG_1561-scaled.jpeg
END:VEVENT
BEGIN:VEVENT
DTSTART;TZID=America/New_York:20241021T173000
DTEND;TZID=America/New_York:20241021T173000
DTSTAMP:20260423T220427
CREATED:20241007T182004Z
LAST-MODIFIED:20241007T182004Z
UID:10007894-1729531800-1729531800@firststjohn.com
SUMMARY:Bell Choir
DESCRIPTION:Our fabulous Bell Choir is looking for people to join us! They meet each Monday at 5:30 pm. We will give you instructions on how to hold and ring the bell. Come and give it a try! Contact Cheri Sergent for any questions at (419) 410-3572.
URL:https://firststjohn.com/event/bell-choir-2-2/2024-10-21/
CATEGORIES:Bell Choir
ATTACH;FMTTYPE=image/jpeg:https://firststjohn.com/wp-content/uploads/2024/03/IMG_1561-scaled.jpeg
END:VEVENT
BEGIN:VEVENT
DTSTART;TZID=America/New_York:20241014T173000
DTEND;TZID=America/New_York:20241014T173000
DTSTAMP:20260423T220427
CREATED:20241007T182004Z
LAST-MODIFIED:20241007T182004Z
UID:10007893-1728927000-1728927000@firststjohn.com
SUMMARY:Bell Choir
DESCRIPTION:Our fabulous Bell Choir is looking for people to join us! They meet each Monday at 5:30 pm. We will give you instructions on how to hold and ring the bell. Come and give it a try! Contact Cheri Sergent for any questions at (419) 410-3572.
URL:https://firststjohn.com/event/bell-choir-2-2/2024-10-14/
CATEGORIES:Bell Choir
ATTACH;FMTTYPE=image/jpeg:https://firststjohn.com/wp-content/uploads/2024/03/IMG_1561-scaled.jpeg
END:VEVENT
BEGIN:VEVENT
DTSTART;TZID=America/New_York:20241007T173000
DTEND;TZID=America/New_York:20241007T173000
DTSTAMP:20260423T220427
CREATED:20240912T162156Z
LAST-MODIFIED:20240912T162844Z
UID:10007892-1728322200-1728322200@firststjohn.com
SUMMARY:Bell Choir
DESCRIPTION:
URL:https://firststjohn.com/event/bell-choir-2/2024-10-07/
CATEGORIES:Bell Choir
ATTACH;FMTTYPE=image/jpeg:https://firststjohn.com/wp-content/uploads/2024/03/IMG_1561-scaled.jpeg
END:VEVENT
BEGIN:VEVENT
DTSTART;TZID=America/New_York:20240930T173000
DTEND;TZID=America/New_York:20240930T173000
DTSTAMP:20260423T220427
CREATED:20240912T162156Z
LAST-MODIFIED:20240912T162844Z
UID:10007891-1727717400-1727717400@firststjohn.com
SUMMARY:Bell Choir
DESCRIPTION:
URL:https://firststjohn.com/event/bell-choir-2/2024-09-30/
CATEGORIES:Bell Choir
ATTACH;FMTTYPE=image/jpeg:https://firststjohn.com/wp-content/uploads/2024/03/IMG_1561-scaled.jpeg
END:VEVENT
BEGIN:VEVENT
DTSTART;TZID=America/New_York:20240923T173000
DTEND;TZID=America/New_York:20240923T173000
DTSTAMP:20260423T220427
CREATED:20240912T162156Z
LAST-MODIFIED:20240912T162844Z
UID:10007890-1727112600-1727112600@firststjohn.com
SUMMARY:Bell Choir
DESCRIPTION:
URL:https://firststjohn.com/event/bell-choir-2/2024-09-23/
CATEGORIES:Bell Choir
ATTACH;FMTTYPE=image/jpeg:https://firststjohn.com/wp-content/uploads/2024/03/IMG_1561-scaled.jpeg
END:VEVENT
BEGIN:VEVENT
DTSTART;TZID=America/New_York:20240916T173000
DTEND;TZID=America/New_York:20240916T173000
DTSTAMP:20260423T220427
CREATED:20240912T162156Z
LAST-MODIFIED:20240912T162844Z
UID:10007889-1726507800-1726507800@firststjohn.com
SUMMARY:Bell Choir
DESCRIPTION:
URL:https://firststjohn.com/event/bell-choir-2/2024-09-16/
CATEGORIES:Bell Choir
ATTACH;FMTTYPE=image/jpeg:https://firststjohn.com/wp-content/uploads/2024/03/IMG_1561-scaled.jpeg
END:VEVENT
BEGIN:VEVENT
DTSTART;TZID=America/New_York:20240909T173000
DTEND;TZID=America/New_York:20240909T173000
DTSTAMP:20260423T220427
CREATED:20240912T162156Z
LAST-MODIFIED:20240912T162844Z
UID:10007886-1725903000-1725903000@firststjohn.com
SUMMARY:Bell Choir
DESCRIPTION:
URL:https://firststjohn.com/event/bell-choir-2/2024-09-09/
CATEGORIES:Bell Choir
ATTACH;FMTTYPE=image/jpeg:https://firststjohn.com/wp-content/uploads/2024/03/IMG_1561-scaled.jpeg
END:VEVENT
END:VCALENDAR